{"text_format":"3","workbook":"xlsx","n_sheets":6,"sheets":["DISTRITAL","PROVINCIAL","DEPARTAMENTAL","Pob x Genero","RED AREQUIPA CAYLLOMA","DATA"],"not_rendered":{"images":1,"external_links":1,"defined_names":8},"read":"whole","date_system":"1900"}

{"sheet":"DISTRITAL","index":0,"n_rows":122,"n_cols":59,"rows_kept":122,"merged":[[5,43,5,45],[5,46,6,46],[5,47,6,47],[5,48,5,50],[5,51,6,51]]}
[]
[]
[]
["POBLACION ESTIMADA POR EDADES SIMPLES Y GRUPOS DE EDAD, SEGÚN DEPARTAMENTO, PROVINCIA Y DISTRITO. 2022"]
["* Actualizado con datos INEI y Padrón Nominal de niños de 0-5 años"]
["POBLACION 2022",{"$nulls":8},"POBLACION TOTAL, POR EDADS SIMPLES",{"$nulls":19},"POBLACIÓN TOTAL,  POR GRUPOS QUINQUEN ALES DE EDAD",{"$nulls":13},"EDADES ESPECIALES",null,null,"NACIMIENTOS VIVOS","POBLACION FEMENINA TOTAL","POBLACION FEMENINA",null,null,"GESTANTES  ESPERADAS"]
["UBIGEO","DIRESA","DEPARTAMENTO","PROVINCIA","DISTRITO",{"$nulls":3},"Total","0",1,2,3,4,5,6,7,8,9,10,11,12,13,14,15,16,17,18,19,"20-24","25-29","30-34","35-39","40-44","45-49","50-54","55-59","60-64","65-69","70-74","75-79","80-84","85-+","28 DIAS","0-5 MESES","6-11 MESES",null,null,"10 - 14","15- 19","20- 49",null,null,"TOTAL","NIÑO","Adolescente","Joven","Adulto","Adulto Mayor"]
["000000","PERU","PERU","PERU","PERU",{"$nulls":3},{"v":1539996,"d":"1,539,996"},{"v":17846,"d":"17,846"},{"v":20821,"d":"20,821"},{"v":22275,"d":"22,275"},{"v":23017,"d":"23,017"},{"v":23851,"d":"23,851"},{"v":24530,"d":"24,530"},{"v":22959,"d":"22,959"},{"v":22777,"d":"22,777"},{"v":22680,"d":"22,680"},{"v":22583,"d":"22,583"},{"v":22506,"d":"22,506"},{"v":22411,"d":"22,411"},{"v":22389,"d":"22,389"},{"v":22305,"d":"22,305"},{"v":22196,"d":"22,196"},{"v":22141,"d":"22,141"},{"v":22076,"d":"22,076"},{"v":22159,"d":"22,159"},{"v":22565,"d":"22,565"},{"v":22970,"d":"22,970"},{"v":121549,"d":"121,549"},{"v":129092,"d":"129,092"},{"v":120709,"d":"120,709"},{"v":115493,"d":"115,493"},{"v":110822,"d":"110,822"},{"v":99738,"d":"99,738"},{"v":90936,"d":"90,936"},{"v":80028,"d":"80,028"},{"v":65235,"d":"65,235"},{"v":53278,"d":"53,278"},{"v":41077,"d":"41,077"},{"v":28000,"d":"28,000"},{"v":18440,"d":"18,440"},{"v":18542,"d":"18,542"},{"v":1344,"d":"1,344"},{"v":9422,"d":"9,422"},{"v":8424,"d":"8,424"},{"v":20954,"d":"20,954"},{"v":786580,"d":"786,580"},{"v":56300,"d":"56,300"},{"v":57506,"d":"57,506"},{"v":355237,"d":"355,237"},{"v":26411,"d":"26,411"},null,{"v":1539996,"d":"1,539,996"},{"v":268256,"d":"268,256"},{"v":133266,"d":"133,266"},{"v":296176,"d":"296,176"},{"v":617726,"d":"617,726"},{"v":206030,"d":"206,030"}]
["040101","AREQUIPA","AREQUIPA","AREQUIPA","AREQUIPA",{"$nulls":3},{"v":55462,"d":"55,462"},519,645,745,824,866,948,568,596,615,594,624,627,645,654,633,631,629,634,644,722,{"v":3813,"d":"3,813"},{"v":3918,"d":"3,918"},{"v":3824,"d":"3,824"},{"v":3543,"d":"3,543"},{"v":3496,"d":"3,496"},{"v":3683,"d":"3,683"},{"v":3641,"d":"3,641"},{"v":3538,"d":"3,538"},{"v":3172,"d":"3,172"},{"v":2754,"d":"2,754"},{"v":2323,"d":"2,323"},{"v":1730,"d":"1,730"},{"v":1271,"d":"1,271"},{"v":1393,"d":"1,393"},58,317,202,614,{"v":25175,"d":"25,175"},{"v":1539,"d":"1,539"},{"v":1659,"d":"1,659"},{"v":10515,"d":"10,515"},751,null,{"v":55462,"d":"55,462"},{"v":8171,"d":"8,171"},{"v":3826,"d":"3,826"},{"v":9097,"d":"9,097"},{"v":21725,"d":"21,725"},{"v":11250,"d":"11,250"}]
["040102","AREQUIPA","AREQUIPA","AREQUIPA","ALTO SELVA ALEGRE",{"$nulls":3},{"v":91507,"d":"91,507"},{"v":1083,"d":"1,083"},{"v":1304,"d":"1,304"},{"v":1350,"d":"1,350"},{"v":1429,"d":"1,429"},{"v":1454,"d":"1,454"},{"v":1558,"d":"1,558"},{"v":1311,"d":"1,311"},{"v":1415,"d":"1,415"},{"v":1356,"d":"1,356"},{"v":1361,"d":"1,361"},{"v":1378,"d":"1,378"},{"v":1364,"d":"1,364"},{"v":1278,"d":"1,278"},{"v":1328,"d":"1,328"},{"v":1327,"d":"1,327"},{"v":1255,"d":"1,255"},{"v":1318,"d":"1,318"},{"v":1271,"d":"1,271"},{"v":1323,"d":"1,323"},{"v":1374,"d":"1,374"},{"v":7078,"d":"7,078"},{"v":7710,"d":"7,710"},{"v":7389,"d":"7,389"},{"v":6537,"d":"6,537"},{"v":6602,"d":"6,602"},{"v":5886,"d":"5,886"},{"v":5566,"d":"5,566"},{"v":4945,"d":"4,945"},{"v":3958,"d":"3,958"},{"v":3027,"d":"3,027"},{"v":2233,"d":"2,233"},{"v":1549,"d":"1,549"},{"v":1043,"d":"1,043"},{"v":1147,"d":"1,147"},75,603,480,{"v":1110,"d":"1,110"},{"v":46858,"d":"46,858"},{"v":3313,"d":"3,313"},{"v":3398,"d":"3,398"},{"v":20399,"d":"20,399"},{"v":1395,"d":"1,395"},null,{"v":91507,"d":"91,507"},{"v":16363,"d":"16,363"},{"v":7777,"d":"7,777"},{"v":17485,"d":"17,485"},{"v":36925,"d":"36,925"},{"v":11810,"d":"11,810"}]
["040103","AREQUIPA","AREQUIPA","AREQUIPA","CAYMA",{"$nulls":3},{"v":107806,"d":"107,806"},{"v":1207,"d":"1,207"},{"v":1396,"d":"1,396"},{"v":1599,"d":"1,599"},{"v":1618,"d":"1,618"},{"v":1770,"d":"1,770"},{"v":1882,"d":"1,882"},{"v":1618,"d":"1,618"},{"v":1574,"d":"1,574"},{"v":1628,"d":"1,628"},{"v":1664,"d":"1,664"},{"v":1691,"d":"1,691"},{"v":1666,"d":"1,666"},{"v":1717,"d":"1,717"},{"v":1622,"d":"1,622"},{"v":1589,"d":"1,589"},{"v":1626,"d":"1,626"},{"v":1478,"d":"1,478"},{"v":1602,"d":"1,602"},{"v":1641,"d":"1,641"},{"v":1593,"d":"1,593"},{"v":8769,"d":"8,769"},{"v":9156,"d":"9,156"},{"v":8687,"d":"8,687"},{"v":8071,"d":"8,071"},{"v":7403,"d":"7,403"},{"v":6824,"d":"6,824"},{"v":6214,"d":"6,214"},{"v":5625,"d":"5,625"},{"v":4605,"d":"4,605"},{"v":3545,"d":"3,545"},{"v":2637,"d":"2,637"},{"v":1796,"d":"1,796"},{"v":1115,"d":"1,115"},{"v":1178,"d":"1,178"},81,618,589,{"v":1328,"d":"1,328"},{"v":55326,"d":"55,326"},{"v":4240,"d":"4,240"},{"v":4117,"d":"4,117"},{"v":24203,"d":"24,203"},{"v":1669,"d":"1,669"},null,{"v":107806,"d":"107,806"},{"v":19313,"d":"19,313"},{"v":9634,"d":"9,634"},{"v":21159,"d":"21,159"},{"v":42824,"d":"42,824"},{"v":13698,"d":"13,698"}]
["040104","AREQUIPA","AREQUIPA","AREQUIPA","CERRO COLORADO",{"$nulls":3},{"v":236098,"d":"236,098"},{"v":2660,"d":"2,660"},{"v":3109,"d":"3,109"},{"v":3405,"d":"3,405"},{"v":3318,"d":"3,318"},{"v":3445,"d":"3,445"},{"v":3514,"d":"3,514"},{"v":4056,"d":"4,056"},{"v":4029,"d":"4,029"},{"v":3921,"d":"3,921"},{"v":3902,"d":"3,902"},{"v":3811,"d":"3,811"},{"v":3974,"d":"3,974"},{"v":3907,"d":"3,907"},{"v":3897,"d":"3,897"},{"v":3734,"d":"3,734"},{"v":3744,"d":"3,744"},{"v":3593,"d":"3,593"},{"v":3631,"d":"3,631"},{"v":3609,"d":"3,609"},{"v":3709,"d":"3,709"},{"v":19810,"d":"19,810"},{"v":19784,"d":"19,784"},{"v":19031,"d":"19,031"},{"v":18273,"d":"18,273"},{"v":17575,"d":"17,575"},{"v":15086,"d":"15,086"},{"v":13565,"d":"13,565"},{"v":11426,"d":"11,426"},{"v":8823,"d":"8,823"},{"v":7128,"d":"7,128"},{"v":5375,"d":"5,375"},{"v":3243,"d":"3,243"},{"v":2082,"d":"2,082"},{"v":1929,"d":"1,929"},199,{"v":1417,"d":"1,417"},{"v":1243,"d":"1,243"},{"v":3163,"d":"3,163"},{"v":125453,"d":"125,453"},{"v":10105,"d":"10,105"},{"v":9523,"d":"9,523"},{"v":56941,"d":"56,941"},{"v":3972,"d":"3,972"},null,{"v":236098,"d":"236,098"},{"v":43144,"d":"43,144"},{"v":22506,"d":"22,506"},{"v":46912,"d":"46,912"},{"v":94956,"d":"94,956"},{"v":26651,"d":"26,651"}]
["040105","AREQUIPA","AREQUIPA","AREQUIPA","CHARACATO",{"$nulls":3},{"v":16995,"d":"16,995"},167,195,217,204,169,179,304,300,257,241,223,294,273,270,225,239,252,246,248,288,{"v":1436,"d":"1,436"},{"v":1270,"d":"1,270"},{"v":1208,"d":"1,208"},{"v":1317,"d":"1,317"},{"v":1438,"d":"1,438"},{"v":1148,"d":"1,148"},994,857,712,633,497,317,202,175,14,87,80,194,{"v":8764,"d":"8,764"},643,651,{"v":3972,"d":"3,972"},248,null,{"v":16995,"d":"16,995"},{"v":2750,"d":"2,750"},{"v":1505,"d":"1,505"},{"v":3242,"d":"3,242"},{"v":6962,"d":"6,962"},{"v":2361,"d":"2,361"}]
["040106","AREQUIPA","AREQUIPA","AREQUIPA","CHIGUATA",{"$nulls":3},{"v":3266,"d":"3,266"},54,68,61,47,67,46,47,56,37,44,38,45,44,42,44,43,39,36,35,51,246,211,247,253,185,205,201,189,143,144,116,74,52,56,4,25,29,72,{"v":1519,"d":"1,519"},102,100,606,91,null,{"v":3266,"d":"3,266"},610,248,543,{"v":1280,"d":"1,280"},529]
["040107","AREQUIPA","AREQUIPA","AREQUIPA","JACOBO HUNTER",{"$nulls":3},{"v":53356,"d":"53,356"},598,715,755,781,853,874,779,765,727,770,750,788,815,814,790,743,770,775,794,721,{"v":4319,"d":"4,319"},{"v":4584,"d":"4,584"},{"v":4254,"d":"4,254"},{"v":3993,"d":"3,993"},{"v":3861,"d":"3,861"},{"v":3510,"d":"3,510"},{"v":3140,"d":"3,140"},{"v":2671,"d":"2,671"},{"v":2193,"d":"2,193"},{"v":1854,"d":"1,854"},{"v":1399,"d":"1,399"},977,610,614,43,337,261,600,{"v":27269,"d":"27,269"},{"v":2026,"d":"2,026"},{"v":2001,"d":"2,001"},{"v":12362,"d":"12,362"},753,null,{"v":53356,"d":"53,356"},{"v":9155,"d":"9,155"},{"v":4707,"d":"4,707"},{"v":10418,"d":"10,418"},{"v":21429,"d":"21,429"},{"v":7033,"d":"7,033"}]
["040108","AREQUIPA","AREQUIPA","AREQUIPA","LA JOYA",{"$nulls":3},{"v":40059,"d":"40,059"},588,615,596,634,614,631,729,604,663,664,639,573,538,606,622,624,617,658,641,653,{"v":3323,"d":"3,323"},{"v":3666,"d":"3,666"},{"v":3113,"d":"3,113"},{"v":3186,"d":"3,186"},{"v":3006,"d":"3,006"},{"v":2513,"d":"2,513"},{"v":2190,"d":"2,190"},{"v":1806,"d":"1,806"},{"v":1480,"d":"1,480"},{"v":1152,"d":"1,152"},866,540,355,354,43,299,289,686,{"v":21431,"d":"21,431"},{"v":1495,"d":"1,495"},{"v":1627,"d":"1,627"},{"v":10302,"d":"10,302"},862,null,{"v":40059,"d":"40,059"},{"v":7550,"d":"7,550"},{"v":3665,"d":"3,665"},{"v":8283,"d":"8,283"},{"v":15814,"d":"15,814"},{"v":4393,"d":"4,393"}]
["040109","AREQUIPA","AREQUIPA","AREQUIPA","MARIANO MELGAR",{"$nulls":3},{"v":66795,"d":"66,795"},738,833,902,937,{"v":1092,"d":"1,092"},{"v":1158,"d":"1,158"},952,878,915,961,963,928,900,946,{"v":1001,"d":"1,001"},929,930,906,971,{"v":1039,"d":"1,039"},{"v":5401,"d":"5,401"},{"v":5650,"d":"5,650"},{"v":5268,"d":"5,268"},{"v":4818,"d":"4,818"},{"v":4727,"d":"4,727"},{"v":4351,"d":"4,351"},{"v":4060,"d":"4,060"},{"v":3604,"d":"3,604"},{"v":2882,"d":"2,882"},{"v":2344,"d":"2,344"},{"v":1853,"d":"1,853"},{"v":1252,"d":"1,252"},840,866,50,410,328,881,{"v":33972,"d":"33,972"},{"v":2392,"d":"2,392"},{"v":2470,"d":"2,470"},{"v":15340,"d":"15,340"},{"v":1108,"d":"1,108"},null,{"v":66795,"d":"66,795"},{"v":11257,"d":"11,257"},{"v":5612,"d":"5,612"},{"v":13061,"d":"13,061"},{"v":26828,"d":"26,828"},{"v":9171,"d":"9,171"}]
["040110","AREQUIPA","AREQUIPA","AREQUIPA","MIRAFLORES",{"$nulls":3},{"v":66286,"d":"66,286"},660,781,907,{"v":1030,"d":"1,030"},{"v":1029,"d":"1,029"},{"v":1116,"d":"1,116"},919,881,983,938,972,847,887,925,907,900,893,858,917,950,{"v":5141,"d":"5,141"},{"v":5555,"d":"5,555"},{"v":5073,"d":"5,073"},{"v":4831,"d":"4,831"},{"v":4945,"d":"4,945"},{"v":4498,"d":"4,498"},{"v":4177,"d":"4,177"},{"v":3570,"d":"3,570"},{"v":2921,"d":"2,921"},{"v":2416,"d":"2,416"},{"v":1868,"d":"1,868"},{"v":1266,"d":"1,266"},842,883,59,377,283,799,{"v":33048,"d":"33,048"},{"v":2303,"d":"2,303"},{"v":2370,"d":"2,370"},{"v":14647,"d":"14,647"},{"v":1005,"d":"1,005"},null,{"v":66286,"d":"66,286"},{"v":11063,"d":"11,063"},{"v":5370,"d":"5,370"},{"v":12563,"d":"12,563"},{"v":27094,"d":"27,094"},{"v":9313,"d":"9,313"}]
["040111","AREQUIPA","AREQUIPA","AREQUIPA","MOLLEBAYA",{"$nulls":3},{"v":7201,"d":"7,201"},59,73,63,69,67,66,119,159,140,111,126,98,97,97,115,96,94,102,120,92,527,592,594,594,492,473,439,417,358,264,211,131,71,75,5,36,23,74,{"v":3666,"d":"3,666"},286,254,{"v":1532,"d":"1,532"},94,null,{"v":7201,"d":"7,201"},{"v":1150,"d":"1,150"},601,{"v":1331,"d":"1,331"},{"v":3009,"d":"3,009"},{"v":1035,"d":"1,035"}]
["040112","AREQUIPA","AREQUIPA","AREQUIPA","PAUCARPATA",{"$nulls":3},{"v":138083,"d":"138,083"},{"v":1580,"d":"1,580"},{"v":1786,"d":"1,786"},{"v":2138,"d":"2,138"},{"v":2260,"d":"2,260"},{"v":2344,"d":"2,344"},{"v":2403,"d":"2,403"},{"v":1891,"d":"1,891"},{"v":1933,"d":"1,933"},{"v":1984,"d":"1,984"},{"v":1965,"d":"1,965"},{"v":1990,"d":"1,990"},{"v":2019,"d":"2,019"},{"v":2095,"d":"2,095"},{"v":2092,"d":"2,092"},{"v":2046,"d":"2,046"},{"v":2059,"d":"2,059"},{"v":2026,"d":"2,026"},{"v":1977,"d":"1,977"},{"v":2021,"d":"2,021"},{"v":2104,"d":"2,104"},{"v":11018,"d":"11,018"},{"v":11841,"d":"11,841"},{"v":10639,"d":"10,639"},{"v":10312,"d":"10,312"},{"v":10194,"d":"10,194"},{"v":9165,"d":"9,165"},{"v":8109,"d":"8,109"},{"v":6797,"d":"6,797"},{"v":5360,"d":"5,360"},{"v":4537,"d":"4,537"},{"v":3586,"d":"3,586"},{"v":2656,"d":"2,656"},{"v":1619,"d":"1,619"},{"v":1537,"d":"1,537"},123,834,746,{"v":1869,"d":"1,869"},{"v":70505,"d":"70,505"},{"v":5070,"d":"5,070"},{"v":5269,"d":"5,269"},{"v":32265,"d":"32,265"},{"v":2349,"d":"2,349"},null,{"v":138083,"d":"138,083"},{"v":24293,"d":"24,293"},{"v":12295,"d":"12,295"},{"v":26984,"d":"26,984"},{"v":55216,"d":"55,216"},{"v":17758,"d":"17,758"}]
["040113","AREQUIPA","AREQUIPA","AREQUIPA","POCSI",{"$nulls":3},463,3,10,10,6,8,4,4,3,3,3,3,2,2,4,3,3,4,4,5,4,21,29,37,40,32,33,39,32,28,22,20,16,13,13,1,1,2,4,187,5,9,61,6,null,463,59,20,59,213,99]
["040114","AREQUIPA","AREQUIPA","AREQUIPA","POLOBAYA",{"$nulls":3},766,14,18,8,12,13,11,7,4,8,10,9,7,4,6,7,7,8,8,8,14,52,62,41,46,64,49,47,57,50,35,29,20,17,14,1,6,8,23,337,12,21,140,30,null,766,121,40,136,304,151]
["040115","AREQUIPA","AREQUIPA","AREQUIPA","QUEQUEÑA",{"$nulls":3},{"v":6839,"d":"6,839"},48,41,33,32,25,23,121,84,74,80,87,77,83,67,77,87,67,77,80,84,372,566,553,663,455,439,455,525,479,318,248,184,124,111,1,27,21,63,{"v":3263,"d":"3,263"},191,194,{"v":1373,"d":"1,373"},80,null,{"v":6839,"d":"6,839"},725,458,{"v":1102,"d":"1,102"},{"v":3090,"d":"3,090"},{"v":1353,"d":"1,353"}]
["040116","AREQUIPA","AREQUIPA","AREQUIPA","SABANDIA",{"$nulls":3},{"v":4727,"d":"4,727"},99,97,102,88,74,72,76,73,76,59,61,67,65,60,60,61,63,57,67,62,364,357,350,328,317,293,285,221,202,184,149,100,73,65,6,50,49,111,{"v":2376,"d":"2,376"},155,164,989,141,null,{"v":4727,"d":"4,727"},944,366,850,{"v":1794,"d":"1,794"},708]
["040117","AREQUIPA","AREQUIPA","AREQUIPA","SACHACA",{"$nulls":3},{"v":29363,"d":"29,363"},382,451,456,517,498,545,427,404,409,384,429,412,430,406,444,379,404,436,438,424,{"v":2444,"d":"2,444"},{"v":2376,"d":"2,376"},{"v":2158,"d":"2,158"},{"v":2145,"d":"2,145"},{"v":2151,"d":"2,151"},{"v":1899,"d":"1,899"},{"v":1615,"d":"1,615"},{"v":1491,"d":"1,491"},{"v":1198,"d":"1,198"},{"v":1072,"d":"1,072"},823,563,367,386,27,206,176,425,{"v":15119,"d":"15,119"},{"v":1076,"d":"1,076"},{"v":1091,"d":"1,091"},{"v":6948,"d":"6,948"},536,null,{"v":29363,"d":"29,363"},{"v":5314,"d":"5,314"},{"v":2499,"d":"2,499"},{"v":5682,"d":"5,682"},{"v":11459,"d":"11,459"},{"v":4023,"d":"4,023"}]
["040118","AREQUIPA","AREQUIPA","AREQUIPA","SAN JUAN DE SIGUAS",{"$nulls":3},558,12,9,6,16,17,10,5,4,6,7,7,4,7,3,5,9,10,8,7,4,28,59,33,39,36,33,38,39,27,24,13,15,8,10,2,6,6,15,238,10,20,99,20,null,558,103,42,98,218,87]
["040119","AREQUIPA","AREQUIPA","AREQUIPA","SAN JUAN DE TARUCANI",{"$nulls":3},{"v":1252,"d":"1,252"},18,25,23,31,31,35,15,13,12,19,17,9,8,8,9,11,9,14,19,6,80,56,83,80,102,83,92,80,73,64,46,32,25,24,2,8,10,22,553,24,26,195,29,null,{"v":1252,"d":"1,252"},248,59,161,520,240]
["040120","AREQUIPA","AREQUIPA","AREQUIPA","SANTA ISABEL DE SIGUAS",{"$nulls":3},634,5,12,5,7,8,8,9,4,6,7,6,7,10,5,7,9,10,12,15,7,52,51,60,24,35,43,48,39,31,28,22,11,16,15,0,2,3,7,278,19,24,124,10,null,634,84,53,125,249,108]
["040121","AREQUIPA","AREQUIPA","AREQUIPA","SANTA RITA DE SIGUAS",{"$nulls":3},{"v":7921,"d":"7,921"},113,108,99,103,115,109,115,126,119,105,134,130,121,117,111,120,110,115,127,139,753,692,658,659,574,496,459,403,327,217,153,88,56,50,10,56,57,139,{"v":4175,"d":"4,175"},305,319,{"v":1904,"d":"1,904"},176,null,{"v":7921,"d":"7,921"},{"v":1376,"d":"1,376"},694,{"v":1711,"d":"1,711"},{"v":3249,"d":"3,249"},841]
["040122","AREQUIPA","AREQUIPA","AREQUIPA","SOCABAYA",{"$nulls":3},{"v":84182,"d":"84,182"},779,926,{"v":1093,"d":"1,093"},{"v":1110,"d":"1,110"},{"v":1261,"d":"1,261"},{"v":1329,"d":"1,329"},{"v":1152,"d":"1,152"},{"v":1246,"d":"1,246"},{"v":1281,"d":"1,281"},{"v":1328,"d":"1,328"},{"v":1257,"d":"1,257"},{"v":1195,"d":"1,195"},{"v":1196,"d":"1,196"},{"v":1185,"d":"1,185"},{"v":1239,"d":"1,239"},{"v":1194,"d":"1,194"},{"v":1277,"d":"1,277"},{"v":1224,"d":"1,224"},{"v":1346,"d":"1,346"},{"v":1289,"d":"1,289"},{"v":6844,"d":"6,844"},{"v":7454,"d":"7,454"},{"v":6520,"d":"6,520"},{"v":6427,"d":"6,427"},{"v":6257,"d":"6,257"},{"v":5601,"d":"5,601"},{"v":4932,"d":"4,932"},{"v":4197,"d":"4,197"},{"v":3457,"d":"3,457"},{"v":2959,"d":"2,959"},{"v":2211,"d":"2,211"},{"v":1488,"d":"1,488"},959,969,63,430,349,942,{"v":43537,"d":"43,537"},{"v":3088,"d":"3,088"},{"v":3248,"d":"3,248"},{"v":20123,"d":"20,123"},{"v":1182,"d":"1,182"},null,{"v":84182,"d":"84,182"},{"v":13957,"d":"13,957"},{"v":7315,"d":"7,315"},{"v":16933,"d":"16,933"},{"v":33934,"d":"33,934"},{"v":11074,"d":"11,074"}]
["040123","AREQUIPA","AREQUIPA","AREQUIPA","TIABAYA",{"$nulls":3},{"v":17655,"d":"17,655"},238,299,276,300,303,338,261,258,230,245,242,258,260,258,263,231,224,260,224,253,{"v":1335,"d":"1,335"},{"v":1517,"d":"1,517"},{"v":1494,"d":"1,494"},{"v":1335,"d":"1,335"},{"v":1310,"d":"1,310"},{"v":1108,"d":"1,108"},{"v":1002,"d":"1,002"},883,741,576,443,293,205,192,25,137,101,291,{"v":8849,"d":"8,849"},669,624,{"v":3869,"d":"3,869"},367,null,{"v":17655,"d":"17,655"},{"v":3248,"d":"3,248"},{"v":1496,"d":"1,496"},{"v":3329,"d":"3,329"},{"v":7132,"d":"7,132"},{"v":2258,"d":"2,258"}]
["040124","AREQUIPA","AREQUIPA","AREQUIPA","UCHUMAYO",{"$nulls":3},{"v":17490,"d":"17,490"},200,252,258,260,247,261,242,247,222,223,233,262,235,239,217,235,237,253,249,236,{"v":1275,"d":"1,275"},{"v":1507,"d":"1,507"},{"v":1419,"d":"1,419"},{"v":1507,"d":"1,507"},{"v":1430,"d":"1,430"},{"v":1133,"d":"1,133"},{"v":1059,"d":"1,059"},915,740,615,450,278,186,168,12,101,99,229,{"v":8434,"d":"8,434"},598,628,{"v":3652,"d":"3,652"},290,null,{"v":17490,"d":"17,490"},{"v":2907,"d":"2,907"},{"v":1416,"d":"1,416"},{"v":3267,"d":"3,267"},{"v":7463,"d":"7,463"},{"v":2269,"d":"2,269"}]
["040125","AREQUIPA","AREQUIPA","AREQUIPA","VITOR",{"$nulls":3},{"v":4771,"d":"4,771"},38,38,34,44,51,33,42,64,56,61,35,69,75,50,60,67,77,74,85,70,414,362,430,409,417,304,289,244,248,186,135,85,67,58,3,22,16,47,{"v":2368,"d":"2,368"},131,174,{"v":1250,"d":"1,250"},60,null,{"v":4771,"d":"4,771"},565,403,931,{"v":2093,"d":"2,093"},721]
["040126","AREQUIPA","AREQUIPA","AREQUIPA","YANAHUARA",{"$nulls":3},{"v":27134,"d":"27,134"},296,401,422,364,308,358,373,327,347,312,314,376,340,362,365,351,348,325,354,385,{"v":1709,"d":"1,709"},{"v":1936,"d":"1,936"},{"v":1826,"d":"1,826"},{"v":1926,"d":"1,926"},{"v":1803,"d":"1,803"},{"v":1784,"d":"1,784"},{"v":1746,"d":"1,746"},{"v":1630,"d":"1,630"},{"v":1394,"d":"1,394"},{"v":1284,"d":"1,284"},{"v":1095,"d":"1,095"},792,540,641,16,135,161,299,{"v":13180,"d":"13,180"},854,909,{"v":5480,"d":"5,480"},376,null,{"v":27134,"d":"27,134"},{"v":4198,"d":"4,198"},{"v":2091,"d":"2,091"},{"v":4384,"d":"4,384"},{"v":10715,"d":"10,715"},{"v":5105,"d":"5,105"}]
["040127","AREQUIPA","AREQUIPA","AREQUIPA","YARABAMBA",{"$nulls":3},{"v":1669,"d":"1,669"},30,34,21,19,17,23,21,15,11,12,16,12,17,10,12,17,18,12,24,19,114,129,140,158,119,131,121,112,76,63,62,34,24,26,3,16,14,38,671,31,37,257,50,null,{"v":1669,"d":"1,669"},231,86,286,781,259]
["040128","AREQUIPA","AREQUIPA","AREQUIPA","YURA",{"$nulls":3},{"v":44288,"d":"44,288"},588,758,857,919,956,913,967,937,950,880,892,664,701,662,623,656,599,623,677,646,{"v":3374,"d":"3,374"},{"v":3543,"d":"3,543"},{"v":3503,"d":"3,503"},{"v":3551,"d":"3,551"},{"v":2978,"d":"2,978"},{"v":2575,"d":"2,575"},{"v":2384,"d":"2,384"},{"v":2113,"d":"2,113"},{"v":1608,"d":"1,608"},{"v":1220,"d":"1,220"},842,510,322,297,34,291,297,663,{"v":24119,"d":"24,119"},{"v":1912,"d":"1,912"},{"v":1670,"d":"1,670"},{"v":10087,"d":"10,087"},831,null,{"v":44288,"d":"44,288"},{"v":10281,"d":"10,281"},{"v":3864,"d":"3,864"},{"v":8240,"d":"8,240"},{"v":17104,"d":"17,104"},{"v":4502,"d":"4,502"}]
["040129","AREQUIPA","AREQUIPA","AREQUIPA","JOSE LUIS BUSTAMANTE Y RIVERO",{"$nulls":3},{"v":83128,"d":"83,128"},716,911,{"v":1050,"d":"1,050"},{"v":1019,"d":"1,019"},934,940,{"v":1090,"d":"1,090"},{"v":1145,"d":"1,145"},{"v":1117,"d":"1,117"},974,{"v":1039,"d":"1,039"},{"v":1118,"d":"1,118"},{"v":1134,"d":"1,134"},{"v":1110,"d":"1,110"},{"v":1135,"d":"1,135"},{"v":1129,"d":"1,129"},{"v":1112,"d":"1,112"},{"v":1159,"d":"1,159"},{"v":1149,"d":"1,149"},{"v":1237,"d":"1,237"},{"v":6550,"d":"6,550"},{"v":6960,"d":"6,960"},{"v":6746,"d":"6,746"},{"v":6144,"d":"6,144"},{"v":6312,"d":"6,312"},{"v":5780,"d":"5,780"},{"v":5054,"d":"5,054"},{"v":4482,"d":"4,482"},{"v":3696,"d":"3,696"},{"v":3100,"d":"3,100"},{"v":2614,"d":"2,614"},{"v":1912,"d":"1,912"},{"v":1283,"d":"1,283"},{"v":1277,"d":"1,277"},55,409,307,827,{"v":41415,"d":"41,415"},{"v":2685,"d":"2,685"},{"v":2953,"d":"2,953"},{"v":19130,"d":"19,130"},{"v":1040,"d":"1,040"},null,{"v":83128,"d":"83,128"},{"v":12053,"d":"12,053"},{"v":6779,"d":"6,779"},{"v":15896,"d":"15,896"},{"v":34518,"d":"34,518"},{"v":12605,"d":"12,605"}]
["040201","AREQUIPA","AREQUIPA","CAMANA","CAMANA",{"$nulls":3},{"v":12558,"d":"12,558"},75,67,128,154,137,169,110,143,141,134,141,189,183,208,186,220,176,194,197,201,{"v":1152,"d":"1,152"},{"v":1114,"d":"1,114"},{"v":1106,"d":"1,106"},893,915,832,731,648,580,458,365,256,176,179,10,51,24,91,{"v":6311,"d":"6,311"},407,485,{"v":3337,"d":"3,337"},116,null,{"v":12558,"d":"12,558"},{"v":1588,"d":"1,588"},{"v":1167,"d":"1,167"},{"v":2664,"d":"2,664"},{"v":5125,"d":"5,125"},{"v":1835,"d":"1,835"}]
["040202","AREQUIPA","AREQUIPA","CAMANA","JOSE MARIA QUIMPER",{"$nulls":3},{"v":4868,"d":"4,868"},48,75,82,86,99,86,74,93,84,69,63,68,79,73,63,69,67,69,58,71,342,432,320,370,319,275,284,263,231,209,126,93,56,72,3,21,27,59,{"v":2541,"d":"2,541"},185,190,{"v":1094,"d":"1,094"},76,null,{"v":4868,"d":"4,868"},927,420,903,{"v":1831,"d":"1,831"},715]
["040203","AREQUIPA","AREQUIPA","CAMANA","MARIANO NICOLAS VALCARCEL",{"$nulls":3},{"v":8469,"d":"8,469"},151,173,215,284,321,241,212,221,300,303,251,109,96,83,114,90,119,107,86,66,394,417,519,580,443,444,534,631,394,248,151,77,56,39,8,66,85,198,{"v":4378,"d":"4,378"},406,302,{"v":1021,"d":"1,021"},248,null,{"v":8469,"d":"8,469"},{"v":2781,"d":"2,781"},609,963,{"v":3151,"d":"3,151"},926]
["040204","AREQUIPA","AREQUIPA","CAMANA","MARISCAL CACERES",{"$nulls":3},{"v":6606,"d":"6,606"},86,125,108,107,125,109,105,86,88,88,86,89,82,80,92,80,91,73,98,91,487,511,556,485,455,403,450,369,321,244,180,115,74,67,8,44,42,105,{"v":3409,"d":"3,409"},212,215,{"v":1499,"d":"1,499"},134,null,{"v":6606,"d":"6,606"},{"v":1202,"d":"1,202"},498,{"v":1187,"d":"1,187"},{"v":2718,"d":"2,718"},934]
["040205","AREQUIPA","AREQUIPA","CAMANA","NICOLAS DE PIEROLA",{"$nulls":3},{"v":7917,"d":"7,917"},86,127,108,133,126,136,124,112,123,120,133,109,124,112,112,113,121,118,135,116,535,655,573,573,556,505,447,437,394,283,212,158,103,98,7,44,42,99,{"v":4013,"d":"4,013"},274,305,{"v":1800,"d":"1,800"},126,null,{"v":7917,"d":"7,917"},{"v":1437,"d":"1,437"},700,{"v":1441,"d":"1,441"},{"v":3091,"d":"3,091"},{"v":1150,"d":"1,150"}]
["040206","AREQUIPA","AREQUIPA","CAMANA","OCOÑA",{"$nulls":3},{"v":3944,"d":"3,944"},52,66,60,55,53,47,57,62,41,34,54,51,43,44,51,50,45,64,54,53,299,326,289,266,264,235,265,235,206,173,140,86,57,67,5,25,27,63,{"v":1909,"d":"1,909"},121,125,907,80,null,{"v":3944,"d":"3,944"},632,297,732,{"v":1554,"d":"1,554"},662]
["040207","AREQUIPA","AREQUIPA","CAMANA","QUILCA",{"$nulls":3},{"v":1071,"d":"1,071"},14,11,13,15,28,12,10,11,12,23,12,14,13,11,13,14,14,12,14,16,57,83,89,59,79,73,74,65,65,48,39,27,15,16,2,9,5,18,477,32,36,195,23,null,{"v":1071,"d":"1,071"},175,77,170,439,194]
["040208","AREQUIPA","AREQUIPA","CAMANA","SAMUEL PASTOR",{"$nulls":3},{"v":17004,"d":"17,004"},254,317,325,335,333,311,282,277,275,278,233,285,247,255,235,252,264,258,266,250,{"v":1335,"d":"1,335"},{"v":1427,"d":"1,427"},{"v":1298,"d":"1,298"},{"v":1213,"d":"1,213"},{"v":1143,"d":"1,143"},{"v":1059,"d":"1,059"},964,836,720,522,367,262,159,167,21,123,131,308,{"v":8909,"d":"8,909"},620,658,{"v":3971,"d":"3,971"},389,null,{"v":17004,"d":"17,004"},{"v":3505,"d":"3,505"},{"v":1511,"d":"1,511"},{"v":3278,"d":"3,278"},{"v":6513,"d":"6,513"},{"v":2030,"d":"2,030"}]
["040301","AREQUIPA","AREQUIPA","CARAVELI","CARAVELI",{"$nulls":3},{"v":4242,"d":"4,242"},68,66,64,80,83,71,58,51,56,67,57,56,56,53,49,72,59,65,56,53,294,372,297,397,335,283,279,204,156,123,101,64,42,55,10,38,30,76,{"v":2276,"d":"2,276"},143,136,{"v":1148,"d":"1,148"},96,null,{"v":4242,"d":"4,242"},777,354,775,{"v":1795,"d":"1,795"},486]
["040302","AREQUIPA","AREQUIPA","CARAVELI","ACARI",{"$nulls":3},{"v":5293,"d":"5,293"},54,55,50,60,78,72,67,78,54,71,73,73,86,77,90,94,96,94,99,73,487,437,389,353,318,307,292,288,253,188,171,145,69,102,3,27,27,68,{"v":2748,"d":"2,748"},177,243,{"v":1382,"d":"1,382"},86,null,{"v":5293,"d":"5,293"},785,537,{"v":1096,"d":"1,096"},{"v":1947,"d":"1,947"},826]
["040303","AREQUIPA","AREQUIPA","CARAVELI","ATICO",{"$nulls":3},{"v":6134,"d":"6,134"},57,79,67,83,89,88,85,85,92,86,102,104,87,79,102,94,110,82,99,99,512,476,461,482,431,373,392,356,277,215,160,104,76,50,5,29,28,70,{"v":3099,"d":"3,099"},224,241,{"v":1410,"d":"1,410"},88,null,{"v":6134,"d":"6,134"},{"v":1017,"d":"1,017"},554,{"v":1186,"d":"1,186"},{"v":2495,"d":"2,495"},832]
["040304","AREQUIPA","AREQUIPA","CARAVELI","ATIQUIPA",{"$nulls":3},475,7,12,12,12,19,11,5,4,8,9,4,3,5,7,5,10,5,6,5,5,21,50,40,40,21,22,27,27,23,15,11,10,6,8,1,4,3,10,236,11,18,97,14,null,475,106,38,81,177,65]
["040305","AREQUIPA","AREQUIPA","CARAVELI","BELLA UNION",{"$nulls":3},{"v":2740,"d":"2,740"},42,40,37,33,35,27,40,36,35,42,28,37,40,28,34,24,45,29,44,35,225,245,226,183,205,191,178,144,131,86,83,61,39,32,7,20,22,56,{"v":1409,"d":"1,409"},85,80,693,71,null,{"v":2740,"d":"2,740"},432,200,549,{"v":1127,"d":"1,127"},400]
["040306","AREQUIPA","AREQUIPA","CARAVELI","CAHUACHO",{"$nulls":3},566,44,16,7,9,4,10,7,4,9,5,4,5,5,8,8,9,8,9,7,8,39,33,37,49,44,26,29,24,17,23,18,13,14,14,0,19,25,57,285,13,23,134,74,null,566,124,47,87,209,85]
["040307","AREQUIPA","AREQUIPA","CARAVELI","CHALA",{"$nulls":3},{"v":10255,"d":"10,255"},163,194,172,166,151,144,226,192,199,188,163,179,162,181,156,183,156,154,122,170,815,923,760,795,607,618,539,513,435,334,201,131,75,88,14,89,74,212,{"v":5487,"d":"5,487"},404,394,{"v":2532,"d":"2,532"},266,null,{"v":10255,"d":"10,255"},{"v":2137,"d":"2,137"},992,{"v":2030,"d":"2,030"},{"v":3832,"d":"3,832"},{"v":1176,"d":"1,176"}]
["040308","AREQUIPA","AREQUIPA","CARAVELI","CHAPARRA",{"$nulls":3},{"v":3468,"d":"3,468"},38,61,81,49,48,55,51,67,33,59,41,50,50,45,39,45,54,41,45,57,309,268,353,262,236,217,193,183,145,111,82,34,37,29,5,19,19,50,{"v":1677,"d":"1,677"},101,141,814,64,null,{"v":3468,"d":"3,468"},633,274,679,{"v":1444,"d":"1,444"},409]
["040309","AREQUIPA","AREQUIPA","CARAVELI","HUANUHUANU",{"$nulls":3},{"v":3121,"d":"3,121"},45,54,29,43,43,52,52,42,50,43,53,45,47,48,53,41,58,40,71,54,212,247,303,257,246,206,191,167,127,84,54,27,18,19,2,27,18,59,{"v":1379,"d":"1,379"},108,140,589,75,null,{"v":3121,"d":"3,121"},551,287,584,{"v":1370,"d":"1,370"},310]
["040310","AREQUIPA","AREQUIPA","CARAVELI","JAQUI",{"$nulls":3},{"v":1605,"d":"1,605"},22,33,23,17,22,18,29,18,21,18,19,24,31,21,21,23,32,29,26,22,142,152,113,105,95,90,92,91,67,70,46,29,20,24,0,10,12,29,820,46,72,405,38,null,{"v":1605,"d":"1,605"},264,157,342,586,232]
["040311","AREQUIPA","AREQUIPA","CARAVELI","LOMAS",{"$nulls":3},{"v":1586,"d":"1,586"},21,17,13,27,29,35,17,16,20,33,34,26,10,27,25,20,18,19,22,18,129,129,116,94,116,113,96,98,84,56,40,33,19,16,2,12,9,28,755,67,51,309,36,null,{"v":1586,"d":"1,586"},288,119,298,633,232]
["040312","AREQUIPA","AREQUIPA","CARAVELI","QUICACHA",{"$nulls":3},{"v":1921,"d":"1,921"},23,43,16,28,28,24,32,14,27,27,25,33,32,23,23,42,42,32,40,35,168,161,181,124,137,121,94,89,77,59,43,32,21,25,0,11,12,30,{"v":1019,"d":"1,019"},66,105,525,39,null,{"v":1921,"d":"1,921"},320,194,404,746,232]
["040313","AREQUIPA","AREQUIPA","CARAVELI","YAUCA",{"$nulls":3},{"v":2047,"d":"2,047"},13,21,14,22,25,13,29,24,35,35,24,32,25,27,40,39,39,38,28,37,135,172,123,85,153,127,138,130,130,90,79,50,40,35,5,8,5,17,979,67,104,399,22,null,{"v":2047,"d":"2,047"},287,208,372,756,389]
["040401","AREQUIPA","AREQUIPA","CASTILLA","APLAO",{"$nulls":3},{"v":9099,"d":"9,099"},119,148,126,135,142,151,122,108,112,108,125,120,130,127,114,113,144,166,115,137,649,856,706,677,633,580,541,485,393,323,276,184,117,117,5,57,62,154,{"v":4713,"d":"4,713"},259,348,{"v":2350,"d":"2,350"},194,null,{"v":9099,"d":"9,099"},{"v":1516,"d":"1,516"},794,{"v":1757,"d":"1,757"},{"v":3622,"d":"3,622"},{"v":1293,"d":"1,293"}]
["040402","AREQUIPA","AREQUIPA","CASTILLA","ANDAGUA",{"$nulls":3},973,10,15,7,8,15,11,16,13,12,14,9,12,11,13,14,15,17,14,17,12,56,97,69,69,59,73,58,47,45,41,38,25,17,24,1,6,4,16,446,23,40,215,21,null,973,142,84,182,375,166]
["040403","AREQUIPA","AREQUIPA","CASTILLA","AYO",{"$nulls":3},216,4,3,2,3,0,2,2,2,2,1,0,1,1,2,1,1,4,3,1,2,5,9,11,13,18,12,13,14,18,17,12,16,11,10,1,2,2,5,62,2,4,15,7,null,216,22,12,17,81,74]
["040404","AREQUIPA","AREQUIPA","CASTILLA","CHACHAS",{"$nulls":3},{"v":1602,"d":"1,602"},29,34,29,23,27,37,24,13,21,18,25,19,27,26,23,35,24,26,20,25,172,112,150,113,102,92,82,78,56,37,36,27,17,23,5,15,14,29,761,51,64,372,37,null,{"v":1602,"d":"1,602"},299,161,329,617,173]
["040405","AREQUIPA","AREQUIPA","CASTILLA","CHILCAYMARCA",{"$nulls":3},{"v":1072,"d":"1,072"},12,10,10,6,13,11,13,16,9,16,14,15,11,17,20,15,17,12,15,9,112,96,110,87,58,76,67,54,52,40,20,19,11,9,0,6,6,15,562,37,31,288,20,null,{"v":1072,"d":"1,072"},145,92,232,452,142]
["040406","AREQUIPA","AREQUIPA","CASTILLA","CHOCO",{"$nulls":3},631,3,7,6,4,3,5,5,6,3,3,3,6,7,5,3,5,9,6,10,13,45,52,42,57,47,53,40,33,36,32,24,19,19,20,0,0,3,4,229,11,21,113,6,null,631,54,35,120,272,130]
["040407","AREQUIPA","AREQUIPA","CASTILLA","HUANCARQUI",{"$nulls":3},{"v":1621,"d":"1,621"},11,23,12,11,14,9,22,16,13,17,16,20,15,18,19,18,14,21,16,26,121,106,142,116,123,116,108,110,89,77,66,45,35,36,1,5,6,11,695,39,43,307,15,null,{"v":1621,"d":"1,621"},184,105,269,715,312]
["040408","AREQUIPA","AREQUIPA","CASTILLA","MACHAGUAY",{"$nulls":3},413,4,3,7,3,6,3,1,3,1,4,4,3,5,5,3,3,8,8,6,6,29,31,24,29,35,24,22,23,21,15,26,17,14,17,0,2,2,5,178,8,15,102,8,null,413,42,32,72,157,93]
["040409","AREQUIPA","AREQUIPA","CASTILLA","ORCOPAMPA",{"$nulls":3},{"v":8577,"d":"8,577"},52,90,75,119,162,162,128,116,157,190,174,125,134,152,140,178,163,179,146,140,908,855,727,699,548,463,371,351,274,217,156,90,67,69,3,25,27,68,{"v":4834,"d":"4,834"},351,401,{"v":2571,"d":"2,571"},87,null,{"v":8577,"d":"8,577"},{"v":1550,"d":"1,550"},946,{"v":2049,"d":"2,049"},{"v":3159,"d":"3,159"},804]
["040410","AREQUIPA","AREQUIPA","CASTILLA","PAMPACOLCA",{"$nulls":3},{"v":1728,"d":"1,728"},34,34,20,23,29,21,25,18,20,15,22,20,20,27,23,28,26,29,20,29,161,159,133,100,112,109,78,94,58,61,41,57,43,39,2,19,15,50,874,46,64,482,64,null,{"v":1728,"d":"1,728"},281,153,369,626,260]
["040411","AREQUIPA","AREQUIPA","CASTILLA","TIPAN",{"$nulls":3},420,2,3,0,3,3,5,5,3,3,2,3,4,5,6,4,3,3,7,9,4,37,32,31,39,36,24,16,31,22,18,14,18,8,17,0,1,1,2,198,12,10,124,3,null,420,36,28,82,177,80]
["040412","AREQUIPA","AREQUIPA","CASTILLA","UÑON",{"$nulls":3},191,2,3,0,2,3,1,0,0,2,1,2,3,0,1,5,1,2,1,0,2,11,12,12,10,18,14,20,9,13,12,12,5,6,6,0,2,0,2,75,7,3,31,4,null,191,19,10,25,83,48]
["040413","AREQUIPA","AREQUIPA","CASTILLA","URACA",{"$nulls":3},{"v":6397,"d":"6,397"},71,64,80,91,65,89,64,64,82,62,67,75,85,84,80,101,86,82,86,98,540,681,497,465,459,380,390,340,314,244,196,129,95,91,4,35,36,93,{"v":3212,"d":"3,212"},197,218,{"v":1656,"d":"1,656"},118,null,{"v":6397,"d":"6,397"},874,518,{"v":1405,"d":"1,405"},{"v":2531,"d":"2,531"},978]
["040414","AREQUIPA","AREQUIPA","CASTILLA","VIRACO",{"$nulls":3},{"v":1384,"d":"1,384"},15,11,14,11,13,14,9,13,12,7,10,18,17,15,17,13,14,34,18,20,97,145,94,92,97,87,83,67,71,82,50,48,40,36,1,8,7,18,641,42,54,363,23,null,{"v":1384,"d":"1,384"},147,110,280,520,291]
["040501","AREQUIPA","AREQUIPA","CAYLLOMA","CHIVAY",{"$nulls":3},{"v":6058,"d":"6,058"},48,75,71,104,129,139,70,78,78,100,95,110,94,93,104,113,100,108,105,90,542,569,510,497,392,386,299,275,210,156,113,86,63,56,2,30,18,57,{"v":3319,"d":"3,319"},246,247,{"v":1697,"d":"1,697"},72,null,{"v":6058,"d":"6,058"},{"v":1097,"d":"1,097"},612,{"v":1306,"d":"1,306"},{"v":2359,"d":"2,359"},628]
["040502","AREQUIPA","AREQUIPA","CAYLLOMA","ACHOMA",{"$nulls":3},824,10,9,6,10,11,7,8,8,4,5,6,9,12,5,7,6,7,11,7,13,76,73,55,40,70,61,58,55,42,37,32,24,19,21,0,4,6,13,360,18,19,170,18,null,824,93,48,169,339,154]
["040503","AREQUIPA","AREQUIPA","CAYLLOMA","CABANACONDE",{"$nulls":3},{"v":2065,"d":"2,065"},21,28,15,20,13,24,22,16,17,17,22,31,24,27,21,21,26,28,31,24,145,231,139,122,154,131,140,137,102,98,71,53,48,46,0,8,13,28,985,60,61,491,36,null,{"v":2065,"d":"2,065"},246,147,431,823,372]
["040504","AREQUIPA","AREQUIPA","CAYLLOMA","CALLALLI",{"$nulls":3},{"v":1315,"d":"1,315"},18,30,10,17,18,13,19,8,11,15,10,16,11,16,14,12,17,10,18,9,95,132,91,91,84,99,91,82,72,53,48,39,23,23,2,10,8,21,607,30,38,286,28,null,{"v":1315,"d":"1,315"},185,80,254,538,235]
["040505","AREQUIPA","AREQUIPA","CAYLLOMA","CAYLLOMA",{"$nulls":3},{"v":3647,"d":"3,647"},65,56,54,37,57,62,30,45,39,49,49,52,51,52,62,66,68,77,60,57,355,307,276,331,256,229,202,168,133,108,77,48,33,36,8,32,33,85,{"v":1893,"d":"1,893"},118,170,982,107,null,{"v":3647,"d":"3,647"},595,376,779,{"v":1462,"d":"1,462"},399]
["040506","AREQUIPA","AREQUIPA","CAYLLOMA","COPORAQUE",{"$nulls":3},{"v":1091,"d":"1,091"},11,16,17,9,13,8,20,17,9,8,4,12,15,12,12,14,14,6,9,14,75,66,93,97,84,64,70,61,67,60,38,31,20,25,1,5,6,15,533,33,24,230,20,null,{"v":1091,"d":"1,091"},144,73,164,469,216]
["040507","AREQUIPA","AREQUIPA","CAYLLOMA","HUAMBO",{"$nulls":3},643,7,6,8,7,11,5,7,6,3,7,6,7,6,3,5,7,11,10,8,8,53,65,64,41,32,41,38,32,30,29,16,27,18,19,1,4,3,8,285,8,21,164,11,null,643,80,42,134,248,120]
["040508","AREQUIPA","AREQUIPA","CAYLLOMA","HUANCA",{"$nulls":3},966,13,8,3,12,19,12,2,3,6,8,8,7,8,8,10,8,9,11,10,10,49,71,65,66,90,76,73,59,64,49,46,30,27,26,0,10,3,17,386,18,22,180,23,null,966,101,54,140,429,216]
["040509","AREQUIPA","AREQUIPA","CAYLLOMA","ICHUPAMPA",{"$nulls":3},577,8,14,3,8,4,9,7,1,4,5,7,8,9,7,4,5,11,9,5,10,28,37,57,25,43,40,40,40,34,29,28,14,13,11,1,5,3,8,243,15,21,95,12,null,577,78,45,80,245,118]
["040510","AREQUIPA","AREQUIPA","CAYLLOMA","LARI",{"$nulls":3},818,13,15,11,8,8,15,8,7,5,9,9,7,9,9,8,12,13,9,15,16,69,79,68,63,60,57,46,37,35,33,20,17,16,12,1,5,8,13,399,16,33,208,17,null,818,115,60,179,331,121]
["040511","AREQUIPA","AREQUIPA","CAYLLOMA","LLUTA",{"$nulls":3},706,8,7,7,5,9,16,2,2,5,3,5,6,6,11,6,6,8,12,8,6,64,35,58,70,40,53,44,46,35,34,31,22,20,16,2,5,3,11,278,12,19,153,15,null,706,75,49,113,311,142]
["040512","AREQUIPA","AREQUIPA","CAYLLOMA","MACA",{"$nulls":3},662,8,4,6,3,6,2,5,5,5,6,2,7,6,6,7,8,6,8,3,11,53,51,52,54,49,50,49,35,37,33,27,26,12,20,2,4,4,10,289,12,11,141,13,null,662,59,41,118,289,135]
["040513","AREQUIPA","AREQUIPA","CAYLLOMA","MADRIGAL",{"$nulls":3},655,4,2,6,3,6,6,4,5,4,2,7,3,4,6,7,3,8,7,9,7,53,42,63,49,50,51,42,32,39,34,31,25,19,22,0,2,2,5,290,13,17,156,7,null,655,52,35,111,287,148]
["040514","AREQUIPA","AREQUIPA","CAYLLOMA","SAN ANTONIO DE CHUCA",{"$nulls":3},861,9,9,12,5,12,17,10,12,7,10,13,9,10,13,13,15,16,14,11,12,67,77,69,63,57,52,50,49,47,30,31,18,11,11,1,7,2,11,424,26,30,220,15,null,861,125,81,167,340,137]
["040515","AREQUIPA","AREQUIPA","CAYLLOMA","SIBAYO",{"$nulls":3},684,5,11,8,6,7,8,5,8,4,8,5,8,8,9,10,11,8,11,10,6,63,65,48,45,48,59,45,34,34,27,25,10,14,11,2,5,0,5,335,19,17,165,7,null,684,83,57,144,279,110]
["040516","AREQUIPA","AREQUIPA","CAYLLOMA","TAPAY",{"$nulls":3},843,11,8,9,3,3,14,11,10,6,5,7,7,5,9,11,7,9,9,7,13,58,82,61,72,73,51,54,51,52,46,32,19,15,13,1,5,6,15,337,19,22,168,20,null,843,94,50,160,362,164]
["040517","AREQUIPA","AREQUIPA","CAYLLOMA","TISCO",{"$nulls":3},{"v":1495,"d":"1,495"},15,14,19,17,21,19,11,18,11,14,11,21,24,14,24,17,23,26,26,21,150,96,127,123,104,114,96,80,60,53,38,46,20,22,0,8,7,17,689,36,46,371,23,null,{"v":1495,"d":"1,495"},191,128,293,644,217]
["040518","AREQUIPA","AREQUIPA","CAYLLOMA","TUTI",{"$nulls":3},593,6,10,5,8,8,7,10,7,5,3,7,7,7,6,7,7,12,10,7,9,57,50,29,52,42,46,36,37,24,21,21,12,9,9,1,3,3,6,276,14,12,140,8,null,593,83,49,123,242,87]
["040519","AREQUIPA","AREQUIPA","CAYLLOMA","YANQUE",{"$nulls":3},{"v":2155,"d":"2,155"},25,40,25,22,30,28,35,23,19,21,25,23,29,19,21,27,26,33,36,36,140,177,188,157,153,150,135,115,115,97,80,50,28,27,2,12,13,33,{"v":1003,"d":"1,003"},57,69,438,42,null,{"v":2155,"d":"2,155"},316,155,389,898,370]
["040520","AREQUIPA","AREQUIPA","CAYLLOMA","MAJES",{"$nulls":3},{"v":73831,"d":"73,831"},{"v":1215,"d":"1,215"},{"v":1324,"d":"1,324"},{"v":1339,"d":"1,339"},{"v":1304,"d":"1,304"},{"v":1269,"d":"1,269"},{"v":1217,"d":"1,217"},{"v":1297,"d":"1,297"},{"v":1270,"d":"1,270"},{"v":1135,"d":"1,135"},{"v":1124,"d":"1,124"},{"v":1067,"d":"1,067"},{"v":1072,"d":"1,072"},{"v":1097,"d":"1,097"},{"v":1053,"d":"1,053"},{"v":1079,"d":"1,079"},{"v":1026,"d":"1,026"},{"v":1100,"d":"1,100"},{"v":1078,"d":"1,078"},{"v":1100,"d":"1,100"},{"v":1147,"d":"1,147"},{"v":5284,"d":"5,284"},{"v":6223,"d":"6,223"},{"v":5714,"d":"5,714"},{"v":5770,"d":"5,770"},{"v":5231,"d":"5,231"},{"v":4674,"d":"4,674"},{"v":4276,"d":"4,276"},{"v":3729,"d":"3,729"},{"v":3064,"d":"3,064"},{"v":2390,"d":"2,390"},{"v":1778,"d":"1,778"},{"v":1150,"d":"1,150"},666,569,80,595,620,{"v":1480,"d":"1,480"},{"v":38831,"d":"38,831"},{"v":2723,"d":"2,723"},{"v":2780,"d":"2,780"},{"v":16731,"d":"16,731"},{"v":1859,"d":"1,859"},null,{"v":73831,"d":"73,831"},{"v":14633,"d":"14,633"},{"v":6433,"d":"6,433"},{"v":13754,"d":"13,754"},{"v":29394,"d":"29,394"},{"v":9048,"d":"9,048"}]
["040601","AREQUIPA","AREQUIPA","CONDESUYOS","CHUQUIBAMBA",{"$nulls":3},{"v":3356,"d":"3,356"},37,43,42,59,56,58,43,42,46,41,52,43,51,45,60,72,58,55,61,63,268,280,292,196,215,214,173,144,113,131,112,74,60,57,4,15,22,51,{"v":1743,"d":"1,743"},124,154,865,65,null,{"v":3356,"d":"3,356"},562,341,672,{"v":1234,"d":"1,234"},490]
["040602","AREQUIPA","AREQUIPA","CONDESUYOS","ANDARAY",{"$nulls":3},664,4,4,4,2,3,5,4,4,3,6,9,8,6,6,7,9,7,9,8,8,47,37,51,53,49,43,53,39,40,37,35,19,19,26,1,2,2,5,284,21,16,122,7,null,664,56,44,100,288,150]
["040603","AREQUIPA","AREQUIPA","CONDESUYOS","CAYARANI",{"$nulls":3},{"v":3241,"d":"3,241"},50,36,42,48,36,45,34,45,53,37,47,39,46,49,51,57,66,44,61,54,351,297,307,248,248,218,145,150,107,82,61,30,26,31,2,23,27,63,{"v":1770,"d":"1,770"},109,127,{"v":1011,"d":"1,011"},79,null,{"v":3241,"d":"3,241"},512,313,763,{"v":1316,"d":"1,316"},306]
["040604","AREQUIPA","AREQUIPA","CONDESUYOS","CHICHAS",{"$nulls":3},639,5,3,1,6,7,4,3,2,6,7,7,8,5,6,5,6,8,11,10,6,47,39,64,21,49,38,56,47,40,31,24,22,22,23,1,3,2,6,243,13,17,130,9,null,639,59,41,102,275,139]
["040605","AREQUIPA","AREQUIPA","CONDESUYOS","IRAY",{"$nulls":3},558,9,6,6,2,7,5,3,5,2,3,5,7,7,9,5,5,9,7,8,4,33,50,56,31,26,29,40,33,30,35,25,19,16,21,1,4,5,10,225,13,15,114,13,null,558,60,42,95,215,125]
["040606","AREQUIPA","AREQUIPA","CONDESUYOS","RIO GRANDE",{"$nulls":3},{"v":3318,"d":"3,318"},41,59,63,70,37,22,62,69,57,35,44,44,31,42,37,43,56,50,37,41,204,292,270,193,268,201,191,202,175,118,100,76,49,39,4,23,18,53,{"v":1590,"d":"1,590"},101,100,694,67,null,{"v":3318,"d":"3,318"},603,259,574,{"v":1325,"d":"1,325"},518]
["040607","AREQUIPA","AREQUIPA","CONDESUYOS","SALAMANCA",{"$nulls":3},371,4,4,4,6,5,3,2,2,5,2,2,6,3,1,9,5,5,5,6,6,20,32,30,24,20,28,21,26,15,18,15,14,10,13,2,3,1,5,152,6,12,77,7,null,371,45,28,64,149,72]
["040608","AREQUIPA","AREQUIPA","CONDESUYOS","YANAQUIHUA",{"$nulls":3},{"v":3730,"d":"3,730"},48,48,34,33,42,41,32,28,29,38,37,49,39,43,44,49,59,48,40,44,284,326,385,352,270,275,259,186,161,144,95,53,56,59,5,23,25,63,{"v":1759,"d":"1,759"},93,108,954,80,null,{"v":3730,"d":"3,730"},459,282,694,{"v":1727,"d":"1,727"},509]
["040701","AREQUIPA","AREQUIPA","ISLAY","MOLLENDO",{"$nulls":3},{"v":26553,"d":"26,553"},307,310,378,349,363,411,329,366,308,356,349,334,361,359,358,353,350,359,377,405,{"v":1909,"d":"1,909"},{"v":2253,"d":"2,253"},{"v":1962,"d":"1,962"},{"v":1881,"d":"1,881"},{"v":1912,"d":"1,912"},{"v":1840,"d":"1,840"},{"v":1620,"d":"1,620"},{"v":1430,"d":"1,430"},{"v":1202,"d":"1,202"},{"v":1067,"d":"1,067"},887,624,460,424,21,157,150,372,{"v":13000,"d":"13,000"},878,935,{"v":6142,"d":"6,142"},469,null,{"v":26553,"d":"26,553"},{"v":4160,"d":"4,160"},{"v":2140,"d":"2,140"},{"v":4944,"d":"4,944"},{"v":10645,"d":"10,645"},{"v":4240,"d":"4,240"}]
["040702","AREQUIPA","AREQUIPA","ISLAY","COCACHACRA",{"$nulls":3},{"v":8357,"d":"8,357"},97,99,116,107,145,143,83,93,99,109,94,91,102,108,101,114,84,89,115,117,584,665,661,632,605,540,525,515,409,381,266,197,146,125,8,46,51,126,{"v":3887,"d":"3,887"},252,241,{"v":1736,"d":"1,736"},161,null,{"v":8357,"d":"8,357"},{"v":1276,"d":"1,276"},598,{"v":1481,"d":"1,481"},{"v":3478,"d":"3,478"},{"v":1399,"d":"1,399"}]
["040703","AREQUIPA","AREQUIPA","ISLAY","DEAN VALDIVIA",{"$nulls":3},{"v":7166,"d":"7,166"},101,99,87,105,103,96,106,83,86,88,92,94,100,82,89,89,100,106,85,100,580,621,517,577,510,494,436,415,297,294,189,142,96,107,9,50,51,122,{"v":3588,"d":"3,588"},226,228,{"v":1684,"d":"1,684"},154,null,{"v":7166,"d":"7,166"},{"v":1140,"d":"1,140"},566,{"v":1386,"d":"1,386"},{"v":2949,"d":"2,949"},{"v":1018,"d":"1,018"}]
["040704","AREQUIPA","AREQUIPA","ISLAY","ISLAY",{"$nulls":3},{"v":5279,"d":"5,279"},83,92,80,97,88,117,77,74,69,72,91,75,80,74,72,68,86,73,73,66,369,466,429,441,387,348,320,254,201,169,134,74,40,40,3,28,55,98,{"v":2738,"d":"2,738"},207,171,{"v":1316,"d":"1,316"},124,null,{"v":5279,"d":"5,279"},{"v":1015,"d":"1,015"},453,974,{"v":2179,"d":"2,179"},618]
["040705","AREQUIPA","AREQUIPA","ISLAY","MEJIA",{"$nulls":3},{"v":1219,"d":"1,219"},17,16,10,17,13,16,17,11,11,16,11,14,12,13,13,15,15,9,14,17,45,58,79,88,96,92,94,86,91,63,58,40,22,30,2,12,5,17,462,24,32,161,22,null,{"v":1219,"d":"1,219"},169,77,134,535,274]
["040706","AREQUIPA","AREQUIPA","ISLAY","PUNTA DE BOMBON",{"$nulls":3},{"v":6503,"d":"6,503"},74,101,81,91,97,107,92,80,64,76,82,87,76,77,67,82,101,93,86,82,548,513,464,495,449,418,388,360,331,282,206,153,86,114,6,36,38,82,{"v":3097,"d":"3,097"},183,210,{"v":1435,"d":"1,435"},104,null,{"v":6503,"d":"6,503"},{"v":1032,"d":"1,032"},496,{"v":1229,"d":"1,229"},{"v":2574,"d":"2,574"},{"v":1058,"d":"1,058"}]
["040801","AREQUIPA","AREQUIPA","LA UNION","COTAHUASI",{"$nulls":3},{"v":2935,"d":"2,935"},54,49,53,50,49,41,42,36,36,41,37,49,45,42,43,50,42,50,53,46,235,310,201,250,194,165,133,114,102,97,73,58,42,53,2,17,37,72,{"v":1598,"d":"1,598"},97,119,880,93,null,{"v":2935,"d":"2,935"},537,272,644,{"v":1057,"d":"1,057"},372]
["040802","AREQUIPA","AREQUIPA","LA UNION","ALCA",{"$nulls":3},{"v":1846,"d":"1,846"},32,28,27,18,23,32,23,24,22,21,22,18,29,24,32,31,28,27,28,34,171,171,166,160,120,110,87,80,73,44,49,39,24,29,1,13,19,42,{"v":1020,"d":"1,020"},70,72,589,55,null,{"v":1846,"d":"1,846"},290,171,404,723,229]
["040803","AREQUIPA","AREQUIPA","LA UNION","CHARCANA",{"$nulls":3},562,9,10,5,5,10,7,5,8,6,9,8,10,6,5,6,10,14,14,8,10,47,48,55,56,24,33,24,24,13,21,15,17,10,10,1,7,2,12,287,20,35,152,16,null,562,92,55,113,216,76]
["040804","AREQUIPA","AREQUIPA","LA UNION","HUAYNACOTAS",{"$nulls":3},{"v":1793,"d":"1,793"},44,36,21,24,21,28,30,18,25,25,25,29,29,32,27,30,32,34,26,29,157,179,129,136,126,110,90,71,54,51,49,31,23,22,3,19,25,64,940,65,69,509,82,null,{"v":1793,"d":"1,793"},326,184,391,662,208]
["040805","AREQUIPA","AREQUIPA","LA UNION","PAMPAMARCA",{"$nulls":3},{"v":1093,"d":"1,093"},17,23,16,21,20,15,11,10,11,12,10,11,18,11,19,18,19,28,24,22,110,81,97,93,76,65,42,42,37,36,29,23,13,13,1,7,10,22,565,35,54,305,28,null,{"v":1093,"d":"1,093"},177,113,237,415,138]
["040806","AREQUIPA","AREQUIPA","LA UNION","PUYCA",{"$nulls":3},{"v":2327,"d":"2,327"},52,34,46,39,32,45,28,42,32,30,39,40,34,46,51,48,49,48,43,40,252,208,196,165,135,128,96,87,62,58,46,34,23,19,4,21,31,75,{"v":1276,"d":"1,276"},89,112,704,95,null,{"v":2327,"d":"2,327"},459,276,543,807,223]
["040807","AREQUIPA","AREQUIPA","LA UNION","QUECHUALLA",{"$nulls":3},295,2,1,4,6,5,5,1,3,4,3,2,1,1,1,0,2,1,4,3,2,10,16,21,26,21,16,22,25,28,18,15,11,8,7,0,2,0,4,113,4,5,39,6,null,295,37,9,31,131,80]
["040808","AREQUIPA","AREQUIPA","LA UNION","SAYLA",{"$nulls":3},286,4,2,0,4,4,6,2,1,4,3,4,3,4,2,1,2,2,8,5,6,26,39,26,19,21,13,13,12,10,11,7,6,8,8,0,3,1,5,121,7,9,74,8,null,286,37,19,76,104,42]
["040809","AREQUIPA","AREQUIPA","LA UNION","TAURIA",{"$nulls":3},334,2,9,10,5,14,4,6,4,7,8,3,1,3,5,3,6,8,7,3,6,27,13,43,19,33,10,8,17,13,10,10,4,7,6,0,2,0,2,167,10,15,74,4,null,334,73,32,49,130,44]
["040810","AREQUIPA","AREQUIPA","LA UNION","TOMEPAMPA",{"$nulls":3},637,6,7,7,4,5,4,7,5,9,6,7,9,6,8,11,10,14,10,11,8,34,50,68,43,46,43,45,36,33,25,21,20,6,13,0,3,3,7,313,18,26,163,10,null,637,76,59,103,281,105]
["040811","AREQUIPA","AREQUIPA","LA UNION","TORO",{"$nulls":3},477,4,6,1,3,5,3,6,2,4,6,2,5,5,4,6,8,5,6,6,7,21,54,38,26,31,34,32,37,25,18,18,15,15,19,0,2,2,8,199,9,15,106,11,null,477,47,34,88,198,91]
[]
["NOTA: LA POBLACION ESTIMADA DE EDADES  SIMPLES Y GRUPOS DE EDAD DE DISTRITOS, CORRESPONDEN A CIFRAS REFERENCIALES HASTA OBTENER LAS CIFRAS DE LAS PROYECCIONES DEL INEI"]
["FUENTE: CENSO NACIONAL XI DE POBLACION Y VI DE VIVIENDA 2017/- BOLETIN DEMOGRAFICO Nº 26,37, 39 /  Padrón Nominal/ CNV"]
["La población de 0-5 años corresponden a la poblacion del Padrón Nominal /corte al mes de diciembre 2021"]
["OFICINA DE GESTION DE LA INFORMACION - MINISTERIO DE SALUD"]

{"sheet":"PROVINCIAL","index":1,"n_rows":21,"n_cols":55,"rows_kept":21,"merged":[[5,39,5,41],[5,42,6,42],[5,43,6,43],[5,44,5,46],[5,47,6,47]]}
[]
[]
[]
["POBLACION ESTIMADA POR EDADES SIMPLES Y GRUPOS DE EDAD, SEGÚN DEPARTAMENTO y PROVINCIA. 2022"]
["* Actualizado con datos INEI y Padrón Nominal de niños de 0-5 años"]
["POBLACION 2022",{"$nulls":4},"POBLACION TOTAL, POR EDADS SIMPLES",{"$nulls":19},"POBLACIÓN TOTAL,  POR GRUPOS QUINQUEN ALES DE EDAD",{"$nulls":13},"EDADES ESPECIALES",null,null,"NACIMIENTOS VIVOS","POBLACION FEMENINA TOTAL","POBLACION FEMENINA",null,null,"GESTANTES  ESPERADAS"]
["UBIGEO","DIRESA","DEPARTAMENTO","PROVINCIA","Total","0",1,2,3,4,5,6,7,8,9,10,11,12,13,14,15,16,17,18,19,"20-24","25-29","30-34","35-39","40-44","45-49","50-54","55-59","60-64","65-69","70-74","75-79","80-84","85-+","28 DIAS","0-5 MESES","6-11 MESES",null,null,"10 - 14","15- 19","20- 49",null,null,"TOTAL","NIÑO","Adolescente","Joven","Adulto","Adulto Mayor"]
["0000","PERU","PERU","PERU",{"v":1539996,"d":"1,539,996"},{"v":17846,"d":"17,846"},{"v":20821,"d":"20,821"},{"v":22275,"d":"22,275"},{"v":23017,"d":"23,017"},{"v":23851,"d":"23,851"},{"v":24530,"d":"24,530"},{"v":22959,"d":"22,959"},{"v":22777,"d":"22,777"},{"v":22680,"d":"22,680"},{"v":22583,"d":"22,583"},{"v":22506,"d":"22,506"},{"v":22411,"d":"22,411"},{"v":22389,"d":"22,389"},{"v":22305,"d":"22,305"},{"v":22196,"d":"22,196"},{"v":22141,"d":"22,141"},{"v":22076,"d":"22,076"},{"v":22159,"d":"22,159"},{"v":22565,"d":"22,565"},{"v":22970,"d":"22,970"},{"v":121549,"d":"121,549"},{"v":129092,"d":"129,092"},{"v":120709,"d":"120,709"},{"v":115493,"d":"115,493"},{"v":110822,"d":"110,822"},{"v":99738,"d":"99,738"},{"v":90936,"d":"90,936"},{"v":80028,"d":"80,028"},{"v":65235,"d":"65,235"},{"v":53278,"d":"53,278"},{"v":41077,"d":"41,077"},{"v":28000,"d":"28,000"},{"v":18440,"d":"18,440"},{"v":18542,"d":"18,542"},{"v":1344,"d":"1,344"},{"v":9422,"d":"9,422"},{"v":8424,"d":"8,424"},{"v":20954,"d":"20,954"},{"v":786580,"d":"786,580"},{"v":56300,"d":"56,300"},{"v":57506,"d":"57,506"},{"v":355237,"d":"355,237"},{"v":26411,"d":"26,411"},null,{"v":1539996,"d":"1,539,996"},{"v":268256,"d":"268,256"},{"v":133266,"d":"133,266"},{"v":296176,"d":"296,176"},{"v":617726,"d":"617,726"},{"v":206030,"d":"206,030"}]
["0401","AREQUIPA","AREQUIPA","AREQUIPA",1215754,13492,15910,17491,17998,18636,19387,18220,18144,18153,17924,17986,17892,17884,17845,17670,17455,17216,17357,17838,18175,96662,101593,95378,91209,88316,79126,71961,62908,50982,41765,32319,21952,14387,14523,1015,7263,6229,15535,{"v":622085,"d":"622,085"},45279,45550,278765,19521,null,{"v":1215754,"d":"1,215,754"},{"v":211233,"d":"211,233"},{"v":105427,"d":"105,427"},{"v":234268,"d":"234,268"},{"v":488898,"d":"488,898"},{"v":161405,"d":"161,405"}]
["0402","AREQUIPA","AREQUIPA","CAMANA",62437,766,961,1039,1169,1222,1111,974,1005,1064,1049,973,914,867,866,866,888,897,895,908,864,4601,4965,4750,4439,4174,3826,3749,3484,2911,2185,1580,1074,696,705,64,383,383,941,{"v":31947,"d":"31,947"},2257,2316,13824,1192,null,{"v":62437,"d":"62,437"},{"v":12247,"d":"12,247"},{"v":5279,"d":"5,279"},{"v":11338,"d":"11,338"},{"v":24422,"d":"24,422"},{"v":8446,"d":"8,446"}]
["0403","AREQUIPA","AREQUIPA","CARAVELI",43453,597,691,585,629,654,620,698,631,639,683,627,667,636,624,645,696,722,638,664,666,3488,3665,3399,3226,2944,2694,2540,2314,1922,1454,1089,733,476,497,54,313,284,762,{"v":22169,"d":"22,169"},1512,1748,10437,969,null,{"v":43453,"d":"43,453"},{"v":7721,"d":"7,721"},{"v":3961,"d":"3,961"},{"v":8483,"d":"8,483"},{"v":17117,"d":"17,117"},{"v":5674,"d":"5,674"}]
["0404","AREQUIPA","AREQUIPA","CASTILLA",34324,368,448,388,442,495,521,436,391,449,458,474,441,468,498,466,529,531,588,479,523,2943,3243,2748,2566,2345,2103,1889,1736,1462,1216,967,699,500,514,23,183,185,472,{"v":17480,"d":"17,480"},1085,1316,8989,607,null,{"v":34324,"d":"34,324"},{"v":5311,"d":"5,311"},{"v":3080,"d":"3,080"},{"v":7188,"d":"7,188"},{"v":13387,"d":"13,387"},{"v":4844,"d":"4,844"}]
["0405","AREQUIPA","AREQUIPA","CAYLLOMA",100489,1520,1686,1634,1608,1654,1628,1583,1549,1377,1419,1365,1422,1435,1378,1432,1391,1492,1487,1485,1519,7476,8528,7827,7828,7112,6484,5884,5154,4296,3417,2583,1747,1094,995,107,759,761,1858,{"v":51762,"d":"51,762"},3493,3679,23186,2353,null,{"v":100489,"d":"100,489"},{"v":18445,"d":"18,445"},{"v":8615,"d":"8,615"},{"v":19008,"d":"19,008"},{"v":40289,"d":"40,289"},{"v":13137,"d":"13,137"}]
["0406","AREQUIPA","AREQUIPA","CONDESUYOS",15877,198,203,196,226,193,183,183,197,201,169,203,204,188,201,218,246,268,229,231,226,1254,1353,1455,1118,1145,1046,938,827,681,596,467,307,258,269,20,96,102,256,{"v":7766,"d":"7,766"},480,549,3967,327,null,{"v":15877,"d":"15,877"},{"v":2356,"d":"2,356"},{"v":1350,"d":"1,350"},{"v":3064,"d":"3,064"},{"v":6529,"d":"6,529"},{"v":2309,"d":"2,309"}]
["0407","AREQUIPA","AREQUIPA","ISLAY",55077,679,717,752,766,809,890,704,707,637,717,719,695,731,713,700,721,736,729,750,787,4035,4576,4112,4114,3959,3732,3383,3060,2531,2256,1740,1230,850,840,49,329,350,817,{"v":26772,"d":"26,772"},1770,1817,12474,1034,null,{"v":55077,"d":"55,077"},{"v":8792,"d":"8,792"},{"v":4330,"d":"4,330"},{"v":10148,"d":"10,148"},{"v":22360,"d":"22,360"},{"v":8607,"d":"8,607"}]
["0408","AREQUIPA","AREQUIPA","LA UNION",12585,226,205,190,179,188,190,161,153,160,164,159,176,180,180,199,215,214,236,210,210,1090,1169,1040,993,827,727,592,545,450,389,332,258,179,199,12,96,130,313,{"v":6599,"d":"6,599"},424,531,3595,408,null,{"v":12585,"d":"12,585"},{"v":2151,"d":"2,151"},{"v":1224,"d":"1,224"},{"v":2679,"d":"2,679"},{"v":4724,"d":"4,724"},{"v":1608,"d":"1,608"}]
[]
["NOTA: LA POBLACION ESTIMADA DE EDADES  SIMPLES Y GRUPOS DE EDAD DE DISTRITOS, CORRESPONDEN A CIFRAS REFERENCIALES HASTA OBTENER LAS CIFRAS DE LAS PROYECCIONES DEL INEI"]
["FUENTE: CENSO NACIONAL XI DE POBLACION Y VI DE VIVIENDA 2017/- BOLETIN DEMOGRAFICO Nº 26,37, 39 /  Padrón Nominal/ CNV"]
["La población de 0-5 años corresponden a la poblacion del Padrón Nominal /corte al mes de diciembre 2021"]
["OFICINA DE GESTION DE LA INFORMACION - MINISTERIO DE SALUD"]

{"sheet":"DEPARTAMENTAL","index":2,"n_rows":14,"n_cols":53,"rows_kept":14,"merged":[[5,37,5,39],[5,40,6,40],[5,41,6,41],[5,42,5,44],[5,45,6,45]]}
[]
[]
[]
["POBLACION ESTIMADA POR EDADES SIMPLES Y GRUPOS DE EDAD, SEGÚN DEPARTAMENTO. 2022"]
["* Actualizado con datos INEI y Padrón Nominal de niños de 0-5 años"]
["POBLACION 2022",null,null,"POBLACION TOTAL, POR EDADS SIMPLES",{"$nulls":19},"POBLACIÓN TOTAL,  POR GRUPOS QUINQUEN ALES DE EDAD",{"$nulls":13},"EDADES ESPECIALES",null,null,"NACIMIENTOS VIVOS","POBLACION FEMENINA TOTAL","POBLACION FEMENINA",null,null,"GESTANTES  ESPERADAS"]
["UBIGEO","DEPARTAMENTO","Total","0",1,2,3,4,5,6,7,8,9,10,11,12,13,14,15,16,17,18,19,"20-24","25-29","30-34","35-39","40-44","45-49","50-54","55-59","60-64","65-69","70-74","75-79","80-84","85-+","28 DIAS","0-5 MESES","6-11 MESES",null,null,"10 - 14","15- 19","20- 49",null,null,"TOTAL","NIÑO","Adolescente","Joven","Adulto","Adulto Mayor"]
["00","PERU",{"v":1539996,"d":"1,539,996"},{"v":17846,"d":"17,846"},{"v":20821,"d":"20,821"},{"v":22275,"d":"22,275"},{"v":23017,"d":"23,017"},{"v":23851,"d":"23,851"},{"v":24530,"d":"24,530"},{"v":22959,"d":"22,959"},{"v":22777,"d":"22,777"},{"v":22680,"d":"22,680"},{"v":22583,"d":"22,583"},{"v":22506,"d":"22,506"},{"v":22411,"d":"22,411"},{"v":22389,"d":"22,389"},{"v":22305,"d":"22,305"},{"v":22196,"d":"22,196"},{"v":22141,"d":"22,141"},{"v":22076,"d":"22,076"},{"v":22159,"d":"22,159"},{"v":22565,"d":"22,565"},{"v":22970,"d":"22,970"},{"v":121549,"d":"121,549"},{"v":129092,"d":"129,092"},{"v":120709,"d":"120,709"},{"v":115493,"d":"115,493"},{"v":110822,"d":"110,822"},{"v":99738,"d":"99,738"},{"v":90936,"d":"90,936"},{"v":80028,"d":"80,028"},{"v":65235,"d":"65,235"},{"v":53278,"d":"53,278"},{"v":41077,"d":"41,077"},{"v":28000,"d":"28,000"},{"v":18440,"d":"18,440"},{"v":18542,"d":"18,542"},{"v":1344,"d":"1,344"},{"v":9422,"d":"9,422"},{"v":8424,"d":"8,424"},{"v":20954,"d":"20,954"},{"v":786580,"d":"786,580"},{"v":56300,"d":"56,300"},{"v":57506,"d":"57,506"},{"v":355237,"d":"355,237"},{"v":26411,"d":"26,411"},null,{"v":1539996,"d":"1,539,996"},{"v":268256,"d":"268,256"},{"v":133266,"d":"133,266"},{"v":296176,"d":"296,176"},{"v":617726,"d":"617,726"},{"v":206030,"d":"206,030"}]
["04","AREQUIPA",1539996,17846,20821,22275,23017,23851,24530,22959,22777,22680,22583,22506,22411,22389,22305,22196,22141,22076,22159,22565,22970,121549,129092,120709,115493,110822,99738,90936,80028,65235,53278,41077,28000,18440,18542,1344,9422,8424,20954,{"v":786580,"d":"786,580"},56300,57506,355237,26411,null,{"v":1539996,"d":"1,539,996"},{"v":268256,"d":"268,256"},{"v":133266,"d":"133,266"},{"v":296176,"d":"296,176"},{"v":617726,"d":"617,726"},{"v":206030,"d":"206,030"}]
[]
["NOTA: LA POBLACION ESTIMADA DE EDADES  SIMPLES Y GRUPOS DE EDAD DE DISTRITOS, CORRESPONDEN A CIFRAS REFERENCIALES HASTA OBTENER LAS CIFRAS DE LAS PROYECCIONES DEL INEI"]
["FUENTE: CENSO NACIONAL XI DE POBLACION Y VI DE VIVIENDA 2017/- BOLETIN DEMOGRAFICO Nº 26,37, 39 /  Padrón Nominal/ CNV"]
["La población de 0-5 años corresponden a la poblacion del Padrón Nominal /corte al mes de diciembre 2021"]
["OFICINA DE GESTION DE LA INFORMACION - MINISTERIO DE SALUD"]

{"sheet":"Pob x Genero","index":3,"n_rows":122,"n_cols":132,"rows_kept":122,"merged":[[5,6,6,6],[5,41,5,43],[5,44,6,44],[5,45,6,45],[5,80,5,82],[5,83,6,83]]}
[]
[]
[]
["POBLACION ESTIMADA POR EDADES SIMPLES, GRUPOS DE EDAD y GÉNERO, SEGÚN DEPARTAMENTO, PROVINCIA Y DISTRITO. 2022"]
["* Actualizado con datos INEI y Padrón Nominal de niños de 0-5 años"]
["POBLACION 2022",{"$nulls":5},"Total Hombres","HOMBRES",{"$nulls":19},"POBLACIÓN TOTAL,  POR GRUPOS QUINQUEN ALES DE EDAD",{"$nulls":13},"EDADES ESPECIALES",null,null,"NACIMIENTOS VIVOS","Total Mujeres","MUJERES",{"$nulls":19},"POBLACIÓN TOTAL,  POR GRUPOS QUINQUEN ALES DE EDAD",{"$nulls":13},"EDADES ESPECIALES",null,null,"NACIMIENTOS VIVOS",null,null,"Hombre",{"$nulls":4},"Mujer",{"$nulls":4},"Hombre",{"$nulls":17},"Mujer"]
["UBIGEO","DIRESA","DEPARTAMENTO","PROVINCIA","DISTRITO","TOTAL",null,"0",1,2,3,4,5,6,7,8,9,10,11,12,13,14,15,16,17,18,19,"20-24","25-29","30-34","35-39","40-44","45-49","50-54","55-59","60-64","65-69","70-74","75-79","80-84","85-+","28 DIAS","0-5 MESES","6-11 MESES",null,null,"0",1,2,3,4,5,6,7,8,9,10,11,12,13,14,15,16,17,18,19,"20-24","25-29","30-34","35-39","40-44","45-49","50-54","55-59","60-64","65-69","70-74","75-79","80-84","85-+","28 DIAS","0-5 MESES","6-11 MESES",{"$nulls":3},"NIÑO","Adolescente","Joven","Adulto","Adulto Mayor","NIÑO","Adolescente","Joven","Adulto","Adulto Mayor","00-04","05-09","10-14","15-19","20-24","25-29","30-34","35-39","40-44","45-49","50-54","55-59","60-64","65-69","70-74","75-79","80-84","85-+","00-04","05-09","10-14","15-19","20-24","25-29","30-34","35-39","40-44","45-49","50-54","55-59","60-64","65-69","70-74","75-79","80-84","85-+"]
["000000","PERU","PERU","PERU","PERU",{"v":1539996,"d":"1,539,996"},{"v":753416,"d":"753,416"},{"v":9055,"d":"9,055"},{"v":10635,"d":"10,635"},{"v":11365,"d":"11,365"},{"v":11743,"d":"11,743"},{"v":12189,"d":"12,189"},{"v":12540,"d":"12,540"},{"v":11473,"d":"11,473"},{"v":11318,"d":"11,318"},{"v":11246,"d":"11,246"},{"v":11206,"d":"11,206"},{"v":11159,"d":"11,159"},{"v":11161,"d":"11,161"},{"v":11155,"d":"11,155"},{"v":11077,"d":"11,077"},{"v":10955,"d":"10,955"},{"v":10898,"d":"10,898"},{"v":10841,"d":"10,841"},{"v":10800,"d":"10,800"},{"v":10907,"d":"10,907"},{"v":10959,"d":"10,959"},{"v":56797,"d":"56,797"},{"v":62015,"d":"62,015"},{"v":60761,"d":"60,761"},{"v":58492,"d":"58,492"},{"v":55447,"d":"55,447"},{"v":48654,"d":"48,654"},{"v":44062,"d":"44,062"},{"v":39255,"d":"39,255"},{"v":31339,"d":"31,339"},{"v":25239,"d":"25,239"},{"v":19595,"d":"19,595"},{"v":13126,"d":"13,126"},{"v":8345,"d":"8,345"},{"v":7607,"d":"7,607"},718,{"v":4828,"d":"4,828"},{"v":4227,"d":"4,227"},{"v":10629,"d":"10,629"},{"v":786580,"d":"786,580"},{"v":8791,"d":"8,791"},{"v":10186,"d":"10,186"},{"v":10910,"d":"10,910"},{"v":11274,"d":"11,274"},{"v":11662,"d":"11,662"},{"v":11990,"d":"11,990"},{"v":11486,"d":"11,486"},{"v":11459,"d":"11,459"},{"v":11434,"d":"11,434"},{"v":11377,"d":"11,377"},{"v":11347,"d":"11,347"},{"v":11250,"d":"11,250"},{"v":11234,"d":"11,234"},{"v":11228,"d":"11,228"},{"v":11241,"d":"11,241"},{"v":11243,"d":"11,243"},{"v":11235,"d":"11,235"},{"v":11359,"d":"11,359"},{"v":11658,"d":"11,658"},{"v":12011,"d":"12,011"},{"v":64752,"d":"64,752"},{"v":67077,"d":"67,077"},{"v":59948,"d":"59,948"},{"v":57001,"d":"57,001"},{"v":55375,"d":"55,375"},{"v":51084,"d":"51,084"},{"v":46874,"d":"46,874"},{"v":40773,"d":"40,773"},{"v":33896,"d":"33,896"},{"v":28039,"d":"28,039"},{"v":21482,"d":"21,482"},{"v":14874,"d":"14,874"},{"v":10095,"d":"10,095"},{"v":10935,"d":"10,935"},626,{"v":4594,"d":"4,594"},{"v":4197,"d":"4,197"},{"v":10325,"d":"10,325"},null,null,{"v":135090,"d":"135,090"},{"v":65726,"d":"65,726"},{"v":140678,"d":"140,678"},{"v":306671,"d":"306,671"},{"v":97644,"d":"97,644"},{"v":133166,"d":"133,166"},{"v":67540,"d":"67,540"},{"v":155498,"d":"155,498"},{"v":311055,"d":"311,055"},{"v":108386,"d":"108,386"},{"v":54987,"d":"54,987"},{"v":57783,"d":"57,783"},{"v":55507,"d":"55,507"},{"v":54405,"d":"54,405"},{"v":56797,"d":"56,797"},{"v":62015,"d":"62,015"},{"v":60761,"d":"60,761"},{"v":58492,"d":"58,492"},{"v":55447,"d":"55,447"},{"v":48654,"d":"48,654"},{"v":44062,"d":"44,062"},{"v":39255,"d":"39,255"},{"v":31339,"d":"31,339"},{"v":25239,"d":"25,239"},{"v":19595,"d":"19,595"},{"v":13126,"d":"13,126"},{"v":8345,"d":"8,345"},{"v":7607,"d":"7,607"},{"v":52823,"d":"52,823"},{"v":57746,"d":"57,746"},{"v":56300,"d":"56,300"},{"v":57506,"d":"57,506"},{"v":64752,"d":"64,752"},{"v":67077,"d":"67,077"},{"v":59948,"d":"59,948"},{"v":57001,"d":"57,001"},{"v":55375,"d":"55,375"},{"v":51084,"d":"51,084"},{"v":46874,"d":"46,874"},{"v":40773,"d":"40,773"},{"v":33896,"d":"33,896"},{"v":28039,"d":"28,039"},{"v":21482,"d":"21,482"},{"v":14874,"d":"14,874"},{"v":10095,"d":"10,095"},{"v":10935,"d":"10,935"}]
["040101","AREQUIPA","AREQUIPA","AREQUIPA","AREQUIPA",55462,30287,269,333,373,399,440,508,335,339,331,320,348,337,326,320,313,326,314,316,307,338,{"v":1818,"d":"1,818"},{"v":1929,"d":"1,929"},{"v":2082,"d":"2,082"},{"v":1918,"d":"1,918"},{"v":1959,"d":"1,959"},{"v":2056,"d":"2,056"},{"v":2204,"d":"2,204"},{"v":2183,"d":"2,183"},{"v":1985,"d":"1,985"},{"v":1647,"d":"1,647"},{"v":1359,"d":"1,359"},951,662,642,37,179,90,318,{"v":25175,"d":"25,175"},250,312,372,425,426,440,233,257,284,274,276,290,319,334,320,305,315,318,337,384,{"v":1995,"d":"1,995"},{"v":1989,"d":"1,989"},{"v":1742,"d":"1,742"},{"v":1625,"d":"1,625"},{"v":1537,"d":"1,537"},{"v":1627,"d":"1,627"},{"v":1437,"d":"1,437"},{"v":1355,"d":"1,355"},{"v":1187,"d":"1,187"},{"v":1107,"d":"1,107"},964,779,609,751,21,138,112,296,null,null,{"v":4332,"d":"4,332"},{"v":1915,"d":"1,915"},{"v":4392,"d":"4,392"},{"v":12402,"d":"12,402"},{"v":6604,"d":"6,604"},{"v":3839,"d":"3,839"},{"v":1911,"d":"1,911"},{"v":4705,"d":"4,705"},{"v":9323,"d":"9,323"},{"v":4646,"d":"4,646"},{"v":1814,"d":"1,814"},{"v":1833,"d":"1,833"},{"v":1644,"d":"1,644"},{"v":1601,"d":"1,601"},{"v":1818,"d":"1,818"},{"v":1929,"d":"1,929"},{"v":2082,"d":"2,082"},{"v":1918,"d":"1,918"},{"v":1959,"d":"1,959"},{"v":2056,"d":"2,056"},{"v":2204,"d":"2,204"},{"v":2183,"d":"2,183"},{"v":1985,"d":"1,985"},{"v":1647,"d":"1,647"},{"v":1359,"d":"1,359"},951,662,642,{"v":1785,"d":"1,785"},{"v":1488,"d":"1,488"},{"v":1539,"d":"1,539"},{"v":1659,"d":"1,659"},{"v":1995,"d":"1,995"},{"v":1989,"d":"1,989"},{"v":1742,"d":"1,742"},{"v":1625,"d":"1,625"},{"v":1537,"d":"1,537"},{"v":1627,"d":"1,627"},{"v":1437,"d":"1,437"},{"v":1355,"d":"1,355"},{"v":1187,"d":"1,187"},{"v":1107,"d":"1,107"},964,779,609,751]
["040102","AREQUIPA","AREQUIPA","AREQUIPA","ALTO SELVA ALEGRE",91507,44649,534,690,656,730,736,816,644,715,676,687,700,675,649,658,680,613,657,606,613,654,{"v":3513,"d":"3,513"},{"v":4020,"d":"4,020"},{"v":3929,"d":"3,929"},{"v":3516,"d":"3,516"},{"v":3225,"d":"3,225"},{"v":2600,"d":"2,600"},{"v":2374,"d":"2,374"},{"v":2316,"d":"2,316"},{"v":1930,"d":"1,930"},{"v":1422,"d":"1,422"},982,610,406,417,39,306,228,547,{"v":46858,"d":"46,858"},549,614,694,699,718,742,667,700,680,674,678,689,629,670,647,642,661,665,710,720,{"v":3565,"d":"3,565"},{"v":3690,"d":"3,690"},{"v":3460,"d":"3,460"},{"v":3021,"d":"3,021"},{"v":3377,"d":"3,377"},{"v":3286,"d":"3,286"},{"v":3192,"d":"3,192"},{"v":2629,"d":"2,629"},{"v":2028,"d":"2,028"},{"v":1605,"d":"1,605"},{"v":1251,"d":"1,251"},939,637,730,36,297,252,563,null,null,{"v":8259,"d":"8,259"},{"v":3863,"d":"3,863"},{"v":8800,"d":"8,800"},{"v":17960,"d":"17,960"},{"v":5350,"d":"5,350"},{"v":8104,"d":"8,104"},{"v":3914,"d":"3,914"},{"v":8685,"d":"8,685"},{"v":18965,"d":"18,965"},{"v":6460,"d":"6,460"},{"v":3346,"d":"3,346"},{"v":3538,"d":"3,538"},{"v":3362,"d":"3,362"},{"v":3143,"d":"3,143"},{"v":3513,"d":"3,513"},{"v":4020,"d":"4,020"},{"v":3929,"d":"3,929"},{"v":3516,"d":"3,516"},{"v":3225,"d":"3,225"},{"v":2600,"d":"2,600"},{"v":2374,"d":"2,374"},{"v":2316,"d":"2,316"},{"v":1930,"d":"1,930"},{"v":1422,"d":"1,422"},982,610,406,417,{"v":3274,"d":"3,274"},{"v":3463,"d":"3,463"},{"v":3313,"d":"3,313"},{"v":3398,"d":"3,398"},{"v":3565,"d":"3,565"},{"v":3690,"d":"3,690"},{"v":3460,"d":"3,460"},{"v":3021,"d":"3,021"},{"v":3377,"d":"3,377"},{"v":3286,"d":"3,286"},{"v":3192,"d":"3,192"},{"v":2629,"d":"2,629"},{"v":2028,"d":"2,028"},{"v":1605,"d":"1,605"},{"v":1251,"d":"1,251"},939,637,730]
["040103","AREQUIPA","AREQUIPA","AREQUIPA","CAYMA",107806,52480,609,722,839,841,912,938,866,788,853,838,806,797,845,803,794,800,672,760,810,781,{"v":4127,"d":"4,127"},{"v":4639,"d":"4,639"},{"v":4703,"d":"4,703"},{"v":4279,"d":"4,279"},{"v":3766,"d":"3,766"},{"v":3193,"d":"3,193"},{"v":2790,"d":"2,790"},{"v":2452,"d":"2,452"},{"v":2047,"d":"2,047"},{"v":1574,"d":"1,574"},{"v":1203,"d":"1,203"},781,424,428,44,316,293,670,{"v":55326,"d":"55,326"},598,674,760,777,858,944,752,786,775,826,885,869,872,819,795,826,806,842,831,812,{"v":4642,"d":"4,642"},{"v":4517,"d":"4,517"},{"v":3984,"d":"3,984"},{"v":3792,"d":"3,792"},{"v":3637,"d":"3,637"},{"v":3631,"d":"3,631"},{"v":3424,"d":"3,424"},{"v":3173,"d":"3,173"},{"v":2558,"d":"2,558"},{"v":1971,"d":"1,971"},{"v":1434,"d":"1,434"},{"v":1015,"d":"1,015"},691,750,37,302,296,658,null,null,{"v":9809,"d":"9,809"},{"v":4674,"d":"4,674"},{"v":10357,"d":"10,357"},{"v":21183,"d":"21,183"},{"v":6029,"d":"6,029"},{"v":9504,"d":"9,504"},{"v":4960,"d":"4,960"},{"v":10802,"d":"10,802"},{"v":21641,"d":"21,641"},{"v":7669,"d":"7,669"},{"v":3923,"d":"3,923"},{"v":4283,"d":"4,283"},{"v":4045,"d":"4,045"},{"v":3823,"d":"3,823"},{"v":4127,"d":"4,127"},{"v":4639,"d":"4,639"},{"v":4703,"d":"4,703"},{"v":4279,"d":"4,279"},{"v":3766,"d":"3,766"},{"v":3193,"d":"3,193"},{"v":2790,"d":"2,790"},{"v":2452,"d":"2,452"},{"v":2047,"d":"2,047"},{"v":1574,"d":"1,574"},{"v":1203,"d":"1,203"},781,424,428,{"v":3667,"d":"3,667"},{"v":4083,"d":"4,083"},{"v":4240,"d":"4,240"},{"v":4117,"d":"4,117"},{"v":4642,"d":"4,642"},{"v":4517,"d":"4,517"},{"v":3984,"d":"3,984"},{"v":3792,"d":"3,792"},{"v":3637,"d":"3,637"},{"v":3631,"d":"3,631"},{"v":3424,"d":"3,424"},{"v":3173,"d":"3,173"},{"v":2558,"d":"2,558"},{"v":1971,"d":"1,971"},{"v":1434,"d":"1,434"},{"v":1015,"d":"1,015"},691,750]
["040104","AREQUIPA","AREQUIPA","AREQUIPA","CERRO COLORADO",236098,110645,{"v":1346,"d":"1,346"},{"v":1641,"d":"1,641"},{"v":1747,"d":"1,747"},{"v":1685,"d":"1,685"},{"v":1774,"d":"1,774"},{"v":1784,"d":"1,784"},{"v":2139,"d":"2,139"},{"v":2019,"d":"2,019"},{"v":2014,"d":"2,014"},{"v":2018,"d":"2,018"},{"v":1912,"d":"1,912"},{"v":1906,"d":"1,906"},{"v":1838,"d":"1,838"},{"v":1840,"d":"1,840"},{"v":1722,"d":"1,722"},{"v":1777,"d":"1,777"},{"v":1724,"d":"1,724"},{"v":1724,"d":"1,724"},{"v":1723,"d":"1,723"},{"v":1815,"d":"1,815"},{"v":9445,"d":"9,445"},{"v":9830,"d":"9,830"},{"v":9403,"d":"9,403"},{"v":8861,"d":"8,861"},{"v":8324,"d":"8,324"},{"v":6755,"d":"6,755"},{"v":5927,"d":"5,927"},{"v":4769,"d":"4,769"},{"v":3443,"d":"3,443"},{"v":2692,"d":"2,692"},{"v":2214,"d":"2,214"},{"v":1301,"d":"1,301"},823,710,95,727,619,{"v":1601,"d":"1,601"},{"v":125453,"d":"125,453"},{"v":1314,"d":"1,314"},{"v":1468,"d":"1,468"},{"v":1658,"d":"1,658"},{"v":1633,"d":"1,633"},{"v":1671,"d":"1,671"},{"v":1730,"d":"1,730"},{"v":1917,"d":"1,917"},{"v":2010,"d":"2,010"},{"v":1907,"d":"1,907"},{"v":1884,"d":"1,884"},{"v":1899,"d":"1,899"},{"v":2068,"d":"2,068"},{"v":2069,"d":"2,069"},{"v":2057,"d":"2,057"},{"v":2012,"d":"2,012"},{"v":1967,"d":"1,967"},{"v":1869,"d":"1,869"},{"v":1907,"d":"1,907"},{"v":1886,"d":"1,886"},{"v":1894,"d":"1,894"},{"v":10365,"d":"10,365"},{"v":9954,"d":"9,954"},{"v":9628,"d":"9,628"},{"v":9412,"d":"9,412"},{"v":9251,"d":"9,251"},{"v":8331,"d":"8,331"},{"v":7638,"d":"7,638"},{"v":6657,"d":"6,657"},{"v":5380,"d":"5,380"},{"v":4436,"d":"4,436"},{"v":3161,"d":"3,161"},{"v":1942,"d":"1,942"},{"v":1259,"d":"1,259"},{"v":1219,"d":"1,219"},104,690,624,{"v":1562,"d":"1,562"},null,null,{"v":21985,"d":"21,985"},{"v":10625,"d":"10,625"},{"v":22813,"d":"22,813"},{"v":44039,"d":"44,039"},{"v":10473,"d":"10,473"},{"v":21159,"d":"21,159"},{"v":11881,"d":"11,881"},{"v":24099,"d":"24,099"},{"v":50917,"d":"50,917"},{"v":16178,"d":"16,178"},{"v":8193,"d":"8,193"},{"v":9974,"d":"9,974"},{"v":9218,"d":"9,218"},{"v":8763,"d":"8,763"},{"v":9445,"d":"9,445"},{"v":9830,"d":"9,830"},{"v":9403,"d":"9,403"},{"v":8861,"d":"8,861"},{"v":8324,"d":"8,324"},{"v":6755,"d":"6,755"},{"v":5927,"d":"5,927"},{"v":4769,"d":"4,769"},{"v":3443,"d":"3,443"},{"v":2692,"d":"2,692"},{"v":2214,"d":"2,214"},{"v":1301,"d":"1,301"},823,710,{"v":7744,"d":"7,744"},{"v":9448,"d":"9,448"},{"v":10105,"d":"10,105"},{"v":9523,"d":"9,523"},{"v":10365,"d":"10,365"},{"v":9954,"d":"9,954"},{"v":9628,"d":"9,628"},{"v":9412,"d":"9,412"},{"v":9251,"d":"9,251"},{"v":8331,"d":"8,331"},{"v":7638,"d":"7,638"},{"v":6657,"d":"6,657"},{"v":5380,"d":"5,380"},{"v":4436,"d":"4,436"},{"v":3161,"d":"3,161"},{"v":1942,"d":"1,942"},{"v":1259,"d":"1,259"},{"v":1219,"d":"1,219"}]
["040105","AREQUIPA","AREQUIPA","AREQUIPA","CHARACATO",16995,8231,79,93,100,93,84,107,140,126,98,123,126,129,136,143,108,107,135,113,124,143,655,640,649,687,645,569,494,426,329,276,237,156,94,67,9,42,37,92,{"v":8764,"d":"8,764"},88,102,117,111,85,72,164,174,159,118,97,165,137,127,117,132,117,133,124,145,781,630,559,630,793,579,500,431,383,357,260,161,108,108,5,45,43,102,null,null,{"v":1298,"d":"1,298"},742,{"v":1562,"d":"1,562"},{"v":3470,"d":"3,470"},{"v":1092,"d":"1,092"},{"v":1452,"d":"1,452"},763,{"v":1680,"d":"1,680"},{"v":3492,"d":"3,492"},{"v":1269,"d":"1,269"},449,594,642,622,655,640,649,687,645,569,494,426,329,276,237,156,94,67,503,687,643,651,781,630,559,630,793,579,500,431,383,357,260,161,108,108]
["040106","AREQUIPA","AREQUIPA","AREQUIPA","CHIGUATA",3266,1747,30,40,24,26,33,21,25,29,22,21,22,26,23,19,21,26,13,22,20,23,119,127,149,136,107,103,103,98,68,78,70,41,30,32,3,16,14,40,{"v":1519,"d":"1,519"},24,28,37,21,34,25,22,27,15,23,16,19,21,23,23,17,26,14,15,28,127,84,98,117,78,102,98,91,75,66,46,33,22,24,1,9,15,32,null,null,319,124,289,696,287,291,124,254,584,242,153,118,111,104,119,127,149,136,107,103,103,98,68,78,70,41,30,32,144,112,102,100,127,84,98,117,78,102,98,91,75,66,46,33,22,24]
["040107","AREQUIPA","AREQUIPA","AREQUIPA","JACOBO HUNTER",53356,26087,304,372,385,410,451,464,415,401,375,402,385,352,413,395,386,348,370,377,352,355,{"v":1996,"d":"1,996"},{"v":2182,"d":"2,182"},{"v":2094,"d":"2,094"},{"v":2124,"d":"2,124"},{"v":2052,"d":"2,052"},{"v":1711,"d":"1,711"},{"v":1504,"d":"1,504"},{"v":1313,"d":"1,313"},994,863,613,437,254,238,28,183,121,305,{"v":27269,"d":"27,269"},294,343,370,371,402,410,364,364,352,368,365,436,402,419,404,395,400,398,442,366,{"v":2323,"d":"2,323"},{"v":2402,"d":"2,402"},{"v":2160,"d":"2,160"},{"v":1869,"d":"1,869"},{"v":1809,"d":"1,809"},{"v":1799,"d":"1,799"},{"v":1636,"d":"1,636"},{"v":1358,"d":"1,358"},{"v":1199,"d":"1,199"},991,786,540,356,376,15,154,140,295,null,null,{"v":4716,"d":"4,716"},{"v":2289,"d":"2,289"},{"v":4885,"d":"4,885"},{"v":10798,"d":"10,798"},{"v":3161,"d":"3,161"},{"v":4439,"d":"4,439"},{"v":2418,"d":"2,418"},{"v":5533,"d":"5,533"},{"v":10631,"d":"10,631"},{"v":3872,"d":"3,872"},{"v":1922,"d":"1,922"},{"v":2057,"d":"2,057"},{"v":1931,"d":"1,931"},{"v":1802,"d":"1,802"},{"v":1996,"d":"1,996"},{"v":2182,"d":"2,182"},{"v":2094,"d":"2,094"},{"v":2124,"d":"2,124"},{"v":2052,"d":"2,052"},{"v":1711,"d":"1,711"},{"v":1504,"d":"1,504"},{"v":1313,"d":"1,313"},994,863,613,437,254,238,{"v":1780,"d":"1,780"},{"v":1858,"d":"1,858"},{"v":2026,"d":"2,026"},{"v":2001,"d":"2,001"},{"v":2323,"d":"2,323"},{"v":2402,"d":"2,402"},{"v":2160,"d":"2,160"},{"v":1869,"d":"1,869"},{"v":1809,"d":"1,809"},{"v":1799,"d":"1,799"},{"v":1636,"d":"1,636"},{"v":1358,"d":"1,358"},{"v":1199,"d":"1,199"},991,786,540,356,376]
["040108","AREQUIPA","AREQUIPA","AREQUIPA","LA JOYA",40059,18628,292,308,342,309,311,335,346,310,300,338,329,280,277,291,306,314,308,325,327,292,{"v":1541,"d":"1,541"},{"v":1685,"d":"1,685"},{"v":1485,"d":"1,485"},{"v":1446,"d":"1,446"},{"v":1236,"d":"1,236"},{"v":1112,"d":"1,112"},947,836,642,535,375,246,156,146,24,143,149,341,{"v":21431,"d":"21,431"},296,307,254,325,303,296,383,294,363,326,310,293,261,315,316,310,309,333,314,361,{"v":1782,"d":"1,782"},{"v":1981,"d":"1,981"},{"v":1628,"d":"1,628"},{"v":1740,"d":"1,740"},{"v":1770,"d":"1,770"},{"v":1401,"d":"1,401"},{"v":1243,"d":"1,243"},970,838,617,491,294,199,208,19,156,140,345,null,null,{"v":3800,"d":"3,800"},{"v":1821,"d":"1,821"},{"v":3845,"d":"3,845"},{"v":7062,"d":"7,062"},{"v":1954,"d":"1,954"},{"v":3750,"d":"3,750"},{"v":1844,"d":"1,844"},{"v":4438,"d":"4,438"},{"v":8752,"d":"8,752"},{"v":2439,"d":"2,439"},{"v":1562,"d":"1,562"},{"v":1629,"d":"1,629"},{"v":1483,"d":"1,483"},{"v":1566,"d":"1,566"},{"v":1541,"d":"1,541"},{"v":1685,"d":"1,685"},{"v":1485,"d":"1,485"},{"v":1446,"d":"1,446"},{"v":1236,"d":"1,236"},{"v":1112,"d":"1,112"},947,836,642,535,375,246,156,146,{"v":1485,"d":"1,485"},{"v":1662,"d":"1,662"},{"v":1495,"d":"1,495"},{"v":1627,"d":"1,627"},{"v":1782,"d":"1,782"},{"v":1981,"d":"1,981"},{"v":1628,"d":"1,628"},{"v":1740,"d":"1,740"},{"v":1770,"d":"1,770"},{"v":1401,"d":"1,401"},{"v":1243,"d":"1,243"},970,838,617,491,294,199,208]
["040109","AREQUIPA","AREQUIPA","AREQUIPA","MARIANO MELGAR",66795,32823,374,411,472,475,553,602,498,448,470,460,460,480,449,465,492,458,470,414,458,505,{"v":2488,"d":"2,488"},{"v":2718,"d":"2,718"},{"v":2694,"d":"2,694"},{"v":2414,"d":"2,414"},{"v":2412,"d":"2,412"},{"v":2149,"d":"2,149"},{"v":2000,"d":"2,000"},{"v":1823,"d":"1,823"},{"v":1435,"d":"1,435"},{"v":1133,"d":"1,133"},876,557,376,334,28,216,158,446,{"v":33972,"d":"33,972"},364,422,430,462,539,556,454,430,445,501,503,448,451,481,509,471,460,492,513,534,{"v":2913,"d":"2,913"},{"v":2932,"d":"2,932"},{"v":2574,"d":"2,574"},{"v":2404,"d":"2,404"},{"v":2315,"d":"2,315"},{"v":2202,"d":"2,202"},{"v":2060,"d":"2,060"},{"v":1781,"d":"1,781"},{"v":1447,"d":"1,447"},{"v":1211,"d":"1,211"},977,695,464,532,22,194,170,435,null,null,{"v":5703,"d":"5,703"},{"v":2748,"d":"2,748"},{"v":6169,"d":"6,169"},{"v":13492,"d":"13,492"},{"v":4377,"d":"4,377"},{"v":5554,"d":"5,554"},{"v":2864,"d":"2,864"},{"v":6892,"d":"6,892"},{"v":13336,"d":"13,336"},{"v":4794,"d":"4,794"},{"v":2285,"d":"2,285"},{"v":2478,"d":"2,478"},{"v":2346,"d":"2,346"},{"v":2305,"d":"2,305"},{"v":2488,"d":"2,488"},{"v":2718,"d":"2,718"},{"v":2694,"d":"2,694"},{"v":2414,"d":"2,414"},{"v":2412,"d":"2,412"},{"v":2149,"d":"2,149"},{"v":2000,"d":"2,000"},{"v":1823,"d":"1,823"},{"v":1435,"d":"1,435"},{"v":1133,"d":"1,133"},876,557,376,334,{"v":2217,"d":"2,217"},{"v":2386,"d":"2,386"},{"v":2392,"d":"2,392"},{"v":2470,"d":"2,470"},{"v":2913,"d":"2,913"},{"v":2932,"d":"2,932"},{"v":2574,"d":"2,574"},{"v":2404,"d":"2,404"},{"v":2315,"d":"2,315"},{"v":2202,"d":"2,202"},{"v":2060,"d":"2,060"},{"v":1781,"d":"1,781"},{"v":1447,"d":"1,447"},{"v":1211,"d":"1,211"},977,695,464,532]
["040110","AREQUIPA","AREQUIPA","AREQUIPA","MIRAFLORES",66286,33238,335,399,491,540,524,546,498,455,500,457,444,441,430,449,471,391,435,409,444,469,{"v":2564,"d":"2,564"},{"v":2803,"d":"2,803"},{"v":2699,"d":"2,699"},{"v":2536,"d":"2,536"},{"v":2526,"d":"2,526"},{"v":2268,"d":"2,268"},{"v":2127,"d":"2,127"},{"v":1796,"d":"1,796"},{"v":1489,"d":"1,489"},{"v":1147,"d":"1,147"},865,560,365,365,18,184,151,406,{"v":33048,"d":"33,048"},325,382,416,490,505,570,421,426,483,481,528,406,457,476,436,509,458,449,473,481,{"v":2577,"d":"2,577"},{"v":2752,"d":"2,752"},{"v":2374,"d":"2,374"},{"v":2295,"d":"2,295"},{"v":2419,"d":"2,419"},{"v":2230,"d":"2,230"},{"v":2050,"d":"2,050"},{"v":1774,"d":"1,774"},{"v":1432,"d":"1,432"},{"v":1269,"d":"1,269"},{"v":1003,"d":"1,003"},706,477,518,41,193,132,393,null,null,{"v":5630,"d":"5,630"},{"v":2585,"d":"2,585"},{"v":6280,"d":"6,280"},{"v":13952,"d":"13,952"},{"v":4426,"d":"4,426"},{"v":5433,"d":"5,433"},{"v":2785,"d":"2,785"},{"v":6283,"d":"6,283"},{"v":13142,"d":"13,142"},{"v":4887,"d":"4,887"},{"v":2289,"d":"2,289"},{"v":2456,"d":"2,456"},{"v":2235,"d":"2,235"},{"v":2148,"d":"2,148"},{"v":2564,"d":"2,564"},{"v":2803,"d":"2,803"},{"v":2699,"d":"2,699"},{"v":2536,"d":"2,536"},{"v":2526,"d":"2,526"},{"v":2268,"d":"2,268"},{"v":2127,"d":"2,127"},{"v":1796,"d":"1,796"},{"v":1489,"d":"1,489"},{"v":1147,"d":"1,147"},865,560,365,365,{"v":2118,"d":"2,118"},{"v":2381,"d":"2,381"},{"v":2303,"d":"2,303"},{"v":2370,"d":"2,370"},{"v":2577,"d":"2,577"},{"v":2752,"d":"2,752"},{"v":2374,"d":"2,374"},{"v":2295,"d":"2,295"},{"v":2419,"d":"2,419"},{"v":2230,"d":"2,230"},{"v":2050,"d":"2,050"},{"v":1774,"d":"1,774"},{"v":1432,"d":"1,432"},{"v":1269,"d":"1,269"},{"v":1003,"d":"1,003"},706,477,518]
["040111","AREQUIPA","AREQUIPA","AREQUIPA","MOLLEBAYA",7201,3535,33,41,21,34,35,35,46,69,69,48,65,56,36,36,54,54,46,56,61,33,215,247,372,337,293,276,180,176,163,113,98,79,29,29,2,19,14,41,{"v":3666,"d":"3,666"},26,32,42,35,32,31,73,90,71,63,61,42,61,61,61,42,48,46,59,59,312,345,222,257,199,197,259,241,195,151,113,52,42,46,3,17,9,33,null,null,552,282,556,{"v":1634,"d":"1,634"},482,598,319,775,{"v":1375,"d":"1,375"},553,164,267,247,250,215,247,372,337,293,276,180,176,163,113,98,79,29,29,167,328,286,254,312,345,222,257,199,197,259,241,195,151,113,52,42,46]
["040112","AREQUIPA","AREQUIPA","AREQUIPA","PAUCARPATA",138083,67578,797,899,{"v":1105,"d":"1,105"},{"v":1121,"d":"1,121"},{"v":1182,"d":"1,182"},{"v":1216,"d":"1,216"},{"v":1034,"d":"1,034"},{"v":1006,"d":"1,006"},999,995,{"v":1025,"d":"1,025"},{"v":1014,"d":"1,014"},{"v":1048,"d":"1,048"},{"v":1082,"d":"1,082"},{"v":1003,"d":"1,003"},{"v":1015,"d":"1,015"},993,962,974,974,{"v":5084,"d":"5,084"},{"v":5529,"d":"5,529"},{"v":5295,"d":"5,295"},{"v":5153,"d":"5,153"},{"v":5207,"d":"5,207"},{"v":4636,"d":"4,636"},{"v":4119,"d":"4,119"},{"v":3339,"d":"3,339"},{"v":2446,"d":"2,446"},{"v":2015,"d":"2,015"},{"v":1600,"d":"1,600"},{"v":1268,"d":"1,268"},778,665,62,425,372,943,{"v":70505,"d":"70,505"},783,887,{"v":1033,"d":"1,033"},{"v":1139,"d":"1,139"},{"v":1162,"d":"1,162"},{"v":1187,"d":"1,187"},857,927,985,970,965,{"v":1005,"d":"1,005"},{"v":1047,"d":"1,047"},{"v":1010,"d":"1,010"},{"v":1043,"d":"1,043"},{"v":1044,"d":"1,044"},{"v":1033,"d":"1,033"},{"v":1015,"d":"1,015"},{"v":1047,"d":"1,047"},{"v":1130,"d":"1,130"},{"v":5934,"d":"5,934"},{"v":6312,"d":"6,312"},{"v":5344,"d":"5,344"},{"v":5159,"d":"5,159"},{"v":4987,"d":"4,987"},{"v":4529,"d":"4,529"},{"v":3990,"d":"3,990"},{"v":3458,"d":"3,458"},{"v":2914,"d":"2,914"},{"v":2522,"d":"2,522"},{"v":1986,"d":"1,986"},{"v":1388,"d":"1,388"},841,872,61,409,374,926,null,null,{"v":12393,"d":"12,393"},{"v":6103,"d":"6,103"},{"v":12561,"d":"12,561"},{"v":27749,"d":"27,749"},{"v":8107,"d":"8,107"},{"v":11900,"d":"11,900"},{"v":6192,"d":"6,192"},{"v":14423,"d":"14,423"},{"v":27467,"d":"27,467"},{"v":9651,"d":"9,651"},{"v":5104,"d":"5,104"},{"v":5250,"d":"5,250"},{"v":5172,"d":"5,172"},{"v":4918,"d":"4,918"},{"v":5084,"d":"5,084"},{"v":5529,"d":"5,529"},{"v":5295,"d":"5,295"},{"v":5153,"d":"5,153"},{"v":5207,"d":"5,207"},{"v":4636,"d":"4,636"},{"v":4119,"d":"4,119"},{"v":3339,"d":"3,339"},{"v":2446,"d":"2,446"},{"v":2015,"d":"2,015"},{"v":1600,"d":"1,600"},{"v":1268,"d":"1,268"},778,665,{"v":5004,"d":"5,004"},{"v":4926,"d":"4,926"},{"v":5070,"d":"5,070"},{"v":5269,"d":"5,269"},{"v":5934,"d":"5,934"},{"v":6312,"d":"6,312"},{"v":5344,"d":"5,344"},{"v":5159,"d":"5,159"},{"v":4987,"d":"4,987"},{"v":4529,"d":"4,529"},{"v":3990,"d":"3,990"},{"v":3458,"d":"3,458"},{"v":2914,"d":"2,914"},{"v":2522,"d":"2,522"},{"v":1986,"d":"1,986"},{"v":1388,"d":"1,388"},841,872]
["040113","AREQUIPA","AREQUIPA","AREQUIPA","POCSI",463,276,1,4,6,2,4,1,1,1,1,1,2,1,1,3,2,2,2,2,2,3,13,23,27,23,25,20,22,17,19,12,9,9,8,7,0,0,1,1,187,2,6,4,4,4,3,3,2,2,2,1,1,1,1,1,1,2,2,3,1,8,6,10,17,7,13,17,15,9,10,11,7,5,6,1,1,1,3,null,null,25,12,41,134,57,34,8,18,79,42,17,5,9,11,13,23,27,23,25,20,22,17,19,12,9,9,8,7,20,12,5,9,8,6,10,17,7,13,17,15,9,10,11,7,5,6]
["040114","AREQUIPA","AREQUIPA","AREQUIPA","POLOBAYA",766,429,4,8,4,5,6,4,1,2,4,6,5,5,2,4,5,4,4,3,4,9,25,34,29,31,32,23,26,35,35,25,18,12,9,6,1,3,1,7,337,10,10,4,7,7,7,6,2,4,4,4,2,2,2,2,3,4,5,4,5,27,28,12,15,32,26,21,22,15,10,11,8,8,8,0,3,7,16,null,null,54,22,72,176,99,67,18,64,128,52,27,17,21,24,25,34,29,31,32,23,26,35,35,25,18,12,9,6,38,23,12,21,27,28,12,15,32,26,21,22,15,10,11,8,8,8]
["040115","AREQUIPA","AREQUIPA","AREQUIPA","QUEQUEÑA",6839,3576,30,21,19,18,12,13,47,37,27,40,57,33,33,37,40,50,27,30,50,44,161,268,285,405,288,268,278,244,248,147,114,87,64,54,1,19,11,39,{"v":3263,"d":"3,263"},18,20,14,14,13,10,74,47,47,40,30,44,50,30,37,37,40,47,30,40,211,298,268,258,167,171,177,281,231,171,134,97,60,57,0,8,10,24,null,null,354,217,523,{"v":1768,"d":"1,768"},660,371,241,579,{"v":1322,"d":"1,322"},693,100,164,200,201,161,268,285,405,288,268,278,244,248,147,114,87,64,54,79,218,191,194,211,298,268,258,167,171,177,281,231,171,134,97,60,57]
["040116","AREQUIPA","AREQUIPA","AREQUIPA","SABANDIA",4727,2351,48,50,54,48,34,37,31,31,42,26,33,33,36,28,28,32,29,22,35,28,166,173,167,191,170,153,134,111,88,89,76,53,42,33,3,24,24,54,{"v":2376,"d":"2,376"},51,47,48,40,40,35,45,42,34,33,28,34,29,32,32,29,34,35,32,34,198,184,183,137,147,140,151,110,114,95,73,47,31,32,3,26,25,57,null,null,467,175,402,926,348,477,191,448,868,360,234,167,158,146,166,173,167,191,170,153,134,111,88,89,76,53,42,33,226,189,155,164,198,184,183,137,147,140,151,110,114,95,73,47,31,32]
["040117","AREQUIPA","AREQUIPA","AREQUIPA","SACHACA",29363,14244,179,241,255,281,276,272,227,227,208,202,211,200,215,191,228,195,189,215,199,192,{"v":1093,"d":"1,093"},{"v":1099,"d":"1,099"},{"v":1066,"d":"1,066"},{"v":1043,"d":"1,043"},{"v":1008,"d":"1,008"},916,811,727,571,512,402,268,170,155,12,92,87,199,{"v":15119,"d":"15,119"},203,210,201,236,222,273,200,177,201,182,218,212,215,215,216,184,215,221,239,232,{"v":1351,"d":"1,351"},{"v":1277,"d":"1,277"},{"v":1092,"d":"1,092"},{"v":1102,"d":"1,102"},{"v":1143,"d":"1,143"},983,804,764,627,560,421,295,197,231,15,114,89,226,null,null,{"v":2779,"d":"2,779"},{"v":1233,"d":"1,233"},{"v":2583,"d":"2,583"},{"v":5571,"d":"5,571"},{"v":1923,"d":"1,923"},{"v":2535,"d":"2,535"},{"v":1266,"d":"1,266"},{"v":3099,"d":"3,099"},{"v":5888,"d":"5,888"},{"v":2100,"d":"2,100"},{"v":1232,"d":"1,232"},{"v":1136,"d":"1,136"},{"v":1045,"d":"1,045"},990,{"v":1093,"d":"1,093"},{"v":1099,"d":"1,099"},{"v":1066,"d":"1,066"},{"v":1043,"d":"1,043"},{"v":1008,"d":"1,008"},916,811,727,571,512,402,268,170,155,{"v":1072,"d":"1,072"},{"v":1033,"d":"1,033"},{"v":1076,"d":"1,076"},{"v":1091,"d":"1,091"},{"v":1351,"d":"1,351"},{"v":1277,"d":"1,277"},{"v":1092,"d":"1,092"},{"v":1102,"d":"1,102"},{"v":1143,"d":"1,143"},983,804,764,627,560,421,295,197,231]
["040118","AREQUIPA","AREQUIPA","AREQUIPA","SAN JUAN DE SIGUAS",558,320,6,4,5,10,9,4,3,4,3,3,4,3,4,2,3,4,5,3,4,2,20,24,21,20,27,17,25,24,17,16,8,8,3,5,1,3,3,8,238,6,5,1,6,8,6,2,0,3,4,3,1,3,1,2,5,5,5,3,2,8,35,12,19,9,16,13,15,10,8,5,7,5,5,1,3,3,7,null,null,58,21,50,134,52,45,21,48,84,35,34,17,16,18,20,24,21,20,27,17,25,24,17,16,8,8,3,5,26,15,10,20,8,35,12,19,9,16,13,15,10,8,5,7,5,5]
["040119","AREQUIPA","AREQUIPA","AREQUIPA","SAN JUAN DE TARUCANI",1252,699,11,13,13,22,16,20,5,5,5,8,6,7,3,6,5,6,5,11,8,3,37,38,51,53,57,53,49,50,38,29,26,17,12,11,2,4,7,13,553,7,12,10,9,15,15,10,8,7,11,11,2,5,2,4,5,4,3,11,3,43,18,32,27,45,30,43,30,35,35,20,15,13,13,0,4,3,9,null,null,131,36,86,313,122,117,23,75,207,118,75,43,27,33,37,38,51,53,57,53,49,50,38,29,26,17,12,11,53,51,24,26,43,18,32,27,45,30,43,30,35,35,20,15,13,13]
["040120","AREQUIPA","AREQUIPA","AREQUIPA","SANTA ISABEL DE SIGUAS",634,356,2,6,3,2,4,3,4,2,2,4,2,4,4,2,4,4,5,8,7,5,30,24,24,20,20,23,32,24,23,20,14,5,11,9,0,0,2,3,278,3,6,2,5,4,5,5,2,4,3,4,3,6,3,3,5,5,4,8,2,22,27,36,4,15,20,16,15,8,8,8,6,5,6,0,2,1,4,null,null,38,27,66,143,73,46,26,59,106,35,17,15,16,29,30,24,24,20,20,23,32,24,23,20,14,5,11,9,20,19,19,24,22,27,36,4,15,20,16,15,8,8,8,6,5,6]
["040121","AREQUIPA","AREQUIPA","AREQUIPA","SANTA RITA DE SIGUAS",7921,3746,58,55,50,44,65,52,54,73,58,55,78,54,59,63,54,56,50,52,57,77,311,368,373,362,294,220,167,147,131,74,73,35,15,12,8,35,23,71,{"v":4175,"d":"4,175"},55,53,49,59,50,57,61,53,61,50,56,76,62,54,57,64,60,63,70,62,442,324,285,297,280,276,292,256,196,143,80,53,41,38,2,21,34,68,null,null,696,334,813,{"v":1563,"d":"1,563"},328,680,360,898,{"v":1686,"d":"1,686"},513,272,292,308,292,311,368,373,362,294,220,167,147,131,74,73,35,15,12,266,282,305,319,442,324,285,297,280,276,292,256,196,143,80,53,41,38]
["040122","AREQUIPA","AREQUIPA","AREQUIPA","SOCABAYA",84182,40645,409,475,550,547,633,694,577,604,639,637,576,601,604,601,602,597,617,587,640,641,{"v":3349,"d":"3,349"},{"v":3495,"d":"3,495"},{"v":3299,"d":"3,299"},{"v":3163,"d":"3,163"},{"v":3043,"d":"3,043"},{"v":2631,"d":"2,631"},{"v":2281,"d":"2,281"},{"v":2015,"d":"2,015"},{"v":1663,"d":"1,663"},{"v":1431,"d":"1,431"},{"v":1011,"d":"1,011"},680,398,355,40,221,188,495,{"v":43537,"d":"43,537"},370,451,543,563,628,635,575,642,642,691,681,594,592,584,637,597,660,637,706,648,{"v":3495,"d":"3,495"},{"v":3959,"d":"3,959"},{"v":3221,"d":"3,221"},{"v":3264,"d":"3,264"},{"v":3214,"d":"3,214"},{"v":2970,"d":"2,970"},{"v":2651,"d":"2,651"},{"v":2182,"d":"2,182"},{"v":1794,"d":"1,794"},{"v":1528,"d":"1,528"},{"v":1200,"d":"1,200"},808,561,614,23,209,161,447,null,null,{"v":6942,"d":"6,942"},{"v":3608,"d":"3,608"},{"v":8125,"d":"8,125"},{"v":16432,"d":"16,432"},{"v":5183,"d":"5,183"},{"v":7015,"d":"7,015"},{"v":3707,"d":"3,707"},{"v":8808,"d":"8,808"},{"v":17502,"d":"17,502"},{"v":5891,"d":"5,891"},{"v":2614,"d":"2,614"},{"v":3151,"d":"3,151"},{"v":2984,"d":"2,984"},{"v":3082,"d":"3,082"},{"v":3349,"d":"3,349"},{"v":3495,"d":"3,495"},{"v":3299,"d":"3,299"},{"v":3163,"d":"3,163"},{"v":3043,"d":"3,043"},{"v":2631,"d":"2,631"},{"v":2281,"d":"2,281"},{"v":2015,"d":"2,015"},{"v":1663,"d":"1,663"},{"v":1431,"d":"1,431"},{"v":1011,"d":"1,011"},680,398,355,{"v":2555,"d":"2,555"},{"v":3185,"d":"3,185"},{"v":3088,"d":"3,088"},{"v":3248,"d":"3,248"},{"v":3495,"d":"3,495"},{"v":3959,"d":"3,959"},{"v":3221,"d":"3,221"},{"v":3264,"d":"3,264"},{"v":3214,"d":"3,214"},{"v":2970,"d":"2,970"},{"v":2651,"d":"2,651"},{"v":2182,"d":"2,182"},{"v":1794,"d":"1,794"},{"v":1528,"d":"1,528"},{"v":1200,"d":"1,200"},808,561,614]
["040123","AREQUIPA","AREQUIPA","AREQUIPA","TIABAYA",17655,8806,116,145,145,162,138,174,119,146,116,114,115,125,106,133,133,122,102,123,102,119,680,789,791,740,678,552,463,434,353,252,206,134,96,83,13,63,53,142,{"v":8849,"d":"8,849"},122,154,131,138,165,164,142,112,114,131,127,133,154,125,130,109,122,137,122,134,655,728,703,595,632,556,539,449,388,324,237,159,109,109,12,74,48,149,null,null,{"v":1615,"d":"1,615"},719,{"v":1690,"d":"1,690"},{"v":3658,"d":"3,658"},{"v":1041,"d":"1,041"},{"v":1633,"d":"1,633"},777,{"v":1639,"d":"1,639"},{"v":3474,"d":"3,474"},{"v":1217,"d":"1,217"},706,669,612,568,680,789,791,740,678,552,463,434,353,252,206,134,96,83,710,663,669,624,655,728,703,595,632,556,539,449,388,324,237,159,109,109]
["040124","AREQUIPA","AREQUIPA","AREQUIPA","UCHUMAYO",17490,9056,99,138,131,139,129,126,129,130,114,122,120,128,115,118,107,111,115,116,124,116,594,828,852,893,825,627,522,459,330,266,196,118,76,43,4,52,47,113,{"v":8434,"d":"8,434"},101,114,127,121,118,135,113,117,108,101,113,134,120,121,110,124,122,137,125,120,681,679,567,614,605,506,537,456,410,349,254,160,110,125,8,49,52,116,null,null,{"v":1505,"d":"1,505"},682,{"v":1662,"d":"1,662"},{"v":4178,"d":"4,178"},986,{"v":1402,"d":"1,402"},734,{"v":1605,"d":"1,605"},{"v":3285,"d":"3,285"},{"v":1283,"d":"1,283"},636,621,588,582,594,828,852,893,825,627,522,459,330,266,196,118,76,43,581,574,598,628,681,679,567,614,605,506,537,456,410,349,254,160,110,125]
["040125","AREQUIPA","AREQUIPA","AREQUIPA","VITOR",4771,2403,16,24,14,25,29,21,21,36,29,32,20,41,43,25,29,38,48,42,39,32,180,197,208,187,178,136,137,138,140,110,78,46,35,29,1,11,5,20,{"v":2368,"d":"2,368"},22,14,20,19,22,12,21,28,27,29,15,28,32,25,31,29,29,32,46,38,234,165,222,222,239,168,152,106,108,76,57,39,32,29,2,11,11,27,null,null,308,225,448,984,409,257,178,483,{"v":1109,"d":"1,109"},312,108,139,158,199,180,197,208,187,178,136,137,138,140,110,78,46,35,29,97,117,131,174,234,165,222,222,239,168,152,106,108,76,57,39,32,29]
["040126","AREQUIPA","AREQUIPA","AREQUIPA","YANAHUARA",27134,13954,172,192,234,179,167,189,182,167,195,200,184,197,169,187,166,161,178,147,170,198,808,930,927,956,944,939,965,858,754,691,574,423,262,289,11,77,95,174,{"v":13180,"d":"13,180"},124,209,188,185,141,169,191,160,152,112,130,179,171,175,199,190,170,178,184,187,901,{"v":1006,"d":"1,006"},899,970,859,845,781,772,640,593,521,369,278,352,5,58,66,125,null,null,{"v":2258,"d":"2,258"},{"v":1008,"d":"1,008"},{"v":2106,"d":"2,106"},{"v":5589,"d":"5,589"},{"v":2704,"d":"2,704"},{"v":1940,"d":"1,940"},{"v":1083,"d":"1,083"},{"v":2278,"d":"2,278"},{"v":5126,"d":"5,126"},{"v":2401,"d":"2,401"},944,933,903,854,808,930,927,956,944,939,965,858,754,691,574,423,262,289,847,784,854,909,901,{"v":1006,"d":"1,006"},899,970,859,845,781,772,640,593,521,369,278,352]
["040127","AREQUIPA","AREQUIPA","AREQUIPA","YARABAMBA",1669,998,16,15,10,14,8,14,9,9,8,7,11,6,8,4,7,9,9,6,16,13,70,91,100,98,87,88,67,54,40,30,34,18,11,11,0,6,10,20,671,14,19,11,5,9,9,12,6,3,5,5,6,9,6,5,8,9,6,8,6,44,38,40,60,32,43,54,58,36,33,28,16,13,15,3,10,4,18,null,null,127,43,190,494,133,104,43,96,287,126,63,47,36,53,70,91,100,98,87,88,67,54,40,30,34,18,11,11,58,35,31,37,44,38,40,60,32,43,54,58,36,33,28,16,13,15]
["040128","AREQUIPA","AREQUIPA","AREQUIPA","YURA",44288,20169,304,366,419,469,496,462,400,348,367,305,343,306,363,322,296,313,268,304,331,315,{"v":1647,"d":"1,647"},{"v":1891,"d":"1,891"},{"v":1803,"d":"1,803"},{"v":1667,"d":"1,667"},{"v":1368,"d":"1,368"},{"v":1061,"d":"1,061"},936,797,631,529,335,193,111,103,18,157,147,343,{"v":24119,"d":"24,119"},284,392,438,450,460,451,567,589,583,575,549,358,338,340,327,343,331,319,346,331,{"v":1727,"d":"1,727"},{"v":1652,"d":"1,652"},{"v":1700,"d":"1,700"},{"v":1884,"d":"1,884"},{"v":1610,"d":"1,610"},{"v":1514,"d":"1,514"},{"v":1448,"d":"1,448"},{"v":1316,"d":"1,316"},977,691,507,317,211,194,16,134,150,320,null,null,{"v":4585,"d":"4,585"},{"v":1866,"d":"1,866"},{"v":4184,"d":"4,184"},{"v":7632,"d":"7,632"},{"v":1799,"d":"1,799"},{"v":5696,"d":"5,696"},{"v":1998,"d":"1,998"},{"v":4056,"d":"4,056"},{"v":9472,"d":"9,472"},{"v":2703,"d":"2,703"},{"v":2054,"d":"2,054"},{"v":1882,"d":"1,882"},{"v":1630,"d":"1,630"},{"v":1531,"d":"1,531"},{"v":1647,"d":"1,647"},{"v":1891,"d":"1,891"},{"v":1803,"d":"1,803"},{"v":1667,"d":"1,667"},{"v":1368,"d":"1,368"},{"v":1061,"d":"1,061"},936,797,631,529,335,193,111,103,{"v":2024,"d":"2,024"},{"v":2765,"d":"2,765"},{"v":1912,"d":"1,912"},{"v":1670,"d":"1,670"},{"v":1727,"d":"1,727"},{"v":1652,"d":"1,652"},{"v":1700,"d":"1,700"},{"v":1884,"d":"1,884"},{"v":1610,"d":"1,610"},{"v":1514,"d":"1,514"},{"v":1448,"d":"1,448"},{"v":1316,"d":"1,316"},977,691,507,317,211,194]
["040129","AREQUIPA","AREQUIPA","AREQUIPA","JOSE LUIS BUSTAMANTE Y RIVERO",83128,41713,366,441,508,515,511,464,560,578,609,562,588,573,587,557,546,558,544,548,592,591,{"v":3118,"d":"3,118"},{"v":3424,"d":"3,424"},{"v":3458,"d":"3,458"},{"v":3238,"d":"3,238"},{"v":3275,"d":"3,275"},{"v":2849,"d":"2,849"},{"v":2482,"d":"2,482"},{"v":2193,"d":"2,193"},{"v":1820,"d":"1,820"},{"v":1494,"d":"1,494"},{"v":1362,"d":"1,362"},985,661,556,34,207,159,423,{"v":41415,"d":"41,415"},350,470,542,504,423,476,530,567,508,412,451,545,547,553,589,571,568,611,557,646,{"v":3432,"d":"3,432"},{"v":3536,"d":"3,536"},{"v":3288,"d":"3,288"},{"v":2906,"d":"2,906"},{"v":3037,"d":"3,037"},{"v":2931,"d":"2,931"},{"v":2572,"d":"2,572"},{"v":2289,"d":"2,289"},{"v":1876,"d":"1,876"},{"v":1606,"d":"1,606"},{"v":1252,"d":"1,252"},927,622,721,21,202,148,404,null,null,{"v":6275,"d":"6,275"},{"v":3340,"d":"3,340"},{"v":7725,"d":"7,725"},{"v":17495,"d":"17,495"},{"v":6322,"d":"6,322"},{"v":5778,"d":"5,778"},{"v":3439,"d":"3,439"},{"v":8171,"d":"8,171"},{"v":17023,"d":"17,023"},{"v":6283,"d":"6,283"},{"v":2341,"d":"2,341"},{"v":2773,"d":"2,773"},{"v":2851,"d":"2,851"},{"v":2833,"d":"2,833"},{"v":3118,"d":"3,118"},{"v":3424,"d":"3,424"},{"v":3458,"d":"3,458"},{"v":3238,"d":"3,238"},{"v":3275,"d":"3,275"},{"v":2849,"d":"2,849"},{"v":2482,"d":"2,482"},{"v":2193,"d":"2,193"},{"v":1820,"d":"1,820"},{"v":1494,"d":"1,494"},{"v":1362,"d":"1,362"},985,661,556,{"v":2289,"d":"2,289"},{"v":2493,"d":"2,493"},{"v":2685,"d":"2,685"},{"v":2953,"d":"2,953"},{"v":3432,"d":"3,432"},{"v":3536,"d":"3,536"},{"v":3288,"d":"3,288"},{"v":2906,"d":"2,906"},{"v":3037,"d":"3,037"},{"v":2931,"d":"2,931"},{"v":2572,"d":"2,572"},{"v":2289,"d":"2,289"},{"v":1876,"d":"1,876"},{"v":1606,"d":"1,606"},{"v":1252,"d":"1,252"},927,622,721]
["040201","AREQUIPA","AREQUIPA","CAMANA","CAMANA",12558,6247,36,29,56,81,70,90,80,91,90,89,89,102,92,108,109,118,95,101,97,92,520,522,492,396,359,386,394,368,353,260,199,126,85,72,5,26,10,44,{"v":6311,"d":"6,311"},39,38,72,73,67,79,30,52,51,45,52,87,91,100,77,102,81,93,100,109,632,592,614,497,556,446,337,280,227,198,166,130,91,107,5,25,14,47,null,null,903,623,{"v":1231,"d":"1,231"},{"v":2395,"d":"2,395"},{"v":1023,"d":"1,023"},685,544,{"v":1433,"d":"1,433"},{"v":2730,"d":"2,730"},812,272,440,500,503,520,522,492,396,359,386,394,368,353,260,199,126,85,72,289,257,407,485,632,592,614,497,556,446,337,280,227,198,166,130,91,107]
["040202","AREQUIPA","AREQUIPA","CAMANA","JOSE MARIA QUIMPER",4868,2327,28,37,32,42,47,41,35,46,44,24,24,40,36,33,28,35,28,29,26,26,147,176,178,171,157,135,124,145,120,128,65,50,24,26,2,10,18,34,{"v":2541,"d":"2,541"},20,38,50,44,52,45,39,47,40,45,39,28,43,40,35,34,39,40,32,45,195,256,142,199,162,140,160,118,111,81,61,43,32,46,1,11,9,25,null,null,440,189,375,910,387,487,231,528,921,328,186,190,161,144,147,176,178,171,157,135,124,145,120,128,65,50,24,26,204,216,185,190,195,256,142,199,162,140,160,118,111,81,61,43,32,46]
["040203","AREQUIPA","AREQUIPA","CAMANA","MARIANO NICOLAS VALCARCEL",8469,4091,77,92,114,132,163,104,61,46,47,49,37,53,54,42,61,32,46,41,27,20,131,197,339,424,375,310,305,322,168,114,56,24,20,8,7,30,47,101,{"v":4378,"d":"4,378"},74,81,101,152,158,137,151,175,253,254,214,56,42,41,53,58,73,66,59,46,263,220,180,156,68,134,229,309,226,134,95,53,36,31,1,36,38,97,null,null,975,276,375,{"v":2075,"d":"2,075"},382,{"v":1806,"d":"1,806"},333,588,{"v":1076,"d":"1,076"},544,578,307,247,166,131,197,339,424,375,310,305,322,168,114,56,24,20,8,566,970,406,302,263,220,180,156,68,134,229,309,226,134,95,53,36,31]
["040204","AREQUIPA","AREQUIPA","CAMANA","MARISCAL CACERES",6606,3197,40,57,55,55,62,56,41,40,45,37,44,49,43,37,44,41,49,38,51,39,189,265,244,240,241,219,227,193,158,121,80,47,31,19,6,24,16,49,{"v":3409,"d":"3,409"},46,68,53,52,63,53,64,46,43,51,42,40,39,43,48,39,42,35,47,52,298,246,312,245,214,184,223,176,163,123,100,68,43,48,2,20,26,56,null,null,581,252,544,{"v":1364,"d":"1,364"},437,621,246,643,{"v":1354,"d":"1,354"},497,269,219,217,218,189,265,244,240,241,219,227,193,158,121,80,47,31,19,282,257,212,215,298,246,312,245,214,184,223,176,163,123,100,68,43,48]
["040205","AREQUIPA","AREQUIPA","CAMANA","NICOLAS DE PIEROLA",7917,3904,47,60,58,69,62,72,52,63,62,61,76,62,60,59,59,65,60,56,61,56,240,283,280,270,274,250,227,232,210,149,109,73,46,41,5,24,23,54,{"v":4013,"d":"4,013"},39,67,50,64,64,64,72,49,61,59,57,47,64,53,53,48,61,62,74,60,295,372,293,303,282,255,220,205,184,134,103,85,57,57,2,20,19,45,null,null,744,359,640,{"v":1533,"d":"1,533"},587,693,341,801,{"v":1558,"d":"1,558"},563,296,310,316,298,240,283,280,270,274,250,227,232,210,149,109,73,46,41,284,305,274,305,295,372,293,303,282,255,220,205,184,134,103,85,57,57]
["040206","AREQUIPA","AREQUIPA","CAMANA","OCOÑA",3944,2035,32,33,26,35,29,18,26,32,24,14,31,25,20,20,26,30,22,42,25,22,119,131,118,131,140,133,145,160,126,103,92,44,31,30,3,14,18,39,{"v":1909,"d":"1,909"},20,33,34,20,24,29,31,30,17,20,23,26,23,24,25,20,23,22,29,31,180,195,171,135,124,102,120,75,80,70,48,42,26,37,2,11,9,24,null,null,325,160,297,827,396,307,137,435,727,266,155,114,122,141,119,131,118,131,140,133,145,160,126,103,92,44,31,30,131,127,121,125,180,195,171,135,124,102,120,75,80,70,48,42,26,37]
["040207","AREQUIPA","AREQUIPA","CAMANA","QUILCA",1071,594,13,6,7,7,11,7,5,5,4,8,7,4,6,7,7,8,6,8,6,6,25,33,54,45,41,47,44,41,39,28,28,18,9,4,2,8,5,17,477,1,5,6,8,17,5,5,6,8,15,5,10,7,4,6,6,8,4,8,10,32,50,35,14,38,26,30,24,26,20,11,9,6,12,0,1,0,1,null,null,84,42,70,272,122,91,35,100,167,72,44,29,31,34,25,33,54,45,41,47,44,41,39,28,28,18,9,4,37,39,32,36,32,50,35,14,38,26,30,24,26,20,11,9,6,12]
["040208","AREQUIPA","AREQUIPA","CAMANA","SAMUEL PASTOR",17004,8095,138,161,167,157,179,174,125,129,114,144,117,144,123,116,135,128,126,121,141,116,606,655,600,603,533,507,458,412,350,235,157,102,59,63,12,71,67,167,{"v":8909,"d":"8,909"},116,156,158,178,154,137,157,148,161,134,116,141,124,139,100,124,138,137,125,134,729,772,698,610,610,552,506,424,370,287,210,160,100,104,9,52,64,141,null,null,{"v":1749,"d":"1,749"},749,{"v":1518,"d":"1,518"},{"v":3113,"d":"3,113"},903,{"v":1756,"d":"1,756"},762,{"v":1760,"d":"1,760"},{"v":3400,"d":"3,400"},{"v":1127,"d":"1,127"},802,686,635,632,606,655,600,603,533,507,458,412,350,235,157,102,59,63,762,737,620,658,729,772,698,610,610,552,506,424,370,287,210,160,100,104]
["040301","AREQUIPA","AREQUIPA","CARAVELI","CARAVELI",4242,1966,38,35,38,41,40,33,25,26,19,27,23,21,27,27,30,38,40,34,29,28,153,169,146,140,113,109,135,104,82,66,50,30,20,30,4,19,19,42,{"v":2276,"d":"2,276"},30,31,26,39,43,38,33,25,37,40,34,35,29,26,19,34,19,31,27,25,141,203,151,257,222,174,144,100,74,57,51,34,22,25,6,19,11,34,null,null,366,196,379,747,248,411,158,396,{"v":1048,"d":"1,048"},238,192,130,128,169,153,169,146,140,113,109,135,104,82,66,50,30,20,30,169,173,143,136,141,203,151,257,222,174,144,100,74,57,51,34,22,25]
["040302","AREQUIPA","AREQUIPA","CARAVELI","ACARI",5293,2545,24,27,19,35,44,40,32,42,26,35,39,43,50,44,46,43,51,46,43,30,176,144,108,168,153,160,161,172,154,103,100,89,35,63,2,13,11,30,{"v":2748,"d":"2,748"},30,28,31,25,34,32,35,36,28,36,34,30,36,33,44,51,45,48,56,43,311,293,281,185,165,147,131,116,99,85,71,56,34,39,1,14,16,38,null,null,406,280,393,922,481,379,257,703,{"v":1025,"d":"1,025"},345,149,175,222,213,176,144,108,168,153,160,161,172,154,103,100,89,35,63,148,167,177,243,311,293,281,185,165,147,131,116,99,85,71,56,34,39]
["040303","AREQUIPA","AREQUIPA","CARAVELI","ATICO",6134,3035,26,48,29,40,48,40,44,38,41,39,49,52,51,41,57,45,60,50,49,39,198,210,229,233,235,220,218,185,134,114,72,46,40,15,4,15,11,32,{"v":3099,"d":"3,099"},31,31,38,43,41,48,41,47,51,47,53,52,36,38,45,49,50,32,50,60,314,266,232,249,196,153,174,171,143,101,88,58,36,35,1,14,17,38,null,null,494,304,496,{"v":1320,"d":"1,320"},406,523,250,690,{"v":1175,"d":"1,175"},426,191,202,250,243,198,210,229,233,235,220,218,185,134,114,72,46,40,15,184,234,224,241,314,266,232,249,196,153,174,171,143,101,88,58,36,35]
["040304","AREQUIPA","AREQUIPA","CARAVELI","ATIQUIPA",475,239,4,7,7,5,11,6,2,1,3,4,1,2,3,5,2,5,2,1,2,3,14,22,18,15,18,10,11,15,14,6,7,5,3,5,0,2,2,6,236,3,5,5,7,8,5,3,3,5,5,3,1,2,2,3,5,3,5,3,2,7,28,22,25,3,12,16,12,9,9,4,5,3,3,1,2,1,4,null,null,53,18,41,87,35,53,20,40,90,30,34,16,13,13,14,22,18,15,18,10,11,15,14,6,7,5,3,5,28,21,11,18,7,28,22,25,3,12,16,12,9,9,4,5,3,3]
["040305","AREQUIPA","AREQUIPA","CARAVELI","BELLA UNION",2740,1331,28,19,16,16,9,11,17,15,18,17,13,15,23,12,19,14,26,12,23,22,86,85,92,100,109,110,88,84,67,41,48,39,23,14,6,13,15,37,{"v":1409,"d":"1,409"},14,21,21,17,26,16,23,21,17,25,15,22,17,16,15,10,19,17,21,13,139,160,134,83,96,81,90,60,64,45,35,22,16,18,1,7,7,19,null,null,194,106,216,583,218,238,94,333,544,182,88,78,82,97,86,85,92,100,109,110,88,84,67,41,48,39,23,14,99,102,85,80,139,160,134,83,96,81,90,60,64,45,35,22,16,18]
["040306","AREQUIPA","AREQUIPA","CARAVELI","CAHUACHO",566,281,25,8,4,2,0,5,1,2,5,3,1,3,4,4,5,5,4,4,2,3,14,18,14,17,16,15,17,14,11,14,13,8,10,10,0,14,11,32,285,19,8,3,7,4,5,6,2,4,2,3,2,1,4,3,4,4,5,5,5,25,15,23,32,28,11,12,10,6,9,5,5,4,4,0,5,14,25,null,null,59,26,37,93,56,65,21,50,116,29,39,16,17,18,14,18,14,17,16,15,17,14,11,14,13,8,10,10,41,19,13,23,25,15,23,32,28,11,12,10,6,9,5,5,4,4]
["040307","AREQUIPA","AREQUIPA","CARAVELI","CHALA",10255,4768,88,94,97,98,79,79,89,98,116,104,88,92,84,92,81,87,79,88,56,81,302,322,365,374,308,315,256,245,163,143,87,50,32,36,10,48,40,114,{"v":5487,"d":"5,487"},75,100,75,68,72,65,137,94,83,84,75,87,78,89,75,96,77,66,66,89,513,601,395,421,299,303,283,268,272,191,114,81,43,52,4,41,34,98,null,null,{"v":1122,"d":"1,122"},511,761,{"v":1863,"d":"1,863"},475,{"v":1015,"d":"1,015"},481,{"v":1269,"d":"1,269"},{"v":1969,"d":"1,969"},701,456,486,437,391,302,322,365,374,308,315,256,245,163,143,87,50,32,36,390,463,404,394,513,601,395,421,299,303,283,268,272,191,114,81,43,52]
["040308","AREQUIPA","AREQUIPA","CARAVELI","CHAPARRA",3468,1791,13,36,40,36,21,33,18,15,17,27,16,29,29,29,21,18,22,18,23,20,83,101,164,174,162,147,139,117,75,52,50,13,15,18,1,6,7,17,{"v":1677,"d":"1,677"},25,25,41,13,27,22,33,52,16,32,25,21,21,16,18,27,32,23,22,37,226,167,189,88,74,70,54,66,70,59,32,21,22,11,4,13,12,33,null,null,301,137,227,903,205,332,137,452,541,204,146,110,124,101,83,101,164,174,162,147,139,117,75,52,50,13,15,18,131,155,101,141,226,167,189,88,74,70,54,66,70,59,32,21,22,11]
["040309","AREQUIPA","AREQUIPA","CARAVELI","HUANUHUANU",3121,1742,18,33,19,20,25,29,15,26,13,16,19,27,34,29,29,23,32,19,32,18,73,132,184,207,149,137,128,94,77,48,18,6,5,8,1,9,9,24,{"v":1379,"d":"1,379"},27,21,10,23,18,23,37,16,37,27,34,18,13,19,24,18,26,21,39,36,139,115,119,50,97,69,63,73,50,36,36,21,13,11,1,18,9,35,null,null,260,166,255,899,154,291,121,329,471,156,115,99,138,124,73,132,184,207,149,137,128,94,77,48,18,6,5,8,99,140,108,140,139,115,119,50,97,69,63,73,50,36,36,21,13,11]
["040310","AREQUIPA","AREQUIPA","CARAVELI","JAQUI",1605,785,7,18,11,7,8,8,14,7,12,6,11,18,18,12,11,14,13,13,13,7,41,64,45,43,49,50,54,60,46,48,25,13,10,9,0,4,3,9,820,15,15,12,10,14,10,15,11,9,12,8,6,13,9,10,9,19,16,13,15,101,88,68,62,46,40,38,31,21,22,21,16,10,15,0,6,9,20,null,null,127,81,125,301,142,137,76,217,285,90,51,47,70,60,41,64,45,43,49,50,54,60,46,48,25,13,10,9,66,57,46,72,101,88,68,62,46,40,38,31,21,22,21,16,10,15]
["040311","AREQUIPA","AREQUIPA","CARAVELI","LOMAS",1586,831,8,12,10,14,11,16,11,12,4,12,12,16,6,13,8,10,10,8,12,6,60,58,65,69,68,68,48,58,51,28,18,17,8,4,1,6,2,11,755,13,5,3,13,18,19,6,4,16,21,22,10,4,14,17,10,8,11,10,12,69,71,51,25,48,45,48,40,33,28,22,16,11,12,1,6,7,17,null,null,138,55,136,376,122,150,64,162,257,110,55,55,55,46,60,58,65,69,68,68,48,58,51,28,18,17,8,4,52,66,67,51,69,71,51,25,48,45,48,40,33,28,22,16,11,12]
["040312","AREQUIPA","AREQUIPA","CARAVELI","QUICACHA",1921,902,10,22,9,15,15,12,11,8,15,16,15,15,15,15,10,22,19,15,15,15,69,54,65,63,55,61,48,55,42,35,25,16,11,14,0,5,5,13,{"v":1019,"d":"1,019"},13,21,7,13,13,12,21,6,12,11,10,18,17,8,13,20,23,17,25,20,99,107,116,61,82,60,46,34,35,24,18,16,10,11,0,6,7,17,null,null,163,96,153,347,129,157,98,251,399,103,71,62,70,86,69,54,65,63,55,61,48,55,42,35,25,16,11,14,67,62,66,105,99,107,116,61,82,60,46,34,35,24,18,16,10,11]
["040313","AREQUIPA","AREQUIPA","CARAVELI","YAUCA",2047,1068,5,9,6,8,11,8,14,15,19,20,18,18,11,15,19,20,19,13,14,11,68,75,55,55,77,66,68,80,88,54,46,28,19,16,2,3,2,7,979,8,12,8,14,14,5,15,9,16,15,6,14,14,12,21,19,20,25,14,26,67,97,68,30,76,61,70,50,42,36,33,22,21,19,3,5,3,10,null,null,151,97,168,401,235,136,111,204,355,154,39,76,81,77,68,75,55,55,77,66,68,80,88,54,46,28,19,16,56,60,67,104,67,97,68,30,76,61,70,50,42,36,33,22,21,19]
["040401","AREQUIPA","AREQUIPA","CASTILLA","APLAO",9099,4386,51,76,63,71,71,79,53,52,57,50,68,68,80,75,66,57,74,81,55,60,294,332,305,280,270,270,278,283,220,183,157,99,53,55,3,23,28,66,{"v":4713,"d":"4,713"},68,72,63,64,71,72,69,56,55,58,57,52,50,52,48,56,70,85,60,77,355,524,401,397,363,310,263,202,173,140,119,85,64,62,2,34,34,88,null,null,759,433,741,{"v":1686,"d":"1,686"},712,757,361,{"v":1016,"d":"1,016"},{"v":1936,"d":"1,936"},581,332,291,357,327,294,332,305,280,270,270,278,283,220,183,157,99,53,55,338,310,259,348,355,524,401,397,363,310,263,202,173,140,119,85,64,62]
["040402","AREQUIPA","AREQUIPA","CASTILLA","ANDAGUA",973,527,3,6,2,2,6,9,7,9,7,6,7,6,7,10,6,7,10,7,7,4,41,34,32,28,37,36,41,32,28,27,26,16,9,12,1,2,1,5,446,7,9,5,6,9,2,9,4,5,8,2,6,4,3,8,8,7,7,10,8,15,63,37,41,22,37,17,15,17,14,12,9,8,12,0,4,3,11,null,null,70,47,86,206,106,72,37,96,169,60,19,38,36,35,41,34,32,28,37,36,41,32,28,27,26,16,9,12,36,28,23,40,15,63,37,41,22,37,17,15,17,14,12,9,8,12]
["040403","AREQUIPA","AREQUIPA","CASTILLA","AYO",216,154,3,1,1,2,0,2,1,1,1,1,0,1,0,1,1,1,2,2,1,1,5,5,8,13,11,11,9,9,13,12,9,11,8,7,0,1,2,4,62,1,2,1,1,0,0,1,1,1,0,0,0,1,1,0,0,2,1,0,1,0,4,3,0,7,1,4,5,5,5,3,5,3,3,1,1,0,1,null,null,14,7,12,61,53,8,5,5,20,21,7,6,3,7,5,5,8,13,11,11,9,9,13,12,9,11,8,7,5,3,2,4,0,4,3,0,7,1,4,5,5,5,3,5,3,3]
["040404","AREQUIPA","AREQUIPA","CASTILLA","CHACHAS",1602,841,15,18,17,11,10,19,12,5,13,7,13,14,15,17,10,17,14,15,10,10,67,60,71,67,54,50,45,48,32,25,23,18,7,12,3,8,7,15,761,14,16,12,12,17,18,12,8,8,11,12,5,12,9,13,18,10,11,10,15,105,52,79,46,48,42,37,30,24,12,13,9,10,11,2,7,7,14,null,null,154,88,147,335,105,145,73,182,282,68,71,56,69,66,67,60,71,67,54,50,45,48,32,25,23,18,7,12,71,57,51,64,105,52,79,46,48,42,37,30,24,12,13,9,10,11]
["040405","AREQUIPA","AREQUIPA","CASTILLA","CHILCAYMARCA",1072,510,5,3,3,4,5,4,6,10,7,9,9,7,7,5,12,8,7,9,9,4,29,38,48,46,45,45,33,28,25,16,7,10,5,2,0,4,1,6,562,7,7,7,2,8,7,7,6,2,7,5,8,4,12,8,7,10,3,6,5,83,58,62,41,13,31,34,26,27,24,13,9,6,7,0,2,5,9,null,null,72,48,80,245,63,73,44,152,207,79,20,36,40,37,29,38,48,46,45,45,33,28,25,16,7,10,5,2,31,29,37,31,83,58,62,41,13,31,34,26,27,24,13,9,6,7]
["040406","AREQUIPA","AREQUIPA","CASTILLA","CHOCO",631,402,1,4,3,2,1,2,3,4,2,2,1,3,5,3,1,2,4,4,5,7,26,17,35,33,31,41,30,23,27,20,18,13,15,14,0,0,1,1,229,2,3,3,2,2,3,2,2,1,1,2,3,2,2,2,3,5,2,5,6,19,35,7,24,16,12,10,10,9,12,6,6,4,6,0,0,2,3,null,null,28,19,55,193,93,26,16,65,79,37,11,13,13,22,26,17,35,33,31,41,30,23,27,20,18,13,15,14,12,9,11,21,19,35,7,24,16,12,10,10,9,12,6,6,4,6]
["040407","AREQUIPA","AREQUIPA","CASTILLA","HUANCARQUI",1621,926,6,8,4,6,7,4,7,8,8,10,11,11,8,8,11,9,11,11,8,13,46,67,77,73,81,73,74,61,54,48,44,24,19,16,0,3,3,6,695,5,15,8,5,7,5,15,8,5,7,5,9,7,10,8,9,3,10,8,13,75,39,65,43,42,43,34,49,35,29,22,21,16,20,1,2,3,5,null,null,90,58,134,439,189,94,47,135,276,123,31,37,49,52,46,67,77,73,81,73,74,61,54,48,44,24,19,16,40,40,39,43,75,39,65,43,42,43,34,49,35,29,22,21,16,20]
["040408","AREQUIPA","AREQUIPA","CASTILLA","MACHAGUAY",413,235,3,1,5,1,4,2,0,2,0,3,3,1,3,3,2,2,4,6,3,1,11,12,11,10,13,13,16,19,18,9,20,11,11,12,0,1,2,4,178,1,2,2,2,2,1,1,1,1,1,1,2,2,2,1,1,4,2,3,5,18,19,13,19,22,11,6,4,3,6,6,6,3,5,0,1,0,1,null,null,25,20,27,82,69,17,12,45,75,24,14,7,12,16,11,12,11,10,13,13,16,19,18,9,20,11,11,12,9,5,8,15,18,19,13,19,22,11,6,4,3,6,6,6,3,5]
["040409","AREQUIPA","AREQUIPA","CASTILLA","ORCOPAMPA",8577,3743,24,47,39,57,81,91,61,63,70,80,80,74,73,73,74,97,83,113,63,49,301,324,257,303,254,190,181,171,120,94,67,40,23,26,0,14,10,31,{"v":4834,"d":"4,834"},28,43,36,62,81,71,67,53,87,110,94,51,61,79,66,81,80,66,83,91,607,531,470,396,294,273,190,180,154,123,89,50,44,43,3,11,17,37,null,null,767,513,737,{"v":1356,"d":"1,356"},344,783,433,{"v":1312,"d":"1,312"},{"v":1803,"d":"1,803"},460,248,365,374,405,301,324,257,303,254,190,181,171,120,94,67,40,23,26,250,388,351,401,607,531,470,396,294,273,190,180,154,123,89,50,44,43]
["040410","AREQUIPA","AREQUIPA","CASTILLA","PAMPACOLCA",1728,854,15,16,5,12,16,11,11,8,12,7,16,13,12,14,11,16,12,16,8,16,62,53,42,37,43,55,49,69,38,41,24,40,29,25,2,8,7,22,874,19,18,15,11,13,10,14,10,8,8,6,7,8,13,12,12,14,13,12,13,99,106,91,63,69,54,29,25,20,20,17,17,14,14,0,11,8,28,null,null,142,81,139,295,172,139,72,230,331,88,64,49,66,68,62,53,42,37,43,55,49,69,38,41,24,40,29,25,76,50,46,64,99,106,91,63,69,54,29,25,20,20,17,17,14,14]
["040411","AREQUIPA","AREQUIPA","CASTILLA","TIPAN",420,222,2,1,0,1,1,2,3,3,1,0,0,2,3,4,1,2,0,5,5,4,10,15,12,11,13,14,11,25,18,12,10,14,5,12,0,1,1,2,198,0,2,0,2,2,3,2,0,2,2,3,2,2,2,3,1,3,2,4,0,27,17,19,28,23,10,5,6,4,6,4,4,3,5,0,0,0,0,null,null,16,15,34,86,59,20,13,48,91,21,5,9,10,16,10,15,12,11,13,14,11,25,18,12,10,14,5,12,6,9,12,10,27,17,19,28,23,10,5,6,4,6,4,4,3,5]
["040412","AREQUIPA","AREQUIPA","CASTILLA","UÑON",191,116,0,3,0,2,2,1,0,0,2,0,2,0,0,0,2,1,1,1,0,0,5,6,7,10,8,10,11,5,11,8,9,3,4,2,0,0,0,0,75,2,0,0,0,1,0,0,0,0,1,0,3,0,1,3,0,1,0,0,2,6,6,5,0,10,4,9,4,2,4,3,2,2,4,0,2,0,2,null,null,12,5,11,51,35,7,5,14,32,13,7,3,4,3,5,6,7,10,8,10,11,5,11,8,9,3,4,2,3,1,7,3,6,6,5,0,10,4,9,4,2,4,3,2,2,4]
["040413","AREQUIPA","AREQUIPA","CASTILLA","URACA",6397,3185,40,37,43,40,34,44,38,31,38,37,30,38,40,46,40,54,47,39,39,56,233,276,208,226,226,197,218,206,181,133,111,67,48,44,3,20,20,52,{"v":3212,"d":"3,212"},31,27,37,51,31,45,26,33,44,25,37,37,45,38,40,47,39,43,47,42,307,405,289,239,233,183,172,134,133,111,85,62,47,47,1,15,16,41,null,null,450,266,604,{"v":1281,"d":"1,281"},540,424,252,801,{"v":1250,"d":"1,250"},438,194,188,194,235,233,276,208,226,226,197,218,206,181,133,111,67,48,44,177,173,197,218,307,405,289,239,233,183,172,134,133,111,85,62,47,47]
["040414","AREQUIPA","AREQUIPA","CASTILLA","VIRACO",1384,743,12,9,8,6,9,7,7,7,7,3,4,7,8,8,8,7,4,18,7,9,38,46,33,34,50,48,55,47,55,63,33,35,30,21,1,6,6,14,641,3,2,6,5,4,7,2,6,5,4,6,11,9,7,9,6,10,16,11,11,59,99,61,58,47,39,28,20,16,19,17,13,10,15,0,2,1,4,null,null,86,53,100,267,216,61,57,180,253,75,44,31,35,45,38,46,33,34,50,48,55,47,55,63,33,35,30,21,20,24,42,54,59,99,61,58,47,39,28,20,16,19,17,13,10,15]
["040501","AREQUIPA","AREQUIPA","CAYLLOMA","CHIVAY",6058,2739,19,32,33,59,59,70,32,46,42,46,43,56,51,44,56,63,58,52,51,45,260,236,215,195,146,147,118,135,106,69,56,47,26,26,0,15,4,23,{"v":3319,"d":"3,319"},29,43,38,45,70,69,38,32,36,54,52,54,43,49,48,50,42,56,54,45,282,333,295,302,246,239,181,140,104,87,57,39,37,30,2,15,14,34,null,null,537,324,592,956,304,560,288,714,{"v":1403,"d":"1,403"},324,202,236,250,269,260,236,215,195,146,147,118,135,106,69,56,47,26,26,225,229,246,247,282,333,295,302,246,239,181,140,104,87,57,39,37,30]
["040502","AREQUIPA","AREQUIPA","CAYLLOMA","ACHOMA",824,464,5,5,1,7,6,3,5,4,2,1,3,6,7,1,4,4,4,7,3,7,38,43,35,21,30,38,33,40,27,21,18,13,11,11,0,2,3,7,360,5,4,5,3,5,4,3,4,2,4,3,3,5,4,3,2,3,4,4,6,38,30,20,19,40,23,25,15,15,16,14,11,8,10,0,2,3,6,null,null,48,27,91,197,90,45,21,78,142,64,24,15,21,25,38,43,35,21,30,38,33,40,27,21,18,13,11,11,22,17,18,19,38,30,20,19,40,23,25,15,15,16,14,11,8,10]
["040503","AREQUIPA","AREQUIPA","CAYLLOMA","CABANACONDE",2065,1080,8,13,9,9,2,11,8,11,7,8,11,12,12,16,14,12,15,17,15,10,77,77,67,62,77,71,79,93,68,65,42,28,24,30,0,5,3,11,985,13,15,6,11,11,13,14,5,10,9,11,19,12,11,7,9,11,11,16,14,68,154,72,60,77,60,61,44,34,33,29,25,24,16,0,3,10,17,null,null,109,86,179,449,227,137,61,252,374,145,41,45,65,69,77,77,67,62,77,71,79,93,68,65,42,28,24,30,56,51,60,61,68,154,72,60,77,60,61,44,34,33,29,25,24,16]
["040504","AREQUIPA","AREQUIPA","CAYLLOMA","CALLALLI",1315,708,11,14,5,10,9,6,7,5,6,9,6,8,6,10,7,5,6,5,7,5,44,60,55,49,43,55,52,53,48,35,28,21,9,9,1,6,5,13,607,7,16,5,7,9,7,12,3,5,6,4,8,5,6,7,7,11,5,11,4,51,72,36,42,41,44,39,29,24,18,20,18,14,14,1,4,3,8,null,null,96,39,116,307,141,89,41,138,231,94,49,33,37,28,44,60,55,49,43,55,52,53,48,35,28,21,9,9,44,33,30,38,51,72,36,42,41,44,39,29,24,18,20,18,14,14]
["040505","AREQUIPA","AREQUIPA","CAYLLOMA","CAYLLOMA",3647,1754,29,36,34,20,28,35,13,29,26,28,30,29,32,24,33,33,33,40,30,22,158,151,124,135,108,96,92,96,71,54,38,21,14,12,3,15,14,38,{"v":1893,"d":"1,893"},36,20,20,17,29,27,17,16,13,21,19,23,19,28,29,33,35,37,30,35,197,156,152,196,148,133,110,72,62,54,39,27,19,24,5,17,19,47,null,null,337,195,361,651,198,258,181,418,811,201,147,131,148,158,158,151,124,135,108,96,92,96,71,54,38,21,14,12,122,94,118,170,197,156,152,196,148,133,110,72,62,54,39,27,19,24]
["040506","AREQUIPA","AREQUIPA","CAYLLOMA","COPORAQUE",1091,558,6,6,8,4,8,4,9,8,4,3,0,5,9,5,3,8,9,3,4,9,34,35,39,50,58,33,28,36,39,29,19,16,12,15,1,4,2,8,533,5,10,9,5,5,4,11,9,5,5,4,7,6,7,9,6,5,3,5,5,41,31,54,47,26,31,42,25,28,31,19,15,8,10,0,1,4,7,null,null,65,37,82,244,115,79,36,82,225,101,32,28,22,33,34,35,39,50,58,33,28,36,39,29,19,16,12,15,34,34,33,24,41,31,54,47,26,31,42,25,28,31,19,15,8,10]
["040507","AREQUIPA","AREQUIPA","CAYLLOMA","HUAMBO",643,358,4,2,5,4,6,3,4,4,1,3,5,4,4,2,4,2,7,7,5,2,19,26,25,18,21,23,26,23,21,20,11,20,12,15,1,3,1,5,285,3,4,3,3,5,2,3,2,2,4,1,3,2,1,1,5,4,3,3,6,34,39,39,23,11,18,12,9,9,9,5,7,6,4,0,1,2,3,null,null,45,26,52,136,84,35,16,82,112,36,21,15,19,23,19,26,25,18,21,23,26,23,21,20,11,20,12,15,18,13,8,21,34,39,39,23,11,18,12,9,9,9,5,7,6,4]
["040508","AREQUIPA","AREQUIPA","CAYLLOMA","HUANCA",966,580,7,6,1,6,9,5,1,2,2,2,4,3,6,5,5,3,6,8,4,5,29,35,32,38,52,51,51,42,46,33,31,18,18,14,0,5,2,9,386,6,2,2,6,10,7,1,1,4,6,4,4,2,3,5,5,3,3,6,5,20,36,33,28,38,25,22,17,18,16,15,12,9,12,0,5,1,8,null,null,48,33,73,266,146,53,21,67,163,70,29,12,23,26,29,35,32,38,52,51,51,42,46,33,31,18,18,14,26,19,18,22,20,36,33,28,38,25,22,17,18,16,15,12,9,12]
["040509","AREQUIPA","AREQUIPA","CAYLLOMA","ICHUPAMPA",577,334,5,6,3,5,3,6,1,1,2,4,5,4,5,3,3,3,6,4,2,4,16,24,31,21,22,21,21,24,19,19,19,8,9,5,0,3,2,5,243,3,8,0,3,1,3,6,0,2,1,2,4,4,4,1,2,5,5,3,6,12,13,26,4,21,19,19,16,15,10,9,6,4,6,1,2,1,3,null,null,45,24,46,140,74,33,21,34,105,44,22,14,20,19,16,24,31,21,22,21,21,24,19,19,19,8,9,5,15,12,15,21,12,13,26,4,21,19,19,16,15,10,9,6,4,6]
["040510","AREQUIPA","AREQUIPA","CAYLLOMA","LARI",818,419,8,8,5,5,3,7,3,3,3,6,5,4,4,8,5,5,6,5,7,9,30,38,38,24,29,29,24,20,24,21,9,9,9,6,1,1,7,8,399,5,7,6,3,5,8,5,4,2,3,4,3,5,1,3,7,7,4,8,7,39,41,30,39,31,28,22,17,11,12,11,8,7,6,0,4,1,5,null,null,60,33,84,164,72,55,27,95,167,49,29,22,26,32,30,38,38,24,29,29,24,20,24,21,9,9,9,6,26,22,16,33,39,41,30,39,31,28,22,17,11,12,11,8,7,6]
["040511","AREQUIPA","AREQUIPA","CAYLLOMA","LLUTA",706,428,4,4,5,2,6,10,1,1,4,2,2,5,3,7,5,3,4,7,3,4,18,18,28,31,35,37,32,36,25,25,22,15,14,10,0,3,1,6,278,4,3,2,3,3,6,1,1,1,1,3,1,3,4,1,3,4,5,5,2,46,17,30,39,5,16,12,10,10,9,9,7,6,6,2,2,2,5,null,null,46,29,43,199,101,29,20,70,112,41,21,18,22,21,18,18,28,31,35,37,32,36,25,25,22,15,14,10,15,10,12,19,46,17,30,39,5,16,12,10,10,9,9,7,6,6]
["040512","AREQUIPA","AREQUIPA","CAYLLOMA","MACA",662,373,2,0,4,0,1,2,2,3,3,2,2,4,2,3,5,5,5,5,1,9,27,28,23,30,30,30,32,23,19,18,15,19,5,14,1,2,0,3,289,6,4,2,3,5,0,3,2,2,4,0,3,4,3,2,3,1,3,2,2,26,23,29,24,19,20,17,12,18,15,12,7,7,6,1,2,4,7,null,null,25,25,65,168,76,34,16,53,121,59,7,12,16,25,27,28,23,30,30,30,32,23,19,18,15,19,5,14,20,11,12,11,26,23,29,24,19,20,17,12,18,15,12,7,7,6]
["040513","AREQUIPA","AREQUIPA","CAYLLOMA","MADRIGAL",655,365,2,0,4,2,5,3,2,3,3,1,4,0,4,3,3,1,6,3,4,3,23,21,25,30,23,30,25,21,26,23,20,18,13,11,0,1,1,3,290,2,2,2,1,1,3,2,2,1,1,3,3,0,3,4,2,2,4,5,4,30,21,38,19,27,21,17,11,13,11,11,7,6,11,0,1,1,2,null,null,29,20,51,154,100,23,15,60,133,48,13,12,14,17,23,21,25,30,23,30,25,21,26,23,20,18,13,11,8,9,13,17,30,21,38,19,27,21,17,11,13,11,11,7,6,11]
["040514","AREQUIPA","AREQUIPA","CAYLLOMA","SAN ANTONIO DE CHUCA",861,437,5,4,7,3,7,8,6,8,6,6,7,5,6,7,7,6,8,11,7,6,27,27,24,24,36,27,29,33,26,18,19,10,4,3,1,5,0,6,424,4,5,5,2,5,9,4,4,1,4,6,4,4,6,6,9,8,3,4,6,40,50,45,39,21,25,21,16,21,12,12,8,7,8,0,2,2,5,null,null,72,45,67,173,77,53,36,100,167,60,26,34,32,38,27,27,24,24,36,27,29,33,26,18,19,10,4,3,21,22,26,30,40,50,45,39,21,25,21,16,21,12,12,8,7,8]
["040515","AREQUIPA","AREQUIPA","CAYLLOMA","SIBAYO",684,349,1,7,3,3,2,4,2,4,2,4,2,6,3,5,5,7,5,7,5,5,28,25,28,25,25,32,22,17,20,13,14,5,8,5,1,1,0,1,335,4,4,5,3,5,4,3,4,2,4,3,2,5,4,5,4,3,4,5,1,35,40,20,20,23,27,23,17,14,14,11,5,6,6,1,4,0,4,null,null,40,32,63,149,60,43,25,81,130,50,16,16,21,29,28,25,28,25,25,32,22,17,20,13,14,5,8,5,21,17,19,17,35,40,20,20,23,27,23,17,14,14,11,5,6,6]
["040516","AREQUIPA","AREQUIPA","CAYLLOMA","TAPAY",843,506,8,2,6,1,2,6,5,7,4,4,1,3,4,4,8,5,5,4,4,5,32,39,32,44,46,36,36,34,34,34,22,14,10,5,1,3,5,11,337,3,6,3,2,1,8,6,3,2,1,6,4,1,5,3,2,4,5,3,8,26,43,29,28,27,15,18,17,18,12,10,5,5,8,0,2,1,4,null,null,49,30,80,228,114,45,20,80,134,50,19,26,20,23,32,39,32,44,46,36,36,34,34,34,22,14,10,5,15,20,19,22,26,43,29,28,27,15,18,17,18,12,10,5,5,8]
["040517","AREQUIPA","AREQUIPA","CAYLLOMA","TISCO",1495,806,6,9,7,12,11,11,7,8,7,7,5,12,17,7,17,10,16,17,14,10,64,52,56,51,62,58,56,57,38,32,22,31,8,9,0,2,4,7,689,9,5,12,5,10,8,4,10,4,7,6,9,7,7,7,7,7,9,12,11,86,44,71,72,42,56,40,23,22,21,16,15,12,13,0,6,3,10,null,null,102,84,140,340,131,89,44,153,304,86,45,40,58,67,64,52,56,51,62,58,56,57,38,32,22,31,8,9,41,33,36,46,86,44,71,72,42,56,40,23,22,21,16,15,12,13]
["040518","AREQUIPA","AREQUIPA","CAYLLOMA","TUTI",593,317,2,3,3,4,6,3,5,6,2,2,4,4,4,4,4,3,8,7,6,9,24,21,19,26,23,23,19,21,12,8,14,8,6,4,1,1,1,2,276,4,7,2,4,2,4,5,1,3,1,3,3,3,2,3,4,4,3,1,0,33,29,10,26,19,23,17,16,12,13,7,4,3,5,0,2,2,4,null,null,44,30,60,131,48,39,19,63,111,39,18,18,20,33,24,21,19,26,23,23,19,21,12,8,14,8,6,4,19,14,14,12,33,29,10,26,19,23,17,16,12,13,7,4,3,5]
["040519","AREQUIPA","AREQUIPA","CAYLLOMA","YANQUE",2155,1152,11,16,10,10,16,14,13,10,9,10,14,11,16,11,8,13,16,19,20,21,87,102,95,84,82,77,67,60,69,56,48,31,13,13,1,5,6,15,{"v":1003,"d":"1,003"},14,24,15,12,14,14,22,13,10,11,11,12,13,8,13,14,10,14,16,15,53,75,93,73,71,73,68,55,46,41,32,19,15,14,1,7,7,18,null,null,144,83,230,465,217,172,72,159,433,153,63,56,60,89,87,102,95,84,82,77,67,60,69,56,48,31,13,13,79,70,57,69,53,75,93,73,71,73,68,55,46,41,32,19,15,14]
["040520","AREQUIPA","AREQUIPA","CAYLLOMA","MAJES",73831,35000,611,651,670,655,636,611,550,580,490,517,502,535,528,541,539,487,558,555,542,529,{"v":2561,"d":"2,561"},{"v":2812,"d":"2,812"},{"v":2781,"d":"2,781"},{"v":2923,"d":"2,923"},{"v":2702,"d":"2,702"},{"v":2386,"d":"2,386"},{"v":2006,"d":"2,006"},{"v":1676,"d":"1,676"},{"v":1257,"d":"1,257"},996,755,480,235,143,41,299,312,744,{"v":38831,"d":"38,831"},604,673,669,649,633,606,747,690,645,607,565,537,569,512,540,539,542,523,558,618,{"v":2723,"d":"2,723"},{"v":3411,"d":"3,411"},{"v":2933,"d":"2,933"},{"v":2847,"d":"2,847"},{"v":2529,"d":"2,529"},{"v":2288,"d":"2,288"},{"v":2270,"d":"2,270"},{"v":2053,"d":"2,053"},{"v":1807,"d":"1,807"},{"v":1394,"d":"1,394"},{"v":1023,"d":"1,023"},670,431,426,39,296,308,736,null,null,{"v":7008,"d":"7,008"},{"v":3208,"d":"3,208"},{"v":6444,"d":"6,444"},{"v":14474,"d":"14,474"},{"v":3723,"d":"3,723"},{"v":7625,"d":"7,625"},{"v":3225,"d":"3,225"},{"v":7310,"d":"7,310"},{"v":14920,"d":"14,920"},{"v":5325,"d":"5,325"},{"v":3223,"d":"3,223"},{"v":2748,"d":"2,748"},{"v":2645,"d":"2,645"},{"v":2671,"d":"2,671"},{"v":2561,"d":"2,561"},{"v":2812,"d":"2,812"},{"v":2781,"d":"2,781"},{"v":2923,"d":"2,923"},{"v":2702,"d":"2,702"},{"v":2386,"d":"2,386"},{"v":2006,"d":"2,006"},{"v":1676,"d":"1,676"},{"v":1257,"d":"1,257"},996,755,480,235,143,{"v":3228,"d":"3,228"},{"v":3295,"d":"3,295"},{"v":2723,"d":"2,723"},{"v":2780,"d":"2,780"},{"v":2723,"d":"2,723"},{"v":3411,"d":"3,411"},{"v":2933,"d":"2,933"},{"v":2847,"d":"2,847"},{"v":2529,"d":"2,529"},{"v":2288,"d":"2,288"},{"v":2270,"d":"2,270"},{"v":2053,"d":"2,053"},{"v":1807,"d":"1,807"},{"v":1394,"d":"1,394"},{"v":1023,"d":"1,023"},670,431,426]
["040601","AREQUIPA","AREQUIPA","CONDESUYOS","CHUQUIBAMBA",3356,1613,17,23,22,37,35,21,23,24,26,23,21,25,30,22,29,41,29,25,35,25,114,110,97,86,102,91,77,78,64,79,72,43,36,31,1,5,12,23,{"v":1743,"d":"1,743"},20,20,20,22,21,37,20,18,20,18,31,18,21,23,31,31,29,30,26,38,154,170,195,110,113,123,96,66,49,52,40,31,24,26,3,10,10,28,null,null,297,176,284,531,294,265,165,388,703,196,134,117,127,155,114,110,97,86,102,91,77,78,64,79,72,43,36,31,103,113,124,154,154,170,195,110,113,123,96,66,49,52,40,31,24,26]
["040602","AREQUIPA","AREQUIPA","CONDESUYOS","ANDARAY",664,380,3,2,1,1,1,1,2,0,2,4,4,4,4,2,1,5,5,7,2,6,20,30,26,35,20,27,28,26,22,26,22,12,14,15,0,1,2,4,284,1,2,3,1,2,4,2,4,1,2,5,4,2,4,6,4,2,2,6,2,27,7,25,18,29,16,25,13,18,11,13,7,5,11,1,1,0,1,null,null,25,24,58,162,96,31,20,42,126,54,8,9,15,25,20,30,26,35,20,27,28,26,22,26,22,12,14,15,9,13,21,16,27,7,25,18,29,16,25,13,18,11,13,7,5,11]
["040603","AREQUIPA","AREQUIPA","CONDESUYOS","CAYARANI",3241,1471,28,25,15,15,15,18,23,19,24,19,24,21,24,28,26,35,38,26,29,27,136,130,123,93,82,94,67,97,58,44,32,11,10,15,0,13,15,35,{"v":1770,"d":"1,770"},22,11,27,33,21,27,11,26,29,18,23,18,22,21,25,22,28,18,32,27,215,167,184,155,166,124,78,53,49,38,29,19,16,16,2,10,12,28,null,null,246,177,322,556,155,266,136,441,760,151,98,103,123,155,136,130,123,93,82,94,67,97,58,44,32,11,10,15,114,111,109,127,215,167,184,155,166,124,78,53,49,38,29,19,16,16]
["040604","AREQUIPA","AREQUIPA","CONDESUYOS","CHICHAS",639,396,3,2,1,4,2,2,2,2,4,2,5,4,2,5,2,3,5,6,7,3,17,21,26,16,23,25,45,38,29,25,15,16,16,18,0,1,2,4,243,2,1,0,2,5,2,1,0,2,5,2,4,3,1,3,3,3,5,3,3,30,18,38,5,26,13,11,9,11,6,9,6,6,5,1,2,0,2,null,null,33,23,48,173,101,26,18,54,102,38,12,12,18,24,17,21,26,16,23,25,45,38,29,25,15,16,16,18,10,10,13,17,30,18,38,5,26,13,11,9,11,6,9,6,6,5]
["040605","AREQUIPA","AREQUIPA","CONDESUYOS","IRAY",558,333,4,5,5,2,6,2,2,4,2,2,3,4,5,6,2,2,5,4,5,2,19,25,16,19,18,14,29,21,23,26,15,12,10,14,1,3,1,4,225,5,1,1,0,1,3,1,1,0,1,2,3,2,3,3,3,4,3,3,2,14,25,40,12,8,15,11,12,7,9,10,7,6,7,0,1,4,6,null,null,41,24,51,117,86,19,18,44,98,39,22,12,20,18,19,25,16,19,18,14,29,21,23,26,15,12,10,14,8,6,13,15,14,25,40,12,8,15,11,12,7,9,10,7,6,7]
["040606","AREQUIPA","AREQUIPA","CONDESUYOS","RIO GRANDE",3318,1728,25,29,30,37,23,7,19,25,16,18,26,19,12,21,19,31,39,25,18,14,115,116,106,127,145,125,102,140,97,66,53,37,30,16,2,14,11,32,{"v":1590,"d":"1,590"},16,30,33,33,14,15,43,44,41,17,18,25,19,21,18,12,17,25,19,27,89,176,164,66,123,76,89,62,78,52,47,39,19,23,2,9,7,21,null,null,274,147,263,745,283,329,112,311,580,235,144,85,97,127,115,116,106,127,145,125,102,140,97,66,53,37,30,16,126,160,101,100,89,176,164,66,123,76,89,62,78,52,47,39,19,23]
["040607","AREQUIPA","AREQUIPA","CONDESUYOS","SALAMANCA",371,219,1,4,2,3,2,2,2,1,4,1,2,4,2,0,7,3,2,3,3,4,12,12,10,14,13,16,14,18,10,13,11,9,7,8,1,1,0,1,152,3,0,2,3,3,1,0,1,1,1,0,2,1,1,2,2,3,2,3,2,8,20,20,10,7,12,7,8,5,5,4,5,3,5,1,2,1,4,null,null,28,17,31,85,50,17,11,33,64,22,12,10,15,15,12,12,10,14,13,16,14,18,10,13,11,9,7,8,11,4,6,12,8,20,20,10,7,12,7,8,5,5,4,5,3,5]
["040608","AREQUIPA","AREQUIPA","CONDESUYOS","YANAQUIHUA",3730,1971,27,25,20,19,27,25,9,15,16,25,23,27,25,23,21,25,33,30,27,17,110,174,156,173,159,166,154,122,89,74,52,24,29,30,4,16,11,35,{"v":1759,"d":"1,759"},21,23,14,14,15,16,23,13,13,13,14,22,14,20,23,24,26,18,13,27,174,152,229,179,111,109,105,64,72,70,43,29,27,29,1,7,14,28,null,null,258,157,328,930,268,201,125,366,797,241,118,90,119,132,110,174,156,173,159,166,154,122,89,74,52,24,29,30,87,78,93,108,174,152,229,179,111,109,105,64,72,70,43,29,27,29]
["040701","AREQUIPA","AREQUIPA","ISLAY","MOLLENDO",26553,13553,162,171,192,199,178,222,180,182,165,186,180,175,170,179,179,186,178,172,192,181,878,975,918,924,967,953,904,850,690,580,490,340,264,191,14,73,89,196,{"v":13000,"d":"13,000"},145,139,186,150,185,189,149,184,143,170,169,159,191,180,179,167,172,187,185,224,{"v":1031,"d":"1,031"},{"v":1278,"d":"1,278"},{"v":1044,"d":"1,044"},957,945,887,716,580,512,487,397,284,196,233,7,84,61,176,null,null,{"v":2192,"d":"2,192"},{"v":1064,"d":"1,064"},{"v":2226,"d":"2,226"},{"v":5516,"d":"5,516"},{"v":2364,"d":"2,364"},{"v":1968,"d":"1,968"},{"v":1076,"d":"1,076"},{"v":2718,"d":"2,718"},{"v":5129,"d":"5,129"},{"v":1876,"d":"1,876"},902,935,883,909,878,975,918,924,967,953,904,850,690,580,490,340,264,191,805,835,878,935,{"v":1031,"d":"1,031"},{"v":1278,"d":"1,278"},{"v":1044,"d":"1,044"},957,945,887,716,580,512,487,397,284,196,233]
["040702","AREQUIPA","AREQUIPA","ISLAY","COCACHACRA",8357,4470,50,53,58,59,66,68,41,43,59,45,35,48,50,52,59,64,42,53,56,63,277,334,355,367,324,294,294,326,226,229,148,100,77,55,2,20,30,65,{"v":3887,"d":"3,887"},47,46,58,48,79,75,42,50,40,64,59,43,52,56,42,50,42,36,59,54,307,331,306,265,281,246,231,189,183,152,118,97,69,70,6,26,21,61,null,null,625,320,730,{"v":1960,"d":"1,960"},780,651,278,751,{"v":1518,"d":"1,518"},619,286,256,244,278,277,334,355,367,324,294,294,326,226,229,148,100,77,55,278,271,252,241,307,331,306,265,281,246,231,189,183,152,118,97,69,70]
["040703","AREQUIPA","AREQUIPA","ISLAY","DEAN VALDIVIA",7166,3578,51,44,44,59,57,51,48,40,42,45,51,44,50,44,42,51,60,50,44,47,257,282,291,292,247,246,203,209,163,151,102,71,47,53,3,24,27,62,{"v":3588,"d":"3,588"},50,55,43,46,46,45,58,43,44,43,41,50,50,38,47,38,40,56,41,53,323,339,226,285,263,248,233,206,134,143,87,71,49,54,6,26,24,60,null,null,576,297,630,{"v":1488,"d":"1,488"},534,564,269,756,{"v":1461,"d":"1,461"},484,255,226,231,252,257,282,291,292,247,246,203,209,163,151,102,71,47,53,240,233,226,228,323,339,226,285,263,248,233,206,134,143,87,71,49,54]
["040704","AREQUIPA","AREQUIPA","ISLAY","ISLAY",5279,2541,45,55,36,54,46,59,40,33,31,36,42,35,43,36,29,36,45,42,38,34,161,188,185,208,196,186,169,132,99,85,64,29,10,14,1,15,30,53,{"v":2738,"d":"2,738"},38,37,44,43,42,58,37,41,38,36,49,40,37,38,43,32,41,31,35,32,208,278,244,233,191,162,151,122,102,84,70,45,30,26,2,13,25,45,null,null,512,231,421,{"v":1076,"d":"1,076"},287,503,222,553,{"v":1103,"d":"1,103"},331,236,199,185,195,161,188,185,208,196,186,169,132,99,85,64,29,10,14,204,210,207,171,208,278,244,233,191,162,151,122,102,84,70,45,30,26]
["040705","AREQUIPA","AREQUIPA","ISLAY","MEJIA",1219,757,10,7,5,10,6,12,8,6,5,10,7,9,7,8,8,6,10,5,7,10,40,47,50,51,60,49,60,58,59,36,42,26,9,14,2,6,4,10,462,7,9,5,7,7,4,9,5,6,6,4,5,5,5,5,9,5,4,7,7,5,11,29,37,36,43,34,28,32,27,16,14,13,16,0,6,1,7,null,null,95,44,104,328,172,74,33,30,207,102,38,41,39,38,40,47,50,51,60,49,60,58,59,36,42,26,9,14,35,30,24,32,5,11,29,37,36,43,34,28,32,27,16,14,13,16]
["040706","AREQUIPA","AREQUIPA","ISLAY","PUNTA DE BOMBON",6503,3406,38,43,33,54,51,52,36,37,33,38,38,50,44,36,38,45,46,55,44,44,228,261,233,262,243,225,212,212,191,176,126,85,40,57,2,23,15,42,{"v":3097,"d":"3,097"},36,58,48,37,46,55,56,43,31,38,44,37,32,41,29,37,55,38,42,38,320,252,231,233,206,193,176,148,140,106,80,68,46,57,4,13,23,40,null,null,503,264,577,{"v":1387,"d":"1,387"},618,529,232,652,{"v":1187,"d":"1,187"},440,219,196,206,234,228,261,233,262,243,225,212,212,191,176,126,85,40,57,225,223,183,210,320,252,231,233,206,193,176,148,140,106,80,68,46,57]
["040801","AREQUIPA","AREQUIPA","LA UNION","COTAHUASI",2935,1337,30,22,29,30,24,23,14,14,17,19,21,27,24,21,26,22,22,25,28,25,100,83,72,81,67,72,72,77,61,52,42,36,26,33,1,9,21,40,{"v":1598,"d":"1,598"},24,27,24,20,25,18,28,22,19,22,16,22,21,21,17,28,20,25,25,21,135,227,129,169,127,93,61,37,41,45,31,22,16,20,1,8,16,32,null,null,270,140,236,441,217,267,132,408,616,155,135,87,119,122,100,83,72,81,67,72,72,77,61,52,42,36,26,33,120,109,97,119,135,227,129,169,127,93,61,37,41,45,31,22,16,20]
["040802","AREQUIPA","AREQUIPA","LA UNION","ALCA",1846,826,10,18,12,11,10,14,15,12,17,12,9,9,13,9,15,15,12,17,16,16,69,52,52,45,47,44,45,52,50,27,29,22,12,18,0,3,7,13,{"v":1020,"d":"1,020"},22,10,15,7,13,18,8,12,5,9,13,9,16,15,17,16,16,10,12,18,102,119,114,115,73,66,42,28,23,17,20,17,12,11,1,10,12,29,null,null,149,81,153,285,140,141,90,251,438,89,61,70,55,76,69,52,52,45,47,44,45,52,50,27,29,22,12,18,67,52,70,72,102,119,114,115,73,66,42,28,23,17,20,17,12,11]
["040803","AREQUIPA","AREQUIPA","LA UNION","CHARCANA",562,275,6,7,5,3,7,1,3,8,4,7,3,3,4,3,2,5,6,6,2,2,20,24,17,16,16,18,13,15,4,14,8,12,6,5,1,5,1,8,287,3,3,0,2,3,6,2,0,2,2,5,7,2,2,4,5,8,8,6,8,27,24,38,40,8,15,11,9,9,7,7,5,4,5,0,2,1,4,null,null,57,26,48,95,44,35,29,65,121,32,28,23,15,21,20,24,17,16,16,18,13,15,4,14,8,12,6,5,11,12,20,35,27,24,38,40,8,15,11,9,9,7,7,5,4,5]
["040804","AREQUIPA","AREQUIPA","LA UNION","HUAYNACOTAS",1793,853,26,18,9,6,7,14,17,10,13,16,16,14,14,17,16,19,15,21,13,14,72,68,44,46,59,39,52,46,34,32,25,17,11,13,1,12,14,38,940,18,18,12,18,14,14,13,8,12,9,9,15,15,15,11,11,17,13,13,15,85,111,85,90,67,71,38,25,20,19,24,14,12,9,2,7,11,26,null,null,166,102,167,286,119,160,82,224,376,89,66,70,77,82,72,68,44,46,59,39,52,46,34,32,25,17,11,13,80,56,65,69,85,111,85,90,67,71,38,25,20,19,24,14,12,9]
["040805","AREQUIPA","AREQUIPA","LA UNION","PAMPAMARCA",1093,528,11,11,5,11,10,8,4,4,5,7,7,6,10,5,6,11,9,15,15,7,48,30,39,31,39,30,27,25,22,22,18,16,7,7,1,4,7,14,565,6,12,11,10,10,7,7,6,6,5,3,5,8,6,13,7,10,13,9,15,62,51,58,62,37,35,15,17,15,14,11,7,6,6,0,3,3,8,null,null,89,56,100,191,85,88,57,137,224,53,48,28,34,57,48,30,39,31,39,30,27,25,22,22,18,16,7,7,49,31,35,54,62,51,58,62,37,35,15,17,15,14,11,7,6,6]
["040806","AREQUIPA","AREQUIPA","LA UNION","PUYCA",2327,1051,22,14,19,21,14,23,14,25,21,19,27,22,18,28,26,29,25,24,19,19,88,65,61,50,60,56,59,50,36,34,30,18,11,4,3,9,13,32,{"v":1276,"d":"1,276"},30,20,27,18,18,22,14,17,11,11,12,18,16,18,25,19,24,24,24,21,164,143,135,115,75,72,37,37,26,24,16,16,12,15,1,12,18,43,null,null,241,150,191,336,129,218,126,352,471,94,90,102,121,116,88,65,61,50,60,56,59,50,36,34,30,18,11,4,113,75,89,112,164,143,135,115,75,72,37,37,26,24,16,16,12,15]
["040807","AREQUIPA","AREQUIPA","LA UNION","QUECHUALLA",295,182,0,1,1,3,3,3,1,1,2,1,0,0,0,1,0,1,1,2,1,2,5,7,17,15,13,14,11,14,21,14,11,8,4,4,0,0,0,0,113,2,0,3,3,2,2,0,2,2,2,2,1,1,0,0,1,0,2,2,0,5,9,4,11,8,2,11,11,7,4,4,3,4,3,0,2,0,4,null,null,16,5,15,84,58,21,4,16,47,22,8,8,1,7,5,7,17,15,13,14,11,14,21,14,11,8,4,4,10,8,4,5,5,9,4,11,8,2,11,11,7,4,4,3,4,3]
["040808","AREQUIPA","AREQUIPA","LA UNION","SAYLA",286,165,4,1,0,1,2,3,1,1,2,2,2,2,2,1,0,1,1,5,3,4,16,12,10,10,12,10,9,9,7,9,5,5,6,7,0,3,1,5,121,0,1,0,3,2,3,1,0,2,1,2,1,2,1,1,1,1,3,2,2,10,27,16,9,9,3,4,3,3,2,2,1,2,1,0,0,0,0,null,null,21,10,35,60,32,16,9,41,44,10,8,9,7,14,16,12,10,10,12,10,9,9,7,9,5,5,6,7,6,7,7,9,10,27,16,9,9,3,4,3,3,2,2,1,2,1]
["040809","AREQUIPA","AREQUIPA","LA UNION","TAURIA",334,167,1,5,5,2,5,3,3,0,4,0,2,1,0,2,0,3,5,2,2,3,13,13,12,15,12,6,5,10,8,6,8,3,5,3,0,1,0,1,167,1,4,5,3,9,1,3,4,3,8,1,0,3,3,3,3,3,5,1,3,14,0,31,4,21,4,3,7,5,4,2,1,2,3,0,1,0,1,null,null,31,12,31,60,30,42,20,18,70,14,18,10,5,15,13,13,12,15,12,6,5,10,8,6,8,3,5,3,22,19,10,15,14,0,31,4,21,4,3,7,5,4,2,1,2,3]
["040810","AREQUIPA","AREQUIPA","LA UNION","TOMEPAMPA",637,324,1,3,4,2,2,1,4,2,7,3,4,4,3,5,7,6,9,5,4,3,25,15,22,16,20,23,27,22,24,15,13,11,3,9,0,0,1,1,313,5,4,3,2,3,3,3,3,2,3,3,5,3,3,4,4,5,5,7,5,9,35,46,27,26,20,18,14,9,10,8,9,3,4,0,3,2,6,null,null,37,35,47,130,66,39,24,56,151,39,12,17,23,27,25,15,22,16,20,23,27,22,24,15,13,11,3,9,17,14,18,26,9,35,46,27,26,20,18,14,9,10,8,9,3,4]
["040811","AREQUIPA","AREQUIPA","LA UNION","TORO",477,278,2,3,1,2,1,2,3,2,3,3,1,3,4,2,3,3,2,5,3,4,12,25,15,13,14,19,24,32,17,12,9,8,12,14,0,1,1,4,199,2,3,0,1,4,1,3,0,1,3,1,2,1,2,3,5,3,1,3,3,9,29,23,13,17,15,8,5,8,6,9,7,3,5,0,1,1,4,null,null,26,19,44,117,58,21,15,44,81,33,9,13,13,17,12,25,15,13,14,19,24,32,17,12,9,8,12,14,10,8,9,15,9,29,23,13,17,15,8,5,8,6,9,7,3,5]
[]
["NOTA: LA POBLACION ESTIMADA DE EDADES  SIMPLES Y GRUPOS DE EDAD DE DISTRITOS, CORRESPONDEN A CIFRAS REFERENCIALES HASTA OBTENER LAS CIFRAS DE LAS PROYECCIONES DEL INEI"]
["FUENTE: CENSO NACIONAL XI DE POBLACION Y VI DE VIVIENDA 2017/- BOLETIN DEMOGRAFICO Nº 26,37, 39 /  Padrón Nominal/ CNV"]
["La población de 0-5 años corresponden a la poblacion del Padrón Nominal /corte al mes de diciembre 2021"]
["OFICINA DE GESTION DE LA INFORMACION - MINISTERIO DE SALUD"]

{"sheet":"RED AREQUIPA CAYLLOMA","index":4,"n_rows":215,"n_cols":53,"rows_kept":215,"merged":[[5,43,5,45],[5,46,6,46],[5,47,6,47],[5,48,5,50],[5,51,6,51]]}
[]
[]
[]
[]
["* Actualizado con datos INEI"]
["POBLACION 2022",{"$nulls":8},"POBLACION TOTAL, POR EDADS SIMPLES",{"$nulls":19},"POBLACIÓN TOTAL,  POR GRUPOS QUINQUEN ALES DE EDAD",{"$nulls":13},"EDADES ESPECIALES",null,null,"NACIMIENTOS VIVOS","POBLACION FEMENINA TOTAL","POBLACION FEMENINA",null,null,"GESTANTES  ESPERADAS"]
["UBIGEO","DIRESA","DEPARTAMENTO","PROVINCIA","DISTRITO",{"$nulls":3},"Total","0",1,2,3,4,5,6,7,8,9,10,11,12,13,14,15,16,17,18,19,"20-24","25-29","30-34","35-39","40-44","45-49","50-54","55-59","60-64","65-69","70-74","75-79","80-84","85-+","28 DIAS","0-5 MESES","6-11 MESES",null,null,"10 - 14","15- 19","20- 49"]
["000000","PERU","PERU","PERU","PERU","IPRESS","NOMBRE ESTABLECIMIENTO","FACTOR",{"v":1539996,"d":"1,539,996"},{"v":17846,"d":"17,846"},{"v":20821,"d":"20,821"},{"v":22275,"d":"22,275"},{"v":23017,"d":"23,017"},{"v":23851,"d":"23,851"},{"v":24530,"d":"24,530"},{"v":22959,"d":"22,959"},{"v":22777,"d":"22,777"},{"v":22680,"d":"22,680"},{"v":22583,"d":"22,583"},{"v":22506,"d":"22,506"},{"v":22411,"d":"22,411"},{"v":22389,"d":"22,389"},{"v":22305,"d":"22,305"},{"v":22196,"d":"22,196"},{"v":22141,"d":"22,141"},{"v":22076,"d":"22,076"},{"v":22159,"d":"22,159"},{"v":22565,"d":"22,565"},{"v":22970,"d":"22,970"},{"v":121549,"d":"121,549"},{"v":129092,"d":"129,092"},{"v":120709,"d":"120,709"},{"v":115493,"d":"115,493"},{"v":110822,"d":"110,822"},{"v":99738,"d":"99,738"},{"v":90936,"d":"90,936"},{"v":80028,"d":"80,028"},{"v":65235,"d":"65,235"},{"v":53278,"d":"53,278"},{"v":41077,"d":"41,077"},{"v":28000,"d":"28,000"},{"v":18440,"d":"18,440"},{"v":18542,"d":"18,542"},{"v":1344,"d":"1,344"},{"v":9422,"d":"9,422"},{"v":8424,"d":"8,424"},{"v":20954,"d":"20,954"},{"v":786580,"d":"786,580"},{"v":56300,"d":"56,300"},{"v":57506,"d":"57,506"},{"v":355237,"d":"355,237"},{"v":26411,"d":"26,411"}]
["040101","AREQUIPA","AREQUIPA","AREQUIPA","AREQUIPA",{"$nulls":3},{"v":55462,"d":"55,462"},519,645,745,824,866,948,568,596,615,594,624,627,645,654,633,631,629,634,644,722,{"v":3813,"d":"3,813"},{"v":3918,"d":"3,918"},{"v":3824,"d":"3,824"},{"v":3543,"d":"3,543"},{"v":3496,"d":"3,496"},{"v":3683,"d":"3,683"},{"v":3641,"d":"3,641"},{"v":3538,"d":"3,538"},{"v":3172,"d":"3,172"},{"v":2754,"d":"2,754"},{"v":2323,"d":"2,323"},{"v":1730,"d":"1,730"},{"v":1271,"d":"1,271"},{"v":1393,"d":"1,393"},58,317,202,614,{"v":25175,"d":"25,175"},{"v":1539,"d":"1,539"},{"v":1659,"d":"1,659"},{"v":10515,"d":"10,515"},751]
[{"$nulls":5},7397,"INSTITUTO REGIONAL DE ENFERMEDADES NEOPLASICAS",0,null,0,0,0,0,0,0,0,0,0,0,0,0,0,0,0,0,0,0,0,0,0,0,0,0,0,0,0,0,0,0,0,0,0,0,0,0,0,0,0,0,0,0,0]
[{"$nulls":5},1232,"HOSPITAL GOYENECHE",0,null,0,0,0,0,0,0,0,0,0,0,0,0,0,0,0,0,0,0,0,0,0,0,0,0,0,0,0,0,0,0,0,0,0,0,0,0,0,0,0,0,0,0,0]
[{"$nulls":5},1231,"HOSPITAL REGIONAL HONORIO DELGADO ESPINOZA",0,null,0,0,0,0,0,0,0,0,0,0,0,0,0,0,0,0,0,0,0,0,0,0,0,0,0,0,0,0,0,0,0,0,0,0,0,0,0,0,0,0,0,0,0]
[]
[{"$nulls":6},"RED AREQUIP CAYLLOMA",null,{"$f":"+I16+I27+I36+I43+I50+I55+I60+I64+I70+I76+I82+I91+I102+I110+I114+I119+I126+I132+I138+I145+I151+I162+I171+I177+I183+I192+I199+I206","v":{"v":1436483,"d":"1,436,483"}},{"$f":"+J16+J27+J36+J43+J50+J55+J60+J64+J70+J76+J82+J91+J102+J110+J114+J119+J126+J132+J138+J145+J151+J162+J171+J177+J183+J192+J199+J206","v":{"v":16499,"d":"16,499"}},{"v":19224,"d":"19,224"},{"v":20883,"d":"20,883"},{"v":21262,"d":"21,262"},{"v":22053,"d":"22,053"},{"v":22726,"d":"22,726"},{"v":22298,"d":"22,298"},{"v":22183,"d":"22,183"},{"v":21907,"d":"21,907"},{"v":21739,"d":"21,739"},{"v":21654,"d":"21,654"},{"v":21683,"d":"21,683"},{"v":21661,"d":"21,661"},{"v":21529,"d":"21,529"},{"v":21291,"d":"21,291"},{"v":21075,"d":"21,075"},{"v":20821,"d":"20,821"},{"v":20978,"d":"20,978"},{"v":21426,"d":"21,426"},{"v":21772,"d":"21,772"},{"v":115647,"d":"115,647"},{"v":121230,"d":"121,230"},{"v":113911,"d":"113,911"},{"v":109242,"d":"109,242"},{"v":105196,"d":"105,196"},{"v":93128,"d":"93,128"},{"v":84098,"d":"84,098"},{"v":72760,"d":"72,760"},{"v":58347,"d":"58,347"},{"v":47329,"d":"47,329"},{"v":36165,"d":"36,165"},{"v":24024,"d":"24,024"},{"v":15518,"d":"15,518"},{"v":15224,"d":"15,224"},{"v":1219,"d":"1,219"},{"v":8785,"d":"8,785"},{"v":7711,"d":"7,711"},{"v":19211,"d":"19,211"},{"v":742939,"d":"742,939"},{"v":54954,"d":"54,954"},{"v":54799,"d":"54,799"},{"v":334894,"d":"334,894"},{"v":24180,"d":"24,180"}]
[]
["040501","AREQUIPA","AREQUIPA","CAYLLOMA","CHIVAY",null,"MR CHIVAY",null,{"$f":"SUM(J16:AQ16)","v":{"v":11847,"d":"11,847"}},{"$f":"SUM(J17:J25)","v":115},{"$f":"SUM(K17:K25)","v":157},133,157,193,201,141,133,119,146,143,168,165,148,160,176,173,176,172,180,972,{"v":1013,"d":"1,013"},{"v":1000,"d":"1,000"},910,831,790,677,597,526,434,332,250,177,182,8,61,54,139,{"v":5975,"d":"5,975"},384,409,{"v":2934,"d":"2,934"},182]
[{"$nulls":5},1419,"CENTRO DE SALUD CHIVAY",90,null,43,67,64,94,116,125,63,70,70,90,85,99,85,84,94,102,90,97,94,81,488,512,459,447,353,347,269,247,189,140,102,77,57,50,2,27,16,51,{"v":2987,"d":"2,987"},221,222,{"v":1527,"d":"1,527"},65]
[{"$nulls":5},1423,"PUESTO DE SALUD CANOCOTA",10,null,5,8,7,10,13,14,7,8,8,10,10,11,9,9,10,11,10,11,11,9,54,57,51,50,39,39,30,28,21,16,11,9,6,6,0,3,2,6,332,25,25,170,7]
["040502","AREQUIPA","AREQUIPA","CAYLLOMA","ACHOMA",1429,"PUESTO DE SALUD ACHOMA",100,null,10,9,6,10,11,7,8,8,4,5,6,9,12,5,7,6,7,11,7,13,76,73,55,40,70,61,58,55,42,37,32,24,19,21,0,4,6,13,360,18,19,170,18]
["040506","AREQUIPA","AREQUIPA","CAYLLOMA","COPORAQUE",1424,"PUESTO DE SALUD COPORAQUE",100,null,11,16,17,9,13,8,20,17,9,8,4,12,15,12,12,14,14,6,9,14,75,66,93,97,84,64,70,61,67,60,38,31,20,25,1,5,6,15,533,33,24,230,20]
["040509","AREQUIPA","AREQUIPA","CAYLLOMA","ICHUPAMPA",1425,"PUESTO DE SALUD ICHUPAMPA",100,null,8,14,3,8,4,9,7,1,4,5,7,8,9,7,4,5,11,9,5,10,28,37,57,25,43,40,40,40,34,29,28,14,13,11,1,5,3,8,243,15,21,95,12]
["040510","AREQUIPA","AREQUIPA","CAYLLOMA","LARI",1426,"PUESTO DE SALUD LARI",100,null,13,15,11,8,8,15,8,7,5,9,9,7,9,9,8,12,13,9,15,16,69,79,68,63,60,57,46,37,35,33,20,17,16,12,1,5,8,13,399,16,33,208,17]
["040512","AREQUIPA","AREQUIPA","CAYLLOMA","MACA",1430,"PUESTO DE SALUD MACA",100,null,8,4,6,3,6,2,5,5,5,6,2,7,6,6,7,8,6,8,3,11,53,51,52,54,49,50,49,35,37,33,27,26,12,20,2,4,4,10,289,12,11,141,13]
["040513","AREQUIPA","AREQUIPA","CAYLLOMA","MADRIGAL",1427,"PUESTO DE SALUD MADRIGAL",100,null,4,2,6,3,6,6,4,5,4,2,7,3,4,6,7,3,8,7,9,7,53,42,63,49,50,51,42,32,39,34,31,25,19,22,0,2,2,5,290,13,17,156,7]
["040519","AREQUIPA","AREQUIPA","CAYLLOMA","YANQUE",1428,"PUESTO DE SALUD YANQUE",54,null,13,22,13,12,16,15,19,12,10,11,13,12,16,10,11,15,14,18,19,19,76,96,102,85,83,81,73,62,62,52,43,27,15,15,1,6,7,18,542,31,37,237,23]
[]
[{"$nulls":6},"MR CALLALLI",null,{"$f":"SUM(J27:AQ27)","v":{"v":5080,"d":"5,080"}},{"$f":"SUM(J28:J34)","v":56},{"$f":"SUM(K28:K34)","v":83},54,58,68,60,61,52,40,50,45,63,63,54,65,59,72,72,78,62,429,424,381,383,348,387,330,286,243,199,169,130,79,77,6,32,24,64,{"v":2368,"d":"2,368"},125,145,{"v":1163,"d":"1,163"},85]
["040504","AREQUIPA","AREQUIPA","CAYLLOMA","CALLALLI",1421,"CENTRO DE SALUD CALLALLI",100,null,18,30,10,17,18,13,19,8,11,15,10,16,11,16,14,12,17,10,18,9,95,132,91,91,84,99,91,82,72,53,48,39,23,23,2,10,8,21,607,30,38,286,28]
["040515","AREQUIPA","AREQUIPA","CAYLLOMA","SIBAYO",1435,"PUESTO DE SALUD SANTA ROSA DE SIBAYO",100,null,5,11,8,6,7,8,5,8,4,8,5,8,8,9,10,11,8,11,10,6,63,65,48,45,48,59,45,34,34,27,25,10,14,11,2,5,0,5,335,19,17,165,7]
["040517","AREQUIPA","AREQUIPA","CAYLLOMA","TISCO",1438,"PUESTO DE SALUD TISCO",39,null,5,6,7,7,8,7,4,7,4,6,4,8,9,6,9,7,8,10,10,8,58,37,50,47,41,45,37,31,24,20,15,18,8,9,0,3,2,7,269,14,18,145,8]
[{"$nulls":5},1431,"PUESTO DE SALUD COTACOTA",37,null,6,5,7,6,8,7,4,7,4,5,4,8,9,5,9,6,9,10,10,8,56,36,47,46,38,42,36,30,22,20,14,17,7,8,0,3,3,6,255,13,17,137,9]
[{"$nulls":5},6891,"PUESTO DE SALUD TARUCAMARCA",24,null,4,3,5,4,5,5,3,4,3,3,3,5,6,3,6,4,6,6,6,5,36,23,30,30,25,27,23,19,14,13,9,11,5,5,0,2,2,4,165,9,11,89,6]
["040518","AREQUIPA","AREQUIPA","CAYLLOMA","TUTI",1436,"PUESTO DE SALUD TUTI",100,null,6,10,5,8,8,7,10,7,5,3,7,7,7,6,7,7,12,10,7,9,57,50,29,52,42,46,36,37,24,21,21,12,9,9,1,3,3,6,276,14,12,140,8]
["040519","AREQUIPA","AREQUIPA","CAYLLOMA","YANQUE",1437,"PUESTO DE SALUD CHALHUANCA",46,null,12,18,12,10,14,13,16,11,9,10,12,11,13,9,10,12,12,15,17,17,64,81,86,72,70,69,62,53,53,45,37,23,13,12,1,6,6,15,461,26,32,201,19]
[]
[{"$nulls":6},"MR CABANACONDE",null,{"$f":"SUM(J36:AQ36)","v":{"v":4182,"d":"4,182"}},{"$f":"SUM(J37:J41)","v":42},{"$f":"SUM(K37:K41)","v":49},38,34,30,48,45,38,29,32,38,51,42,44,40,40,55,53,56,58,301,430,306,292,306,276,272,253,220,205,143,118,100,98,2,17,25,55,{"v":1836,"d":"1,836"},98,125,936,73]
["040503","AREQUIPA","AREQUIPA","CAYLLOMA","CABANACONDE",1420,"CABANACONDE",90,null,19,25,13,18,12,22,20,14,15,15,20,28,22,24,19,19,23,25,28,22,130,208,125,110,139,118,126,123,92,88,64,48,43,41,0,7,12,25,886,54,55,442,32]
[{"$nulls":5},1432,"PUESTO DE SALUD PINCHOLLO",10,null,2,3,2,2,1,2,2,2,2,2,2,3,2,3,2,2,3,3,3,2,15,23,14,12,15,13,14,14,10,10,7,5,5,5,0,1,1,3,99,6,6,49,4]
["040507","AREQUIPA","AREQUIPA","CAYLLOMA","HUAMBO",1433,"PUESTO DE SALUD HUAMBO",100,null,7,6,8,7,11,5,7,6,3,7,6,7,6,3,5,7,11,10,8,8,53,65,64,41,32,41,38,32,30,29,16,27,18,19,1,4,3,8,285,8,21,164,11]
["040406","AREQUIPA","AREQUIPA","CASTILLA","CHOCO",1441,"PUESTO DE SALUD CHOCO",100,null,3,7,6,4,3,5,5,6,3,3,3,6,7,5,3,5,9,6,10,13,45,52,42,57,47,53,40,33,36,32,24,19,19,20,0,0,3,4,229,11,21,113,6]
["040516","AREQUIPA","AREQUIPA","CAYLLOMA","TAPAY",1434,"PUESTO DE SALUD TAPAY",100,null,11,8,9,3,3,14,11,10,6,5,7,7,5,9,11,7,9,9,7,13,58,82,61,72,73,51,54,51,52,46,32,19,15,13,1,5,6,15,337,19,22,168,20]
[]
[{"$nulls":6},"MR CAYLLOMA",null,{"$f":"SUM(J43:AQ43)","v":{"v":7893,"d":"7,893"}},{"$f":"SUM(J44:J48)","v":133},{"$f":"SUM(K44:K48)","v":113},114,99,110,130,79,98,105,97,112,103,114,117,127,145,149,137,134,127,814,675,677,650,568,505,399,367,275,213,161,95,70,81,13,64,69,166,{"v":4142,"d":"4,142"},259,337,{"v":2227,"d":"2,227"},209]
["040505","AREQUIPA","AREQUIPA","CAYLLOMA","CAYLLOMA",1422,"CENTRO DE SALUD CAYLLOMA",77,null,50,43,42,28,44,48,23,35,30,38,38,40,39,40,48,51,52,59,46,44,273,236,213,255,197,176,156,129,102,83,59,37,25,28,6,25,25,65,{"v":1458,"d":"1,458"},91,131,756,82]
[{"$nulls":5},1418,"PUESTO DE SALUD JACHAÑA",23,null,15,13,12,9,13,14,7,10,9,11,11,12,12,12,14,15,16,18,14,13,82,71,63,76,59,53,46,39,31,25,18,11,8,8,2,7,8,20,435,27,39,226,25]
["040404","AREQUIPA","AREQUIPA","CASTILLA","CHACHAS",1442,"PUESTO DE SALUD TOLCONI",63,null,18,21,18,14,17,23,15,8,13,11,16,12,17,16,14,22,15,16,13,16,108,71,94,71,64,58,52,49,35,23,23,17,11,14,3,9,9,18,479,32,40,234,23]
["040603","AREQUIPA","AREQUIPA","CONDESUYOS","CAYARANI",1440,"CENTRO DE SALUD CAYARANI",80,null,40,29,34,38,29,36,27,36,42,30,38,31,37,39,41,46,53,35,49,43,281,238,246,198,198,174,116,120,86,66,49,24,21,25,2,18,22,50,{"v":1416,"d":"1,416"},87,102,809,63]
[{"$nulls":5},7407,"PUESTO DE SALUD ARCATA",20,null,10,7,8,10,7,9,7,9,11,7,9,8,9,10,10,11,13,9,12,11,70,59,61,50,50,44,29,30,21,16,12,6,5,6,0,5,5,13,354,22,25,202,16]
[]
["040103","AREQUIPA","AREQUIPA","AREQUIPA","CAYMA",null,"MR FRANCISCO BOLOGNESI",null,{"$f":"SUM(J50:AQ50)","v":{"v":54976,"d":"54,976"}},{"$f":"SUM(J51:J53)","v":615},{"$f":"SUM(K51:K53)","v":711},815,825,903,960,825,803,830,849,862,849,875,827,810,829,754,817,837,813,{"v":4472,"d":"4,472"},{"v":4669,"d":"4,669"},{"v":4431,"d":"4,431"},{"v":4116,"d":"4,116"},{"v":3776,"d":"3,776"},{"v":3481,"d":"3,481"},{"v":3169,"d":"3,169"},{"v":2868,"d":"2,868"},{"v":2348,"d":"2,348"},{"v":1808,"d":"1,808"},{"v":1345,"d":"1,345"},915,568,601,41,315,300,677,{"v":28216,"d":"28,216"},{"v":2162,"d":"2,162"},{"v":2099,"d":"2,099"},{"v":12344,"d":"12,344"},851]
[{"$nulls":5},1234,"CENTRO DE SALUD FRANCISCO BOLOGNESI",33,null,397,459,527,534,584,621,534,520,537,550,558,549,566,535,524,536,488,529,542,527,{"v":2893,"d":"2,893"},{"v":3021,"d":"3,021"},{"v":2867,"d":"2,867"},{"v":2663,"d":"2,663"},{"v":2444,"d":"2,444"},{"v":2253,"d":"2,253"},{"v":2051,"d":"2,051"},{"v":1855,"d":"1,855"},{"v":1519,"d":"1,519"},{"v":1169,"d":"1,169"},870,591,367,389,27,204,194,438,{"v":18257,"d":"18,257"},{"v":1399,"d":"1,399"},{"v":1358,"d":"1,358"},{"v":7988,"d":"7,988"},550]
[{"$nulls":5},1244,"PUESTO DE SALUD LA TOMILLA",10,null,121,140,160,162,177,188,162,157,163,166,169,167,172,162,159,163,148,160,164,159,877,916,869,807,740,682,621,563,461,355,264,180,112,118,8,62,59,133,{"v":5533,"d":"5,533"},424,412,{"v":2420,"d":"2,420"},167]
[{"$nulls":5},6890,"PUESTO DE SALUD RAFAEL BELAUNDE",8,null,97,112,128,129,142,151,129,126,130,133,135,133,137,130,127,130,118,128,131,127,702,732,695,646,592,546,497,450,368,284,211,144,89,94,6,49,47,106,{"v":4426,"d":"4,426"},339,329,{"v":1936,"d":"1,936"},134]
[]
["040103","AREQUIPA","AREQUIPA","AREQUIPA","CAYMA",null,"MR BUENOS AIRES DE CAYMA",null,{"$f":"SUM(J55:AQ55)","v":{"v":52830,"d":"52,830"}},{"$f":"SUM(J56:J58)","v":592},{"$f":"SUM(K56:K58)","v":685},784,793,867,922,793,771,798,815,829,817,842,795,779,797,724,785,804,780,{"v":4297,"d":"4,297"},{"v":4487,"d":"4,487"},{"v":4256,"d":"4,256"},{"v":3955,"d":"3,955"},{"v":3627,"d":"3,627"},{"v":3343,"d":"3,343"},{"v":3045,"d":"3,045"},{"v":2757,"d":"2,757"},{"v":2257,"d":"2,257"},{"v":1737,"d":"1,737"},{"v":1292,"d":"1,292"},881,547,577,40,303,289,651,{"v":27110,"d":"27,110"},{"v":2078,"d":"2,078"},{"v":2018,"d":"2,018"},{"v":11859,"d":"11,859"},818]
[{"$nulls":5},1235,"BUENOS AIRES DE CAYMA",27,null,326,377,432,437,478,508,437,425,440,449,457,450,464,438,429,439,399,433,443,430,{"v":2368,"d":"2,368"},{"v":2472,"d":"2,472"},{"v":2345,"d":"2,345"},{"v":2179,"d":"2,179"},{"v":1999,"d":"1,999"},{"v":1842,"d":"1,842"},{"v":1678,"d":"1,678"},{"v":1519,"d":"1,519"},{"v":1243,"d":"1,243"},957,712,485,301,318,22,167,159,359,{"v":14938,"d":"14,938"},{"v":1145,"d":"1,145"},{"v":1112,"d":"1,112"},{"v":6535,"d":"6,535"},451]
[{"$nulls":5},1245,"SAN JOSE",10,null,121,140,160,162,177,188,162,157,163,166,169,167,172,162,159,163,148,160,164,159,877,916,869,807,740,682,621,563,461,355,264,180,112,118,8,62,59,133,{"v":5533,"d":"5,533"},424,412,{"v":2420,"d":"2,420"},167]
[{"$nulls":5},1246,"DEAN VALDIVIA",12,null,145,168,192,194,212,226,194,189,195,200,203,200,206,195,191,195,177,192,197,191,{"v":1052,"d":"1,052"},{"v":1099,"d":"1,099"},{"v":1042,"d":"1,042"},969,888,819,746,675,553,425,316,216,134,141,10,74,71,159,{"v":6639,"d":"6,639"},509,494,{"v":2904,"d":"2,904"},200]
[]
["040104","AREQUIPA","AREQUIPA","AREQUIPA","CERRO COLORADO",null,"MR CERRO COLORADO",null,{"$f":"SUM(J60:AQ60)","v":{"v":236098,"d":"236,098"}},{"v":2660,"d":"2,660"},{"v":3109,"d":"3,109"},{"v":3405,"d":"3,405"},{"v":3318,"d":"3,318"},{"v":3445,"d":"3,445"},{"v":3514,"d":"3,514"},{"v":4056,"d":"4,056"},{"v":4029,"d":"4,029"},{"v":3921,"d":"3,921"},{"v":3902,"d":"3,902"},{"v":3811,"d":"3,811"},{"v":3974,"d":"3,974"},{"v":3907,"d":"3,907"},{"v":3897,"d":"3,897"},{"v":3734,"d":"3,734"},{"v":3744,"d":"3,744"},{"v":3593,"d":"3,593"},{"v":3631,"d":"3,631"},{"v":3609,"d":"3,609"},{"v":3709,"d":"3,709"},{"v":19810,"d":"19,810"},{"v":19784,"d":"19,784"},{"v":19031,"d":"19,031"},{"v":18273,"d":"18,273"},{"v":17575,"d":"17,575"},{"v":15086,"d":"15,086"},{"v":13565,"d":"13,565"},{"v":11426,"d":"11,426"},{"v":8823,"d":"8,823"},{"v":7128,"d":"7,128"},{"v":5375,"d":"5,375"},{"v":3243,"d":"3,243"},{"v":2082,"d":"2,082"},{"v":1929,"d":"1,929"},199,{"v":1417,"d":"1,417"},{"v":1243,"d":"1,243"},{"v":3163,"d":"3,163"},{"v":125453,"d":"125,453"},{"v":10105,"d":"10,105"},{"v":9523,"d":"9,523"},{"v":56941,"d":"56,941"},{"v":3972,"d":"3,972"}]
[{"$nulls":5},1236,"CERRO COLORADO",9,null,239,280,306,299,310,316,365,363,353,351,343,358,352,351,336,337,323,327,325,334,{"v":1783,"d":"1,783"},{"v":1781,"d":"1,781"},{"v":1713,"d":"1,713"},{"v":1645,"d":"1,645"},{"v":1582,"d":"1,582"},{"v":1358,"d":"1,358"},{"v":1221,"d":"1,221"},{"v":1028,"d":"1,028"},794,642,484,292,187,174,18,128,112,285,{"v":11291,"d":"11,291"},909,857,{"v":5125,"d":"5,125"},357]
[{"$nulls":5},1248,"ALTO LIBERTAD",9,null,239,280,306,299,310,316,365,363,353,351,343,358,352,351,336,337,323,327,325,334,{"v":1783,"d":"1,783"},{"v":1781,"d":"1,781"},{"v":1713,"d":"1,713"},{"v":1645,"d":"1,645"},{"v":1582,"d":"1,582"},{"v":1358,"d":"1,358"},{"v":1221,"d":"1,221"},{"v":1028,"d":"1,028"},794,642,484,292,187,174,18,128,112,285,{"v":11291,"d":"11,291"},909,857,{"v":5125,"d":"5,125"},357]
[]
["040104","AREQUIPA","AREQUIPA","AREQUIPA","CERRO COLORADO",null,"MR MARISCAL CASTILLA",null,{"$f":"SUM(J64:AQ64)","v":{"v":54304,"d":"54,304"}},{"$f":"SUM(J65:J68)","v":612},{"$f":"SUM(K65:K68)","v":715},783,764,792,807,934,927,902,897,876,914,899,897,858,860,826,835,830,853,{"v":4556,"d":"4,556"},{"v":4551,"d":"4,551"},{"v":4377,"d":"4,377"},{"v":4203,"d":"4,203"},{"v":4043,"d":"4,043"},{"v":3471,"d":"3,471"},{"v":3121,"d":"3,121"},{"v":2628,"d":"2,628"},{"v":2029,"d":"2,029"},{"v":1640,"d":"1,640"},{"v":1237,"d":"1,237"},745,478,444,46,327,285,728,{"v":28855,"d":"28,855"},{"v":2324,"d":"2,324"},{"v":2190,"d":"2,190"},{"v":13096,"d":"13,096"},913]
[{"$nulls":5},1238,"CENTRO DE SALUD MARISCAL CASTILLA",10,null,266,311,341,332,345,351,406,403,392,390,381,397,391,390,373,374,359,363,361,371,{"v":1981,"d":"1,981"},{"v":1978,"d":"1,978"},{"v":1903,"d":"1,903"},{"v":1827,"d":"1,827"},{"v":1758,"d":"1,758"},{"v":1509,"d":"1,509"},{"v":1357,"d":"1,357"},{"v":1143,"d":"1,143"},882,713,538,324,208,193,20,142,124,316,{"v":12545,"d":"12,545"},{"v":1011,"d":"1,011"},952,{"v":5694,"d":"5,694"},397]
[{"$nulls":5},1249,"CENTRO DE SALUD SEMI RURAL PACHACUTEC",9,null,239,280,306,299,310,316,365,363,353,351,343,358,352,351,336,337,323,327,325,334,{"v":1783,"d":"1,783"},{"v":1781,"d":"1,781"},{"v":1713,"d":"1,713"},{"v":1645,"d":"1,645"},{"v":1582,"d":"1,582"},{"v":1358,"d":"1,358"},{"v":1221,"d":"1,221"},{"v":1028,"d":"1,028"},794,642,484,292,187,174,18,128,112,285,{"v":11291,"d":"11,291"},909,857,{"v":5125,"d":"5,125"},357]
[{"$nulls":5},1250,"PUESTO DE SALUD JOSE SANTOS ATAHUALPA",3,null,80,93,102,100,103,105,122,121,118,117,114,119,117,117,112,112,108,109,108,111,594,594,571,548,527,453,407,343,265,214,161,97,62,58,6,43,37,95,{"v":3764,"d":"3,764"},303,286,{"v":1708,"d":"1,708"},119]
[{"$nulls":5},1252,"PUESTO DE SALUD EL CURAL",1,null,27,31,34,33,34,35,41,40,39,39,38,40,39,39,37,37,36,36,36,37,198,198,190,183,176,151,136,114,88,71,54,32,21,19,2,14,12,32,{"v":1255,"d":"1,255"},101,95,569,40]
[]
["040104","AREQUIPA","AREQUIPA","AREQUIPA","CERRO COLORADO",null,"MR MARITZA CAMPOS DIAS_ZAMACOLA",null,{"$f":"SUM(J70:AQ70)","v":{"v":139290,"d":"139,290"}},{"$f":"SUM(J71:J74)","v":{"v":1570,"d":"1,570"}},{"$f":"SUM(K71:K74)","v":{"v":1834,"d":"1,834"}},{"v":2010,"d":"2,010"},{"v":1956,"d":"1,956"},{"v":2033,"d":"2,033"},{"v":2075,"d":"2,075"},{"v":2392,"d":"2,392"},{"v":2376,"d":"2,376"},{"v":2313,"d":"2,313"},{"v":2303,"d":"2,303"},{"v":2249,"d":"2,249"},{"v":2344,"d":"2,344"},{"v":2304,"d":"2,304"},{"v":2298,"d":"2,298"},{"v":2204,"d":"2,204"},{"v":2210,"d":"2,210"},{"v":2121,"d":"2,121"},{"v":2142,"d":"2,142"},{"v":2129,"d":"2,129"},{"v":2188,"d":"2,188"},{"v":11688,"d":"11,688"},{"v":11671,"d":"11,671"},{"v":11228,"d":"11,228"},{"v":10780,"d":"10,780"},{"v":10368,"d":"10,368"},{"v":8899,"d":"8,899"},{"v":8002,"d":"8,002"},{"v":6742,"d":"6,742"},{"v":5206,"d":"5,206"},{"v":4204,"d":"4,204"},{"v":3170,"d":"3,170"},{"v":1914,"d":"1,914"},{"v":1230,"d":"1,230"},{"v":1137,"d":"1,137"},117,834,734,{"v":1865,"d":"1,865"},{"v":74016,"d":"74,016"},{"v":5963,"d":"5,963"},{"v":5619,"d":"5,619"},{"v":33595,"d":"33,595"},{"v":2345,"d":"2,345"}]
[{"$nulls":5},1237,"MARITZA CAMPOS DIAZ - ZAMACOLA",17,null,452,529,579,564,586,597,690,685,667,663,648,676,664,662,635,636,611,617,614,631,{"v":3368,"d":"3,368"},{"v":3363,"d":"3,363"},{"v":3235,"d":"3,235"},{"v":3106,"d":"3,106"},{"v":2988,"d":"2,988"},{"v":2565,"d":"2,565"},{"v":2306,"d":"2,306"},{"v":1942,"d":"1,942"},{"v":1500,"d":"1,500"},{"v":1212,"d":"1,212"},914,551,354,328,34,241,211,538,{"v":21327,"d":"21,327"},{"v":1718,"d":"1,718"},{"v":1619,"d":"1,619"},{"v":9680,"d":"9,680"},675]
[{"$nulls":5},1251,"PUESTO DE SALUD NAZARENO",18,null,479,559,614,596,620,635,729,724,705,704,686,714,702,700,673,675,648,654,649,667,{"v":3565,"d":"3,565"},{"v":3560,"d":"3,560"},{"v":3426,"d":"3,426"},{"v":3288,"d":"3,288"},{"v":3162,"d":"3,162"},{"v":2713,"d":"2,713"},{"v":2441,"d":"2,441"},{"v":2058,"d":"2,058"},{"v":1588,"d":"1,588"},{"v":1282,"d":"1,282"},966,585,376,346,35,253,225,568,{"v":22581,"d":"22,581"},{"v":1820,"d":"1,820"},{"v":1714,"d":"1,714"},{"v":10249,"d":"10,249"},716]
[{"$nulls":5},1247,"PUESTO DE SALUD CIUDAD MUNICIPAL",16,null,426,497,545,531,551,562,649,645,627,624,610,636,625,624,597,599,575,581,577,593,{"v":3170,"d":"3,170"},{"v":3165,"d":"3,165"},{"v":3045,"d":"3,045"},{"v":2924,"d":"2,924"},{"v":2812,"d":"2,812"},{"v":2414,"d":"2,414"},{"v":2170,"d":"2,170"},{"v":1828,"d":"1,828"},{"v":1412,"d":"1,412"},{"v":1140,"d":"1,140"},860,519,333,309,32,227,199,506,{"v":20072,"d":"20,072"},{"v":1617,"d":"1,617"},{"v":1524,"d":"1,524"},{"v":9111,"d":"9,111"},636]
[{"$nulls":5},11023,"PUESTO DE SALUD PERUARBO",8,null,213,249,272,265,276,281,324,322,314,312,305,318,313,312,299,300,287,290,289,297,{"v":1585,"d":"1,585"},{"v":1583,"d":"1,583"},{"v":1522,"d":"1,522"},{"v":1462,"d":"1,462"},{"v":1406,"d":"1,406"},{"v":1207,"d":"1,207"},{"v":1085,"d":"1,085"},914,706,570,430,259,167,154,16,113,99,253,{"v":10036,"d":"10,036"},808,762,{"v":4555,"d":"4,555"},318]
[]
["040126","AREQUIPA","AREQUIPA","AREQUIPA","YANAHUARA",null,"MR YANAHUARA",null,{"$f":"SUM(J76:AQ76)","v":{"v":32558,"d":"32,558"}},{"$f":"SUM(J77:J80)","v":417},{"$f":"SUM(K77:K80)","v":498},506,560,534,587,471,442,450,420,466,456,470,448,487,420,445,474,480,469,{"v":2645,"d":"2,645"},{"v":2604,"d":"2,604"},{"v":2373,"d":"2,373"},{"v":2372,"d":"2,372"},{"v":2363,"d":"2,363"},{"v":2109,"d":"2,109"},{"v":1821,"d":"1,821"},{"v":1683,"d":"1,683"},{"v":1363,"d":"1,363"},{"v":1223,"d":"1,223"},952,657,431,462,29,222,195,460,{"v":16673,"d":"16,673"},{"v":1177,"d":"1,177"},{"v":1198,"d":"1,198"},{"v":7594,"d":"7,594"},580]
[{"$nulls":5},1233,"CENTRO DE SALUD YANAHUARA",7.79,null,23,31,33,28,24,28,29,25,27,24,24,29,26,28,28,27,27,25,28,30,133,151,142,150,140,139,136,127,109,100,85,62,42,50,1,11,13,23,{"v":1027,"d":"1,027"},67,71,427,29]
[{"$nulls":5},1241,"PUESTO DE SALUD SUMBAY - CHASQUIPAMPA",4,null,12,16,17,15,12,14,15,13,14,12,13,15,14,14,15,14,14,13,14,15,68,77,73,77,72,71,70,65,56,51,44,32,22,26,1,5,6,12,527,34,36,219,15]
["040117","AREQUIPA","AREQUIPA","AREQUIPA","SACHACA",1282,"PUESTO DE SALUD SACHACA",65,null,248,293,296,336,324,354,278,263,266,250,279,268,279,264,289,246,263,283,285,276,{"v":1589,"d":"1,589"},{"v":1544,"d":"1,544"},{"v":1403,"d":"1,403"},{"v":1394,"d":"1,394"},{"v":1398,"d":"1,398"},{"v":1234,"d":"1,234"},{"v":1050,"d":"1,050"},969,779,697,535,366,239,251,18,134,114,276,{"v":9827,"d":"9,827"},699,709,{"v":4516,"d":"4,516"},348]
[{"$nulls":5},1283,"PUESTO DE SALUD PAMPA DE CAMARONES",35,null,134,158,160,181,174,191,149,141,143,134,150,144,151,142,155,133,141,153,153,148,855,832,755,751,753,665,565,522,419,375,288,197,128,135,9,72,62,149,{"v":5292,"d":"5,292"},377,382,{"v":2432,"d":"2,432"},188]
[]
[{"$nulls":6},"MR CIUDAD DE DIOS",null,{"$f":"SUM(J82:AQ82)","v":{"v":46701,"d":"46,701"}},{"$f":"SUM(J83:J89)","v":617},{"$f":"SUM(K83:K89)","v":781},878,940,994,955,981,954,967,900,917,685,724,692,651,684,631,658,705,673,{"v":3543,"d":"3,543"},{"v":3720,"d":"3,720"},{"v":3685,"d":"3,685"},{"v":3738,"d":"3,738"},{"v":3158,"d":"3,158"},{"v":2747,"d":"2,747"},{"v":2544,"d":"2,544"},{"v":2259,"d":"2,259"},{"v":1748,"d":"1,748"},{"v":1327,"d":"1,327"},945,576,377,347,37,312,304,700,{"v":25160,"d":"25,160"},{"v":1966,"d":"1,966"},{"v":1738,"d":"1,738"},{"v":10614,"d":"10,614"},881]
["040128","AREQUIPA","AREQUIPA","AREQUIPA","YURA",1253,"CENTRO DE SALUD CIUDAD DE DIOS",85,null,500,644,728,781,813,776,822,796,807,748,758,564,596,563,530,558,509,530,575,549,{"v":2868,"d":"2,868"},{"v":3012,"d":"3,012"},{"v":2978,"d":"2,978"},{"v":3018,"d":"3,018"},{"v":2531,"d":"2,531"},{"v":2189,"d":"2,189"},{"v":2026,"d":"2,026"},{"v":1796,"d":"1,796"},{"v":1367,"d":"1,367"},{"v":1037,"d":"1,037"},716,433,274,252,29,247,252,564,{"v":20501,"d":"20,501"},{"v":1625,"d":"1,625"},{"v":1419,"d":"1,419"},{"v":8574,"d":"8,574"},706]
[{"$nulls":5},1254,"PUESTO DE SALUD YURA",15,null,88,114,129,138,143,137,145,141,143,132,134,100,105,99,93,98,90,93,102,97,506,531,525,533,447,386,358,317,241,183,126,77,48,45,5,44,45,99,{"v":3618,"d":"3,618"},287,251,{"v":1513,"d":"1,513"},125]
["040508","AREQUIPA","AREQUIPA","CAYLLOMA","HUANCA",1239,"PUESTO DE SALUD HUANCA",100,null,13,8,3,12,19,12,2,3,6,8,8,7,8,8,10,8,9,11,10,10,49,71,65,66,90,76,73,59,64,49,46,30,27,26,0,10,3,17,386,18,22,180,23]
["040511","AREQUIPA","AREQUIPA","CAYLLOMA","LLUTA",1255,"PUESTO DE SALUD LLUTA",60,null,5,4,4,3,5,9,2,2,3,1,3,4,4,6,4,4,5,7,5,4,38,21,35,42,24,32,27,27,21,20,19,13,12,9,2,3,1,6,167,7,12,92,9]
[{"$nulls":5},1256,"PUESTO DE SALUD TAYA",23,null,2,2,2,1,2,4,0,0,1,1,1,1,1,3,1,1,2,3,2,1,15,8,13,16,9,12,10,11,8,8,7,5,5,4,0,1,1,3,64,3,4,35,3]
["040514","AREQUIPA","AREQUIPA","CAYLLOMA","SAN ANTONIO DE CHUCA",1242,"PUESTO DE SALUD IMATA",60,null,5,5,7,3,7,10,6,7,4,6,8,5,6,8,8,9,10,8,7,7,40,46,41,38,34,31,30,29,28,18,19,11,7,7,1,4,1,7,254,16,18,132,9]
[{"$nulls":5},1243,"PUESTO DE SALUD PILLONES",40,null,4,4,5,2,5,7,4,5,3,4,5,4,4,5,5,6,6,6,4,5,27,31,28,25,23,21,20,20,19,12,12,7,4,4,0,3,1,4,170,10,12,88,6]
[]
[{"$nulls":6},"MR SANDRITA PEREZ-PEDREGAL",null,{"$f":"SUM(J91:AQ91)","v":{"v":75143,"d":"75,143"}},{"$f":"SUM(J92:J100)","v":{"v":1233,"d":"1,233"}},{"$f":"SUM(K92:K100)","v":{"v":1346,"d":"1,346"}},{"v":1351,"d":"1,351"},{"v":1328,"d":"1,328"},{"v":1296,"d":"1,296"},{"v":1238,"d":"1,238"},{"v":1311,"d":"1,311"},{"v":1278,"d":"1,278"},{"v":1148,"d":"1,148"},{"v":1139,"d":"1,139"},{"v":1081,"d":"1,081"},{"v":1084,"d":"1,084"},{"v":1115,"d":"1,115"},{"v":1063,"d":"1,063"},{"v":1092,"d":"1,092"},{"v":1045,"d":"1,045"},{"v":1121,"d":"1,121"},{"v":1100,"d":"1,100"},{"v":1123,"d":"1,123"},{"v":1159,"d":"1,159"},{"v":5375,"d":"5,375"},{"v":6339,"d":"6,339"},{"v":5817,"d":"5,817"},{"v":5845,"d":"5,845"},{"v":5309,"d":"5,309"},{"v":4759,"d":"4,759"},{"v":4369,"d":"4,369"},{"v":3815,"d":"3,815"},{"v":3128,"d":"3,128"},{"v":2448,"d":"2,448"},{"v":1818,"d":"1,818"},{"v":1180,"d":"1,180"},693,597,82,604,630,{"v":1504,"d":"1,504"},{"v":39394,"d":"39,394"},{"v":2754,"d":"2,754"},{"v":2827,"d":"2,827"},{"v":16980,"d":"16,980"},{"v":1892,"d":"1,892"}]
["040520","AREQUIPA","AREQUIPA","CAYLLOMA","MAJES",1325,"CENTRO DE SALUD  SANDRITA PEREZ EL PEDREGAL",46,null,559,609,616,600,584,560,596,584,523,517,491,493,504,484,496,471,506,496,506,528,{"v":2431,"d":"2,431"},{"v":2863,"d":"2,863"},{"v":2628,"d":"2,628"},{"v":2654,"d":"2,654"},{"v":2406,"d":"2,406"},{"v":2151,"d":"2,151"},{"v":1967,"d":"1,967"},{"v":1715,"d":"1,715"},{"v":1410,"d":"1,410"},{"v":1100,"d":"1,100"},818,528,306,262,36,273,286,680,{"v":17862,"d":"17,862"},{"v":1253,"d":"1,253"},{"v":1278,"d":"1,278"},{"v":7696,"d":"7,696"},855]
[{"$nulls":5},1326,"CENTRO DE SALUD LA COLINA",41,null,498,543,549,535,520,499,532,521,465,461,437,440,450,432,442,421,451,442,451,470,{"v":2166,"d":"2,166"},{"v":2551,"d":"2,551"},{"v":2343,"d":"2,343"},{"v":2366,"d":"2,366"},{"v":2145,"d":"2,145"},{"v":1916,"d":"1,916"},{"v":1753,"d":"1,753"},{"v":1529,"d":"1,529"},{"v":1256,"d":"1,256"},980,729,472,273,233,33,244,254,607,{"v":15921,"d":"15,921"},{"v":1116,"d":"1,116"},{"v":1140,"d":"1,140"},{"v":6860,"d":"6,860"},762]
[{"$nulls":5},1341,"ASENTAMIENTO B-1",7,null,85,93,94,91,89,85,91,89,79,79,75,75,77,74,76,72,77,75,77,80,370,436,400,404,366,327,299,261,214,167,124,81,47,40,6,42,43,104,{"v":2718,"d":"2,718"},191,195,{"v":1171,"d":"1,171"},130]
[{"$nulls":5},1342,"PUESTO DE SALUD  B-2",6,null,73,79,80,78,76,73,78,76,68,67,64,64,66,63,65,62,66,65,66,69,317,373,343,346,314,280,257,224,184,143,107,69,40,34,5,36,37,89,{"v":2330,"d":"2,330"},163,167,{"v":1004,"d":"1,004"},112]
["040118","AREQUIPA","AREQUIPA","AREQUIPA","SAN JUAN DE SIGUAS",1339,"PUESTO DE SALUD SAN JUAN DE SIGUAS - TAMBILLO",100,null,12,9,6,16,17,10,5,4,6,7,7,4,7,3,5,9,10,8,7,4,28,59,33,39,36,33,38,39,27,24,13,15,8,10,2,6,6,15,238,10,20,99,20]
["040120","AREQUIPA","AREQUIPA","AREQUIPA","SANTA ISABEL DE SIGUAS",1336,"SANTA ISABEL DE SIGUAS",74,null,3,8,3,5,6,6,7,2,4,5,4,5,8,3,5,7,8,8,11,5,38,37,44,18,25,31,36,29,23,20,16,9,12,11,0,2,3,5,206,15,18,92,8]
[{"$nulls":5},1378,"PUESTO DE SALUD SONDOR",13,null,1,2,1,1,1,1,1,1,1,1,1,1,1,1,1,1,1,2,2,1,7,7,8,3,5,6,6,5,4,4,3,1,2,2,0,0,0,1,36,2,3,16,1]
[{"$nulls":5},1337,"PUESTO DE SALUD PITAY",13,null,1,2,1,1,1,1,1,1,1,1,1,1,1,1,1,1,1,2,2,1,7,7,8,3,5,6,6,5,4,4,3,1,2,2,0,0,0,1,36,2,3,16,1]
["040511","AREQUIPA","AREQUIPA","CAYLLOMA","LLUTA",1340,"PUESTO DE SALUD QUERQUE",17,null,1,1,1,1,2,3,0,0,1,1,1,1,1,2,1,1,1,2,1,1,11,6,10,12,7,9,7,8,6,6,5,4,3,3,0,1,1,2,47,2,3,26,3]
[]
["040102","AREQUIPA","AREQUIPA","AREQUIPA","ALTO SELVA ALEGRE",null,"MR ALTO SELVA ALEGRE",null,{"$f":"SUM(J102:AQ102)","v":{"v":91507,"d":"91,507"}},{"$f":"SUM(J103:J108)","v":{"v":1083,"d":"1,083"}},{"$f":"SUM(K103:K108)","v":{"v":1304,"d":"1,304"}},{"v":1350,"d":"1,350"},{"v":1429,"d":"1,429"},{"v":1454,"d":"1,454"},{"v":1558,"d":"1,558"},{"v":1311,"d":"1,311"},{"v":1415,"d":"1,415"},{"v":1356,"d":"1,356"},{"v":1361,"d":"1,361"},{"v":1378,"d":"1,378"},{"v":1364,"d":"1,364"},{"v":1278,"d":"1,278"},{"v":1328,"d":"1,328"},{"v":1327,"d":"1,327"},{"v":1255,"d":"1,255"},{"v":1318,"d":"1,318"},{"v":1271,"d":"1,271"},{"v":1323,"d":"1,323"},{"v":1374,"d":"1,374"},{"v":7078,"d":"7,078"},{"v":7710,"d":"7,710"},{"v":7389,"d":"7,389"},{"v":6537,"d":"6,537"},{"v":6602,"d":"6,602"},{"v":5886,"d":"5,886"},{"v":5566,"d":"5,566"},{"v":4945,"d":"4,945"},{"v":3958,"d":"3,958"},{"v":3027,"d":"3,027"},{"v":2233,"d":"2,233"},{"v":1549,"d":"1,549"},{"v":1043,"d":"1,043"},{"v":1147,"d":"1,147"},75,603,480,{"v":1110,"d":"1,110"},{"v":46858,"d":"46,858"},{"v":3313,"d":"3,313"},{"v":3398,"d":"3,398"},{"v":20399,"d":"20,399"},{"v":1395,"d":"1,395"},0]
[{"$nulls":5},1291,"CENTRO DE SALUD ALTO SELVA ALEGRE",32,null,347,419,430,458,465,499,420,453,434,436,441,436,409,425,425,401,422,406,422,440,{"v":2265,"d":"2,265"},{"v":2467,"d":"2,467"},{"v":2364,"d":"2,364"},{"v":2092,"d":"2,092"},{"v":2113,"d":"2,113"},{"v":1884,"d":"1,884"},{"v":1781,"d":"1,781"},{"v":1583,"d":"1,583"},{"v":1267,"d":"1,267"},969,714,497,334,367,24,194,153,355,{"v":14995,"d":"14,995"},{"v":1060,"d":"1,060"},{"v":1087,"d":"1,087"},{"v":6527,"d":"6,527"},446]
[{"$nulls":5},1300,"APURIMAC",11,null,119,143,149,157,160,171,144,156,149,150,152,150,141,146,146,138,145,140,146,151,779,848,813,719,726,647,612,544,435,333,246,170,115,126,8,66,53,122,{"v":5154,"d":"5,154"},364,374,{"v":2244,"d":"2,244"},153]
[{"$nulls":5},1302,"INDEPENDENCIA",29,null,314,378,392,414,422,452,380,410,393,395,400,396,371,385,385,364,382,369,384,398,{"v":2053,"d":"2,053"},{"v":2236,"d":"2,236"},{"v":2143,"d":"2,143"},{"v":1896,"d":"1,896"},{"v":1915,"d":"1,915"},{"v":1707,"d":"1,707"},{"v":1614,"d":"1,614"},{"v":1434,"d":"1,434"},{"v":1148,"d":"1,148"},878,648,449,302,333,22,175,139,322,{"v":13589,"d":"13,589"},961,985,{"v":5916,"d":"5,916"},405]
[{"$nulls":5},1301,"LEONES DEL MISTI",9,null,97,117,122,129,131,140,118,127,122,122,124,123,115,120,119,113,119,114,119,124,637,694,665,588,594,530,501,445,356,272,201,139,94,103,7,54,43,100,{"v":4217,"d":"4,217"},298,306,{"v":1836,"d":"1,836"},126]
[{"$nulls":5},1303,"SAN JUAN BAUTISTA",7,null,76,91,95,100,102,109,92,99,95,95,96,95,89,93,93,88,92,89,93,96,495,540,517,458,462,412,390,346,277,212,156,108,73,80,5,42,34,78,{"v":3280,"d":"3,280"},232,238,{"v":1428,"d":"1,428"},98]
[{"$nulls":5},1304,"HEROES DEL CENEPA",12,null,130,156,162,171,174,187,157,170,163,163,165,164,153,159,159,151,158,153,159,165,849,925,887,784,792,706,668,593,475,363,268,186,125,138,9,72,58,133,{"v":5623,"d":"5,623"},398,408,{"v":2448,"d":"2,448"},167]
[]
["040109","AREQUIPA","AREQUIPA","AREQUIPA","MARIANO MELGAR",null,"MR MARIANO MELGAR",null,{"$f":"SUM(J110:AQ110)","v":{"v":43414,"d":"43,414"}},{"$f":"SUM(J111:J112)","v":480},{"$f":"SUM(K111:K112)","v":541},586,609,709,753,618,571,595,624,626,603,585,615,651,603,604,589,632,676,{"v":3511,"d":"3,511"},{"v":3672,"d":"3,672"},{"v":3424,"d":"3,424"},{"v":3131,"d":"3,131"},{"v":3072,"d":"3,072"},{"v":2828,"d":"2,828"},{"v":2638,"d":"2,638"},{"v":2343,"d":"2,343"},{"v":1874,"d":"1,874"},{"v":1524,"d":"1,524"},{"v":1204,"d":"1,204"},813,547,563,32,266,213,573,{"v":22082,"d":"22,082"},{"v":1554,"d":"1,554"},{"v":1606,"d":"1,606"},{"v":9972,"d":"9,972"},721]
[{"$nulls":5},1294,"CENTRO DE SALUD MARIANO MELGAR",58,null,428,483,523,543,633,672,551,510,531,557,559,538,522,549,581,538,539,526,564,603,{"v":3133,"d":"3,133"},{"v":3276,"d":"3,276"},{"v":3055,"d":"3,055"},{"v":2794,"d":"2,794"},{"v":2741,"d":"2,741"},{"v":2523,"d":"2,523"},{"v":2354,"d":"2,354"},{"v":2091,"d":"2,091"},{"v":1672,"d":"1,672"},{"v":1360,"d":"1,360"},{"v":1074,"d":"1,074"},725,488,502,28,237,190,511,{"v":19704,"d":"19,704"},{"v":1387,"d":"1,387"},{"v":1433,"d":"1,433"},{"v":8898,"d":"8,898"},643]
[{"$nulls":5},1308,"PUESTO DE SALUD ATALAYA",7,null,52,58,63,66,76,81,67,61,64,67,67,65,63,66,70,65,65,63,68,73,378,396,369,337,331,305,284,252,202,164,130,88,59,61,4,29,23,62,{"v":2378,"d":"2,378"},167,173,{"v":1074,"d":"1,074"},78]
[]
["040109","AREQUIPA","AREQUIPA","AREQUIPA","MARIANO MELGAR",null,"MR GENERALISIMO SAN MARTIN",null,{"$f":"SUM(J114:AQ114)","v":{"v":23381,"d":"23,381"}},{"$f":"SUM(J115:J117)","v":258},{"$f":"SUM(K115:K117)","v":292},{"$f":"SUM(L115:L117)","v":316},{"$f":"SUM(M115:M117)","v":328},{"$f":"SUM(N115:N117)","v":383},{"$f":"SUM(O115:O117)","v":405},{"$f":"SUM(P115:P117)","v":334},{"$f":"SUM(Q115:Q117)","v":307},{"$f":"SUM(R115:R117)","v":320},{"$f":"SUM(S115:S117)","v":337},{"$f":"SUM(T115:T117)","v":337},{"$f":"SUM(U115:U117)","v":325},{"$f":"SUM(V115:V117)","v":315},{"$f":"SUM(W115:W117)","v":331},{"$f":"SUM(X115:X117)","v":350},{"$f":"SUM(Y115:Y117)","v":326},{"$f":"SUM(Z115:Z117)","v":326},{"$f":"SUM(AA115:AA117)","v":317},{"$f":"SUM(AB115:AB117)","v":339},{"$f":"SUM(AC115:AC117)","v":363},{"$f":"SUM(AD115:AD117)","v":{"v":1890,"d":"1,890"}},{"$f":"SUM(AE115:AE117)","v":{"v":1978,"d":"1,978"}},{"$f":"SUM(AF115:AF117)","v":{"v":1844,"d":"1,844"}},{"$f":"SUM(AG115:AG117)","v":{"v":1687,"d":"1,687"}},{"$f":"SUM(AH115:AH117)","v":{"v":1655,"d":"1,655"}},{"$f":"SUM(AI115:AI117)","v":{"v":1523,"d":"1,523"}},{"$f":"SUM(AJ115:AJ117)","v":{"v":1422,"d":"1,422"}},{"$f":"SUM(AK115:AK117)","v":{"v":1261,"d":"1,261"}},{"$f":"SUM(AL115:AL117)","v":{"v":1008,"d":"1,008"}},{"$f":"SUM(AM115:AM117)","v":820},{"$f":"SUM(AN115:AN117)","v":649},{"$f":"SUM(AO115:AO117)","v":439},{"$f":"SUM(AP115:AP117)","v":293},{"$f":"SUM(AQ115:AQ117)","v":303},{"$f":"SUM(AR115:AR117)","v":18},{"$f":"SUM(AS115:AS117)","v":144},{"$f":"SUM(AT115:AT117)","v":115},{"$f":"SUM(AU115:AU117)","v":308},{"$f":"SUM(AV115:AV117)","v":{"v":11890,"d":"11,890"}},{"$f":"SUM(AW115:AW117)","v":838},{"$f":"SUM(AX115:AX117)","v":864},{"$f":"SUM(AY115:AY117)","v":{"v":5368,"d":"5,368"}},{"$f":"SUM(AZ115:AZ117)","v":387}]
[{"$nulls":5},1295,"CENTRO DE SALUD GENERALISIMO SAN MARTIN",26,null,192,217,235,244,284,301,248,228,238,250,250,241,234,246,260,242,242,236,252,270,{"v":1404,"d":"1,404"},{"v":1469,"d":"1,469"},{"v":1370,"d":"1,370"},{"v":1253,"d":"1,253"},{"v":1229,"d":"1,229"},{"v":1131,"d":"1,131"},{"v":1056,"d":"1,056"},937,749,609,482,326,218,225,13,107,85,229,{"v":8833,"d":"8,833"},622,642,{"v":3988,"d":"3,988"},288]
[{"$nulls":5},1309,"JERUSALEN",6,null,44,50,54,56,66,69,57,53,55,58,58,56,54,57,60,56,56,54,58,62,324,339,316,289,284,261,244,216,173,141,111,75,50,52,3,25,20,53,{"v":2038,"d":"2,038"},144,148,920,66]
[{"$nulls":5},7722,"EL MIRADOR",3,null,22,25,27,28,33,35,29,26,27,29,29,28,27,28,30,28,28,27,29,31,162,170,158,145,142,131,122,108,86,70,56,38,25,26,2,12,10,26,{"v":1019,"d":"1,019"},72,74,460,33]
[]
["040110","AREQUIPA","AREQUIPA","AREQUIPA","MIRAFLORES",null,"MR EDIFICADORES MISTI",null,{"$f":"SUM(J119:AQ119)","v":{"v":66286,"d":"66,286"}},{"$f":"SUM(J120:J124)","v":660},{"$f":"SUM(K120:K124)","v":781},907,{"v":1030,"d":"1,030"},{"v":1029,"d":"1,029"},{"v":1116,"d":"1,116"},919,881,983,938,972,847,887,925,907,900,893,858,917,950,{"v":5141,"d":"5,141"},{"v":5555,"d":"5,555"},{"v":5073,"d":"5,073"},{"v":4831,"d":"4,831"},{"v":4945,"d":"4,945"},{"v":4498,"d":"4,498"},{"v":4177,"d":"4,177"},{"v":3570,"d":"3,570"},{"v":2921,"d":"2,921"},{"v":2416,"d":"2,416"},{"v":1868,"d":"1,868"},{"v":1266,"d":"1,266"},842,883,59,377,283,799,{"v":33048,"d":"33,048"},{"v":2303,"d":"2,303"},{"v":2370,"d":"2,370"},{"v":14647,"d":"14,647"},{"v":1005,"d":"1,005"}]
[{"$nulls":5},1293,"CENTRO DE SALUD MIRAFLORES",34,null,224,266,308,350,350,379,312,300,334,319,330,288,302,315,308,306,304,292,312,323,{"v":1748,"d":"1,748"},{"v":1889,"d":"1,889"},{"v":1725,"d":"1,725"},{"v":1643,"d":"1,643"},{"v":1681,"d":"1,681"},{"v":1529,"d":"1,529"},{"v":1420,"d":"1,420"},{"v":1214,"d":"1,214"},993,821,635,430,286,300,20,128,96,272,{"v":11236,"d":"11,236"},783,806,{"v":4980,"d":"4,980"},342]
[{"$nulls":5},1292,"CENTRO DE SALUD EDIFICADORES MISTI",40,null,264,313,362,413,412,447,367,353,393,375,389,338,354,369,362,360,358,342,367,380,{"v":2057,"d":"2,057"},{"v":2222,"d":"2,222"},{"v":2029,"d":"2,029"},{"v":1933,"d":"1,933"},{"v":1977,"d":"1,977"},{"v":1799,"d":"1,799"},{"v":1671,"d":"1,671"},{"v":1427,"d":"1,427"},{"v":1168,"d":"1,168"},967,748,507,338,353,23,151,113,319,{"v":13219,"d":"13,219"},922,947,{"v":5858,"d":"5,858"},402]
[{"$nulls":5},1306,"CENTRO DE SALUD PORVENIR-MIRAFLORES",10,null,66,78,91,103,103,112,92,88,98,94,97,85,89,93,91,90,89,86,92,95,514,556,507,483,495,450,418,357,292,242,187,127,84,88,6,38,28,80,{"v":3305,"d":"3,305"},230,237,{"v":1465,"d":"1,465"},101]
[{"$nulls":5},1307,"CENTRO DE SALUD MATEO PUMACAHUA",8,null,53,62,73,82,82,89,74,70,79,75,78,68,71,74,73,72,71,69,73,76,411,444,406,386,396,360,334,286,234,193,149,101,67,71,5,30,23,64,{"v":2644,"d":"2,644"},184,190,{"v":1172,"d":"1,172"},80]
[{"$nulls":5},1305,"PUESTO DE SALUD TOMASA T. COMDEMAYTA",8,null,53,62,73,82,82,89,74,70,79,75,78,68,71,74,73,72,71,69,73,76,411,444,406,386,396,360,334,286,234,193,149,101,67,71,5,30,23,64,{"v":2644,"d":"2,644"},184,190,{"v":1172,"d":"1,172"},80]
[]
["040112","AREQUIPA","AREQUIPA","AREQUIPA","PAUCARPATA",null,"MR 15 DE AGOSTO",null,{"$f":"SUM(J126:AQ126)","v":{"v":45291,"d":"45,291"}},{"$f":"SUM(J127:J130)","v":518},{"$f":"SUM(K127:K130)","v":585},701,742,768,788,621,634,650,645,653,662,686,686,671,675,665,649,663,691,{"v":3613,"d":"3,613"},{"v":3884,"d":"3,884"},{"v":3490,"d":"3,490"},{"v":3382,"d":"3,382"},{"v":3343,"d":"3,343"},{"v":3006,"d":"3,006"},{"v":2659,"d":"2,659"},{"v":2230,"d":"2,230"},{"v":1758,"d":"1,758"},{"v":1489,"d":"1,489"},{"v":1177,"d":"1,177"},871,531,505,41,273,244,613,{"v":23126,"d":"23,126"},{"v":1663,"d":"1,663"},{"v":1728,"d":"1,728"},{"v":10582,"d":"10,582"},771]
[{"$nulls":5},1298,"CENTRO DE SALUD 15 DE AGOSTO",13.57,null,214,242,290,307,318,326,257,262,269,267,270,274,284,284,278,279,275,268,274,286,{"v":1495,"d":"1,495"},{"v":1607,"d":"1,607"},{"v":1444,"d":"1,444"},{"v":1399,"d":"1,399"},{"v":1383,"d":"1,383"},{"v":1244,"d":"1,244"},{"v":1100,"d":"1,100"},922,727,616,487,360,220,209,17,113,101,254,{"v":9568,"d":"9,568"},688,715,{"v":4378,"d":"4,378"},319]
[{"$nulls":5},1316,"PUESTO DE SALUD MIGUEL GRAU  MODULO A",6.32,null,100,113,135,143,148,152,120,122,125,124,126,128,132,132,129,130,128,125,128,133,696,748,672,652,644,579,512,430,339,287,227,168,102,97,8,53,47,118,{"v":4456,"d":"4,456"},320,333,{"v":2039,"d":"2,039"},148]
[{"$nulls":5},1317,"CENTRO DE SALUD MIGUEL GRAU  B",6.5,null,103,116,139,147,152,156,123,126,129,128,129,131,136,136,133,134,132,129,131,137,716,770,692,670,663,596,527,442,348,295,233,173,105,100,8,54,48,121,{"v":4583,"d":"4,583"},330,342,{"v":2097,"d":"2,097"},153]
[{"$nulls":5},1318,"PUESTO DE SALUD MIGUEL GRAU  MODULO C-D",6.41,null,101,114,137,145,150,154,121,124,127,126,128,129,134,134,131,132,130,127,130,135,706,759,682,661,653,587,520,436,344,291,230,170,104,99,8,53,48,120,{"v":4519,"d":"4,519"},325,338,{"v":2068,"d":"2,068"},151]
[]
["040112","AREQUIPA","AREQUIPA","AREQUIPA","PAUCARPATA",null,"MR AMPLIACION PAUCARPATA",null,{"$f":"SUM(J132:AQ132)","v":{"v":52466,"d":"52,466"}},{"$f":"SUM(J133:J136)","v":600},{"$f":"SUM(K133:K136)","v":680},813,857,892,914,718,734,755,746,756,768,797,795,777,782,768,750,769,799,{"v":4188,"d":"4,188"},{"v":4499,"d":"4,499"},{"v":4042,"d":"4,042"},{"v":3919,"d":"3,919"},{"v":3874,"d":"3,874"},{"v":3482,"d":"3,482"},{"v":3082,"d":"3,082"},{"v":2581,"d":"2,581"},{"v":2037,"d":"2,037"},{"v":1723,"d":"1,723"},{"v":1362,"d":"1,362"},{"v":1009,"d":"1,009"},615,583,46,318,284,711,{"v":26791,"d":"26,791"},{"v":1926,"d":"1,926"},{"v":2003,"d":"2,003"},{"v":12261,"d":"12,261"},891]
[{"$nulls":5},1296,"CENTRO DE SALUD  AMPLIACIÓN PAUCARPATA",15,null,236,270,321,337,353,362,283,289,299,294,298,304,315,313,306,308,302,295,304,316,{"v":1654,"d":"1,654"},{"v":1776,"d":"1,776"},{"v":1595,"d":"1,595"},{"v":1547,"d":"1,547"},{"v":1529,"d":"1,529"},{"v":1374,"d":"1,374"},{"v":1217,"d":"1,217"},{"v":1017,"d":"1,017"},804,680,538,398,243,230,18,126,112,282,{"v":10575,"d":"10,575"},760,792,{"v":4840,"d":"4,840"},351]
[{"$nulls":5},1310,"CENTRO DE SALUD MANUEL PRADO",12,null,190,214,257,271,281,288,227,232,238,236,239,242,251,251,246,247,243,237,243,252,{"v":1322,"d":"1,322"},{"v":1421,"d":"1,421"},{"v":1277,"d":"1,277"},{"v":1237,"d":"1,237"},{"v":1223,"d":"1,223"},{"v":1100,"d":"1,100"},973,816,643,544,430,319,194,184,15,100,90,224,{"v":8461,"d":"8,461"},608,632,{"v":3872,"d":"3,872"},282]
[{"$nulls":5},1313,"CENTRO DE SALUD NUEVA ALBORADA",6,null,95,107,128,136,141,144,113,116,119,118,119,121,126,126,123,124,122,119,121,126,661,710,638,619,612,550,487,408,322,272,215,159,97,92,7,50,45,112,{"v":4230,"d":"4,230"},304,316,{"v":1936,"d":"1,936"},141]
[{"$nulls":5},1315,"CENTRO DE SALUD CAMPO MARTE",5,null,79,89,107,113,117,120,95,97,99,98,100,101,105,105,102,103,101,99,101,105,551,592,532,516,510,458,405,340,268,227,179,133,81,77,6,42,37,93,{"v":3525,"d":"3,525"},254,263,{"v":1613,"d":"1,613"},117]
[]
["040112","AREQUIPA","AREQUIPA","AREQUIPA","PAUCARPATA",null,"MR CIUDAD BLANCA",null,{"$f":"SUM(J138:AQ138)","v":{"v":40326,"d":"40,326"}},{"$f":"SUM(J139:J143)","v":462},{"$f":"SUM(K139:K143)","v":521},624,661,684,701,552,565,579,574,581,589,612,611,598,602,593,578,589,614,{"v":3217,"d":"3,217"},{"v":3458,"d":"3,458"},{"v":3107,"d":"3,107"},{"v":3011,"d":"3,011"},{"v":2977,"d":"2,977"},{"v":2677,"d":"2,677"},{"v":2368,"d":"2,368"},{"v":1986,"d":"1,986"},{"v":1565,"d":"1,565"},{"v":1325,"d":"1,325"},{"v":1047,"d":"1,047"},776,473,449,36,243,218,545,{"v":20588,"d":"20,588"},{"v":1481,"d":"1,481"},{"v":1538,"d":"1,538"},{"v":9422,"d":"9,422"},687]
[{"$nulls":5},1297,"CENTRO DE SALUD CIUDAD BLANCA",10,null,158,179,214,226,234,240,189,193,198,197,199,202,210,209,205,206,203,198,202,210,{"v":1102,"d":"1,102"},{"v":1184,"d":"1,184"},{"v":1064,"d":"1,064"},{"v":1031,"d":"1,031"},{"v":1019,"d":"1,019"},917,811,680,536,454,359,266,162,154,12,83,75,187,{"v":7051,"d":"7,051"},507,527,{"v":3227,"d":"3,227"},235]
[{"$nulls":5},1314,"SAN JUAN DE CIUDAD BLANCA",6,null,95,107,128,136,141,144,113,116,119,118,119,121,126,126,123,124,122,119,121,126,661,710,638,619,612,550,487,408,322,272,215,159,97,92,7,50,45,112,{"v":4230,"d":"4,230"},304,316,{"v":1936,"d":"1,936"},141]
[{"$nulls":5},1311,"ALTO JESUS",2.2,null,35,39,47,50,52,53,42,43,44,43,44,44,46,46,45,45,45,43,44,46,242,261,234,227,224,202,178,150,118,100,79,58,36,34,3,18,16,41,{"v":1551,"d":"1,551"},112,116,710,52]
[{"$nulls":5},1312,"ISRAEL",4.5,null,71,80,96,102,105,108,85,87,89,88,90,91,94,94,92,93,91,89,91,95,496,533,479,464,459,412,365,306,241,204,161,120,73,69,6,38,34,84,{"v":3173,"d":"3,173"},228,237,{"v":1452,"d":"1,452"},106]
[{"$nulls":5},7744,"P.S. VILLA JESUS",6.5,null,103,116,139,147,152,156,123,126,129,128,129,131,136,136,133,134,132,129,131,137,716,770,692,670,663,596,527,442,348,295,233,173,105,100,8,54,48,121,{"v":4583,"d":"4,583"},330,342,{"v":2097,"d":"2,097"},153]
[]
["040106","AREQUIPA","AREQUIPA","AREQUIPA","CHIGUATA",null,"MR CHIGUATA",null,{"$f":"SUM(J145:AQ145)","v":{"v":4518,"d":"4,518"}},{"$f":"SUM(J146:J149)","v":72},{"$f":"SUM(K146:K149)","v":93},84,78,98,81,62,69,49,63,55,54,52,50,53,54,48,50,54,57,326,267,330,333,287,288,293,269,216,208,162,106,77,80,6,33,39,94,{"v":2072,"d":"2,072"},126,126,801,120]
[{"$nulls":5},1299,"CENTRO DE SALUD CHIGUATA",80,null,43,54,49,38,54,37,38,45,30,35,30,36,35,34,35,34,31,29,28,41,197,169,198,202,148,164,161,151,114,115,93,59,42,45,3,20,23,58,{"v":1215,"d":"1,215"},82,80,485,73]
[{"$nulls":5},1320,"PUESTO DE SALUD ARENALES",20,null,11,14,12,9,13,9,9,11,7,9,8,9,9,8,9,9,8,7,7,10,49,42,49,51,37,41,40,38,29,29,23,15,10,11,1,5,6,14,304,20,20,121,18]
["040119","AREQUIPA","AREQUIPA","AREQUIPA","SAN JUAN DE TARUCANI",1319,"PUESTO DE SALUD SAN JUAN DE TARUCANI",80,null,14,20,18,25,25,28,12,10,10,15,14,7,6,6,7,9,7,11,15,5,64,45,66,64,82,66,74,64,58,51,37,26,20,19,2,6,8,18,442,19,21,156,23]
[{"$nulls":5},1321,"PUESTO DE SALUD SALINAS HUITO",20,null,4,5,5,6,6,7,3,3,2,4,3,2,2,2,2,2,2,3,4,1,16,11,17,16,20,17,18,16,15,13,9,6,5,5,0,2,2,4,111,5,5,39,6]
[]
["040105","AREQUIPA","AREQUIPA","AREQUIPA","CHARACATO",null,"MR CHARACATO",null,{"$f":"SUM(J151:AQ151)","v":{"v":38660,"d":"38,660"}},{"$f":"SUM(J152:J160)","v":420},{"$f":"SUM(K152:K160)","v":468},454,430,373,378,652,638,569,516,525,557,541,514,499,510,506,506,552,563,{"v":2886,"d":"2,886"},{"v":3005,"d":"3,005"},{"v":2923,"d":"2,923"},{"v":3146,"d":"3,146"},{"v":2917,"d":"2,917"},{"v":2566,"d":"2,566"},{"v":2380,"d":"2,380"},{"v":2221,"d":"2,221"},{"v":1905,"d":"1,905"},{"v":1519,"d":"1,519"},{"v":1216,"d":"1,216"},802,524,479,31,223,197,507,{"v":19264,"d":"19,264"},{"v":1323,"d":"1,323"},{"v":1330,"d":"1,330"},{"v":8324,"d":"8,324"},649]
[{"$nulls":5},1261,"CENTRO DE SALUD DE CHARACATO",100,null,167,195,217,204,169,179,304,300,257,241,223,294,273,270,225,239,252,246,248,288,{"v":1436,"d":"1,436"},{"v":1270,"d":"1,270"},{"v":1208,"d":"1,208"},{"v":1317,"d":"1,317"},{"v":1438,"d":"1,438"},{"v":1148,"d":"1,148"},994,857,712,633,497,317,202,175,14,87,80,194,{"v":8764,"d":"8,764"},643,651,{"v":3972,"d":"3,972"},248]
["040111","AREQUIPA","AREQUIPA","AREQUIPA","MOLLEBAYA",1285,"PUESTO DE SALUD MOLLEBAYA",30,null,18,22,19,21,20,20,36,48,42,33,38,29,29,29,35,29,28,31,36,28,158,178,178,178,148,142,132,125,107,79,63,39,21,23,2,11,7,22,{"v":1100,"d":"1,100"},86,76,460,28]
[{"$nulls":5},11677,"PUESTO DE SALUD MACHAHUAYA",70,null,41,51,44,48,47,46,83,111,98,78,88,69,68,68,80,67,66,71,84,64,369,414,416,416,344,331,307,292,251,185,148,92,50,52,3,25,16,52,{"v":2566,"d":"2,566"},200,178,{"v":1072,"d":"1,072"},66]
["040113","AREQUIPA","AREQUIPA","AREQUIPA","POCSI",1288,"PUESTO DE SALUD POCSI",56,null,2,6,6,3,4,2,2,2,2,2,2,1,1,2,2,2,2,2,3,2,12,16,21,22,18,18,22,18,16,12,11,9,7,7,1,1,1,2,105,3,5,34,3]
[{"$nulls":5},1289,"PUESTO DE SALUD PIACA",44,null,1,4,4,3,4,2,2,1,1,1,1,1,1,2,1,1,2,2,2,2,9,13,16,18,14,15,17,14,12,10,9,7,6,6,0,0,1,2,82,2,4,27,3]
["040114","AREQUIPA","AREQUIPA","AREQUIPA","POLOBAYA",1262,"PUESTO DE SALUD POLOBAYA",100,null,14,18,8,12,13,11,7,4,8,10,9,7,4,6,7,7,8,8,8,14,52,62,41,46,64,49,47,57,50,35,29,20,17,14,1,6,8,23,337,12,21,140,30]
["040115","AREQUIPA","AREQUIPA","AREQUIPA","QUEQUEÑA",1286,"PUESTO DE SALUD QUEQUEÑA",100,null,48,41,33,32,25,23,121,84,74,80,87,77,83,67,77,87,67,77,80,84,372,566,553,663,455,439,455,525,479,318,248,184,124,111,1,27,21,63,{"v":3263,"d":"3,263"},191,194,{"v":1373,"d":"1,373"},80]
["040116","AREQUIPA","AREQUIPA","AREQUIPA","SABANDIA",1284,"PUESTO DE SALUD LEOPOLDO RONDON - SABANDIA",100,null,99,97,102,88,74,72,76,73,76,59,61,67,65,60,60,61,63,57,67,62,364,357,350,328,317,293,285,221,202,184,149,100,73,65,6,50,49,111,{"v":2376,"d":"2,376"},155,164,989,141]
["040127","AREQUIPA","AREQUIPA","AREQUIPA","YARABAMBA",1287,"PUESTO DE SALUD YARABAMBA",100,null,30,34,21,19,17,23,21,15,11,12,16,12,17,10,12,17,18,12,24,19,114,129,140,158,119,131,121,112,76,63,62,34,24,26,3,16,14,38,671,31,37,257,50]
[]
["040107","AREQUIPA","AREQUIPA","AREQUIPA","JACOBO HUNTER",null,"MR JAVIER LLOSA HUNTER",null,{"$f":"SUM(J162:AQ162)","v":{"v":53356,"d":"53,356"}},{"$f":"SUM(J163:J169)","v":598},{"$f":"SUM(K163:K169)","v":715},755,781,853,874,779,765,727,770,750,788,815,814,790,743,770,775,794,721,{"v":4319,"d":"4,319"},{"v":4584,"d":"4,584"},{"v":4254,"d":"4,254"},{"v":3993,"d":"3,993"},{"v":3861,"d":"3,861"},{"v":3510,"d":"3,510"},{"v":3140,"d":"3,140"},{"v":2671,"d":"2,671"},{"v":2193,"d":"2,193"},{"v":1854,"d":"1,854"},{"v":1399,"d":"1,399"},977,610,614,43,337,261,600,{"v":27269,"d":"27,269"},{"v":2026,"d":"2,026"},{"v":2001,"d":"2,001"},{"v":12362,"d":"12,362"},753]
[{"$nulls":5},1259,"CENTRO DE SALUD JAVIER LLOSA GARCIA -  HUNTER",32,null,190,228,241,250,273,279,250,245,232,246,238,253,260,261,252,238,246,246,255,230,{"v":1382,"d":"1,382"},{"v":1467,"d":"1,467"},{"v":1361,"d":"1,361"},{"v":1278,"d":"1,278"},{"v":1236,"d":"1,236"},{"v":1123,"d":"1,123"},{"v":1004,"d":"1,004"},855,702,593,447,312,195,197,14,108,84,192,{"v":8726,"d":"8,726"},649,641,{"v":3955,"d":"3,955"},241]
[{"$nulls":5},1273,"PUESTO DE SALUD DANIEL ALCIDES CARRION",14,null,84,100,106,109,119,122,109,107,102,108,105,110,114,114,111,104,108,109,111,101,605,642,596,559,541,491,440,374,307,260,196,137,85,86,6,47,37,84,{"v":3818,"d":"3,818"},284,280,{"v":1731,"d":"1,731"},105]
[{"$nulls":5},1274,"PUESTO DE SALUD PAMPAS DEL CUZCO",17,null,102,122,128,133,145,149,132,130,124,131,128,134,139,138,134,126,131,132,135,123,734,779,723,679,656,597,534,454,373,315,238,166,104,104,7,57,44,102,{"v":4636,"d":"4,636"},344,340,{"v":2102,"d":"2,102"},128]
[{"$nulls":5},1275,"PUESTO DE SALUD CHILPINILLA",10,null,60,72,76,78,85,87,78,77,73,77,75,79,82,81,79,74,77,78,79,72,432,458,425,399,386,351,314,267,219,185,140,98,61,61,4,34,26,60,{"v":2727,"d":"2,727"},203,200,{"v":1236,"d":"1,236"},75]
[{"$nulls":5},1276,"CENTRO DE SALUD CAMINOS DEL INCA",9,null,54,64,68,70,77,79,70,69,65,69,68,71,73,73,71,67,69,70,71,65,389,413,383,359,347,316,283,240,197,167,126,88,55,55,4,30,23,54,{"v":2454,"d":"2,454"},182,180,{"v":1113,"d":"1,113"},68]
[{"$nulls":5},1277,"PUESTO DE SALUD ALTO ALIANZA",13,null,78,93,98,102,111,114,101,99,95,100,98,102,106,106,103,97,100,101,103,94,561,596,553,519,502,456,408,347,285,241,182,127,79,80,6,44,34,78,{"v":3545,"d":"3,545"},263,260,{"v":1607,"d":"1,607"},98]
[{"$nulls":5},1279,"PUESTO DE SALUD UPIS PAISAJISTA",5,null,30,36,38,39,43,44,39,38,36,39,38,39,41,41,40,37,39,39,40,36,216,229,213,200,193,176,157,134,110,93,70,49,31,31,2,17,13,30,{"v":1363,"d":"1,363"},101,100,618,38]
[]
[{"$nulls":6},"MR VICTOR RAUL HINOJOSA LLERENA",null,{"$f":"SUM(J171:AQ171)","v":{"v":83128,"d":"83,128"}},{"$f":"SUM(J172:J175)","v":716},{"$f":"SUM(K172:K175)","v":911},{"v":1050,"d":"1,050"},{"v":1019,"d":"1,019"},934,940,{"v":1090,"d":"1,090"},{"v":1145,"d":"1,145"},{"v":1117,"d":"1,117"},974,{"v":1039,"d":"1,039"},{"v":1118,"d":"1,118"},{"v":1134,"d":"1,134"},{"v":1110,"d":"1,110"},{"v":1135,"d":"1,135"},{"v":1129,"d":"1,129"},{"v":1112,"d":"1,112"},{"v":1159,"d":"1,159"},{"v":1149,"d":"1,149"},{"v":1237,"d":"1,237"},{"v":6550,"d":"6,550"},{"v":6960,"d":"6,960"},{"v":6746,"d":"6,746"},{"v":6144,"d":"6,144"},{"v":6312,"d":"6,312"},{"v":5780,"d":"5,780"},{"v":5054,"d":"5,054"},{"v":4482,"d":"4,482"},{"v":3696,"d":"3,696"},{"v":3100,"d":"3,100"},{"v":2614,"d":"2,614"},{"v":1912,"d":"1,912"},{"v":1283,"d":"1,283"},{"v":1277,"d":"1,277"},55,409,307,827,{"v":41415,"d":"41,415"},{"v":2685,"d":"2,685"},{"v":2953,"d":"2,953"},{"v":19130,"d":"19,130"},{"v":1040,"d":"1,040"}]
["040129","AREQUIPA","AREQUIPA","AREQUIPA","JOSE LUIS BUSTAMANTE Y RIVERO",1257,"VICTOR RAUL HINOJOSA",57,null,408,519,598,580,533,535,621,652,637,556,593,637,647,633,646,643,634,661,655,705,{"v":3733,"d":"3,733"},{"v":3968,"d":"3,968"},{"v":3845,"d":"3,845"},{"v":3503,"d":"3,503"},{"v":3598,"d":"3,598"},{"v":3295,"d":"3,295"},{"v":2881,"d":"2,881"},{"v":2555,"d":"2,555"},{"v":2107,"d":"2,107"},{"v":1767,"d":"1,767"},{"v":1490,"d":"1,490"},{"v":1090,"d":"1,090"},731,727,31,233,175,471,{"v":23606,"d":"23,606"},{"v":1530,"d":"1,530"},{"v":1684,"d":"1,684"},{"v":10904,"d":"10,904"},592]
[{"$nulls":5},1263,"PUESTO DE SALUD 13 DE ENERO",19,null,136,173,200,194,177,179,207,218,212,185,197,212,215,211,216,215,211,220,218,235,{"v":1245,"d":"1,245"},{"v":1322,"d":"1,322"},{"v":1282,"d":"1,282"},{"v":1167,"d":"1,167"},{"v":1199,"d":"1,199"},{"v":1098,"d":"1,098"},960,852,702,589,497,363,244,243,10,78,58,157,{"v":7869,"d":"7,869"},510,561,{"v":3635,"d":"3,635"},198]
[{"$nulls":5},1264,"CENTRO DE SALUD LAS ESMERALDAS",14,null,100,128,147,143,131,132,153,160,156,136,145,157,159,155,159,158,156,162,161,173,917,974,944,860,884,809,708,627,517,434,366,268,180,179,8,57,43,116,{"v":5798,"d":"5,798"},376,413,{"v":2678,"d":"2,678"},146]
[{"$nulls":5},1267,"CERRO JULI",10,null,72,91,105,102,93,94,109,115,112,97,104,112,113,111,114,113,111,116,115,124,655,696,675,614,631,578,505,448,370,310,261,191,128,128,6,41,31,83,{"v":4142,"d":"4,142"},269,295,{"v":1913,"d":"1,913"},104]
[]
[{"$nulls":6},"MR TIABAYA",null,{"$f":"SUM(J177:AQ177)","v":{"v":35145,"d":"35,145"}},{"$f":"SUM(J178:J181)","v":438},{"$f":"SUM(K178:K181)","v":551},534,560,550,599,503,505,452,468,475,520,495,497,480,466,461,513,473,489,{"v":2610,"d":"2,610"},{"v":3024,"d":"3,024"},{"v":2913,"d":"2,913"},{"v":2842,"d":"2,842"},{"v":2740,"d":"2,740"},{"v":2241,"d":"2,241"},{"v":2061,"d":"2,061"},{"v":1798,"d":"1,798"},{"v":1481,"d":"1,481"},{"v":1191,"d":"1,191"},893,571,391,360,37,238,200,520,{"v":17283,"d":"17,283"},{"v":1267,"d":"1,267"},{"v":1252,"d":"1,252"},{"v":7521,"d":"7,521"},657]
["040123","AREQUIPA","AREQUIPA","AREQUIPA","TIABAYA",1260,"CENTRO DE SALUD TIABAYA",100,null,238,299,276,300,303,338,261,258,230,245,242,258,260,258,263,231,224,260,224,253,{"v":1335,"d":"1,335"},{"v":1517,"d":"1,517"},{"v":1494,"d":"1,494"},{"v":1335,"d":"1,335"},{"v":1310,"d":"1,310"},{"v":1108,"d":"1,108"},{"v":1002,"d":"1,002"},883,741,576,443,293,205,192,25,137,101,291,{"v":8849,"d":"8,849"},669,624,{"v":3869,"d":"3,869"},367]
["040124","AREQUIPA","AREQUIPA","AREQUIPA","UCHUMAYO",1280,"CERRO VERDE",30,null,60,76,77,78,74,78,73,74,67,67,70,79,71,72,65,71,71,76,75,71,383,452,426,452,429,340,318,275,222,185,135,83,56,50,4,30,30,69,{"v":2530,"d":"2,530"},179,188,{"v":1096,"d":"1,096"},87]
[{"$nulls":5},1281,"CONGATA",51,null,102,128,132,133,126,133,123,126,113,114,119,133,119,122,111,119,121,129,127,120,650,769,723,769,729,578,540,466,377,313,229,142,95,86,6,52,50,116,{"v":4302,"d":"4,302"},305,321,{"v":1862,"d":"1,862"},148]
[{"$nulls":5},1290,"UCHUMAYO",19,null,38,48,49,49,47,50,46,47,42,42,44,50,45,45,41,45,45,48,47,45,242,286,270,286,272,215,201,174,141,117,86,53,35,32,2,19,19,44,{"v":1602,"d":"1,602"},114,119,694,55]
[]
[{"$nulls":6},"MR SAN MARTIN DE SOCABAYA",null,{"$f":"SUM(J183:AQ183)","v":{"v":84182,"d":"84,182"}},{"$f":"SUM(J184:J190)","v":779},{"$f":"SUM(K184:K190)","v":926},{"v":1093,"d":"1,093"},{"v":1110,"d":"1,110"},{"v":1261,"d":"1,261"},{"v":1329,"d":"1,329"},{"v":1152,"d":"1,152"},{"v":1246,"d":"1,246"},{"v":1281,"d":"1,281"},{"v":1328,"d":"1,328"},{"v":1257,"d":"1,257"},{"v":1195,"d":"1,195"},{"v":1196,"d":"1,196"},{"v":1185,"d":"1,185"},{"v":1239,"d":"1,239"},{"v":1194,"d":"1,194"},{"v":1277,"d":"1,277"},{"v":1224,"d":"1,224"},{"v":1346,"d":"1,346"},{"v":1289,"d":"1,289"},{"v":6844,"d":"6,844"},{"v":7454,"d":"7,454"},{"v":6520,"d":"6,520"},{"v":6427,"d":"6,427"},{"v":6257,"d":"6,257"},{"v":5601,"d":"5,601"},{"v":4932,"d":"4,932"},{"v":4197,"d":"4,197"},{"v":3457,"d":"3,457"},{"v":2959,"d":"2,959"},{"v":2211,"d":"2,211"},{"v":1488,"d":"1,488"},959,969,63,430,349,942,{"v":43537,"d":"43,537"},{"v":3088,"d":"3,088"},{"v":3248,"d":"3,248"},{"v":20123,"d":"20,123"},{"v":1182,"d":"1,182"}]
["040122","AREQUIPA","AREQUIPA","AREQUIPA","SOCABAYA",1258,"CENTRO DE SALUD SAN MARTIN DE SOCABAYA",20.7,null,161,192,226,230,261,275,238,258,265,275,260,247,248,245,256,247,264,253,279,267,{"v":1417,"d":"1,417"},{"v":1543,"d":"1,543"},{"v":1350,"d":"1,350"},{"v":1330,"d":"1,330"},{"v":1295,"d":"1,295"},{"v":1159,"d":"1,159"},{"v":1021,"d":"1,021"},869,716,613,458,308,199,201,13,89,72,195,{"v":9012,"d":"9,012"},639,672,{"v":4165,"d":"4,165"},245]
[{"$nulls":5},1269,"PUESTO DE SALUD CIUDAD MI TRABAJO",20.03,null,156,185,219,222,253,266,231,250,257,266,252,239,240,237,248,239,256,245,270,258,{"v":1371,"d":"1,371"},{"v":1493,"d":"1,493"},{"v":1306,"d":"1,306"},{"v":1287,"d":"1,287"},{"v":1253,"d":"1,253"},{"v":1122,"d":"1,122"},988,841,692,593,443,298,192,194,13,86,70,189,{"v":8720,"d":"8,720"},619,651,{"v":4031,"d":"4,031"},237]
[{"$nulls":5},1270,"PUESTO DE SALUD LARA",16,null,125,148,175,178,202,213,184,199,205,212,201,191,191,190,198,191,204,196,215,206,{"v":1095,"d":"1,095"},{"v":1193,"d":"1,193"},{"v":1043,"d":"1,043"},{"v":1028,"d":"1,028"},{"v":1001,"d":"1,001"},896,789,672,553,473,354,238,153,155,10,69,56,151,{"v":6966,"d":"6,966"},494,520,{"v":3220,"d":"3,220"},189]
[{"$nulls":5},1271,"CENTRO DE SALUD SAN FERNANDO",6.05,null,47,56,66,67,76,80,70,75,78,80,76,72,72,72,75,72,77,74,81,78,414,451,394,389,379,339,298,254,209,179,134,90,58,59,4,26,21,57,{"v":2634,"d":"2,634"},187,197,{"v":1217,"d":"1,217"},72]
[{"$nulls":5},1272,"PUESTO DE SALUD SALAVERRY",11.8,null,92,109,129,131,149,157,136,147,151,157,148,141,141,140,146,141,151,144,159,152,808,880,769,758,738,661,582,495,408,349,261,176,113,114,7,51,41,111,{"v":5137,"d":"5,137"},364,383,{"v":2375,"d":"2,375"},139]
[{"$nulls":5},1268,"CENTRO DE SALUD 4 DE OCTUBRE",20.72,null,161,192,227,230,261,276,239,258,265,276,261,249,248,245,258,248,265,254,279,267,{"v":1417,"d":"1,417"},{"v":1544,"d":"1,544"},{"v":1352,"d":"1,352"},{"v":1333,"d":"1,333"},{"v":1297,"d":"1,297"},{"v":1161,"d":"1,161"},{"v":1022,"d":"1,022"},869,717,613,457,308,199,200,13,89,73,195,{"v":9022,"d":"9,022"},640,672,{"v":4169,"d":"4,169"},244]
[{"$nulls":5},23338,"PUESTO DE SALUD HORACIO ZEBALLOS GÁMEZ",4.7,null,37,44,51,52,59,62,54,59,60,62,59,56,56,56,58,56,60,58,63,61,322,350,306,302,294,263,232,197,162,139,104,70,45,46,3,20,16,44,{"v":2046,"d":"2,046"},145,153,946,56]
[]
["040108","AREQUIPA","AREQUIPA","AREQUIPA","LA JOYA",null,"MR LA JOYA",null,{"$f":"SUM(J192:AQ192)","v":{"v":28444,"d":"28,444"}},{"$f":"SUM(J193:J197)","v":418},{"$f":"SUM(K193:K197)","v":437},423,451,436,448,517,429,471,472,454,408,382,431,441,443,438,467,456,463,{"v":2359,"d":"2,359"},{"v":2602,"d":"2,602"},{"v":2210,"d":"2,210"},{"v":2262,"d":"2,262"},{"v":2135,"d":"2,135"},{"v":1784,"d":"1,784"},{"v":1555,"d":"1,555"},{"v":1283,"d":"1,283"},{"v":1051,"d":"1,051"},817,614,384,252,251,30,212,205,487,{"v":15216,"d":"15,216"},{"v":1061,"d":"1,061"},{"v":1154,"d":"1,154"},{"v":7315,"d":"7,315"},612]
[{"$nulls":5},1322,"LA JOYA",27,null,160,166,161,171,165,170,197,163,179,180,173,155,145,165,168,169,167,177,174,175,897,990,839,861,813,677,590,489,400,310,234,146,95,94,11,80,79,186,{"v":5786,"d":"5,786"},403,439,{"v":2783,"d":"2,783"},233]
[{"$nulls":5},1327,"PUESTO DE SALUD CERRITO BUENA VISTA",14,null,82,86,83,89,86,88,102,85,93,93,89,80,75,85,87,87,86,92,90,91,465,513,436,446,421,352,307,253,207,161,121,76,50,50,6,42,40,96,{"v":3000,"d":"3,000"},209,228,{"v":1442,"d":"1,442"},121]
[{"$nulls":5},1330,"EL CRUCE - TRIUNFO",20,null,118,123,119,127,123,126,146,121,133,133,128,115,108,121,124,125,123,132,128,131,665,733,623,637,601,503,438,361,296,230,173,108,71,71,9,60,58,137,{"v":4286,"d":"4,286"},299,325,{"v":2060,"d":"2,060"},172]
[{"$nulls":5},1328,"LOS MEDANOS",5,null,29,31,30,32,31,32,36,30,33,33,32,29,27,30,31,31,31,33,32,33,166,183,156,159,150,126,110,90,74,58,43,27,18,18,2,15,14,34,{"v":1072,"d":"1,072"},75,81,515,43]
[{"$nulls":5},1329,"BENITO LAZO",5,null,29,31,30,32,31,32,36,30,33,33,32,29,27,30,31,31,31,33,32,33,166,183,156,159,150,126,110,90,74,58,43,27,18,18,2,15,14,34,{"v":1072,"d":"1,072"},75,81,515,43]
[]
["040108","AREQUIPA","AREQUIPA","AREQUIPA","LA JOYA",null,"MR SAN ISIDRO",null,{"$f":"SUM(J199:AQ199)","v":{"v":12785,"d":"12,785"}},{"$f":"SUM(J200:J204)","v":184},{"$f":"SUM(K200:K204)","v":192},189,198,198,203,224,188,206,207,198,178,170,190,195,197,191,203,201,206,{"v":1046,"d":"1,046"},{"v":1157,"d":"1,157"},996,{"v":1012,"d":"1,012"},956,805,709,595,486,388,289,184,123,121,14,93,91,217,{"v":6759,"d":"6,759"},469,507,{"v":3230,"d":"3,230"},273]
["040108","AREQUIPA","AREQUIPA","AREQUIPA","LA JOYA",1323,"SAN ISIDRO",13,null,76,80,77,82,80,82,95,79,86,86,83,74,70,79,81,81,80,86,83,85,432,477,405,414,391,327,285,235,192,150,113,70,46,46,6,39,38,89,{"v":2786,"d":"2,786"},194,212,{"v":1339,"d":"1,339"},112]
[{"$nulls":5},1333,"SAN JOSE",3,null,18,18,18,19,18,19,22,18,20,20,19,17,16,18,19,19,19,20,19,20,100,110,93,96,90,75,66,54,44,35,26,16,11,11,1,9,9,21,643,45,49,309,26]
[{"$nulls":5},1332,"PUESTO DE SALUD SAN CAMILO 6",6,null,35,37,36,38,37,38,44,36,40,40,38,34,32,36,37,37,37,39,38,39,199,220,187,191,180,151,131,108,89,69,52,32,21,21,3,18,17,41,{"v":1286,"d":"1,286"},90,98,618,52]
[{"$nulls":5},1331,"LA CANO",7,null,41,43,42,44,43,44,51,42,46,46,45,40,38,42,44,44,43,46,45,46,233,257,218,223,210,176,153,126,104,81,61,38,25,25,3,21,20,48,{"v":1500,"d":"1,500"},105,114,721,60]
["040702","AREQUIPA","AREQUIPA","ISLAY","COCACHACRA",1343,"SAN CAMILO 7",14,null,14,14,16,15,20,20,12,13,14,15,13,13,14,15,14,16,12,12,16,16,82,93,93,88,85,76,74,72,57,53,37,28,20,18,1,6,7,18,544,35,34,243,23]
[]
[{"$nulls":6},"MR VITOR",null,{"$f":"SUM(J206:AQ206)","v":{"v":12692,"d":"12,692"}},{"$f":"SUM(J207:J209)","v":151},{"$f":"SUM(K207:K209)","v":146},133,147,166,142,157,190,175,166,169,199,196,167,171,187,187,189,212,209,{"v":1167,"d":"1,167"},{"v":1054,"d":"1,054"},{"v":1088,"d":"1,088"},{"v":1068,"d":"1,068"},991,800,748,647,575,403,288,173,123,108,13,78,73,186,{"v":6543,"d":"6,543"},436,493,{"v":3154,"d":"3,154"},236]
["040125","AREQUIPA","AREQUIPA","AREQUIPA","VITOR",1324,"CENTRO DE SALUD VITOR",80,null,30,30,27,35,41,26,34,51,45,49,28,55,60,40,48,54,62,59,68,56,331,290,344,327,334,243,231,195,198,149,108,68,54,46,2,18,13,38,{"v":1894,"d":"1,894"},105,139,{"v":1000,"d":"1,000"},48]
[{"$nulls":5},1334,"PUESTO DE SALUD YURAMAYO",20,null,8,8,7,9,10,7,8,13,11,12,7,14,15,10,12,13,15,15,17,14,83,72,86,82,83,61,58,49,50,37,27,17,13,12,1,4,3,9,474,26,35,250,12]
["040121","AREQUIPA","AREQUIPA","AREQUIPA","SANTA RITA DE SIGUAS",1335,"CENTRO  DE SALUD SANTA RITA DE SIGUAS",100,null,113,108,99,103,115,109,115,126,119,105,134,130,121,117,111,120,110,115,127,139,753,692,658,659,574,496,459,403,327,217,153,88,56,50,10,56,57,139,{"v":4175,"d":"4,175"},305,319,{"v":1904,"d":"1,904"},176]
[]
[]
["NOTA: LA POBLACION ESTIMADA DE EDADES  SIMPLES Y GRUPOS DE EDAD DE DISTRITOS, CORRESPONDEN A CIFRAS REFERENCIALES HASTA OBTENER LAS CIFRAS DE LAS PROYECCIONES DEL INEI"]
["FUENTE: CENSO NACIONAL XI DE POBLACION Y VI DE VIVIENDA 2017/- BOLETIN DEMOGRAFICO Nº 26,37, 39 / RENIEC / Padrón Nominal/ CNV"]
["La población de 0-5 años corresponden a una proyección de la poblacion del Padrón Nominal (cifras preliminares) /corte al mes de noviembre"]
["OFICINA DE GESTION DE LA INFORMACION - MINISTERIO DE SALUD"]

{"sheet":"DATA","index":5,"n_rows":68041,"n_cols":9,"rows_kept":4500,"cut":true,"hidden":true,"bounds":{"rows_first":2000,"rows_last":500,"rows_between":2000,"halvings":0}}
[{"$f":"'Pob x Genero'!A7","v":"UBIGEO"},{"$f":"'Pob x Genero'!B7","v":"DIRESA"},{"$f":"'Pob x Genero'!C7","v":"DEPARTAMENTO"},{"$f":"'Pob x Genero'!D7","v":"PROVINCIA"},{"$f":"'Pob x Genero'!E7","v":"DISTRITO"},"SEXO","GRUPO DE EDAD","POBLACION","id"]
[{"$f":"'Pob x Genero'!#REF!","v":{"$error":"#REF!"}},{"$f":"'Pob x Genero'!#REF!","v":{"$error":"#REF!"}},{"$f":"'Pob x Genero'!#REF!","v":{"$error":"#REF!"}},{"$f":"'Pob x Genero'!#REF!","v":{"$error":"#REF!"}},{"$f":"'Pob x Genero'!#REF!","v":{"$error":"#REF!"}},"Hombre",{"$f":"'Pob x Genero'!CS7","v":"00-04"},{"$f":"'Pob x Genero'!#REF!","v":{"$error":"#REF!"}},1]
[{"$f":"'Pob x Genero'!#REF!","v":{"$error":"#REF!"}},{"$f":"'Pob x Genero'!#REF!","v":{"$error":"#REF!"}},{"$f":"'Pob x Genero'!#REF!","v":{"$error":"#REF!"}},{"$f":"'Pob x Genero'!#REF!","v":{"$error":"#REF!"}},{"$f":"'Pob x Genero'!#REF!","v":{"$error":"#REF!"}},{"$f":"F2","v":"Hombre"},{"$f":"G2","v":"00-04"},{"$f":"'Pob x Genero'!#REF!","v":{"$error":"#REF!"}},2]
[{"$f":"'Pob x Genero'!#REF!","v":{"$error":"#REF!"}},{"$f":"'Pob x Genero'!#REF!","v":{"$error":"#REF!"}},{"$f":"'Pob x Genero'!#REF!","v":{"$error":"#REF!"}},{"$f":"'Pob x Genero'!#REF!","v":{"$error":"#REF!"}},{"$f":"'Pob x Genero'!#REF!","v":{"$error":"#REF!"}},"Hombre","00-04",{"$f":"'Pob x Genero'!#REF!","v":{"$error":"#REF!"}},3]
[{"$f":"'Pob x Genero'!#REF!","v":{"$error":"#REF!"}},{"$f":"'Pob x Genero'!#REF!","v":{"$error":"#REF!"}},{"$f":"'Pob x Genero'!#REF!","v":{"$error":"#REF!"}},{"$f":"'Pob x Genero'!#REF!","v":{"$error":"#REF!"}},{"$f":"'Pob x Genero'!#REF!","v":{"$error":"#REF!"}},"Hombre","00-04",{"$f":"'Pob x Genero'!#REF!","v":{"$error":"#REF!"}},4]
[{"$f":"'Pob x Genero'!#REF!","v":{"$error":"#REF!"}},{"$f":"'Pob x Genero'!#REF!","v":{"$error":"#REF!"}},{"$f":"'Pob x Genero'!#REF!","v":{"$error":"#REF!"}},{"$f":"'Pob x Genero'!#REF!","v":{"$error":"#REF!"}},{"$f":"'Pob x Genero'!#REF!","v":{"$error":"#REF!"}},"Hombre","00-04",{"$f":"'Pob x Genero'!#REF!","v":{"$error":"#REF!"}},5]
[{"$f":"'Pob x Genero'!#REF!","v":{"$error":"#REF!"}},{"$f":"'Pob x Genero'!#REF!","v":{"$error":"#REF!"}},{"$f":"'Pob x Genero'!#REF!","v":{"$error":"#REF!"}},{"$f":"'Pob x Genero'!#REF!","v":{"$error":"#REF!"}},{"$f":"'Pob x Genero'!#REF!","v":{"$error":"#REF!"}},"Hombre","00-04",{"$f":"'Pob x Genero'!#REF!","v":{"$error":"#REF!"}},6]
[{"$f":"'Pob x Genero'!#REF!","v":{"$error":"#REF!"}},{"$f":"'Pob x Genero'!#REF!","v":{"$error":"#REF!"}},{"$f":"'Pob x Genero'!#REF!","v":{"$error":"#REF!"}},{"$f":"'Pob x Genero'!#REF!","v":{"$error":"#REF!"}},{"$f":"'Pob x Genero'!#REF!","v":{"$error":"#REF!"}},"Hombre","00-04",{"$f":"'Pob x Genero'!#REF!","v":{"$error":"#REF!"}},7]
[{"$f":"'Pob x Genero'!#REF!","v":{"$error":"#REF!"}},{"$f":"'Pob x Genero'!#REF!","v":{"$error":"#REF!"}},{"$f":"'Pob x Genero'!#REF!","v":{"$error":"#REF!"}},{"$f":"'Pob x Genero'!#REF!","v":{"$error":"#REF!"}},{"$f":"'Pob x Genero'!#REF!","v":{"$error":"#REF!"}},"Hombre","00-04",{"$f":"'Pob x Genero'!#REF!","v":{"$error":"#REF!"}},8]
[{"$f":"'Pob x Genero'!#REF!","v":{"$error":"#REF!"}},{"$f":"'Pob x Genero'!#REF!","v":{"$error":"#REF!"}},{"$f":"'Pob x Genero'!#REF!","v":{"$error":"#REF!"}},{"$f":"'Pob x Genero'!#REF!","v":{"$error":"#REF!"}},{"$f":"'Pob x Genero'!#REF!","v":{"$error":"#REF!"}},"Hombre","00-04",{"$f":"'Pob x Genero'!#REF!","v":{"$error":"#REF!"}},9]
[{"$f":"'Pob x Genero'!#REF!","v":{"$error":"#REF!"}},{"$f":"'Pob x Genero'!#REF!","v":{"$error":"#REF!"}},{"$f":"'Pob x Genero'!#REF!","v":{"$error":"#REF!"}},{"$f":"'Pob x Genero'!#REF!","v":{"$error":"#REF!"}},{"$f":"'Pob x Genero'!#REF!","v":{"$error":"#REF!"}},"Hombre","00-04",{"$f":"'Pob x Genero'!#REF!","v":{"$error":"#REF!"}},10]
[{"$f":"'Pob x Genero'!#REF!","v":{"$error":"#REF!"}},{"$f":"'Pob x Genero'!#REF!","v":{"$error":"#REF!"}},{"$f":"'Pob x Genero'!#REF!","v":{"$error":"#REF!"}},{"$f":"'Pob x Genero'!#REF!","v":{"$error":"#REF!"}},{"$f":"'Pob x Genero'!#REF!","v":{"$error":"#REF!"}},"Hombre","00-04",{"$f":"'Pob x Genero'!#REF!","v":{"$error":"#REF!"}},11]
[{"$f":"'Pob x Genero'!#REF!","v":{"$error":"#REF!"}},{"$f":"'Pob x Genero'!#REF!","v":{"$error":"#REF!"}},{"$f":"'Pob x Genero'!#REF!","v":{"$error":"#REF!"}},{"$f":"'Pob x Genero'!#REF!","v":{"$error":"#REF!"}},{"$f":"'Pob x Genero'!#REF!","v":{"$error":"#REF!"}},"Hombre","00-04",{"$f":"'Pob x Genero'!#REF!","v":{"$error":"#REF!"}},12]
[{"$f":"'Pob x Genero'!#REF!","v":{"$error":"#REF!"}},{"$f":"'Pob x Genero'!#REF!","v":{"$error":"#REF!"}},{"$f":"'Pob x Genero'!#REF!","v":{"$error":"#REF!"}},{"$f":"'Pob x Genero'!#REF!","v":{"$error":"#REF!"}},{"$f":"'Pob x Genero'!#REF!","v":{"$error":"#REF!"}},"Hombre","00-04",{"$f":"'Pob x Genero'!#REF!","v":{"$error":"#REF!"}},13]
[{"$f":"'Pob x Genero'!#REF!","v":{"$error":"#REF!"}},{"$f":"'Pob x Genero'!#REF!","v":{"$error":"#REF!"}},{"$f":"'Pob x Genero'!#REF!","v":{"$error":"#REF!"}},{"$f":"'Pob x Genero'!#REF!","v":{"$error":"#REF!"}},{"$f":"'Pob x Genero'!#REF!","v":{"$error":"#REF!"}},"Hombre","00-04",{"$f":"'Pob x Genero'!#REF!","v":{"$error":"#REF!"}},14]
[{"$f":"'Pob x Genero'!#REF!","v":{"$error":"#REF!"}},{"$f":"'Pob x Genero'!#REF!","v":{"$error":"#REF!"}},{"$f":"'Pob x Genero'!#REF!","v":{"$error":"#REF!"}},{"$f":"'Pob x Genero'!#REF!","v":{"$error":"#REF!"}},{"$f":"'Pob x Genero'!#REF!","v":{"$error":"#REF!"}},"Hombre","00-04",{"$f":"'Pob x Genero'!#REF!","v":{"$error":"#REF!"}},15]
[{"$f":"'Pob x Genero'!#REF!","v":{"$error":"#REF!"}},{"$f":"'Pob x Genero'!#REF!","v":{"$error":"#REF!"}},{"$f":"'Pob x Genero'!#REF!","v":{"$error":"#REF!"}},{"$f":"'Pob x Genero'!#REF!","v":{"$error":"#REF!"}},{"$f":"'Pob x Genero'!#REF!","v":{"$error":"#REF!"}},"Hombre","00-04",{"$f":"'Pob x Genero'!#REF!","v":{"$error":"#REF!"}},16]
[{"$f":"'Pob x Genero'!#REF!","v":{"$error":"#REF!"}},{"$f":"'Pob x Genero'!#REF!","v":{"$error":"#REF!"}},{"$f":"'Pob x Genero'!#REF!","v":{"$error":"#REF!"}},{"$f":"'Pob x Genero'!#REF!","v":{"$error":"#REF!"}},{"$f":"'Pob x Genero'!#REF!","v":{"$error":"#REF!"}},"Hombre","00-04",{"$f":"'Pob x Genero'!#REF!","v":{"$error":"#REF!"}},17]
[{"$f":"'Pob x Genero'!#REF!","v":{"$error":"#REF!"}},{"$f":"'Pob x Genero'!#REF!","v":{"$error":"#REF!"}},{"$f":"'Pob x Genero'!#REF!","v":{"$error":"#REF!"}},{"$f":"'Pob x Genero'!#REF!","v":{"$error":"#REF!"}},{"$f":"'Pob x Genero'!#REF!","v":{"$error":"#REF!"}},"Hombre","00-04",{"$f":"'Pob x Genero'!#REF!","v":{"$error":"#REF!"}},18]
[{"$f":"'Pob x Genero'!#REF!","v":{"$error":"#REF!"}},{"$f":"'Pob x Genero'!#REF!","v":{"$error":"#REF!"}},{"$f":"'Pob x Genero'!#REF!","v":{"$error":"#REF!"}},{"$f":"'Pob x Genero'!#REF!","v":{"$error":"#REF!"}},{"$f":"'Pob x Genero'!#REF!","v":{"$error":"#REF!"}},"Hombre","00-04",{"$f":"'Pob x Genero'!#REF!","v":{"$error":"#REF!"}},19]
[{"$f":"'Pob x Genero'!#REF!","v":{"$error":"#REF!"}},{"$f":"'Pob x Genero'!#REF!","v":{"$error":"#REF!"}},{"$f":"'Pob x Genero'!#REF!","v":{"$error":"#REF!"}},{"$f":"'Pob x Genero'!#REF!","v":{"$error":"#REF!"}},{"$f":"'Pob x Genero'!#REF!","v":{"$error":"#REF!"}},"Hombre","00-04",{"$f":"'Pob x Genero'!#REF!","v":{"$error":"#REF!"}},20]
[{"$f":"'Pob x Genero'!#REF!","v":{"$error":"#REF!"}},{"$f":"'Pob x Genero'!#REF!","v":{"$error":"#REF!"}},{"$f":"'Pob x Genero'!#REF!","v":{"$error":"#REF!"}},{"$f":"'Pob x Genero'!#REF!","v":{"$error":"#REF!"}},{"$f":"'Pob x Genero'!#REF!","v":{"$error":"#REF!"}},"Hombre","00-04",{"$f":"'Pob x Genero'!#REF!","v":{"$error":"#REF!"}},21]
[{"$f":"'Pob x Genero'!#REF!","v":{"$error":"#REF!"}},{"$f":"'Pob x Genero'!#REF!","v":{"$error":"#REF!"}},{"$f":"'Pob x Genero'!#REF!","v":{"$error":"#REF!"}},{"$f":"'Pob x Genero'!#REF!","v":{"$error":"#REF!"}},{"$f":"'Pob x Genero'!#REF!","v":{"$error":"#REF!"}},"Hombre","00-04",{"$f":"'Pob x Genero'!#REF!","v":{"$error":"#REF!"}},22]
[{"$f":"'Pob x Genero'!#REF!","v":{"$error":"#REF!"}},{"$f":"'Pob x Genero'!#REF!","v":{"$error":"#REF!"}},{"$f":"'Pob x Genero'!#REF!","v":{"$error":"#REF!"}},{"$f":"'Pob x Genero'!#REF!","v":{"$error":"#REF!"}},{"$f":"'Pob x Genero'!#REF!","v":{"$error":"#REF!"}},"Hombre","00-04",{"$f":"'Pob x Genero'!#REF!","v":{"$error":"#REF!"}},23]
[{"$f":"'Pob x Genero'!#REF!","v":{"$error":"#REF!"}},{"$f":"'Pob x Genero'!#REF!","v":{"$error":"#REF!"}},{"$f":"'Pob x Genero'!#REF!","v":{"$error":"#REF!"}},{"$f":"'Pob x Genero'!#REF!","v":{"$error":"#REF!"}},{"$f":"'Pob x Genero'!#REF!","v":{"$error":"#REF!"}},"Hombre","00-04",{"$f":"'Pob x Genero'!#REF!","v":{"$error":"#REF!"}},24]
[{"$f":"'Pob x Genero'!#REF!","v":{"$error":"#REF!"}},{"$f":"'Pob x Genero'!#REF!","v":{"$error":"#REF!"}},{"$f":"'Pob x Genero'!#REF!","v":{"$error":"#REF!"}},{"$f":"'Pob x Genero'!#REF!","v":{"$error":"#REF!"}},{"$f":"'Pob x Genero'!#REF!","v":{"$error":"#REF!"}},"Hombre","00-04",{"$f":"'Pob x Genero'!#REF!","v":{"$error":"#REF!"}},25]
[{"$f":"'Pob x Genero'!#REF!","v":{"$error":"#REF!"}},{"$f":"'Pob x Genero'!#REF!","v":{"$error":"#REF!"}},{"$f":"'Pob x Genero'!#REF!","v":{"$error":"#REF!"}},{"$f":"'Pob x Genero'!#REF!","v":{"$error":"#REF!"}},{"$f":"'Pob x Genero'!#REF!","v":{"$error":"#REF!"}},"Hombre","00-04",{"$f":"'Pob x Genero'!#REF!","v":{"$error":"#REF!"}},26]
[{"$f":"'Pob x Genero'!#REF!","v":{"$error":"#REF!"}},{"$f":"'Pob x Genero'!#REF!","v":{"$error":"#REF!"}},{"$f":"'Pob x Genero'!#REF!","v":{"$error":"#REF!"}},{"$f":"'Pob x Genero'!#REF!","v":{"$error":"#REF!"}},{"$f":"'Pob x Genero'!#REF!","v":{"$error":"#REF!"}},"Hombre","00-04",{"$f":"'Pob x Genero'!#REF!","v":{"$error":"#REF!"}},27]
[{"$f":"'Pob x Genero'!#REF!","v":{"$error":"#REF!"}},{"$f":"'Pob x Genero'!#REF!","v":{"$error":"#REF!"}},{"$f":"'Pob x Genero'!#REF!","v":{"$error":"#REF!"}},{"$f":"'Pob x Genero'!#REF!","v":{"$error":"#REF!"}},{"$f":"'Pob x Genero'!#REF!","v":{"$error":"#REF!"}},"Hombre","00-04",{"$f":"'Pob x Genero'!#REF!","v":{"$error":"#REF!"}},28]
[{"$f":"'Pob x Genero'!#REF!","v":{"$error":"#REF!"}},{"$f":"'Pob x Genero'!#REF!","v":{"$error":"#REF!"}},{"$f":"'Pob x Genero'!#REF!","v":{"$error":"#REF!"}},{"$f":"'Pob x Genero'!#REF!","v":{"$error":"#REF!"}},{"$f":"'Pob x Genero'!#REF!","v":{"$error":"#REF!"}},"Hombre","00-04",{"$f":"'Pob x Genero'!#REF!","v":{"$error":"#REF!"}},29]
[{"$f":"'Pob x Genero'!#REF!","v":{"$error":"#REF!"}},{"$f":"'Pob x Genero'!#REF!","v":{"$error":"#REF!"}},{"$f":"'Pob x Genero'!#REF!","v":{"$error":"#REF!"}},{"$f":"'Pob x Genero'!#REF!","v":{"$error":"#REF!"}},{"$f":"'Pob x Genero'!#REF!","v":{"$error":"#REF!"}},"Hombre","00-04",{"$f":"'Pob x Genero'!#REF!","v":{"$error":"#REF!"}},30]
[{"$f":"'Pob x Genero'!#REF!","v":{"$error":"#REF!"}},{"$f":"'Pob x Genero'!#REF!","v":{"$error":"#REF!"}},{"$f":"'Pob x Genero'!#REF!","v":{"$error":"#REF!"}},{"$f":"'Pob x Genero'!#REF!","v":{"$error":"#REF!"}},{"$f":"'Pob x Genero'!#REF!","v":{"$error":"#REF!"}},"Hombre","00-04",{"$f":"'Pob x Genero'!#REF!","v":{"$error":"#REF!"}},31]
[{"$f":"'Pob x Genero'!#REF!","v":{"$error":"#REF!"}},{"$f":"'Pob x Genero'!#REF!","v":{"$error":"#REF!"}},{"$f":"'Pob x Genero'!#REF!","v":{"$error":"#REF!"}},{"$f":"'Pob x Genero'!#REF!","v":{"$error":"#REF!"}},{"$f":"'Pob x Genero'!#REF!","v":{"$error":"#REF!"}},"Hombre","00-04",{"$f":"'Pob x Genero'!#REF!","v":{"$error":"#REF!"}},32]
[{"$f":"'Pob x Genero'!#REF!","v":{"$error":"#REF!"}},{"$f":"'Pob x Genero'!#REF!","v":{"$error":"#REF!"}},{"$f":"'Pob x Genero'!#REF!","v":{"$error":"#REF!"}},{"$f":"'Pob x Genero'!#REF!","v":{"$error":"#REF!"}},{"$f":"'Pob x Genero'!#REF!","v":{"$error":"#REF!"}},"Hombre","00-04",{"$f":"'Pob x Genero'!#REF!","v":{"$error":"#REF!"}},33]
[{"$f":"'Pob x Genero'!#REF!","v":{"$error":"#REF!"}},{"$f":"'Pob x Genero'!#REF!","v":{"$error":"#REF!"}},{"$f":"'Pob x Genero'!#REF!","v":{"$error":"#REF!"}},{"$f":"'Pob x Genero'!#REF!","v":{"$error":"#REF!"}},{"$f":"'Pob x Genero'!#REF!","v":{"$error":"#REF!"}},"Hombre","00-04",{"$f":"'Pob x Genero'!#REF!","v":{"$error":"#REF!"}},34]
[{"$f":"'Pob x Genero'!#REF!","v":{"$error":"#REF!"}},{"$f":"'Pob x Genero'!#REF!","v":{"$error":"#REF!"}},{"$f":"'Pob x Genero'!#REF!","v":{"$error":"#REF!"}},{"$f":"'Pob x Genero'!#REF!","v":{"$error":"#REF!"}},{"$f":"'Pob x Genero'!#REF!","v":{"$error":"#REF!"}},"Hombre","00-04",{"$f":"'Pob x Genero'!#REF!","v":{"$error":"#REF!"}},35]
[{"$f":"'Pob x Genero'!#REF!","v":{"$error":"#REF!"}},{"$f":"'Pob x Genero'!#REF!","v":{"$error":"#REF!"}},{"$f":"'Pob x Genero'!#REF!","v":{"$error":"#REF!"}},{"$f":"'Pob x Genero'!#REF!","v":{"$error":"#REF!"}},{"$f":"'Pob x Genero'!#REF!","v":{"$error":"#REF!"}},"Hombre","00-04",{"$f":"'Pob x Genero'!#REF!","v":{"$error":"#REF!"}},36]
[{"$f":"'Pob x Genero'!#REF!","v":{"$error":"#REF!"}},{"$f":"'Pob x Genero'!#REF!","v":{"$error":"#REF!"}},{"$f":"'Pob x Genero'!#REF!","v":{"$error":"#REF!"}},{"$f":"'Pob x Genero'!#REF!","v":{"$error":"#REF!"}},{"$f":"'Pob x Genero'!#REF!","v":{"$error":"#REF!"}},"Hombre","00-04",{"$f":"'Pob x Genero'!#REF!","v":{"$error":"#REF!"}},37]
[{"$f":"'Pob x Genero'!#REF!","v":{"$error":"#REF!"}},{"$f":"'Pob x Genero'!#REF!","v":{"$error":"#REF!"}},{"$f":"'Pob x Genero'!#REF!","v":{"$error":"#REF!"}},{"$f":"'Pob x Genero'!#REF!","v":{"$error":"#REF!"}},{"$f":"'Pob x Genero'!#REF!","v":{"$error":"#REF!"}},"Hombre","00-04",{"$f":"'Pob x Genero'!#REF!","v":{"$error":"#REF!"}},38]
[{"$f":"'Pob x Genero'!#REF!","v":{"$error":"#REF!"}},{"$f":"'Pob x Genero'!#REF!","v":{"$error":"#REF!"}},{"$f":"'Pob x Genero'!#REF!","v":{"$error":"#REF!"}},{"$f":"'Pob x Genero'!#REF!","v":{"$error":"#REF!"}},{"$f":"'Pob x Genero'!#REF!","v":{"$error":"#REF!"}},"Hombre","00-04",{"$f":"'Pob x Genero'!#REF!","v":{"$error":"#REF!"}},39]
[{"$f":"'Pob x Genero'!#REF!","v":{"$error":"#REF!"}},{"$f":"'Pob x Genero'!#REF!","v":{"$error":"#REF!"}},{"$f":"'Pob x Genero'!#REF!","v":{"$error":"#REF!"}},{"$f":"'Pob x Genero'!#REF!","v":{"$error":"#REF!"}},{"$f":"'Pob x Genero'!#REF!","v":{"$error":"#REF!"}},"Hombre","00-04",{"$f":"'Pob x Genero'!#REF!","v":{"$error":"#REF!"}},40]
[{"$f":"'Pob x Genero'!#REF!","v":{"$error":"#REF!"}},{"$f":"'Pob x Genero'!#REF!","v":{"$error":"#REF!"}},{"$f":"'Pob x Genero'!#REF!","v":{"$error":"#REF!"}},{"$f":"'Pob x Genero'!#REF!","v":{"$error":"#REF!"}},{"$f":"'Pob x Genero'!#REF!","v":{"$error":"#REF!"}},"Hombre","00-04",{"$f":"'Pob x Genero'!#REF!","v":{"$error":"#REF!"}},41]
[{"$f":"'Pob x Genero'!#REF!","v":{"$error":"#REF!"}},{"$f":"'Pob x Genero'!#REF!","v":{"$error":"#REF!"}},{"$f":"'Pob x Genero'!#REF!","v":{"$error":"#REF!"}},{"$f":"'Pob x Genero'!#REF!","v":{"$error":"#REF!"}},{"$f":"'Pob x Genero'!#REF!","v":{"$error":"#REF!"}},"Hombre","00-04",{"$f":"'Pob x Genero'!#REF!","v":{"$error":"#REF!"}},42]
[{"$f":"'Pob x Genero'!#REF!","v":{"$error":"#REF!"}},{"$f":"'Pob x Genero'!#REF!","v":{"$error":"#REF!"}},{"$f":"'Pob x Genero'!#REF!","v":{"$error":"#REF!"}},{"$f":"'Pob x Genero'!#REF!","v":{"$error":"#REF!"}},{"$f":"'Pob x Genero'!#REF!","v":{"$error":"#REF!"}},"Hombre","00-04",{"$f":"'Pob x Genero'!#REF!","v":{"$error":"#REF!"}},43]
[{"$f":"'Pob x Genero'!#REF!","v":{"$error":"#REF!"}},{"$f":"'Pob x Genero'!#REF!","v":{"$error":"#REF!"}},{"$f":"'Pob x Genero'!#REF!","v":{"$error":"#REF!"}},{"$f":"'Pob x Genero'!#REF!","v":{"$error":"#REF!"}},{"$f":"'Pob x Genero'!#REF!","v":{"$error":"#REF!"}},"Hombre","00-04",{"$f":"'Pob x Genero'!#REF!","v":{"$error":"#REF!"}},44]
[{"$f":"'Pob x Genero'!#REF!","v":{"$error":"#REF!"}},{"$f":"'Pob x Genero'!#REF!","v":{"$error":"#REF!"}},{"$f":"'Pob x Genero'!#REF!","v":{"$error":"#REF!"}},{"$f":"'Pob x Genero'!#REF!","v":{"$error":"#REF!"}},{"$f":"'Pob x Genero'!#REF!","v":{"$error":"#REF!"}},"Hombre","00-04",{"$f":"'Pob x Genero'!#REF!","v":{"$error":"#REF!"}},45]
[{"$f":"'Pob x Genero'!#REF!","v":{"$error":"#REF!"}},{"$f":"'Pob x Genero'!#REF!","v":{"$error":"#REF!"}},{"$f":"'Pob x Genero'!#REF!","v":{"$error":"#REF!"}},{"$f":"'Pob x Genero'!#REF!","v":{"$error":"#REF!"}},{"$f":"'Pob x Genero'!#REF!","v":{"$error":"#REF!"}},"Hombre","00-04",{"$f":"'Pob x Genero'!#REF!","v":{"$error":"#REF!"}},46]
[{"$f":"'Pob x Genero'!#REF!","v":{"$error":"#REF!"}},{"$f":"'Pob x Genero'!#REF!","v":{"$error":"#REF!"}},{"$f":"'Pob x Genero'!#REF!","v":{"$error":"#REF!"}},{"$f":"'Pob x Genero'!#REF!","v":{"$error":"#REF!"}},{"$f":"'Pob x Genero'!#REF!","v":{"$error":"#REF!"}},"Hombre","00-04",{"$f":"'Pob x Genero'!#REF!","v":{"$error":"#REF!"}},47]
[{"$f":"'Pob x Genero'!#REF!","v":{"$error":"#REF!"}},{"$f":"'Pob x Genero'!#REF!","v":{"$error":"#REF!"}},{"$f":"'Pob x Genero'!#REF!","v":{"$error":"#REF!"}},{"$f":"'Pob x Genero'!#REF!","v":{"$error":"#REF!"}},{"$f":"'Pob x Genero'!#REF!","v":{"$error":"#REF!"}},"Hombre","00-04",{"$f":"'Pob x Genero'!#REF!","v":{"$error":"#REF!"}},48]
[{"$f":"'Pob x Genero'!#REF!","v":{"$error":"#REF!"}},{"$f":"'Pob x Genero'!#REF!","v":{"$error":"#REF!"}},{"$f":"'Pob x Genero'!#REF!","v":{"$error":"#REF!"}},{"$f":"'Pob x Genero'!#REF!","v":{"$error":"#REF!"}},{"$f":"'Pob x Genero'!#REF!","v":{"$error":"#REF!"}},"Hombre","00-04",{"$f":"'Pob x Genero'!#REF!","v":{"$error":"#REF!"}},49]
[{"$f":"'Pob x Genero'!#REF!","v":{"$error":"#REF!"}},{"$f":"'Pob x Genero'!#REF!","v":{"$error":"#REF!"}},{"$f":"'Pob x Genero'!#REF!","v":{"$error":"#REF!"}},{"$f":"'Pob x Genero'!#REF!","v":{"$error":"#REF!"}},{"$f":"'Pob x Genero'!#REF!","v":{"$error":"#REF!"}},"Hombre","00-04",{"$f":"'Pob x Genero'!#REF!","v":{"$error":"#REF!"}},50]
[{"$f":"'Pob x Genero'!#REF!","v":{"$error":"#REF!"}},{"$f":"'Pob x Genero'!#REF!","v":{"$error":"#REF!"}},{"$f":"'Pob x Genero'!#REF!","v":{"$error":"#REF!"}},{"$f":"'Pob x Genero'!#REF!","v":{"$error":"#REF!"}},{"$f":"'Pob x Genero'!#REF!","v":{"$error":"#REF!"}},"Hombre","00-04",{"$f":"'Pob x Genero'!#REF!","v":{"$error":"#REF!"}},51]
[{"$f":"'Pob x Genero'!#REF!","v":{"$error":"#REF!"}},{"$f":"'Pob x Genero'!#REF!","v":{"$error":"#REF!"}},{"$f":"'Pob x Genero'!#REF!","v":{"$error":"#REF!"}},{"$f":"'Pob x Genero'!#REF!","v":{"$error":"#REF!"}},{"$f":"'Pob x Genero'!#REF!","v":{"$error":"#REF!"}},"Hombre","00-04",{"$f":"'Pob x Genero'!#REF!","v":{"$error":"#REF!"}},52]
[{"$f":"'Pob x Genero'!#REF!","v":{"$error":"#REF!"}},{"$f":"'Pob x Genero'!#REF!","v":{"$error":"#REF!"}},{"$f":"'Pob x Genero'!#REF!","v":{"$error":"#REF!"}},{"$f":"'Pob x Genero'!#REF!","v":{"$error":"#REF!"}},{"$f":"'Pob x Genero'!#REF!","v":{"$error":"#REF!"}},"Hombre","00-04",{"$f":"'Pob x Genero'!#REF!","v":{"$error":"#REF!"}},53]
[{"$f":"'Pob x Genero'!#REF!","v":{"$error":"#REF!"}},{"$f":"'Pob x Genero'!#REF!","v":{"$error":"#REF!"}},{"$f":"'Pob x Genero'!#REF!","v":{"$error":"#REF!"}},{"$f":"'Pob x Genero'!#REF!","v":{"$error":"#REF!"}},{"$f":"'Pob x Genero'!#REF!","v":{"$error":"#REF!"}},"Hombre","00-04",{"$f":"'Pob x Genero'!#REF!","v":{"$error":"#REF!"}},54]
[{"$f":"'Pob x Genero'!#REF!","v":{"$error":"#REF!"}},{"$f":"'Pob x Genero'!#REF!","v":{"$error":"#REF!"}},{"$f":"'Pob x Genero'!#REF!","v":{"$error":"#REF!"}},{"$f":"'Pob x Genero'!#REF!","v":{"$error":"#REF!"}},{"$f":"'Pob x Genero'!#REF!","v":{"$error":"#REF!"}},"Hombre","00-04",{"$f":"'Pob x Genero'!#REF!","v":{"$error":"#REF!"}},55]
[{"$f":"'Pob x Genero'!#REF!","v":{"$error":"#REF!"}},{"$f":"'Pob x Genero'!#REF!","v":{"$error":"#REF!"}},{"$f":"'Pob x Genero'!#REF!","v":{"$error":"#REF!"}},{"$f":"'Pob x Genero'!#REF!","v":{"$error":"#REF!"}},{"$f":"'Pob x Genero'!#REF!","v":{"$error":"#REF!"}},"Hombre","00-04",{"$f":"'Pob x Genero'!#REF!","v":{"$error":"#REF!"}},56]
[{"$f":"'Pob x Genero'!#REF!","v":{"$error":"#REF!"}},{"$f":"'Pob x Genero'!#REF!","v":{"$error":"#REF!"}},{"$f":"'Pob x Genero'!#REF!","v":{"$error":"#REF!"}},{"$f":"'Pob x Genero'!#REF!","v":{"$error":"#REF!"}},{"$f":"'Pob x Genero'!#REF!","v":{"$error":"#REF!"}},"Hombre","00-04",{"$f":"'Pob x Genero'!#REF!","v":{"$error":"#REF!"}},57]
[{"$f":"'Pob x Genero'!#REF!","v":{"$error":"#REF!"}},{"$f":"'Pob x Genero'!#REF!","v":{"$error":"#REF!"}},{"$f":"'Pob x Genero'!#REF!","v":{"$error":"#REF!"}},{"$f":"'Pob x Genero'!#REF!","v":{"$error":"#REF!"}},{"$f":"'Pob x Genero'!#REF!","v":{"$error":"#REF!"}},"Hombre","00-04",{"$f":"'Pob x Genero'!#REF!","v":{"$error":"#REF!"}},58]
[{"$f":"'Pob x Genero'!#REF!","v":{"$error":"#REF!"}},{"$f":"'Pob x Genero'!#REF!","v":{"$error":"#REF!"}},{"$f":"'Pob x Genero'!#REF!","v":{"$error":"#REF!"}},{"$f":"'Pob x Genero'!#REF!","v":{"$error":"#REF!"}},{"$f":"'Pob x Genero'!#REF!","v":{"$error":"#REF!"}},"Hombre","00-04",{"$f":"'Pob x Genero'!#REF!","v":{"$error":"#REF!"}},59]
[{"$f":"'Pob x Genero'!#REF!","v":{"$error":"#REF!"}},{"$f":"'Pob x Genero'!#REF!","v":{"$error":"#REF!"}},{"$f":"'Pob x Genero'!#REF!","v":{"$error":"#REF!"}},{"$f":"'Pob x Genero'!#REF!","v":{"$error":"#REF!"}},{"$f":"'Pob x Genero'!#REF!","v":{"$error":"#REF!"}},"Hombre","00-04",{"$f":"'Pob x Genero'!#REF!","v":{"$error":"#REF!"}},60]
[{"$f":"'Pob x Genero'!#REF!","v":{"$error":"#REF!"}},{"$f":"'Pob x Genero'!#REF!","v":{"$error":"#REF!"}},{"$f":"'Pob x Genero'!#REF!","v":{"$error":"#REF!"}},{"$f":"'Pob x Genero'!#REF!","v":{"$error":"#REF!"}},{"$f":"'Pob x Genero'!#REF!","v":{"$error":"#REF!"}},"Hombre","00-04",{"$f":"'Pob x Genero'!#REF!","v":{"$error":"#REF!"}},61]
[{"$f":"'Pob x Genero'!#REF!","v":{"$error":"#REF!"}},{"$f":"'Pob x Genero'!#REF!","v":{"$error":"#REF!"}},{"$f":"'Pob x Genero'!#REF!","v":{"$error":"#REF!"}},{"$f":"'Pob x Genero'!#REF!","v":{"$error":"#REF!"}},{"$f":"'Pob x Genero'!#REF!","v":{"$error":"#REF!"}},"Hombre","00-04",{"$f":"'Pob x Genero'!#REF!","v":{"$error":"#REF!"}},62]
[{"$f":"'Pob x Genero'!#REF!","v":{"$error":"#REF!"}},{"$f":"'Pob x Genero'!#REF!","v":{"$error":"#REF!"}},{"$f":"'Pob x Genero'!#REF!","v":{"$error":"#REF!"}},{"$f":"'Pob x Genero'!#REF!","v":{"$error":"#REF!"}},{"$f":"'Pob x Genero'!#REF!","v":{"$error":"#REF!"}},"Hombre","00-04",{"$f":"'Pob x Genero'!#REF!","v":{"$error":"#REF!"}},63]
[{"$f":"'Pob x Genero'!#REF!","v":{"$error":"#REF!"}},{"$f":"'Pob x Genero'!#REF!","v":{"$error":"#REF!"}},{"$f":"'Pob x Genero'!#REF!","v":{"$error":"#REF!"}},{"$f":"'Pob x Genero'!#REF!","v":{"$error":"#REF!"}},{"$f":"'Pob x Genero'!#REF!","v":{"$error":"#REF!"}},"Hombre","00-04",{"$f":"'Pob x Genero'!#REF!","v":{"$error":"#REF!"}},64]
[{"$f":"'Pob x Genero'!#REF!","v":{"$error":"#REF!"}},{"$f":"'Pob x Genero'!#REF!","v":{"$error":"#REF!"}},{"$f":"'Pob x Genero'!#REF!","v":{"$error":"#REF!"}},{"$f":"'Pob x Genero'!#REF!","v":{"$error":"#REF!"}},{"$f":"'Pob x Genero'!#REF!","v":{"$error":"#REF!"}},"Hombre","00-04",{"$f":"'Pob x Genero'!#REF!","v":{"$error":"#REF!"}},65]
[{"$f":"'Pob x Genero'!#REF!","v":{"$error":"#REF!"}},{"$f":"'Pob x Genero'!#REF!","v":{"$error":"#REF!"}},{"$f":"'Pob x Genero'!#REF!","v":{"$error":"#REF!"}},{"$f":"'Pob x Genero'!#REF!","v":{"$error":"#REF!"}},{"$f":"'Pob x Genero'!#REF!","v":{"$error":"#REF!"}},{"$f":"F66","v":"Hombre"},{"$f":"G66","v":"00-04"},{"$f":"'Pob x Genero'!#REF!","v":{"$error":"#REF!"}},66]
[{"$f":"'Pob x Genero'!#REF!","v":{"$error":"#REF!"}},{"$f":"'Pob x Genero'!#REF!","v":{"$error":"#REF!"}},{"$f":"'Pob x Genero'!#REF!","v":{"$error":"#REF!"}},{"$f":"'Pob x Genero'!#REF!","v":{"$error":"#REF!"}},{"$f":"'Pob x Genero'!#REF!","v":{"$error":"#REF!"}},"Hombre","00-04",{"$f":"'Pob x Genero'!#REF!","v":{"$error":"#REF!"}},67]
[{"$f":"'Pob x Genero'!#REF!","v":{"$error":"#REF!"}},{"$f":"'Pob x Genero'!#REF!","v":{"$error":"#REF!"}},{"$f":"'Pob x Genero'!#REF!","v":{"$error":"#REF!"}},{"$f":"'Pob x Genero'!#REF!","v":{"$error":"#REF!"}},{"$f":"'Pob x Genero'!#REF!","v":{"$error":"#REF!"}},"Hombre","00-04",{"$f":"'Pob x Genero'!#REF!","v":{"$error":"#REF!"}},68]
[{"$f":"'Pob x Genero'!#REF!","v":{"$error":"#REF!"}},{"$f":"'Pob x Genero'!#REF!","v":{"$error":"#REF!"}},{"$f":"'Pob x Genero'!#REF!","v":{"$error":"#REF!"}},{"$f":"'Pob x Genero'!#REF!","v":{"$error":"#REF!"}},{"$f":"'Pob x Genero'!#REF!","v":{"$error":"#REF!"}},"Hombre","00-04",{"$f":"'Pob x Genero'!#REF!","v":{"$error":"#REF!"}},69]
[{"$f":"'Pob x Genero'!#REF!","v":{"$error":"#REF!"}},{"$f":"'Pob x Genero'!#REF!","v":{"$error":"#REF!"}},{"$f":"'Pob x Genero'!#REF!","v":{"$error":"#REF!"}},{"$f":"'Pob x Genero'!#REF!","v":{"$error":"#REF!"}},{"$f":"'Pob x Genero'!#REF!","v":{"$error":"#REF!"}},"Hombre","00-04",{"$f":"'Pob x Genero'!#REF!","v":{"$error":"#REF!"}},70]
[{"$f":"'Pob x Genero'!#REF!","v":{"$error":"#REF!"}},{"$f":"'Pob x Genero'!#REF!","v":{"$error":"#REF!"}},{"$f":"'Pob x Genero'!#REF!","v":{"$error":"#REF!"}},{"$f":"'Pob x Genero'!#REF!","v":{"$error":"#REF!"}},{"$f":"'Pob x Genero'!#REF!","v":{"$error":"#REF!"}},"Hombre","00-04",{"$f":"'Pob x Genero'!#REF!","v":{"$error":"#REF!"}},71]
[{"$f":"'Pob x Genero'!#REF!","v":{"$error":"#REF!"}},{"$f":"'Pob x Genero'!#REF!","v":{"$error":"#REF!"}},{"$f":"'Pob x Genero'!#REF!","v":{"$error":"#REF!"}},{"$f":"'Pob x Genero'!#REF!","v":{"$error":"#REF!"}},{"$f":"'Pob x Genero'!#REF!","v":{"$error":"#REF!"}},"Hombre","00-04",{"$f":"'Pob x Genero'!#REF!","v":{"$error":"#REF!"}},72]
[{"$f":"'Pob x Genero'!#REF!","v":{"$error":"#REF!"}},{"$f":"'Pob x Genero'!#REF!","v":{"$error":"#REF!"}},{"$f":"'Pob x Genero'!#REF!","v":{"$error":"#REF!"}},{"$f":"'Pob x Genero'!#REF!","v":{"$error":"#REF!"}},{"$f":"'Pob x Genero'!#REF!","v":{"$error":"#REF!"}},"Hombre","00-04",{"$f":"'Pob x Genero'!#REF!","v":{"$error":"#REF!"}},73]
[{"$f":"'Pob x Genero'!#REF!","v":{"$error":"#REF!"}},{"$f":"'Pob x Genero'!#REF!","v":{"$error":"#REF!"}},{"$f":"'Pob x Genero'!#REF!","v":{"$error":"#REF!"}},{"$f":"'Pob x Genero'!#REF!","v":{"$error":"#REF!"}},{"$f":"'Pob x Genero'!#REF!","v":{"$error":"#REF!"}},"Hombre","00-04",{"$f":"'Pob x Genero'!#REF!","v":{"$error":"#REF!"}},74]
[{"$f":"'Pob x Genero'!#REF!","v":{"$error":"#REF!"}},{"$f":"'Pob x Genero'!#REF!","v":{"$error":"#REF!"}},{"$f":"'Pob x Genero'!#REF!","v":{"$error":"#REF!"}},{"$f":"'Pob x Genero'!#REF!","v":{"$error":"#REF!"}},{"$f":"'Pob x Genero'!#REF!","v":{"$error":"#REF!"}},"Hombre","00-04",{"$f":"'Pob x Genero'!#REF!","v":{"$error":"#REF!"}},75]
[{"$f":"'Pob x Genero'!#REF!","v":{"$error":"#REF!"}},{"$f":"'Pob x Genero'!#REF!","v":{"$error":"#REF!"}},{"$f":"'Pob x Genero'!#REF!","v":{"$error":"#REF!"}},{"$f":"'Pob x Genero'!#REF!","v":{"$error":"#REF!"}},{"$f":"'Pob x Genero'!#REF!","v":{"$error":"#REF!"}},"Hombre","00-04",{"$f":"'Pob x Genero'!#REF!","v":{"$error":"#REF!"}},76]
[{"$f":"'Pob x Genero'!#REF!","v":{"$error":"#REF!"}},{"$f":"'Pob x Genero'!#REF!","v":{"$error":"#REF!"}},{"$f":"'Pob x Genero'!#REF!","v":{"$error":"#REF!"}},{"$f":"'Pob x Genero'!#REF!","v":{"$error":"#REF!"}},{"$f":"'Pob x Genero'!#REF!","v":{"$error":"#REF!"}},"Hombre","00-04",{"$f":"'Pob x Genero'!#REF!","v":{"$error":"#REF!"}},77]
[{"$f":"'Pob x Genero'!#REF!","v":{"$error":"#REF!"}},{"$f":"'Pob x Genero'!#REF!","v":{"$error":"#REF!"}},{"$f":"'Pob x Genero'!#REF!","v":{"$error":"#REF!"}},{"$f":"'Pob x Genero'!#REF!","v":{"$error":"#REF!"}},{"$f":"'Pob x Genero'!#REF!","v":{"$error":"#REF!"}},"Hombre","00-04",{"$f":"'Pob x Genero'!#REF!","v":{"$error":"#REF!"}},78]
[{"$f":"'Pob x Genero'!#REF!","v":{"$error":"#REF!"}},{"$f":"'Pob x Genero'!#REF!","v":{"$error":"#REF!"}},{"$f":"'Pob x Genero'!#REF!","v":{"$error":"#REF!"}},{"$f":"'Pob x Genero'!#REF!","v":{"$error":"#REF!"}},{"$f":"'Pob x Genero'!#REF!","v":{"$error":"#REF!"}},"Hombre","00-04",{"$f":"'Pob x Genero'!#REF!","v":{"$error":"#REF!"}},79]
[{"$f":"'Pob x Genero'!#REF!","v":{"$error":"#REF!"}},{"$f":"'Pob x Genero'!#REF!","v":{"$error":"#REF!"}},{"$f":"'Pob x Genero'!#REF!","v":{"$error":"#REF!"}},{"$f":"'Pob x Genero'!#REF!","v":{"$error":"#REF!"}},{"$f":"'Pob x Genero'!#REF!","v":{"$error":"#REF!"}},"Hombre","00-04",{"$f":"'Pob x Genero'!#REF!","v":{"$error":"#REF!"}},80]
[{"$f":"'Pob x Genero'!#REF!","v":{"$error":"#REF!"}},{"$f":"'Pob x Genero'!#REF!","v":{"$error":"#REF!"}},{"$f":"'Pob x Genero'!#REF!","v":{"$error":"#REF!"}},{"$f":"'Pob x Genero'!#REF!","v":{"$error":"#REF!"}},{"$f":"'Pob x Genero'!#REF!","v":{"$error":"#REF!"}},"Hombre","00-04",{"$f":"'Pob x Genero'!#REF!","v":{"$error":"#REF!"}},81]
[{"$f":"'Pob x Genero'!#REF!","v":{"$error":"#REF!"}},{"$f":"'Pob x Genero'!#REF!","v":{"$error":"#REF!"}},{"$f":"'Pob x Genero'!#REF!","v":{"$error":"#REF!"}},{"$f":"'Pob x Genero'!#REF!","v":{"$error":"#REF!"}},{"$f":"'Pob x Genero'!#REF!","v":{"$error":"#REF!"}},"Hombre","00-04",{"$f":"'Pob x Genero'!#REF!","v":{"$error":"#REF!"}},82]
[{"$f":"'Pob x Genero'!#REF!","v":{"$error":"#REF!"}},{"$f":"'Pob x Genero'!#REF!","v":{"$error":"#REF!"}},{"$f":"'Pob x Genero'!#REF!","v":{"$error":"#REF!"}},{"$f":"'Pob x Genero'!#REF!","v":{"$error":"#REF!"}},{"$f":"'Pob x Genero'!#REF!","v":{"$error":"#REF!"}},"Hombre","00-04",{"$f":"'Pob x Genero'!#REF!","v":{"$error":"#REF!"}},83]
[{"$f":"'Pob x Genero'!#REF!","v":{"$error":"#REF!"}},{"$f":"'Pob x Genero'!#REF!","v":{"$error":"#REF!"}},{"$f":"'Pob x Genero'!#REF!","v":{"$error":"#REF!"}},{"$f":"'Pob x Genero'!#REF!","v":{"$error":"#REF!"}},{"$f":"'Pob x Genero'!#REF!","v":{"$error":"#REF!"}},"Hombre","00-04",{"$f":"'Pob x Genero'!#REF!","v":{"$error":"#REF!"}},84]
[{"$f":"'Pob x Genero'!#REF!","v":{"$error":"#REF!"}},{"$f":"'Pob x Genero'!#REF!","v":{"$error":"#REF!"}},{"$f":"'Pob x Genero'!#REF!","v":{"$error":"#REF!"}},{"$f":"'Pob x Genero'!#REF!","v":{"$error":"#REF!"}},{"$f":"'Pob x Genero'!#REF!","v":{"$error":"#REF!"}},"Hombre","00-04",{"$f":"'Pob x Genero'!#REF!","v":{"$error":"#REF!"}},85]
[{"$f":"'Pob x Genero'!#REF!","v":{"$error":"#REF!"}},{"$f":"'Pob x Genero'!#REF!","v":{"$error":"#REF!"}},{"$f":"'Pob x Genero'!#REF!","v":{"$error":"#REF!"}},{"$f":"'Pob x Genero'!#REF!","v":{"$error":"#REF!"}},{"$f":"'Pob x Genero'!#REF!","v":{"$error":"#REF!"}},"Hombre","00-04",{"$f":"'Pob x Genero'!#REF!","v":{"$error":"#REF!"}},86]
[{"$f":"'Pob x Genero'!#REF!","v":{"$error":"#REF!"}},{"$f":"'Pob x Genero'!#REF!","v":{"$error":"#REF!"}},{"$f":"'Pob x Genero'!#REF!","v":{"$error":"#REF!"}},{"$f":"'Pob x Genero'!#REF!","v":{"$error":"#REF!"}},{"$f":"'Pob x Genero'!#REF!","v":{"$error":"#REF!"}},"Hombre","00-04",{"$f":"'Pob x Genero'!#REF!","v":{"$error":"#REF!"}},87]
[{"$f":"'Pob x Genero'!#REF!","v":{"$error":"#REF!"}},{"$f":"'Pob x Genero'!#REF!","v":{"$error":"#REF!"}},{"$f":"'Pob x Genero'!#REF!","v":{"$error":"#REF!"}},{"$f":"'Pob x Genero'!#REF!","v":{"$error":"#REF!"}},{"$f":"'Pob x Genero'!#REF!","v":{"$error":"#REF!"}},"Hombre","00-04",{"$f":"'Pob x Genero'!#REF!","v":{"$error":"#REF!"}},88]
[{"$f":"'Pob x Genero'!#REF!","v":{"$error":"#REF!"}},{"$f":"'Pob x Genero'!#REF!","v":{"$error":"#REF!"}},{"$f":"'Pob x Genero'!#REF!","v":{"$error":"#REF!"}},{"$f":"'Pob x Genero'!#REF!","v":{"$error":"#REF!"}},{"$f":"'Pob x Genero'!#REF!","v":{"$error":"#REF!"}},"Hombre","00-04",{"$f":"'Pob x Genero'!#REF!","v":{"$error":"#REF!"}},89]
[{"$f":"'Pob x Genero'!#REF!","v":{"$error":"#REF!"}},{"$f":"'Pob x Genero'!#REF!","v":{"$error":"#REF!"}},{"$f":"'Pob x Genero'!#REF!","v":{"$error":"#REF!"}},{"$f":"'Pob x Genero'!#REF!","v":{"$error":"#REF!"}},{"$f":"'Pob x Genero'!#REF!","v":{"$error":"#REF!"}},"Hombre","00-04",{"$f":"'Pob x Genero'!#REF!","v":{"$error":"#REF!"}},90]
[{"$f":"'Pob x Genero'!#REF!","v":{"$error":"#REF!"}},{"$f":"'Pob x Genero'!#REF!","v":{"$error":"#REF!"}},{"$f":"'Pob x Genero'!#REF!","v":{"$error":"#REF!"}},{"$f":"'Pob x Genero'!#REF!","v":{"$error":"#REF!"}},{"$f":"'Pob x Genero'!#REF!","v":{"$error":"#REF!"}},"Hombre","00-04",{"$f":"'Pob x Genero'!#REF!","v":{"$error":"#REF!"}},91]
[{"$f":"'Pob x Genero'!#REF!","v":{"$error":"#REF!"}},{"$f":"'Pob x Genero'!#REF!","v":{"$error":"#REF!"}},{"$f":"'Pob x Genero'!#REF!","v":{"$error":"#REF!"}},{"$f":"'Pob x Genero'!#REF!","v":{"$error":"#REF!"}},{"$f":"'Pob x Genero'!#REF!","v":{"$error":"#REF!"}},"Hombre","00-04",{"$f":"'Pob x Genero'!#REF!","v":{"$error":"#REF!"}},92]
[{"$f":"'Pob x Genero'!#REF!","v":{"$error":"#REF!"}},{"$f":"'Pob x Genero'!#REF!","v":{"$error":"#REF!"}},{"$f":"'Pob x Genero'!#REF!","v":{"$error":"#REF!"}},{"$f":"'Pob x Genero'!#REF!","v":{"$error":"#REF!"}},{"$f":"'Pob x Genero'!#REF!","v":{"$error":"#REF!"}},"Hombre","00-04",{"$f":"'Pob x Genero'!#REF!","v":{"$error":"#REF!"}},93]
[{"$f":"'Pob x Genero'!#REF!","v":{"$error":"#REF!"}},{"$f":"'Pob x Genero'!#REF!","v":{"$error":"#REF!"}},{"$f":"'Pob x Genero'!#REF!","v":{"$error":"#REF!"}},{"$f":"'Pob x Genero'!#REF!","v":{"$error":"#REF!"}},{"$f":"'Pob x Genero'!#REF!","v":{"$error":"#REF!"}},"Hombre","00-04",{"$f":"'Pob x Genero'!#REF!","v":{"$error":"#REF!"}},94]
[{"$f":"'Pob x Genero'!#REF!","v":{"$error":"#REF!"}},{"$f":"'Pob x Genero'!#REF!","v":{"$error":"#REF!"}},{"$f":"'Pob x Genero'!#REF!","v":{"$error":"#REF!"}},{"$f":"'Pob x Genero'!#REF!","v":{"$error":"#REF!"}},{"$f":"'Pob x Genero'!#REF!","v":{"$error":"#REF!"}},"Hombre","00-04",{"$f":"'Pob x Genero'!#REF!","v":{"$error":"#REF!"}},95]
[{"$f":"'Pob x Genero'!#REF!","v":{"$error":"#REF!"}},{"$f":"'Pob x Genero'!#REF!","v":{"$error":"#REF!"}},{"$f":"'Pob x Genero'!#REF!","v":{"$error":"#REF!"}},{"$f":"'Pob x Genero'!#REF!","v":{"$error":"#REF!"}},{"$f":"'Pob x Genero'!#REF!","v":{"$error":"#REF!"}},"Hombre","00-04",{"$f":"'Pob x Genero'!#REF!","v":{"$error":"#REF!"}},96]
[{"$f":"'Pob x Genero'!#REF!","v":{"$error":"#REF!"}},{"$f":"'Pob x Genero'!#REF!","v":{"$error":"#REF!"}},{"$f":"'Pob x Genero'!#REF!","v":{"$error":"#REF!"}},{"$f":"'Pob x Genero'!#REF!","v":{"$error":"#REF!"}},{"$f":"'Pob x Genero'!#REF!","v":{"$error":"#REF!"}},"Hombre","00-04",{"$f":"'Pob x Genero'!#REF!","v":{"$error":"#REF!"}},97]
[{"$f":"'Pob x Genero'!#REF!","v":{"$error":"#REF!"}},{"$f":"'Pob x Genero'!#REF!","v":{"$error":"#REF!"}},{"$f":"'Pob x Genero'!#REF!","v":{"$error":"#REF!"}},{"$f":"'Pob x Genero'!#REF!","v":{"$error":"#REF!"}},{"$f":"'Pob x Genero'!#REF!","v":{"$error":"#REF!"}},"Hombre","00-04",{"$f":"'Pob x Genero'!#REF!","v":{"$error":"#REF!"}},98]
[{"$f":"'Pob x Genero'!#REF!","v":{"$error":"#REF!"}},{"$f":"'Pob x Genero'!#REF!","v":{"$error":"#REF!"}},{"$f":"'Pob x Genero'!#REF!","v":{"$error":"#REF!"}},{"$f":"'Pob x Genero'!#REF!","v":{"$error":"#REF!"}},{"$f":"'Pob x Genero'!#REF!","v":{"$error":"#REF!"}},"Hombre","00-04",{"$f":"'Pob x Genero'!#REF!","v":{"$error":"#REF!"}},99]
[{"$f":"'Pob x Genero'!#REF!","v":{"$error":"#REF!"}},{"$f":"'Pob x Genero'!#REF!","v":{"$error":"#REF!"}},{"$f":"'Pob x Genero'!#REF!","v":{"$error":"#REF!"}},{"$f":"'Pob x Genero'!#REF!","v":{"$error":"#REF!"}},{"$f":"'Pob x Genero'!#REF!","v":{"$error":"#REF!"}},"Hombre","00-04",{"$f":"'Pob x Genero'!#REF!","v":{"$error":"#REF!"}},100]
[{"$f":"'Pob x Genero'!#REF!","v":{"$error":"#REF!"}},{"$f":"'Pob x Genero'!#REF!","v":{"$error":"#REF!"}},{"$f":"'Pob x Genero'!#REF!","v":{"$error":"#REF!"}},{"$f":"'Pob x Genero'!#REF!","v":{"$error":"#REF!"}},{"$f":"'Pob x Genero'!#REF!","v":{"$error":"#REF!"}},"Hombre","00-04",{"$f":"'Pob x Genero'!#REF!","v":{"$error":"#REF!"}},101]
[{"$f":"'Pob x Genero'!#REF!","v":{"$error":"#REF!"}},{"$f":"'Pob x Genero'!#REF!","v":{"$error":"#REF!"}},{"$f":"'Pob x Genero'!#REF!","v":{"$error":"#REF!"}},{"$f":"'Pob x Genero'!#REF!","v":{"$error":"#REF!"}},{"$f":"'Pob x Genero'!#REF!","v":{"$error":"#REF!"}},"Hombre","00-04",{"$f":"'Pob x Genero'!#REF!","v":{"$error":"#REF!"}},102]
[{"$f":"'Pob x Genero'!#REF!","v":{"$error":"#REF!"}},{"$f":"'Pob x Genero'!#REF!","v":{"$error":"#REF!"}},{"$f":"'Pob x Genero'!#REF!","v":{"$error":"#REF!"}},{"$f":"'Pob x Genero'!#REF!","v":{"$error":"#REF!"}},{"$f":"'Pob x Genero'!#REF!","v":{"$error":"#REF!"}},"Hombre","00-04",{"$f":"'Pob x Genero'!#REF!","v":{"$error":"#REF!"}},103]
[{"$f":"'Pob x Genero'!#REF!","v":{"$error":"#REF!"}},{"$f":"'Pob x Genero'!#REF!","v":{"$error":"#REF!"}},{"$f":"'Pob x Genero'!#REF!","v":{"$error":"#REF!"}},{"$f":"'Pob x Genero'!#REF!","v":{"$error":"#REF!"}},{"$f":"'Pob x Genero'!#REF!","v":{"$error":"#REF!"}},"Hombre","00-04",{"$f":"'Pob x Genero'!#REF!","v":{"$error":"#REF!"}},104]
[{"$f":"'Pob x Genero'!#REF!","v":{"$error":"#REF!"}},{"$f":"'Pob x Genero'!#REF!","v":{"$error":"#REF!"}},{"$f":"'Pob x Genero'!#REF!","v":{"$error":"#REF!"}},{"$f":"'Pob x Genero'!#REF!","v":{"$error":"#REF!"}},{"$f":"'Pob x Genero'!#REF!","v":{"$error":"#REF!"}},"Hombre","00-04",{"$f":"'Pob x Genero'!#REF!","v":{"$error":"#REF!"}},105]
[{"$f":"'Pob x Genero'!#REF!","v":{"$error":"#REF!"}},{"$f":"'Pob x Genero'!#REF!","v":{"$error":"#REF!"}},{"$f":"'Pob x Genero'!#REF!","v":{"$error":"#REF!"}},{"$f":"'Pob x Genero'!#REF!","v":{"$error":"#REF!"}},{"$f":"'Pob x Genero'!#REF!","v":{"$error":"#REF!"}},"Hombre","00-04",{"$f":"'Pob x Genero'!#REF!","v":{"$error":"#REF!"}},106]
[{"$f":"'Pob x Genero'!#REF!","v":{"$error":"#REF!"}},{"$f":"'Pob x Genero'!#REF!","v":{"$error":"#REF!"}},{"$f":"'Pob x Genero'!#REF!","v":{"$error":"#REF!"}},{"$f":"'Pob x Genero'!#REF!","v":{"$error":"#REF!"}},{"$f":"'Pob x Genero'!#REF!","v":{"$error":"#REF!"}},"Hombre","00-04",{"$f":"'Pob x Genero'!#REF!","v":{"$error":"#REF!"}},107]
[{"$f":"'Pob x Genero'!#REF!","v":{"$error":"#REF!"}},{"$f":"'Pob x Genero'!#REF!","v":{"$error":"#REF!"}},{"$f":"'Pob x Genero'!#REF!","v":{"$error":"#REF!"}},{"$f":"'Pob x Genero'!#REF!","v":{"$error":"#REF!"}},{"$f":"'Pob x Genero'!#REF!","v":{"$error":"#REF!"}},"Hombre","00-04",{"$f":"'Pob x Genero'!#REF!","v":{"$error":"#REF!"}},108]
[{"$f":"'Pob x Genero'!#REF!","v":{"$error":"#REF!"}},{"$f":"'Pob x Genero'!#REF!","v":{"$error":"#REF!"}},{"$f":"'Pob x Genero'!#REF!","v":{"$error":"#REF!"}},{"$f":"'Pob x Genero'!#REF!","v":{"$error":"#REF!"}},{"$f":"'Pob x Genero'!#REF!","v":{"$error":"#REF!"}},"Hombre","00-04",{"$f":"'Pob x Genero'!#REF!","v":{"$error":"#REF!"}},109]
[{"$f":"'Pob x Genero'!#REF!","v":{"$error":"#REF!"}},{"$f":"'Pob x Genero'!#REF!","v":{"$error":"#REF!"}},{"$f":"'Pob x Genero'!#REF!","v":{"$error":"#REF!"}},{"$f":"'Pob x Genero'!#REF!","v":{"$error":"#REF!"}},{"$f":"'Pob x Genero'!#REF!","v":{"$error":"#REF!"}},"Hombre","00-04",{"$f":"'Pob x Genero'!#REF!","v":{"$error":"#REF!"}},110]
[{"$f":"'Pob x Genero'!#REF!","v":{"$error":"#REF!"}},{"$f":"'Pob x Genero'!#REF!","v":{"$error":"#REF!"}},{"$f":"'Pob x Genero'!#REF!","v":{"$error":"#REF!"}},{"$f":"'Pob x Genero'!#REF!","v":{"$error":"#REF!"}},{"$f":"'Pob x Genero'!#REF!","v":{"$error":"#REF!"}},"Hombre","00-04",{"$f":"'Pob x Genero'!#REF!","v":{"$error":"#REF!"}},111]
[{"$f":"'Pob x Genero'!#REF!","v":{"$error":"#REF!"}},{"$f":"'Pob x Genero'!#REF!","v":{"$error":"#REF!"}},{"$f":"'Pob x Genero'!#REF!","v":{"$error":"#REF!"}},{"$f":"'Pob x Genero'!#REF!","v":{"$error":"#REF!"}},{"$f":"'Pob x Genero'!#REF!","v":{"$error":"#REF!"}},"Hombre","00-04",{"$f":"'Pob x Genero'!#REF!","v":{"$error":"#REF!"}},112]
[{"$f":"'Pob x Genero'!#REF!","v":{"$error":"#REF!"}},{"$f":"'Pob x Genero'!#REF!","v":{"$error":"#REF!"}},{"$f":"'Pob x Genero'!#REF!","v":{"$error":"#REF!"}},{"$f":"'Pob x Genero'!#REF!","v":{"$error":"#REF!"}},{"$f":"'Pob x Genero'!#REF!","v":{"$error":"#REF!"}},"Hombre","00-04",{"$f":"'Pob x Genero'!#REF!","v":{"$error":"#REF!"}},113]
[{"$f":"'Pob x Genero'!#REF!","v":{"$error":"#REF!"}},{"$f":"'Pob x Genero'!#REF!","v":{"$error":"#REF!"}},{"$f":"'Pob x Genero'!#REF!","v":{"$error":"#REF!"}},{"$f":"'Pob x Genero'!#REF!","v":{"$error":"#REF!"}},{"$f":"'Pob x Genero'!#REF!","v":{"$error":"#REF!"}},"Hombre","00-04",{"$f":"'Pob x Genero'!#REF!","v":{"$error":"#REF!"}},114]
[{"$f":"'Pob x Genero'!#REF!","v":{"$error":"#REF!"}},{"$f":"'Pob x Genero'!#REF!","v":{"$error":"#REF!"}},{"$f":"'Pob x Genero'!#REF!","v":{"$error":"#REF!"}},{"$f":"'Pob x Genero'!#REF!","v":{"$error":"#REF!"}},{"$f":"'Pob x Genero'!#REF!","v":{"$error":"#REF!"}},"Hombre","00-04",{"$f":"'Pob x Genero'!#REF!","v":{"$error":"#REF!"}},115]
[{"$f":"'Pob x Genero'!#REF!","v":{"$error":"#REF!"}},{"$f":"'Pob x Genero'!#REF!","v":{"$error":"#REF!"}},{"$f":"'Pob x Genero'!#REF!","v":{"$error":"#REF!"}},{"$f":"'Pob x Genero'!#REF!","v":{"$error":"#REF!"}},{"$f":"'Pob x Genero'!#REF!","v":{"$error":"#REF!"}},"Hombre","00-04",{"$f":"'Pob x Genero'!#REF!","v":{"$error":"#REF!"}},116]
[{"$f":"'Pob x Genero'!#REF!","v":{"$error":"#REF!"}},{"$f":"'Pob x Genero'!#REF!","v":{"$error":"#REF!"}},{"$f":"'Pob x Genero'!#REF!","v":{"$error":"#REF!"}},{"$f":"'Pob x Genero'!#REF!","v":{"$error":"#REF!"}},{"$f":"'Pob x Genero'!#REF!","v":{"$error":"#REF!"}},"Hombre","00-04",{"$f":"'Pob x Genero'!#REF!","v":{"$error":"#REF!"}},117]
[{"$f":"'Pob x Genero'!#REF!","v":{"$error":"#REF!"}},{"$f":"'Pob x Genero'!#REF!","v":{"$error":"#REF!"}},{"$f":"'Pob x Genero'!#REF!","v":{"$error":"#REF!"}},{"$f":"'Pob x Genero'!#REF!","v":{"$error":"#REF!"}},{"$f":"'Pob x Genero'!#REF!","v":{"$error":"#REF!"}},"Hombre","00-04",{"$f":"'Pob x Genero'!#REF!","v":{"$error":"#REF!"}},118]
[{"$f":"'Pob x Genero'!#REF!","v":{"$error":"#REF!"}},{"$f":"'Pob x Genero'!#REF!","v":{"$error":"#REF!"}},{"$f":"'Pob x Genero'!#REF!","v":{"$error":"#REF!"}},{"$f":"'Pob x Genero'!#REF!","v":{"$error":"#REF!"}},{"$f":"'Pob x Genero'!#REF!","v":{"$error":"#REF!"}},"Hombre","00-04",{"$f":"'Pob x Genero'!#REF!","v":{"$error":"#REF!"}},119]
[{"$f":"'Pob x Genero'!#REF!","v":{"$error":"#REF!"}},{"$f":"'Pob x Genero'!#REF!","v":{"$error":"#REF!"}},{"$f":"'Pob x Genero'!#REF!","v":{"$error":"#REF!"}},{"$f":"'Pob x Genero'!#REF!","v":{"$error":"#REF!"}},{"$f":"'Pob x Genero'!#REF!","v":{"$error":"#REF!"}},"Hombre","00-04",{"$f":"'Pob x Genero'!#REF!","v":{"$error":"#REF!"}},120]
[{"$f":"'Pob x Genero'!#REF!","v":{"$error":"#REF!"}},{"$f":"'Pob x Genero'!#REF!","v":{"$error":"#REF!"}},{"$f":"'Pob x Genero'!#REF!","v":{"$error":"#REF!"}},{"$f":"'Pob x Genero'!#REF!","v":{"$error":"#REF!"}},{"$f":"'Pob x Genero'!#REF!","v":{"$error":"#REF!"}},"Hombre","00-04",{"$f":"'Pob x Genero'!#REF!","v":{"$error":"#REF!"}},121]
[{"$f":"'Pob x Genero'!#REF!","v":{"$error":"#REF!"}},{"$f":"'Pob x Genero'!#REF!","v":{"$error":"#REF!"}},{"$f":"'Pob x Genero'!#REF!","v":{"$error":"#REF!"}},{"$f":"'Pob x Genero'!#REF!","v":{"$error":"#REF!"}},{"$f":"'Pob x Genero'!#REF!","v":{"$error":"#REF!"}},"Hombre","00-04",{"$f":"'Pob x Genero'!#REF!","v":{"$error":"#REF!"}},122]
[{"$f":"'Pob x Genero'!#REF!","v":{"$error":"#REF!"}},{"$f":"'Pob x Genero'!#REF!","v":{"$error":"#REF!"}},{"$f":"'Pob x Genero'!#REF!","v":{"$error":"#REF!"}},{"$f":"'Pob x Genero'!#REF!","v":{"$error":"#REF!"}},{"$f":"'Pob x Genero'!#REF!","v":{"$error":"#REF!"}},"Hombre","00-04",{"$f":"'Pob x Genero'!#REF!","v":{"$error":"#REF!"}},123]
[{"$f":"'Pob x Genero'!#REF!","v":{"$error":"#REF!"}},{"$f":"'Pob x Genero'!#REF!","v":{"$error":"#REF!"}},{"$f":"'Pob x Genero'!#REF!","v":{"$error":"#REF!"}},{"$f":"'Pob x Genero'!#REF!","v":{"$error":"#REF!"}},{"$f":"'Pob x Genero'!#REF!","v":{"$error":"#REF!"}},"Hombre","00-04",{"$f":"'Pob x Genero'!#REF!","v":{"$error":"#REF!"}},124]
[{"$f":"'Pob x Genero'!#REF!","v":{"$error":"#REF!"}},{"$f":"'Pob x Genero'!#REF!","v":{"$error":"#REF!"}},{"$f":"'Pob x Genero'!#REF!","v":{"$error":"#REF!"}},{"$f":"'Pob x Genero'!#REF!","v":{"$error":"#REF!"}},{"$f":"'Pob x Genero'!#REF!","v":{"$error":"#REF!"}},"Hombre","00-04",{"$f":"'Pob x Genero'!#REF!","v":{"$error":"#REF!"}},125]
[{"$f":"'Pob x Genero'!#REF!","v":{"$error":"#REF!"}},{"$f":"'Pob x Genero'!#REF!","v":{"$error":"#REF!"}},{"$f":"'Pob x Genero'!#REF!","v":{"$error":"#REF!"}},{"$f":"'Pob x Genero'!#REF!","v":{"$error":"#REF!"}},{"$f":"'Pob x Genero'!#REF!","v":{"$error":"#REF!"}},"Hombre","00-04",{"$f":"'Pob x Genero'!#REF!","v":{"$error":"#REF!"}},126]
[{"$f":"'Pob x Genero'!#REF!","v":{"$error":"#REF!"}},{"$f":"'Pob x Genero'!#REF!","v":{"$error":"#REF!"}},{"$f":"'Pob x Genero'!#REF!","v":{"$error":"#REF!"}},{"$f":"'Pob x Genero'!#REF!","v":{"$error":"#REF!"}},{"$f":"'Pob x Genero'!#REF!","v":{"$error":"#REF!"}},"Hombre","00-04",{"$f":"'Pob x Genero'!#REF!","v":{"$error":"#REF!"}},127]
[{"$f":"'Pob x Genero'!#REF!","v":{"$error":"#REF!"}},{"$f":"'Pob x Genero'!#REF!","v":{"$error":"#REF!"}},{"$f":"'Pob x Genero'!#REF!","v":{"$error":"#REF!"}},{"$f":"'Pob x Genero'!#REF!","v":{"$error":"#REF!"}},{"$f":"'Pob x Genero'!#REF!","v":{"$error":"#REF!"}},"Hombre","00-04",{"$f":"'Pob x Genero'!#REF!","v":{"$error":"#REF!"}},128]
[{"$f":"'Pob x Genero'!#REF!","v":{"$error":"#REF!"}},{"$f":"'Pob x Genero'!#REF!","v":{"$error":"#REF!"}},{"$f":"'Pob x Genero'!#REF!","v":{"$error":"#REF!"}},{"$f":"'Pob x Genero'!#REF!","v":{"$error":"#REF!"}},{"$f":"'Pob x Genero'!#REF!","v":{"$error":"#REF!"}},"Hombre","00-04",{"$f":"'Pob x Genero'!#REF!","v":{"$error":"#REF!"}},129]
[{"$f":"'Pob x Genero'!#REF!","v":{"$error":"#REF!"}},{"$f":"'Pob x Genero'!#REF!","v":{"$error":"#REF!"}},{"$f":"'Pob x Genero'!#REF!","v":{"$error":"#REF!"}},{"$f":"'Pob x Genero'!#REF!","v":{"$error":"#REF!"}},{"$f":"'Pob x Genero'!#REF!","v":{"$error":"#REF!"}},{"$f":"F130","v":"Hombre"},{"$f":"G130","v":"00-04"},{"$f":"'Pob x Genero'!#REF!","v":{"$error":"#REF!"}},130]
[{"$f":"'Pob x Genero'!#REF!","v":{"$error":"#REF!"}},{"$f":"'Pob x Genero'!#REF!","v":{"$error":"#REF!"}},{"$f":"'Pob x Genero'!#REF!","v":{"$error":"#REF!"}},{"$f":"'Pob x Genero'!#REF!","v":{"$error":"#REF!"}},{"$f":"'Pob x Genero'!#REF!","v":{"$error":"#REF!"}},"Hombre","00-04",{"$f":"'Pob x Genero'!#REF!","v":{"$error":"#REF!"}},131]
[{"$f":"'Pob x Genero'!#REF!","v":{"$error":"#REF!"}},{"$f":"'Pob x Genero'!#REF!","v":{"$error":"#REF!"}},{"$f":"'Pob x Genero'!#REF!","v":{"$error":"#REF!"}},{"$f":"'Pob x Genero'!#REF!","v":{"$error":"#REF!"}},{"$f":"'Pob x Genero'!#REF!","v":{"$error":"#REF!"}},"Hombre","00-04",{"$f":"'Pob x Genero'!#REF!","v":{"$error":"#REF!"}},132]
[{"$f":"'Pob x Genero'!#REF!","v":{"$error":"#REF!"}},{"$f":"'Pob x Genero'!#REF!","v":{"$error":"#REF!"}},{"$f":"'Pob x Genero'!#REF!","v":{"$error":"#REF!"}},{"$f":"'Pob x Genero'!#REF!","v":{"$error":"#REF!"}},{"$f":"'Pob x Genero'!#REF!","v":{"$error":"#REF!"}},"Hombre","00-04",{"$f":"'Pob x Genero'!#REF!","v":{"$error":"#REF!"}},133]
[{"$f":"'Pob x Genero'!#REF!","v":{"$error":"#REF!"}},{"$f":"'Pob x Genero'!#REF!","v":{"$error":"#REF!"}},{"$f":"'Pob x Genero'!#REF!","v":{"$error":"#REF!"}},{"$f":"'Pob x Genero'!#REF!","v":{"$error":"#REF!"}},{"$f":"'Pob x Genero'!#REF!","v":{"$error":"#REF!"}},"Hombre","00-04",{"$f":"'Pob x Genero'!#REF!","v":{"$error":"#REF!"}},134]
[{"$f":"'Pob x Genero'!#REF!","v":{"$error":"#REF!"}},{"$f":"'Pob x Genero'!#REF!","v":{"$error":"#REF!"}},{"$f":"'Pob x Genero'!#REF!","v":{"$error":"#REF!"}},{"$f":"'Pob x Genero'!#REF!","v":{"$error":"#REF!"}},{"$f":"'Pob x Genero'!#REF!","v":{"$error":"#REF!"}},"Hombre","00-04",{"$f":"'Pob x Genero'!#REF!","v":{"$error":"#REF!"}},135]
[{"$f":"'Pob x Genero'!#REF!","v":{"$error":"#REF!"}},{"$f":"'Pob x Genero'!#REF!","v":{"$error":"#REF!"}},{"$f":"'Pob x Genero'!#REF!","v":{"$error":"#REF!"}},{"$f":"'Pob x Genero'!#REF!","v":{"$error":"#REF!"}},{"$f":"'Pob x Genero'!#REF!","v":{"$error":"#REF!"}},"Hombre","00-04",{"$f":"'Pob x Genero'!#REF!","v":{"$error":"#REF!"}},136]
[{"$f":"'Pob x Genero'!#REF!","v":{"$error":"#REF!"}},{"$f":"'Pob x Genero'!#REF!","v":{"$error":"#REF!"}},{"$f":"'Pob x Genero'!#REF!","v":{"$error":"#REF!"}},{"$f":"'Pob x Genero'!#REF!","v":{"$error":"#REF!"}},{"$f":"'Pob x Genero'!#REF!","v":{"$error":"#REF!"}},"Hombre","00-04",{"$f":"'Pob x Genero'!#REF!","v":{"$error":"#REF!"}},137]
[{"$f":"'Pob x Genero'!#REF!","v":{"$error":"#REF!"}},{"$f":"'Pob x Genero'!#REF!","v":{"$error":"#REF!"}},{"$f":"'Pob x Genero'!#REF!","v":{"$error":"#REF!"}},{"$f":"'Pob x Genero'!#REF!","v":{"$error":"#REF!"}},{"$f":"'Pob x Genero'!#REF!","v":{"$error":"#REF!"}},"Hombre","00-04",{"$f":"'Pob x Genero'!#REF!","v":{"$error":"#REF!"}},138]
[{"$f":"'Pob x Genero'!#REF!","v":{"$error":"#REF!"}},{"$f":"'Pob x Genero'!#REF!","v":{"$error":"#REF!"}},{"$f":"'Pob x Genero'!#REF!","v":{"$error":"#REF!"}},{"$f":"'Pob x Genero'!#REF!","v":{"$error":"#REF!"}},{"$f":"'Pob x Genero'!#REF!","v":{"$error":"#REF!"}},"Hombre","00-04",{"$f":"'Pob x Genero'!#REF!","v":{"$error":"#REF!"}},139]
[{"$f":"'Pob x Genero'!#REF!","v":{"$error":"#REF!"}},{"$f":"'Pob x Genero'!#REF!","v":{"$error":"#REF!"}},{"$f":"'Pob x Genero'!#REF!","v":{"$error":"#REF!"}},{"$f":"'Pob x Genero'!#REF!","v":{"$error":"#REF!"}},{"$f":"'Pob x Genero'!#REF!","v":{"$error":"#REF!"}},"Hombre","00-04",{"$f":"'Pob x Genero'!#REF!","v":{"$error":"#REF!"}},140]
[{"$f":"'Pob x Genero'!#REF!","v":{"$error":"#REF!"}},{"$f":"'Pob x Genero'!#REF!","v":{"$error":"#REF!"}},{"$f":"'Pob x Genero'!#REF!","v":{"$error":"#REF!"}},{"$f":"'Pob x Genero'!#REF!","v":{"$error":"#REF!"}},{"$f":"'Pob x Genero'!#REF!","v":{"$error":"#REF!"}},"Hombre","00-04",{"$f":"'Pob x Genero'!#REF!","v":{"$error":"#REF!"}},141]
[{"$f":"'Pob x Genero'!#REF!","v":{"$error":"#REF!"}},{"$f":"'Pob x Genero'!#REF!","v":{"$error":"#REF!"}},{"$f":"'Pob x Genero'!#REF!","v":{"$error":"#REF!"}},{"$f":"'Pob x Genero'!#REF!","v":{"$error":"#REF!"}},{"$f":"'Pob x Genero'!#REF!","v":{"$error":"#REF!"}},"Hombre","00-04",{"$f":"'Pob x Genero'!#REF!","v":{"$error":"#REF!"}},142]
[{"$f":"'Pob x Genero'!#REF!","v":{"$error":"#REF!"}},{"$f":"'Pob x Genero'!#REF!","v":{"$error":"#REF!"}},{"$f":"'Pob x Genero'!#REF!","v":{"$error":"#REF!"}},{"$f":"'Pob x Genero'!#REF!","v":{"$error":"#REF!"}},{"$f":"'Pob x Genero'!#REF!","v":{"$error":"#REF!"}},"Hombre","00-04",{"$f":"'Pob x Genero'!#REF!","v":{"$error":"#REF!"}},143]
[{"$f":"'Pob x Genero'!#REF!","v":{"$error":"#REF!"}},{"$f":"'Pob x Genero'!#REF!","v":{"$error":"#REF!"}},{"$f":"'Pob x Genero'!#REF!","v":{"$error":"#REF!"}},{"$f":"'Pob x Genero'!#REF!","v":{"$error":"#REF!"}},{"$f":"'Pob x Genero'!#REF!","v":{"$error":"#REF!"}},"Hombre","00-04",{"$f":"'Pob x Genero'!#REF!","v":{"$error":"#REF!"}},144]
[{"$f":"'Pob x Genero'!#REF!","v":{"$error":"#REF!"}},{"$f":"'Pob x Genero'!#REF!","v":{"$error":"#REF!"}},{"$f":"'Pob x Genero'!#REF!","v":{"$error":"#REF!"}},{"$f":"'Pob x Genero'!#REF!","v":{"$error":"#REF!"}},{"$f":"'Pob x Genero'!#REF!","v":{"$error":"#REF!"}},"Hombre","00-04",{"$f":"'Pob x Genero'!#REF!","v":{"$error":"#REF!"}},145]
[{"$f":"'Pob x Genero'!#REF!","v":{"$error":"#REF!"}},{"$f":"'Pob x Genero'!#REF!","v":{"$error":"#REF!"}},{"$f":"'Pob x Genero'!#REF!","v":{"$error":"#REF!"}},{"$f":"'Pob x Genero'!#REF!","v":{"$error":"#REF!"}},{"$f":"'Pob x Genero'!#REF!","v":{"$error":"#REF!"}},"Hombre","00-04",{"$f":"'Pob x Genero'!#REF!","v":{"$error":"#REF!"}},146]
[{"$f":"'Pob x Genero'!#REF!","v":{"$error":"#REF!"}},{"$f":"'Pob x Genero'!#REF!","v":{"$error":"#REF!"}},{"$f":"'Pob x Genero'!#REF!","v":{"$error":"#REF!"}},{"$f":"'Pob x Genero'!#REF!","v":{"$error":"#REF!"}},{"$f":"'Pob x Genero'!#REF!","v":{"$error":"#REF!"}},"Hombre","00-04",{"$f":"'Pob x Genero'!#REF!","v":{"$error":"#REF!"}},147]
[{"$f":"'Pob x Genero'!#REF!","v":{"$error":"#REF!"}},{"$f":"'Pob x Genero'!#REF!","v":{"$error":"#REF!"}},{"$f":"'Pob x Genero'!#REF!","v":{"$error":"#REF!"}},{"$f":"'Pob x Genero'!#REF!","v":{"$error":"#REF!"}},{"$f":"'Pob x Genero'!#REF!","v":{"$error":"#REF!"}},"Hombre","00-04",{"$f":"'Pob x Genero'!#REF!","v":{"$error":"#REF!"}},148]
[{"$f":"'Pob x Genero'!#REF!","v":{"$error":"#REF!"}},{"$f":"'Pob x Genero'!#REF!","v":{"$error":"#REF!"}},{"$f":"'Pob x Genero'!#REF!","v":{"$error":"#REF!"}},{"$f":"'Pob x Genero'!#REF!","v":{"$error":"#REF!"}},{"$f":"'Pob x Genero'!#REF!","v":{"$error":"#REF!"}},"Hombre","00-04",{"$f":"'Pob x Genero'!#REF!","v":{"$error":"#REF!"}},149]
[{"$f":"'Pob x Genero'!#REF!","v":{"$error":"#REF!"}},{"$f":"'Pob x Genero'!#REF!","v":{"$error":"#REF!"}},{"$f":"'Pob x Genero'!#REF!","v":{"$error":"#REF!"}},{"$f":"'Pob x Genero'!#REF!","v":{"$error":"#REF!"}},{"$f":"'Pob x Genero'!#REF!","v":{"$error":"#REF!"}},"Hombre","00-04",{"$f":"'Pob x Genero'!#REF!","v":{"$error":"#REF!"}},150]
[{"$f":"'Pob x Genero'!#REF!","v":{"$error":"#REF!"}},{"$f":"'Pob x Genero'!#REF!","v":{"$error":"#REF!"}},{"$f":"'Pob x Genero'!#REF!","v":{"$error":"#REF!"}},{"$f":"'Pob x Genero'!#REF!","v":{"$error":"#REF!"}},{"$f":"'Pob x Genero'!#REF!","v":{"$error":"#REF!"}},"Hombre","00-04",{"$f":"'Pob x Genero'!#REF!","v":{"$error":"#REF!"}},151]
[{"$f":"'Pob x Genero'!#REF!","v":{"$error":"#REF!"}},{"$f":"'Pob x Genero'!#REF!","v":{"$error":"#REF!"}},{"$f":"'Pob x Genero'!#REF!","v":{"$error":"#REF!"}},{"$f":"'Pob x Genero'!#REF!","v":{"$error":"#REF!"}},{"$f":"'Pob x Genero'!#REF!","v":{"$error":"#REF!"}},"Hombre","00-04",{"$f":"'Pob x Genero'!#REF!","v":{"$error":"#REF!"}},152]
[{"$f":"'Pob x Genero'!#REF!","v":{"$error":"#REF!"}},{"$f":"'Pob x Genero'!#REF!","v":{"$error":"#REF!"}},{"$f":"'Pob x Genero'!#REF!","v":{"$error":"#REF!"}},{"$f":"'Pob x Genero'!#REF!","v":{"$error":"#REF!"}},{"$f":"'Pob x Genero'!#REF!","v":{"$error":"#REF!"}},"Hombre","00-04",{"$f":"'Pob x Genero'!#REF!","v":{"$error":"#REF!"}},153]
[{"$f":"'Pob x Genero'!#REF!","v":{"$error":"#REF!"}},{"$f":"'Pob x Genero'!#REF!","v":{"$error":"#REF!"}},{"$f":"'Pob x Genero'!#REF!","v":{"$error":"#REF!"}},{"$f":"'Pob x Genero'!#REF!","v":{"$error":"#REF!"}},{"$f":"'Pob x Genero'!#REF!","v":{"$error":"#REF!"}},"Hombre","00-04",{"$f":"'Pob x Genero'!#REF!","v":{"$error":"#REF!"}},154]
[{"$f":"'Pob x Genero'!#REF!","v":{"$error":"#REF!"}},{"$f":"'Pob x Genero'!#REF!","v":{"$error":"#REF!"}},{"$f":"'Pob x Genero'!#REF!","v":{"$error":"#REF!"}},{"$f":"'Pob x Genero'!#REF!","v":{"$error":"#REF!"}},{"$f":"'Pob x Genero'!#REF!","v":{"$error":"#REF!"}},"Hombre","00-04",{"$f":"'Pob x Genero'!#REF!","v":{"$error":"#REF!"}},155]
[{"$f":"'Pob x Genero'!#REF!","v":{"$error":"#REF!"}},{"$f":"'Pob x Genero'!#REF!","v":{"$error":"#REF!"}},{"$f":"'Pob x Genero'!#REF!","v":{"$error":"#REF!"}},{"$f":"'Pob x Genero'!#REF!","v":{"$error":"#REF!"}},{"$f":"'Pob x Genero'!#REF!","v":{"$error":"#REF!"}},"Hombre","00-04",{"$f":"'Pob x Genero'!#REF!","v":{"$error":"#REF!"}},156]
[{"$f":"'Pob x Genero'!#REF!","v":{"$error":"#REF!"}},{"$f":"'Pob x Genero'!#REF!","v":{"$error":"#REF!"}},{"$f":"'Pob x Genero'!#REF!","v":{"$error":"#REF!"}},{"$f":"'Pob x Genero'!#REF!","v":{"$error":"#REF!"}},{"$f":"'Pob x Genero'!#REF!","v":{"$error":"#REF!"}},"Hombre","00-04",{"$f":"'Pob x Genero'!#REF!","v":{"$error":"#REF!"}},157]
[{"$f":"'Pob x Genero'!#REF!","v":{"$error":"#REF!"}},{"$f":"'Pob x Genero'!#REF!","v":{"$error":"#REF!"}},{"$f":"'Pob x Genero'!#REF!","v":{"$error":"#REF!"}},{"$f":"'Pob x Genero'!#REF!","v":{"$error":"#REF!"}},{"$f":"'Pob x Genero'!#REF!","v":{"$error":"#REF!"}},"Hombre","00-04",{"$f":"'Pob x Genero'!#REF!","v":{"$error":"#REF!"}},158]
[{"$f":"'Pob x Genero'!#REF!","v":{"$error":"#REF!"}},{"$f":"'Pob x Genero'!#REF!","v":{"$error":"#REF!"}},{"$f":"'Pob x Genero'!#REF!","v":{"$error":"#REF!"}},{"$f":"'Pob x Genero'!#REF!","v":{"$error":"#REF!"}},{"$f":"'Pob x Genero'!#REF!","v":{"$error":"#REF!"}},"Hombre","00-04",{"$f":"'Pob x Genero'!#REF!","v":{"$error":"#REF!"}},159]
[{"$f":"'Pob x Genero'!#REF!","v":{"$error":"#REF!"}},{"$f":"'Pob x Genero'!#REF!","v":{"$error":"#REF!"}},{"$f":"'Pob x Genero'!#REF!","v":{"$error":"#REF!"}},{"$f":"'Pob x Genero'!#REF!","v":{"$error":"#REF!"}},{"$f":"'Pob x Genero'!#REF!","v":{"$error":"#REF!"}},"Hombre","00-04",{"$f":"'Pob x Genero'!#REF!","v":{"$error":"#REF!"}},160]
[{"$f":"'Pob x Genero'!#REF!","v":{"$error":"#REF!"}},{"$f":"'Pob x Genero'!#REF!","v":{"$error":"#REF!"}},{"$f":"'Pob x Genero'!#REF!","v":{"$error":"#REF!"}},{"$f":"'Pob x Genero'!#REF!","v":{"$error":"#REF!"}},{"$f":"'Pob x Genero'!#REF!","v":{"$error":"#REF!"}},"Hombre","00-04",{"$f":"'Pob x Genero'!#REF!","v":{"$error":"#REF!"}},161]
[{"$f":"'Pob x Genero'!#REF!","v":{"$error":"#REF!"}},{"$f":"'Pob x Genero'!#REF!","v":{"$error":"#REF!"}},{"$f":"'Pob x Genero'!#REF!","v":{"$error":"#REF!"}},{"$f":"'Pob x Genero'!#REF!","v":{"$error":"#REF!"}},{"$f":"'Pob x Genero'!#REF!","v":{"$error":"#REF!"}},"Hombre","00-04",{"$f":"'Pob x Genero'!#REF!","v":{"$error":"#REF!"}},162]
[{"$f":"'Pob x Genero'!#REF!","v":{"$error":"#REF!"}},{"$f":"'Pob x Genero'!#REF!","v":{"$error":"#REF!"}},{"$f":"'Pob x Genero'!#REF!","v":{"$error":"#REF!"}},{"$f":"'Pob x Genero'!#REF!","v":{"$error":"#REF!"}},{"$f":"'Pob x Genero'!#REF!","v":{"$error":"#REF!"}},"Hombre","00-04",{"$f":"'Pob x Genero'!#REF!","v":{"$error":"#REF!"}},163]
[{"$f":"'Pob x Genero'!#REF!","v":{"$error":"#REF!"}},{"$f":"'Pob x Genero'!#REF!","v":{"$error":"#REF!"}},{"$f":"'Pob x Genero'!#REF!","v":{"$error":"#REF!"}},{"$f":"'Pob x Genero'!#REF!","v":{"$error":"#REF!"}},{"$f":"'Pob x Genero'!#REF!","v":{"$error":"#REF!"}},"Hombre","00-04",{"$f":"'Pob x Genero'!#REF!","v":{"$error":"#REF!"}},164]
[{"$f":"'Pob x Genero'!#REF!","v":{"$error":"#REF!"}},{"$f":"'Pob x Genero'!#REF!","v":{"$error":"#REF!"}},{"$f":"'Pob x Genero'!#REF!","v":{"$error":"#REF!"}},{"$f":"'Pob x Genero'!#REF!","v":{"$error":"#REF!"}},{"$f":"'Pob x Genero'!#REF!","v":{"$error":"#REF!"}},"Hombre","00-04",{"$f":"'Pob x Genero'!#REF!","v":{"$error":"#REF!"}},165]
[{"$f":"'Pob x Genero'!#REF!","v":{"$error":"#REF!"}},{"$f":"'Pob x Genero'!#REF!","v":{"$error":"#REF!"}},{"$f":"'Pob x Genero'!#REF!","v":{"$error":"#REF!"}},{"$f":"'Pob x Genero'!#REF!","v":{"$error":"#REF!"}},{"$f":"'Pob x Genero'!#REF!","v":{"$error":"#REF!"}},"Hombre","00-04",{"$f":"'Pob x Genero'!#REF!","v":{"$error":"#REF!"}},166]
[{"$f":"'Pob x Genero'!#REF!","v":{"$error":"#REF!"}},{"$f":"'Pob x Genero'!#REF!","v":{"$error":"#REF!"}},{"$f":"'Pob x Genero'!#REF!","v":{"$error":"#REF!"}},{"$f":"'Pob x Genero'!#REF!","v":{"$error":"#REF!"}},{"$f":"'Pob x Genero'!#REF!","v":{"$error":"#REF!"}},"Hombre","00-04",{"$f":"'Pob x Genero'!#REF!","v":{"$error":"#REF!"}},167]
[{"$f":"'Pob x Genero'!#REF!","v":{"$error":"#REF!"}},{"$f":"'Pob x Genero'!#REF!","v":{"$error":"#REF!"}},{"$f":"'Pob x Genero'!#REF!","v":{"$error":"#REF!"}},{"$f":"'Pob x Genero'!#REF!","v":{"$error":"#REF!"}},{"$f":"'Pob x Genero'!#REF!","v":{"$error":"#REF!"}},"Hombre","00-04",{"$f":"'Pob x Genero'!#REF!","v":{"$error":"#REF!"}},168]
[{"$f":"'Pob x Genero'!#REF!","v":{"$error":"#REF!"}},{"$f":"'Pob x Genero'!#REF!","v":{"$error":"#REF!"}},{"$f":"'Pob x Genero'!#REF!","v":{"$error":"#REF!"}},{"$f":"'Pob x Genero'!#REF!","v":{"$error":"#REF!"}},{"$f":"'Pob x Genero'!#REF!","v":{"$error":"#REF!"}},"Hombre","00-04",{"$f":"'Pob x Genero'!#REF!","v":{"$error":"#REF!"}},169]
[{"$f":"'Pob x Genero'!#REF!","v":{"$error":"#REF!"}},{"$f":"'Pob x Genero'!#REF!","v":{"$error":"#REF!"}},{"$f":"'Pob x Genero'!#REF!","v":{"$error":"#REF!"}},{"$f":"'Pob x Genero'!#REF!","v":{"$error":"#REF!"}},{"$f":"'Pob x Genero'!#REF!","v":{"$error":"#REF!"}},"Hombre","00-04",{"$f":"'Pob x Genero'!#REF!","v":{"$error":"#REF!"}},170]
[{"$f":"'Pob x Genero'!#REF!","v":{"$error":"#REF!"}},{"$f":"'Pob x Genero'!#REF!","v":{"$error":"#REF!"}},{"$f":"'Pob x Genero'!#REF!","v":{"$error":"#REF!"}},{"$f":"'Pob x Genero'!#REF!","v":{"$error":"#REF!"}},{"$f":"'Pob x Genero'!#REF!","v":{"$error":"#REF!"}},"Hombre","00-04",{"$f":"'Pob x Genero'!#REF!","v":{"$error":"#REF!"}},171]
[{"$f":"'Pob x Genero'!#REF!","v":{"$error":"#REF!"}},{"$f":"'Pob x Genero'!#REF!","v":{"$error":"#REF!"}},{"$f":"'Pob x Genero'!#REF!","v":{"$error":"#REF!"}},{"$f":"'Pob x Genero'!#REF!","v":{"$error":"#REF!"}},{"$f":"'Pob x Genero'!#REF!","v":{"$error":"#REF!"}},"Hombre","00-04",{"$f":"'Pob x Genero'!#REF!","v":{"$error":"#REF!"}},172]
[{"$f":"'Pob x Genero'!#REF!","v":{"$error":"#REF!"}},{"$f":"'Pob x Genero'!#REF!","v":{"$error":"#REF!"}},{"$f":"'Pob x Genero'!#REF!","v":{"$error":"#REF!"}},{"$f":"'Pob x Genero'!#REF!","v":{"$error":"#REF!"}},{"$f":"'Pob x Genero'!#REF!","v":{"$error":"#REF!"}},"Hombre","00-04",{"$f":"'Pob x Genero'!#REF!","v":{"$error":"#REF!"}},173]
[{"$f":"'Pob x Genero'!#REF!","v":{"$error":"#REF!"}},{"$f":"'Pob x Genero'!#REF!","v":{"$error":"#REF!"}},{"$f":"'Pob x Genero'!#REF!","v":{"$error":"#REF!"}},{"$f":"'Pob x Genero'!#REF!","v":{"$error":"#REF!"}},{"$f":"'Pob x Genero'!#REF!","v":{"$error":"#REF!"}},"Hombre","00-04",{"$f":"'Pob x Genero'!#REF!","v":{"$error":"#REF!"}},174]
[{"$f":"'Pob x Genero'!#REF!","v":{"$error":"#REF!"}},{"$f":"'Pob x Genero'!#REF!","v":{"$error":"#REF!"}},{"$f":"'Pob x Genero'!#REF!","v":{"$error":"#REF!"}},{"$f":"'Pob x Genero'!#REF!","v":{"$error":"#REF!"}},{"$f":"'Pob x Genero'!#REF!","v":{"$error":"#REF!"}},"Hombre","00-04",{"$f":"'Pob x Genero'!#REF!","v":{"$error":"#REF!"}},175]
[{"$f":"'Pob x Genero'!#REF!","v":{"$error":"#REF!"}},{"$f":"'Pob x Genero'!#REF!","v":{"$error":"#REF!"}},{"$f":"'Pob x Genero'!#REF!","v":{"$error":"#REF!"}},{"$f":"'Pob x Genero'!#REF!","v":{"$error":"#REF!"}},{"$f":"'Pob x Genero'!#REF!","v":{"$error":"#REF!"}},"Hombre","00-04",{"$f":"'Pob x Genero'!#REF!","v":{"$error":"#REF!"}},176]
[{"$f":"'Pob x Genero'!#REF!","v":{"$error":"#REF!"}},{"$f":"'Pob x Genero'!#REF!","v":{"$error":"#REF!"}},{"$f":"'Pob x Genero'!#REF!","v":{"$error":"#REF!"}},{"$f":"'Pob x Genero'!#REF!","v":{"$error":"#REF!"}},{"$f":"'Pob x Genero'!#REF!","v":{"$error":"#REF!"}},"Hombre","00-04",{"$f":"'Pob x Genero'!#REF!","v":{"$error":"#REF!"}},177]
[{"$f":"'Pob x Genero'!#REF!","v":{"$error":"#REF!"}},{"$f":"'Pob x Genero'!#REF!","v":{"$error":"#REF!"}},{"$f":"'Pob x Genero'!#REF!","v":{"$error":"#REF!"}},{"$f":"'Pob x Genero'!#REF!","v":{"$error":"#REF!"}},{"$f":"'Pob x Genero'!#REF!","v":{"$error":"#REF!"}},"Hombre","00-04",{"$f":"'Pob x Genero'!#REF!","v":{"$error":"#REF!"}},178]
[{"$f":"'Pob x Genero'!#REF!","v":{"$error":"#REF!"}},{"$f":"'Pob x Genero'!#REF!","v":{"$error":"#REF!"}},{"$f":"'Pob x Genero'!#REF!","v":{"$error":"#REF!"}},{"$f":"'Pob x Genero'!#REF!","v":{"$error":"#REF!"}},{"$f":"'Pob x Genero'!#REF!","v":{"$error":"#REF!"}},"Hombre","00-04",{"$f":"'Pob x Genero'!#REF!","v":{"$error":"#REF!"}},179]
[{"$f":"'Pob x Genero'!#REF!","v":{"$error":"#REF!"}},{"$f":"'Pob x Genero'!#REF!","v":{"$error":"#REF!"}},{"$f":"'Pob x Genero'!#REF!","v":{"$error":"#REF!"}},{"$f":"'Pob x Genero'!#REF!","v":{"$error":"#REF!"}},{"$f":"'Pob x Genero'!#REF!","v":{"$error":"#REF!"}},"Hombre","00-04",{"$f":"'Pob x Genero'!#REF!","v":{"$error":"#REF!"}},180]
[{"$f":"'Pob x Genero'!#REF!","v":{"$error":"#REF!"}},{"$f":"'Pob x Genero'!#REF!","v":{"$error":"#REF!"}},{"$f":"'Pob x Genero'!#REF!","v":{"$error":"#REF!"}},{"$f":"'Pob x Genero'!#REF!","v":{"$error":"#REF!"}},{"$f":"'Pob x Genero'!#REF!","v":{"$error":"#REF!"}},"Hombre","00-04",{"$f":"'Pob x Genero'!#REF!","v":{"$error":"#REF!"}},181]
[{"$f":"'Pob x Genero'!#REF!","v":{"$error":"#REF!"}},{"$f":"'Pob x Genero'!#REF!","v":{"$error":"#REF!"}},{"$f":"'Pob x Genero'!#REF!","v":{"$error":"#REF!"}},{"$f":"'Pob x Genero'!#REF!","v":{"$error":"#REF!"}},{"$f":"'Pob x Genero'!#REF!","v":{"$error":"#REF!"}},"Hombre","00-04",{"$f":"'Pob x Genero'!#REF!","v":{"$error":"#REF!"}},182]
[{"$f":"'Pob x Genero'!#REF!","v":{"$error":"#REF!"}},{"$f":"'Pob x Genero'!#REF!","v":{"$error":"#REF!"}},{"$f":"'Pob x Genero'!#REF!","v":{"$error":"#REF!"}},{"$f":"'Pob x Genero'!#REF!","v":{"$error":"#REF!"}},{"$f":"'Pob x Genero'!#REF!","v":{"$error":"#REF!"}},"Hombre","00-04",{"$f":"'Pob x Genero'!#REF!","v":{"$error":"#REF!"}},183]
[{"$f":"'Pob x Genero'!#REF!","v":{"$error":"#REF!"}},{"$f":"'Pob x Genero'!#REF!","v":{"$error":"#REF!"}},{"$f":"'Pob x Genero'!#REF!","v":{"$error":"#REF!"}},{"$f":"'Pob x Genero'!#REF!","v":{"$error":"#REF!"}},{"$f":"'Pob x Genero'!#REF!","v":{"$error":"#REF!"}},"Hombre","00-04",{"$f":"'Pob x Genero'!#REF!","v":{"$error":"#REF!"}},184]
[{"$f":"'Pob x Genero'!#REF!","v":{"$error":"#REF!"}},{"$f":"'Pob x Genero'!#REF!","v":{"$error":"#REF!"}},{"$f":"'Pob x Genero'!#REF!","v":{"$error":"#REF!"}},{"$f":"'Pob x Genero'!#REF!","v":{"$error":"#REF!"}},{"$f":"'Pob x Genero'!#REF!","v":{"$error":"#REF!"}},"Hombre","00-04",{"$f":"'Pob x Genero'!#REF!","v":{"$error":"#REF!"}},185]
[{"$f":"'Pob x Genero'!#REF!","v":{"$error":"#REF!"}},{"$f":"'Pob x Genero'!#REF!","v":{"$error":"#REF!"}},{"$f":"'Pob x Genero'!#REF!","v":{"$error":"#REF!"}},{"$f":"'Pob x Genero'!#REF!","v":{"$error":"#REF!"}},{"$f":"'Pob x Genero'!#REF!","v":{"$error":"#REF!"}},"Hombre","00-04",{"$f":"'Pob x Genero'!#REF!","v":{"$error":"#REF!"}},186]
[{"$f":"'Pob x Genero'!#REF!","v":{"$error":"#REF!"}},{"$f":"'Pob x Genero'!#REF!","v":{"$error":"#REF!"}},{"$f":"'Pob x Genero'!#REF!","v":{"$error":"#REF!"}},{"$f":"'Pob x Genero'!#REF!","v":{"$error":"#REF!"}},{"$f":"'Pob x Genero'!#REF!","v":{"$error":"#REF!"}},"Hombre","00-04",{"$f":"'Pob x Genero'!#REF!","v":{"$error":"#REF!"}},187]
[{"$f":"'Pob x Genero'!#REF!","v":{"$error":"#REF!"}},{"$f":"'Pob x Genero'!#REF!","v":{"$error":"#REF!"}},{"$f":"'Pob x Genero'!#REF!","v":{"$error":"#REF!"}},{"$f":"'Pob x Genero'!#REF!","v":{"$error":"#REF!"}},{"$f":"'Pob x Genero'!#REF!","v":{"$error":"#REF!"}},"Hombre","00-04",{"$f":"'Pob x Genero'!#REF!","v":{"$error":"#REF!"}},188]
[{"$f":"'Pob x Genero'!#REF!","v":{"$error":"#REF!"}},{"$f":"'Pob x Genero'!#REF!","v":{"$error":"#REF!"}},{"$f":"'Pob x Genero'!#REF!","v":{"$error":"#REF!"}},{"$f":"'Pob x Genero'!#REF!","v":{"$error":"#REF!"}},{"$f":"'Pob x Genero'!#REF!","v":{"$error":"#REF!"}},"Hombre","00-04",{"$f":"'Pob x Genero'!#REF!","v":{"$error":"#REF!"}},189]
[{"$f":"'Pob x Genero'!#REF!","v":{"$error":"#REF!"}},{"$f":"'Pob x Genero'!#REF!","v":{"$error":"#REF!"}},{"$f":"'Pob x Genero'!#REF!","v":{"$error":"#REF!"}},{"$f":"'Pob x Genero'!#REF!","v":{"$error":"#REF!"}},{"$f":"'Pob x Genero'!#REF!","v":{"$error":"#REF!"}},"Hombre","00-04",{"$f":"'Pob x Genero'!#REF!","v":{"$error":"#REF!"}},190]
[{"$f":"'Pob x Genero'!#REF!","v":{"$error":"#REF!"}},{"$f":"'Pob x Genero'!#REF!","v":{"$error":"#REF!"}},{"$f":"'Pob x Genero'!#REF!","v":{"$error":"#REF!"}},{"$f":"'Pob x Genero'!#REF!","v":{"$error":"#REF!"}},{"$f":"'Pob x Genero'!#REF!","v":{"$error":"#REF!"}},"Hombre","00-04",{"$f":"'Pob x Genero'!#REF!","v":{"$error":"#REF!"}},191]
[{"$f":"'Pob x Genero'!#REF!","v":{"$error":"#REF!"}},{"$f":"'Pob x Genero'!#REF!","v":{"$error":"#REF!"}},{"$f":"'Pob x Genero'!#REF!","v":{"$error":"#REF!"}},{"$f":"'Pob x Genero'!#REF!","v":{"$error":"#REF!"}},{"$f":"'Pob x Genero'!#REF!","v":{"$error":"#REF!"}},"Hombre","00-04",{"$f":"'Pob x Genero'!#REF!","v":{"$error":"#REF!"}},192]
[{"$f":"'Pob x Genero'!#REF!","v":{"$error":"#REF!"}},{"$f":"'Pob x Genero'!#REF!","v":{"$error":"#REF!"}},{"$f":"'Pob x Genero'!#REF!","v":{"$error":"#REF!"}},{"$f":"'Pob x Genero'!#REF!","v":{"$error":"#REF!"}},{"$f":"'Pob x Genero'!#REF!","v":{"$error":"#REF!"}},"Hombre","00-04",{"$f":"'Pob x Genero'!#REF!","v":{"$error":"#REF!"}},193]
[{"$f":"'Pob x Genero'!#REF!","v":{"$error":"#REF!"}},{"$f":"'Pob x Genero'!#REF!","v":{"$error":"#REF!"}},{"$f":"'Pob x Genero'!#REF!","v":{"$error":"#REF!"}},{"$f":"'Pob x Genero'!#REF!","v":{"$error":"#REF!"}},{"$f":"'Pob x Genero'!#REF!","v":{"$error":"#REF!"}},{"$f":"F194","v":"Hombre"},{"$f":"G194","v":"00-04"},{"$f":"'Pob x Genero'!#REF!","v":{"$error":"#REF!"}},194]
[{"$f":"'Pob x Genero'!#REF!","v":{"$error":"#REF!"}},{"$f":"'Pob x Genero'!#REF!","v":{"$error":"#REF!"}},{"$f":"'Pob x Genero'!#REF!","v":{"$error":"#REF!"}},{"$f":"'Pob x Genero'!#REF!","v":{"$error":"#REF!"}},{"$f":"'Pob x Genero'!#REF!","v":{"$error":"#REF!"}},"Hombre","00-04",{"$f":"'Pob x Genero'!#REF!","v":{"$error":"#REF!"}},195]
[{"$f":"'Pob x Genero'!#REF!","v":{"$error":"#REF!"}},{"$f":"'Pob x Genero'!#REF!","v":{"$error":"#REF!"}},{"$f":"'Pob x Genero'!#REF!","v":{"$error":"#REF!"}},{"$f":"'Pob x Genero'!#REF!","v":{"$error":"#REF!"}},{"$f":"'Pob x Genero'!#REF!","v":{"$error":"#REF!"}},"Hombre","00-04",{"$f":"'Pob x Genero'!#REF!","v":{"$error":"#REF!"}},196]
[{"$f":"'Pob x Genero'!#REF!","v":{"$error":"#REF!"}},{"$f":"'Pob x Genero'!#REF!","v":{"$error":"#REF!"}},{"$f":"'Pob x Genero'!#REF!","v":{"$error":"#REF!"}},{"$f":"'Pob x Genero'!#REF!","v":{"$error":"#REF!"}},{"$f":"'Pob x Genero'!#REF!","v":{"$error":"#REF!"}},"Hombre","00-04",{"$f":"'Pob x Genero'!#REF!","v":{"$error":"#REF!"}},197]
[{"$f":"'Pob x Genero'!#REF!","v":{"$error":"#REF!"}},{"$f":"'Pob x Genero'!#REF!","v":{"$error":"#REF!"}},{"$f":"'Pob x Genero'!#REF!","v":{"$error":"#REF!"}},{"$f":"'Pob x Genero'!#REF!","v":{"$error":"#REF!"}},{"$f":"'Pob x Genero'!#REF!","v":{"$error":"#REF!"}},"Hombre","00-04",{"$f":"'Pob x Genero'!#REF!","v":{"$error":"#REF!"}},198]
[{"$f":"'Pob x Genero'!#REF!","v":{"$error":"#REF!"}},{"$f":"'Pob x Genero'!#REF!","v":{"$error":"#REF!"}},{"$f":"'Pob x Genero'!#REF!","v":{"$error":"#REF!"}},{"$f":"'Pob x Genero'!#REF!","v":{"$error":"#REF!"}},{"$f":"'Pob x Genero'!#REF!","v":{"$error":"#REF!"}},"Hombre","00-04",{"$f":"'Pob x Genero'!#REF!","v":{"$error":"#REF!"}},199]
[{"$f":"'Pob x Genero'!#REF!","v":{"$error":"#REF!"}},{"$f":"'Pob x Genero'!#REF!","v":{"$error":"#REF!"}},{"$f":"'Pob x Genero'!#REF!","v":{"$error":"#REF!"}},{"$f":"'Pob x Genero'!#REF!","v":{"$error":"#REF!"}},{"$f":"'Pob x Genero'!#REF!","v":{"$error":"#REF!"}},"Hombre","00-04",{"$f":"'Pob x Genero'!#REF!","v":{"$error":"#REF!"}},200]
[{"$f":"'Pob x Genero'!#REF!","v":{"$error":"#REF!"}},{"$f":"'Pob x Genero'!#REF!","v":{"$error":"#REF!"}},{"$f":"'Pob x Genero'!#REF!","v":{"$error":"#REF!"}},{"$f":"'Pob x Genero'!#REF!","v":{"$error":"#REF!"}},{"$f":"'Pob x Genero'!#REF!","v":{"$error":"#REF!"}},"Hombre","00-04",{"$f":"'Pob x Genero'!#REF!","v":{"$error":"#REF!"}},201]
[{"$f":"'Pob x Genero'!#REF!","v":{"$error":"#REF!"}},{"$f":"'Pob x Genero'!#REF!","v":{"$error":"#REF!"}},{"$f":"'Pob x Genero'!#REF!","v":{"$error":"#REF!"}},{"$f":"'Pob x Genero'!#REF!","v":{"$error":"#REF!"}},{"$f":"'Pob x Genero'!#REF!","v":{"$error":"#REF!"}},"Hombre","00-04",{"$f":"'Pob x Genero'!#REF!","v":{"$error":"#REF!"}},202]
[{"$f":"'Pob x Genero'!#REF!","v":{"$error":"#REF!"}},{"$f":"'Pob x Genero'!#REF!","v":{"$error":"#REF!"}},{"$f":"'Pob x Genero'!#REF!","v":{"$error":"#REF!"}},{"$f":"'Pob x Genero'!#REF!","v":{"$error":"#REF!"}},{"$f":"'Pob x Genero'!#REF!","v":{"$error":"#REF!"}},"Hombre","00-04",{"$f":"'Pob x Genero'!#REF!","v":{"$error":"#REF!"}},203]
[{"$f":"'Pob x Genero'!#REF!","v":{"$error":"#REF!"}},{"$f":"'Pob x Genero'!#REF!","v":{"$error":"#REF!"}},{"$f":"'Pob x Genero'!#REF!","v":{"$error":"#REF!"}},{"$f":"'Pob x Genero'!#REF!","v":{"$error":"#REF!"}},{"$f":"'Pob x Genero'!#REF!","v":{"$error":"#REF!"}},"Hombre","00-04",{"$f":"'Pob x Genero'!#REF!","v":{"$error":"#REF!"}},204]
[{"$f":"'Pob x Genero'!#REF!","v":{"$error":"#REF!"}},{"$f":"'Pob x Genero'!#REF!","v":{"$error":"#REF!"}},{"$f":"'Pob x Genero'!#REF!","v":{"$error":"#REF!"}},{"$f":"'Pob x Genero'!#REF!","v":{"$error":"#REF!"}},{"$f":"'Pob x Genero'!#REF!","v":{"$error":"#REF!"}},"Hombre","00-04",{"$f":"'Pob x Genero'!#REF!","v":{"$error":"#REF!"}},205]
[{"$f":"'Pob x Genero'!#REF!","v":{"$error":"#REF!"}},{"$f":"'Pob x Genero'!#REF!","v":{"$error":"#REF!"}},{"$f":"'Pob x Genero'!#REF!","v":{"$error":"#REF!"}},{"$f":"'Pob x Genero'!#REF!","v":{"$error":"#REF!"}},{"$f":"'Pob x Genero'!#REF!","v":{"$error":"#REF!"}},"Hombre","00-04",{"$f":"'Pob x Genero'!#REF!","v":{"$error":"#REF!"}},206]
[{"$f":"'Pob x Genero'!#REF!","v":{"$error":"#REF!"}},{"$f":"'Pob x Genero'!#REF!","v":{"$error":"#REF!"}},{"$f":"'Pob x Genero'!#REF!","v":{"$error":"#REF!"}},{"$f":"'Pob x Genero'!#REF!","v":{"$error":"#REF!"}},{"$f":"'Pob x Genero'!#REF!","v":{"$error":"#REF!"}},"Hombre","00-04",{"$f":"'Pob x Genero'!#REF!","v":{"$error":"#REF!"}},207]
[{"$f":"'Pob x Genero'!#REF!","v":{"$error":"#REF!"}},{"$f":"'Pob x Genero'!#REF!","v":{"$error":"#REF!"}},{"$f":"'Pob x Genero'!#REF!","v":{"$error":"#REF!"}},{"$f":"'Pob x Genero'!#REF!","v":{"$error":"#REF!"}},{"$f":"'Pob x Genero'!#REF!","v":{"$error":"#REF!"}},"Hombre","00-04",{"$f":"'Pob x Genero'!#REF!","v":{"$error":"#REF!"}},208]
[{"$f":"'Pob x Genero'!#REF!","v":{"$error":"#REF!"}},{"$f":"'Pob x Genero'!#REF!","v":{"$error":"#REF!"}},{"$f":"'Pob x Genero'!#REF!","v":{"$error":"#REF!"}},{"$f":"'Pob x Genero'!#REF!","v":{"$error":"#REF!"}},{"$f":"'Pob x Genero'!#REF!","v":{"$error":"#REF!"}},"Hombre","00-04",{"$f":"'Pob x Genero'!#REF!","v":{"$error":"#REF!"}},209]
[{"$f":"'Pob x Genero'!#REF!","v":{"$error":"#REF!"}},{"$f":"'Pob x Genero'!#REF!","v":{"$error":"#REF!"}},{"$f":"'Pob x Genero'!#REF!","v":{"$error":"#REF!"}},{"$f":"'Pob x Genero'!#REF!","v":{"$error":"#REF!"}},{"$f":"'Pob x Genero'!#REF!","v":{"$error":"#REF!"}},"Hombre","00-04",{"$f":"'Pob x Genero'!#REF!","v":{"$error":"#REF!"}},210]
[{"$f":"'Pob x Genero'!#REF!","v":{"$error":"#REF!"}},{"$f":"'Pob x Genero'!#REF!","v":{"$error":"#REF!"}},{"$f":"'Pob x Genero'!#REF!","v":{"$error":"#REF!"}},{"$f":"'Pob x Genero'!#REF!","v":{"$error":"#REF!"}},{"$f":"'Pob x Genero'!#REF!","v":{"$error":"#REF!"}},"Hombre","00-04",{"$f":"'Pob x Genero'!#REF!","v":{"$error":"#REF!"}},211]
[{"$f":"'Pob x Genero'!#REF!","v":{"$error":"#REF!"}},{"$f":"'Pob x Genero'!#REF!","v":{"$error":"#REF!"}},{"$f":"'Pob x Genero'!#REF!","v":{"$error":"#REF!"}},{"$f":"'Pob x Genero'!#REF!","v":{"$error":"#REF!"}},{"$f":"'Pob x Genero'!#REF!","v":{"$error":"#REF!"}},"Hombre","00-04",{"$f":"'Pob x Genero'!#REF!","v":{"$error":"#REF!"}},212]
[{"$f":"'Pob x Genero'!#REF!","v":{"$error":"#REF!"}},{"$f":"'Pob x Genero'!#REF!","v":{"$error":"#REF!"}},{"$f":"'Pob x Genero'!#REF!","v":{"$error":"#REF!"}},{"$f":"'Pob x Genero'!#REF!","v":{"$error":"#REF!"}},{"$f":"'Pob x Genero'!#REF!","v":{"$error":"#REF!"}},"Hombre","00-04",{"$f":"'Pob x Genero'!#REF!","v":{"$error":"#REF!"}},213]
[{"$f":"'Pob x Genero'!#REF!","v":{"$error":"#REF!"}},{"$f":"'Pob x Genero'!#REF!","v":{"$error":"#REF!"}},{"$f":"'Pob x Genero'!#REF!","v":{"$error":"#REF!"}},{"$f":"'Pob x Genero'!#REF!","v":{"$error":"#REF!"}},{"$f":"'Pob x Genero'!#REF!","v":{"$error":"#REF!"}},"Hombre","00-04",{"$f":"'Pob x Genero'!#REF!","v":{"$error":"#REF!"}},214]
[{"$f":"'Pob x Genero'!#REF!","v":{"$error":"#REF!"}},{"$f":"'Pob x Genero'!#REF!","v":{"$error":"#REF!"}},{"$f":"'Pob x Genero'!#REF!","v":{"$error":"#REF!"}},{"$f":"'Pob x Genero'!#REF!","v":{"$error":"#REF!"}},{"$f":"'Pob x Genero'!#REF!","v":{"$error":"#REF!"}},"Hombre","00-04",{"$f":"'Pob x Genero'!#REF!","v":{"$error":"#REF!"}},215]
[{"$f":"'Pob x Genero'!#REF!","v":{"$error":"#REF!"}},{"$f":"'Pob x Genero'!#REF!","v":{"$error":"#REF!"}},{"$f":"'Pob x Genero'!#REF!","v":{"$error":"#REF!"}},{"$f":"'Pob x Genero'!#REF!","v":{"$error":"#REF!"}},{"$f":"'Pob x Genero'!#REF!","v":{"$error":"#REF!"}},"Hombre","00-04",{"$f":"'Pob x Genero'!#REF!","v":{"$error":"#REF!"}},216]
[{"$f":"'Pob x Genero'!#REF!","v":{"$error":"#REF!"}},{"$f":"'Pob x Genero'!#REF!","v":{"$error":"#REF!"}},{"$f":"'Pob x Genero'!#REF!","v":{"$error":"#REF!"}},{"$f":"'Pob x Genero'!#REF!","v":{"$error":"#REF!"}},{"$f":"'Pob x Genero'!#REF!","v":{"$error":"#REF!"}},"Hombre","00-04",{"$f":"'Pob x Genero'!#REF!","v":{"$error":"#REF!"}},217]
[{"$f":"'Pob x Genero'!#REF!","v":{"$error":"#REF!"}},{"$f":"'Pob x Genero'!#REF!","v":{"$error":"#REF!"}},{"$f":"'Pob x Genero'!#REF!","v":{"$error":"#REF!"}},{"$f":"'Pob x Genero'!#REF!","v":{"$error":"#REF!"}},{"$f":"'Pob x Genero'!#REF!","v":{"$error":"#REF!"}},"Hombre","00-04",{"$f":"'Pob x Genero'!#REF!","v":{"$error":"#REF!"}},218]
[{"$f":"'Pob x Genero'!#REF!","v":{"$error":"#REF!"}},{"$f":"'Pob x Genero'!#REF!","v":{"$error":"#REF!"}},{"$f":"'Pob x Genero'!#REF!","v":{"$error":"#REF!"}},{"$f":"'Pob x Genero'!#REF!","v":{"$error":"#REF!"}},{"$f":"'Pob x Genero'!#REF!","v":{"$error":"#REF!"}},"Hombre","00-04",{"$f":"'Pob x Genero'!#REF!","v":{"$error":"#REF!"}},219]
[{"$f":"'Pob x Genero'!#REF!","v":{"$error":"#REF!"}},{"$f":"'Pob x Genero'!#REF!","v":{"$error":"#REF!"}},{"$f":"'Pob x Genero'!#REF!","v":{"$error":"#REF!"}},{"$f":"'Pob x Genero'!#REF!","v":{"$error":"#REF!"}},{"$f":"'Pob x Genero'!#REF!","v":{"$error":"#REF!"}},"Hombre","00-04",{"$f":"'Pob x Genero'!#REF!","v":{"$error":"#REF!"}},220]
[{"$f":"'Pob x Genero'!#REF!","v":{"$error":"#REF!"}},{"$f":"'Pob x Genero'!#REF!","v":{"$error":"#REF!"}},{"$f":"'Pob x Genero'!#REF!","v":{"$error":"#REF!"}},{"$f":"'Pob x Genero'!#REF!","v":{"$error":"#REF!"}},{"$f":"'Pob x Genero'!#REF!","v":{"$error":"#REF!"}},"Hombre","00-04",{"$f":"'Pob x Genero'!#REF!","v":{"$error":"#REF!"}},221]
[{"$f":"'Pob x Genero'!#REF!","v":{"$error":"#REF!"}},{"$f":"'Pob x Genero'!#REF!","v":{"$error":"#REF!"}},{"$f":"'Pob x Genero'!#REF!","v":{"$error":"#REF!"}},{"$f":"'Pob x Genero'!#REF!","v":{"$error":"#REF!"}},{"$f":"'Pob x Genero'!#REF!","v":{"$error":"#REF!"}},"Hombre","00-04",{"$f":"'Pob x Genero'!#REF!","v":{"$error":"#REF!"}},222]
[{"$f":"'Pob x Genero'!#REF!","v":{"$error":"#REF!"}},{"$f":"'Pob x Genero'!#REF!","v":{"$error":"#REF!"}},{"$f":"'Pob x Genero'!#REF!","v":{"$error":"#REF!"}},{"$f":"'Pob x Genero'!#REF!","v":{"$error":"#REF!"}},{"$f":"'Pob x Genero'!#REF!","v":{"$error":"#REF!"}},"Hombre","00-04",{"$f":"'Pob x Genero'!#REF!","v":{"$error":"#REF!"}},223]
[{"$f":"'Pob x Genero'!#REF!","v":{"$error":"#REF!"}},{"$f":"'Pob x Genero'!#REF!","v":{"$error":"#REF!"}},{"$f":"'Pob x Genero'!#REF!","v":{"$error":"#REF!"}},{"$f":"'Pob x Genero'!#REF!","v":{"$error":"#REF!"}},{"$f":"'Pob x Genero'!#REF!","v":{"$error":"#REF!"}},"Hombre","00-04",{"$f":"'Pob x Genero'!#REF!","v":{"$error":"#REF!"}},224]
[{"$f":"'Pob x Genero'!#REF!","v":{"$error":"#REF!"}},{"$f":"'Pob x Genero'!#REF!","v":{"$error":"#REF!"}},{"$f":"'Pob x Genero'!#REF!","v":{"$error":"#REF!"}},{"$f":"'Pob x Genero'!#REF!","v":{"$error":"#REF!"}},{"$f":"'Pob x Genero'!#REF!","v":{"$error":"#REF!"}},"Hombre","00-04",{"$f":"'Pob x Genero'!#REF!","v":{"$error":"#REF!"}},225]
[{"$f":"'Pob x Genero'!#REF!","v":{"$error":"#REF!"}},{"$f":"'Pob x Genero'!#REF!","v":{"$error":"#REF!"}},{"$f":"'Pob x Genero'!#REF!","v":{"$error":"#REF!"}},{"$f":"'Pob x Genero'!#REF!","v":{"$error":"#REF!"}},{"$f":"'Pob x Genero'!#REF!","v":{"$error":"#REF!"}},"Hombre","00-04",{"$f":"'Pob x Genero'!#REF!","v":{"$error":"#REF!"}},226]
[{"$f":"'Pob x Genero'!#REF!","v":{"$error":"#REF!"}},{"$f":"'Pob x Genero'!#REF!","v":{"$error":"#REF!"}},{"$f":"'Pob x Genero'!#REF!","v":{"$error":"#REF!"}},{"$f":"'Pob x Genero'!#REF!","v":{"$error":"#REF!"}},{"$f":"'Pob x Genero'!#REF!","v":{"$error":"#REF!"}},"Hombre","00-04",{"$f":"'Pob x Genero'!#REF!","v":{"$error":"#REF!"}},227]
[{"$f":"'Pob x Genero'!#REF!","v":{"$error":"#REF!"}},{"$f":"'Pob x Genero'!#REF!","v":{"$error":"#REF!"}},{"$f":"'Pob x Genero'!#REF!","v":{"$error":"#REF!"}},{"$f":"'Pob x Genero'!#REF!","v":{"$error":"#REF!"}},{"$f":"'Pob x Genero'!#REF!","v":{"$error":"#REF!"}},"Hombre","00-04",{"$f":"'Pob x Genero'!#REF!","v":{"$error":"#REF!"}},228]
[{"$f":"'Pob x Genero'!#REF!","v":{"$error":"#REF!"}},{"$f":"'Pob x Genero'!#REF!","v":{"$error":"#REF!"}},{"$f":"'Pob x Genero'!#REF!","v":{"$error":"#REF!"}},{"$f":"'Pob x Genero'!#REF!","v":{"$error":"#REF!"}},{"$f":"'Pob x Genero'!#REF!","v":{"$error":"#REF!"}},"Hombre","00-04",{"$f":"'Pob x Genero'!#REF!","v":{"$error":"#REF!"}},229]
[{"$f":"'Pob x Genero'!#REF!","v":{"$error":"#REF!"}},{"$f":"'Pob x Genero'!#REF!","v":{"$error":"#REF!"}},{"$f":"'Pob x Genero'!#REF!","v":{"$error":"#REF!"}},{"$f":"'Pob x Genero'!#REF!","v":{"$error":"#REF!"}},{"$f":"'Pob x Genero'!#REF!","v":{"$error":"#REF!"}},"Hombre","00-04",{"$f":"'Pob x Genero'!#REF!","v":{"$error":"#REF!"}},230]
[{"$f":"'Pob x Genero'!#REF!","v":{"$error":"#REF!"}},{"$f":"'Pob x Genero'!#REF!","v":{"$error":"#REF!"}},{"$f":"'Pob x Genero'!#REF!","v":{"$error":"#REF!"}},{"$f":"'Pob x Genero'!#REF!","v":{"$error":"#REF!"}},{"$f":"'Pob x Genero'!#REF!","v":{"$error":"#REF!"}},"Hombre","00-04",{"$f":"'Pob x Genero'!#REF!","v":{"$error":"#REF!"}},231]
[{"$f":"'Pob x Genero'!#REF!","v":{"$error":"#REF!"}},{"$f":"'Pob x Genero'!#REF!","v":{"$error":"#REF!"}},{"$f":"'Pob x Genero'!#REF!","v":{"$error":"#REF!"}},{"$f":"'Pob x Genero'!#REF!","v":{"$error":"#REF!"}},{"$f":"'Pob x Genero'!#REF!","v":{"$error":"#REF!"}},"Hombre","00-04",{"$f":"'Pob x Genero'!#REF!","v":{"$error":"#REF!"}},232]
[{"$f":"'Pob x Genero'!#REF!","v":{"$error":"#REF!"}},{"$f":"'Pob x Genero'!#REF!","v":{"$error":"#REF!"}},{"$f":"'Pob x Genero'!#REF!","v":{"$error":"#REF!"}},{"$f":"'Pob x Genero'!#REF!","v":{"$error":"#REF!"}},{"$f":"'Pob x Genero'!#REF!","v":{"$error":"#REF!"}},"Hombre","00-04",{"$f":"'Pob x Genero'!#REF!","v":{"$error":"#REF!"}},233]
[{"$f":"'Pob x Genero'!#REF!","v":{"$error":"#REF!"}},{"$f":"'Pob x Genero'!#REF!","v":{"$error":"#REF!"}},{"$f":"'Pob x Genero'!#REF!","v":{"$error":"#REF!"}},{"$f":"'Pob x Genero'!#REF!","v":{"$error":"#REF!"}},{"$f":"'Pob x Genero'!#REF!","v":{"$error":"#REF!"}},"Hombre","00-04",{"$f":"'Pob x Genero'!#REF!","v":{"$error":"#REF!"}},234]
[{"$f":"'Pob x Genero'!#REF!","v":{"$error":"#REF!"}},{"$f":"'Pob x Genero'!#REF!","v":{"$error":"#REF!"}},{"$f":"'Pob x Genero'!#REF!","v":{"$error":"#REF!"}},{"$f":"'Pob x Genero'!#REF!","v":{"$error":"#REF!"}},{"$f":"'Pob x Genero'!#REF!","v":{"$error":"#REF!"}},"Hombre","00-04",{"$f":"'Pob x Genero'!#REF!","v":{"$error":"#REF!"}},235]
[{"$f":"'Pob x Genero'!#REF!","v":{"$error":"#REF!"}},{"$f":"'Pob x Genero'!#REF!","v":{"$error":"#REF!"}},{"$f":"'Pob x Genero'!#REF!","v":{"$error":"#REF!"}},{"$f":"'Pob x Genero'!#REF!","v":{"$error":"#REF!"}},{"$f":"'Pob x Genero'!#REF!","v":{"$error":"#REF!"}},"Hombre","00-04",{"$f":"'Pob x Genero'!#REF!","v":{"$error":"#REF!"}},236]
[{"$f":"'Pob x Genero'!#REF!","v":{"$error":"#REF!"}},{"$f":"'Pob x Genero'!#REF!","v":{"$error":"#REF!"}},{"$f":"'Pob x Genero'!#REF!","v":{"$error":"#REF!"}},{"$f":"'Pob x Genero'!#REF!","v":{"$error":"#REF!"}},{"$f":"'Pob x Genero'!#REF!","v":{"$error":"#REF!"}},"Hombre","00-04",{"$f":"'Pob x Genero'!#REF!","v":{"$error":"#REF!"}},237]
[{"$f":"'Pob x Genero'!#REF!","v":{"$error":"#REF!"}},{"$f":"'Pob x Genero'!#REF!","v":{"$error":"#REF!"}},{"$f":"'Pob x Genero'!#REF!","v":{"$error":"#REF!"}},{"$f":"'Pob x Genero'!#REF!","v":{"$error":"#REF!"}},{"$f":"'Pob x Genero'!#REF!","v":{"$error":"#REF!"}},"Hombre","00-04",{"$f":"'Pob x Genero'!#REF!","v":{"$error":"#REF!"}},238]
[{"$f":"'Pob x Genero'!#REF!","v":{"$error":"#REF!"}},{"$f":"'Pob x Genero'!#REF!","v":{"$error":"#REF!"}},{"$f":"'Pob x Genero'!#REF!","v":{"$error":"#REF!"}},{"$f":"'Pob x Genero'!#REF!","v":{"$error":"#REF!"}},{"$f":"'Pob x Genero'!#REF!","v":{"$error":"#REF!"}},"Hombre","00-04",{"$f":"'Pob x Genero'!#REF!","v":{"$error":"#REF!"}},239]
[{"$f":"'Pob x Genero'!#REF!","v":{"$error":"#REF!"}},{"$f":"'Pob x Genero'!#REF!","v":{"$error":"#REF!"}},{"$f":"'Pob x Genero'!#REF!","v":{"$error":"#REF!"}},{"$f":"'Pob x Genero'!#REF!","v":{"$error":"#REF!"}},{"$f":"'Pob x Genero'!#REF!","v":{"$error":"#REF!"}},"Hombre","00-04",{"$f":"'Pob x Genero'!#REF!","v":{"$error":"#REF!"}},240]
[{"$f":"'Pob x Genero'!#REF!","v":{"$error":"#REF!"}},{"$f":"'Pob x Genero'!#REF!","v":{"$error":"#REF!"}},{"$f":"'Pob x Genero'!#REF!","v":{"$error":"#REF!"}},{"$f":"'Pob x Genero'!#REF!","v":{"$error":"#REF!"}},{"$f":"'Pob x Genero'!#REF!","v":{"$error":"#REF!"}},"Hombre","00-04",{"$f":"'Pob x Genero'!#REF!","v":{"$error":"#REF!"}},241]
[{"$f":"'Pob x Genero'!#REF!","v":{"$error":"#REF!"}},{"$f":"'Pob x Genero'!#REF!","v":{"$error":"#REF!"}},{"$f":"'Pob x Genero'!#REF!","v":{"$error":"#REF!"}},{"$f":"'Pob x Genero'!#REF!","v":{"$error":"#REF!"}},{"$f":"'Pob x Genero'!#REF!","v":{"$error":"#REF!"}},"Hombre","00-04",{"$f":"'Pob x Genero'!#REF!","v":{"$error":"#REF!"}},242]
[{"$f":"'Pob x Genero'!#REF!","v":{"$error":"#REF!"}},{"$f":"'Pob x Genero'!#REF!","v":{"$error":"#REF!"}},{"$f":"'Pob x Genero'!#REF!","v":{"$error":"#REF!"}},{"$f":"'Pob x Genero'!#REF!","v":{"$error":"#REF!"}},{"$f":"'Pob x Genero'!#REF!","v":{"$error":"#REF!"}},"Hombre","00-04",{"$f":"'Pob x Genero'!#REF!","v":{"$error":"#REF!"}},243]
[{"$f":"'Pob x Genero'!#REF!","v":{"$error":"#REF!"}},{"$f":"'Pob x Genero'!#REF!","v":{"$error":"#REF!"}},{"$f":"'Pob x Genero'!#REF!","v":{"$error":"#REF!"}},{"$f":"'Pob x Genero'!#REF!","v":{"$error":"#REF!"}},{"$f":"'Pob x Genero'!#REF!","v":{"$error":"#REF!"}},"Hombre","00-04",{"$f":"'Pob x Genero'!#REF!","v":{"$error":"#REF!"}},244]
[{"$f":"'Pob x Genero'!#REF!","v":{"$error":"#REF!"}},{"$f":"'Pob x Genero'!#REF!","v":{"$error":"#REF!"}},{"$f":"'Pob x Genero'!#REF!","v":{"$error":"#REF!"}},{"$f":"'Pob x Genero'!#REF!","v":{"$error":"#REF!"}},{"$f":"'Pob x Genero'!#REF!","v":{"$error":"#REF!"}},"Hombre","00-04",{"$f":"'Pob x Genero'!#REF!","v":{"$error":"#REF!"}},245]
[{"$f":"'Pob x Genero'!#REF!","v":{"$error":"#REF!"}},{"$f":"'Pob x Genero'!#REF!","v":{"$error":"#REF!"}},{"$f":"'Pob x Genero'!#REF!","v":{"$error":"#REF!"}},{"$f":"'Pob x Genero'!#REF!","v":{"$error":"#REF!"}},{"$f":"'Pob x Genero'!#REF!","v":{"$error":"#REF!"}},"Hombre","00-04",{"$f":"'Pob x Genero'!#REF!","v":{"$error":"#REF!"}},246]
[{"$f":"'Pob x Genero'!#REF!","v":{"$error":"#REF!"}},{"$f":"'Pob x Genero'!#REF!","v":{"$error":"#REF!"}},{"$f":"'Pob x Genero'!#REF!","v":{"$error":"#REF!"}},{"$f":"'Pob x Genero'!#REF!","v":{"$error":"#REF!"}},{"$f":"'Pob x Genero'!#REF!","v":{"$error":"#REF!"}},"Hombre","00-04",{"$f":"'Pob x Genero'!#REF!","v":{"$error":"#REF!"}},247]
[{"$f":"'Pob x Genero'!#REF!","v":{"$error":"#REF!"}},{"$f":"'Pob x Genero'!#REF!","v":{"$error":"#REF!"}},{"$f":"'Pob x Genero'!#REF!","v":{"$error":"#REF!"}},{"$f":"'Pob x Genero'!#REF!","v":{"$error":"#REF!"}},{"$f":"'Pob x Genero'!#REF!","v":{"$error":"#REF!"}},"Hombre","00-04",{"$f":"'Pob x Genero'!#REF!","v":{"$error":"#REF!"}},248]
[{"$f":"'Pob x Genero'!#REF!","v":{"$error":"#REF!"}},{"$f":"'Pob x Genero'!#REF!","v":{"$error":"#REF!"}},{"$f":"'Pob x Genero'!#REF!","v":{"$error":"#REF!"}},{"$f":"'Pob x Genero'!#REF!","v":{"$error":"#REF!"}},{"$f":"'Pob x Genero'!#REF!","v":{"$error":"#REF!"}},"Hombre","00-04",{"$f":"'Pob x Genero'!#REF!","v":{"$error":"#REF!"}},249]
[{"$f":"'Pob x Genero'!#REF!","v":{"$error":"#REF!"}},{"$f":"'Pob x Genero'!#REF!","v":{"$error":"#REF!"}},{"$f":"'Pob x Genero'!#REF!","v":{"$error":"#REF!"}},{"$f":"'Pob x Genero'!#REF!","v":{"$error":"#REF!"}},{"$f":"'Pob x Genero'!#REF!","v":{"$error":"#REF!"}},"Hombre","00-04",{"$f":"'Pob x Genero'!#REF!","v":{"$error":"#REF!"}},250]
[{"$f":"'Pob x Genero'!#REF!","v":{"$error":"#REF!"}},{"$f":"'Pob x Genero'!#REF!","v":{"$error":"#REF!"}},{"$f":"'Pob x Genero'!#REF!","v":{"$error":"#REF!"}},{"$f":"'Pob x Genero'!#REF!","v":{"$error":"#REF!"}},{"$f":"'Pob x Genero'!#REF!","v":{"$error":"#REF!"}},"Hombre","00-04",{"$f":"'Pob x Genero'!#REF!","v":{"$error":"#REF!"}},251]
[{"$f":"'Pob x Genero'!#REF!","v":{"$error":"#REF!"}},{"$f":"'Pob x Genero'!#REF!","v":{"$error":"#REF!"}},{"$f":"'Pob x Genero'!#REF!","v":{"$error":"#REF!"}},{"$f":"'Pob x Genero'!#REF!","v":{"$error":"#REF!"}},{"$f":"'Pob x Genero'!#REF!","v":{"$error":"#REF!"}},"Hombre","00-04",{"$f":"'Pob x Genero'!#REF!","v":{"$error":"#REF!"}},252]
[{"$f":"'Pob x Genero'!#REF!","v":{"$error":"#REF!"}},{"$f":"'Pob x Genero'!#REF!","v":{"$error":"#REF!"}},{"$f":"'Pob x Genero'!#REF!","v":{"$error":"#REF!"}},{"$f":"'Pob x Genero'!#REF!","v":{"$error":"#REF!"}},{"$f":"'Pob x Genero'!#REF!","v":{"$error":"#REF!"}},"Hombre","00-04",{"$f":"'Pob x Genero'!#REF!","v":{"$error":"#REF!"}},253]
[{"$f":"'Pob x Genero'!#REF!","v":{"$error":"#REF!"}},{"$f":"'Pob x Genero'!#REF!","v":{"$error":"#REF!"}},{"$f":"'Pob x Genero'!#REF!","v":{"$error":"#REF!"}},{"$f":"'Pob x Genero'!#REF!","v":{"$error":"#REF!"}},{"$f":"'Pob x Genero'!#REF!","v":{"$error":"#REF!"}},"Hombre","00-04",{"$f":"'Pob x Genero'!#REF!","v":{"$error":"#REF!"}},254]
[{"$f":"'Pob x Genero'!#REF!","v":{"$error":"#REF!"}},{"$f":"'Pob x Genero'!#REF!","v":{"$error":"#REF!"}},{"$f":"'Pob x Genero'!#REF!","v":{"$error":"#REF!"}},{"$f":"'Pob x Genero'!#REF!","v":{"$error":"#REF!"}},{"$f":"'Pob x Genero'!#REF!","v":{"$error":"#REF!"}},"Hombre","00-04",{"$f":"'Pob x Genero'!#REF!","v":{"$error":"#REF!"}},255]
[{"$f":"'Pob x Genero'!#REF!","v":{"$error":"#REF!"}},{"$f":"'Pob x Genero'!#REF!","v":{"$error":"#REF!"}},{"$f":"'Pob x Genero'!#REF!","v":{"$error":"#REF!"}},{"$f":"'Pob x Genero'!#REF!","v":{"$error":"#REF!"}},{"$f":"'Pob x Genero'!#REF!","v":{"$error":"#REF!"}},"Hombre","00-04",{"$f":"'Pob x Genero'!#REF!","v":{"$error":"#REF!"}},256]
[{"$f":"'Pob x Genero'!#REF!","v":{"$error":"#REF!"}},{"$f":"'Pob x Genero'!#REF!","v":{"$error":"#REF!"}},{"$f":"'Pob x Genero'!#REF!","v":{"$error":"#REF!"}},{"$f":"'Pob x Genero'!#REF!","v":{"$error":"#REF!"}},{"$f":"'Pob x Genero'!#REF!","v":{"$error":"#REF!"}},"Hombre","00-04",{"$f":"'Pob x Genero'!#REF!","v":{"$error":"#REF!"}},257]
[{"$f":"'Pob x Genero'!#REF!","v":{"$error":"#REF!"}},{"$f":"'Pob x Genero'!#REF!","v":{"$error":"#REF!"}},{"$f":"'Pob x Genero'!#REF!","v":{"$error":"#REF!"}},{"$f":"'Pob x Genero'!#REF!","v":{"$error":"#REF!"}},{"$f":"'Pob x Genero'!#REF!","v":{"$error":"#REF!"}},{"$f":"F258","v":"Hombre"},{"$f":"G258","v":"00-04"},{"$f":"'Pob x Genero'!#REF!","v":{"$error":"#REF!"}},258]
[{"$f":"'Pob x Genero'!#REF!","v":{"$error":"#REF!"}},{"$f":"'Pob x Genero'!#REF!","v":{"$error":"#REF!"}},{"$f":"'Pob x Genero'!#REF!","v":{"$error":"#REF!"}},{"$f":"'Pob x Genero'!#REF!","v":{"$error":"#REF!"}},{"$f":"'Pob x Genero'!#REF!","v":{"$error":"#REF!"}},"Hombre","00-04",{"$f":"'Pob x Genero'!#REF!","v":{"$error":"#REF!"}},259]
[{"$f":"'Pob x Genero'!#REF!","v":{"$error":"#REF!"}},{"$f":"'Pob x Genero'!#REF!","v":{"$error":"#REF!"}},{"$f":"'Pob x Genero'!#REF!","v":{"$error":"#REF!"}},{"$f":"'Pob x Genero'!#REF!","v":{"$error":"#REF!"}},{"$f":"'Pob x Genero'!#REF!","v":{"$error":"#REF!"}},"Hombre","00-04",{"$f":"'Pob x Genero'!#REF!","v":{"$error":"#REF!"}},260]
[{"$f":"'Pob x Genero'!#REF!","v":{"$error":"#REF!"}},{"$f":"'Pob x Genero'!#REF!","v":{"$error":"#REF!"}},{"$f":"'Pob x Genero'!#REF!","v":{"$error":"#REF!"}},{"$f":"'Pob x Genero'!#REF!","v":{"$error":"#REF!"}},{"$f":"'Pob x Genero'!#REF!","v":{"$error":"#REF!"}},"Hombre","00-04",{"$f":"'Pob x Genero'!#REF!","v":{"$error":"#REF!"}},261]
[{"$f":"'Pob x Genero'!#REF!","v":{"$error":"#REF!"}},{"$f":"'Pob x Genero'!#REF!","v":{"$error":"#REF!"}},{"$f":"'Pob x Genero'!#REF!","v":{"$error":"#REF!"}},{"$f":"'Pob x Genero'!#REF!","v":{"$error":"#REF!"}},{"$f":"'Pob x Genero'!#REF!","v":{"$error":"#REF!"}},"Hombre","00-04",{"$f":"'Pob x Genero'!#REF!","v":{"$error":"#REF!"}},262]
[{"$f":"'Pob x Genero'!#REF!","v":{"$error":"#REF!"}},{"$f":"'Pob x Genero'!#REF!","v":{"$error":"#REF!"}},{"$f":"'Pob x Genero'!#REF!","v":{"$error":"#REF!"}},{"$f":"'Pob x Genero'!#REF!","v":{"$error":"#REF!"}},{"$f":"'Pob x Genero'!#REF!","v":{"$error":"#REF!"}},"Hombre","00-04",{"$f":"'Pob x Genero'!#REF!","v":{"$error":"#REF!"}},263]
[{"$f":"'Pob x Genero'!#REF!","v":{"$error":"#REF!"}},{"$f":"'Pob x Genero'!#REF!","v":{"$error":"#REF!"}},{"$f":"'Pob x Genero'!#REF!","v":{"$error":"#REF!"}},{"$f":"'Pob x Genero'!#REF!","v":{"$error":"#REF!"}},{"$f":"'Pob x Genero'!#REF!","v":{"$error":"#REF!"}},"Hombre","00-04",{"$f":"'Pob x Genero'!#REF!","v":{"$error":"#REF!"}},264]
[{"$f":"'Pob x Genero'!#REF!","v":{"$error":"#REF!"}},{"$f":"'Pob x Genero'!#REF!","v":{"$error":"#REF!"}},{"$f":"'Pob x Genero'!#REF!","v":{"$error":"#REF!"}},{"$f":"'Pob x Genero'!#REF!","v":{"$error":"#REF!"}},{"$f":"'Pob x Genero'!#REF!","v":{"$error":"#REF!"}},"Hombre","00-04",{"$f":"'Pob x Genero'!#REF!","v":{"$error":"#REF!"}},265]
[{"$f":"'Pob x Genero'!#REF!","v":{"$error":"#REF!"}},{"$f":"'Pob x Genero'!#REF!","v":{"$error":"#REF!"}},{"$f":"'Pob x Genero'!#REF!","v":{"$error":"#REF!"}},{"$f":"'Pob x Genero'!#REF!","v":{"$error":"#REF!"}},{"$f":"'Pob x Genero'!#REF!","v":{"$error":"#REF!"}},"Hombre","00-04",{"$f":"'Pob x Genero'!#REF!","v":{"$error":"#REF!"}},266]
[{"$f":"'Pob x Genero'!#REF!","v":{"$error":"#REF!"}},{"$f":"'Pob x Genero'!#REF!","v":{"$error":"#REF!"}},{"$f":"'Pob x Genero'!#REF!","v":{"$error":"#REF!"}},{"$f":"'Pob x Genero'!#REF!","v":{"$error":"#REF!"}},{"$f":"'Pob x Genero'!#REF!","v":{"$error":"#REF!"}},"Hombre","00-04",{"$f":"'Pob x Genero'!#REF!","v":{"$error":"#REF!"}},267]
[{"$f":"'Pob x Genero'!#REF!","v":{"$error":"#REF!"}},{"$f":"'Pob x Genero'!#REF!","v":{"$error":"#REF!"}},{"$f":"'Pob x Genero'!#REF!","v":{"$error":"#REF!"}},{"$f":"'Pob x Genero'!#REF!","v":{"$error":"#REF!"}},{"$f":"'Pob x Genero'!#REF!","v":{"$error":"#REF!"}},"Hombre","00-04",{"$f":"'Pob x Genero'!#REF!","v":{"$error":"#REF!"}},268]
[{"$f":"'Pob x Genero'!#REF!","v":{"$error":"#REF!"}},{"$f":"'Pob x Genero'!#REF!","v":{"$error":"#REF!"}},{"$f":"'Pob x Genero'!#REF!","v":{"$error":"#REF!"}},{"$f":"'Pob x Genero'!#REF!","v":{"$error":"#REF!"}},{"$f":"'Pob x Genero'!#REF!","v":{"$error":"#REF!"}},"Hombre","00-04",{"$f":"'Pob x Genero'!#REF!","v":{"$error":"#REF!"}},269]
[{"$f":"'Pob x Genero'!#REF!","v":{"$error":"#REF!"}},{"$f":"'Pob x Genero'!#REF!","v":{"$error":"#REF!"}},{"$f":"'Pob x Genero'!#REF!","v":{"$error":"#REF!"}},{"$f":"'Pob x Genero'!#REF!","v":{"$error":"#REF!"}},{"$f":"'Pob x Genero'!#REF!","v":{"$error":"#REF!"}},"Hombre","00-04",{"$f":"'Pob x Genero'!#REF!","v":{"$error":"#REF!"}},270]
[{"$f":"'Pob x Genero'!#REF!","v":{"$error":"#REF!"}},{"$f":"'Pob x Genero'!#REF!","v":{"$error":"#REF!"}},{"$f":"'Pob x Genero'!#REF!","v":{"$error":"#REF!"}},{"$f":"'Pob x Genero'!#REF!","v":{"$error":"#REF!"}},{"$f":"'Pob x Genero'!#REF!","v":{"$error":"#REF!"}},"Hombre","00-04",{"$f":"'Pob x Genero'!#REF!","v":{"$error":"#REF!"}},271]
[{"$f":"'Pob x Genero'!#REF!","v":{"$error":"#REF!"}},{"$f":"'Pob x Genero'!#REF!","v":{"$error":"#REF!"}},{"$f":"'Pob x Genero'!#REF!","v":{"$error":"#REF!"}},{"$f":"'Pob x Genero'!#REF!","v":{"$error":"#REF!"}},{"$f":"'Pob x Genero'!#REF!","v":{"$error":"#REF!"}},"Hombre","00-04",{"$f":"'Pob x Genero'!#REF!","v":{"$error":"#REF!"}},272]
[{"$f":"'Pob x Genero'!#REF!","v":{"$error":"#REF!"}},{"$f":"'Pob x Genero'!#REF!","v":{"$error":"#REF!"}},{"$f":"'Pob x Genero'!#REF!","v":{"$error":"#REF!"}},{"$f":"'Pob x Genero'!#REF!","v":{"$error":"#REF!"}},{"$f":"'Pob x Genero'!#REF!","v":{"$error":"#REF!"}},"Hombre","00-04",{"$f":"'Pob x Genero'!#REF!","v":{"$error":"#REF!"}},273]
[{"$f":"'Pob x Genero'!#REF!","v":{"$error":"#REF!"}},{"$f":"'Pob x Genero'!#REF!","v":{"$error":"#REF!"}},{"$f":"'Pob x Genero'!#REF!","v":{"$error":"#REF!"}},{"$f":"'Pob x Genero'!#REF!","v":{"$error":"#REF!"}},{"$f":"'Pob x Genero'!#REF!","v":{"$error":"#REF!"}},"Hombre","00-04",{"$f":"'Pob x Genero'!#REF!","v":{"$error":"#REF!"}},274]
[{"$f":"'Pob x Genero'!#REF!","v":{"$error":"#REF!"}},{"$f":"'Pob x Genero'!#REF!","v":{"$error":"#REF!"}},{"$f":"'Pob x Genero'!#REF!","v":{"$error":"#REF!"}},{"$f":"'Pob x Genero'!#REF!","v":{"$error":"#REF!"}},{"$f":"'Pob x Genero'!#REF!","v":{"$error":"#REF!"}},"Hombre","00-04",{"$f":"'Pob x Genero'!#REF!","v":{"$error":"#REF!"}},275]
[{"$f":"'Pob x Genero'!#REF!","v":{"$error":"#REF!"}},{"$f":"'Pob x Genero'!#REF!","v":{"$error":"#REF!"}},{"$f":"'Pob x Genero'!#REF!","v":{"$error":"#REF!"}},{"$f":"'Pob x Genero'!#REF!","v":{"$error":"#REF!"}},{"$f":"'Pob x Genero'!#REF!","v":{"$error":"#REF!"}},"Hombre","00-04",{"$f":"'Pob x Genero'!#REF!","v":{"$error":"#REF!"}},276]
[{"$f":"'Pob x Genero'!#REF!","v":{"$error":"#REF!"}},{"$f":"'Pob x Genero'!#REF!","v":{"$error":"#REF!"}},{"$f":"'Pob x Genero'!#REF!","v":{"$error":"#REF!"}},{"$f":"'Pob x Genero'!#REF!","v":{"$error":"#REF!"}},{"$f":"'Pob x Genero'!#REF!","v":{"$error":"#REF!"}},"Hombre","00-04",{"$f":"'Pob x Genero'!#REF!","v":{"$error":"#REF!"}},277]
[{"$f":"'Pob x Genero'!#REF!","v":{"$error":"#REF!"}},{"$f":"'Pob x Genero'!#REF!","v":{"$error":"#REF!"}},{"$f":"'Pob x Genero'!#REF!","v":{"$error":"#REF!"}},{"$f":"'Pob x Genero'!#REF!","v":{"$error":"#REF!"}},{"$f":"'Pob x Genero'!#REF!","v":{"$error":"#REF!"}},"Hombre","00-04",{"$f":"'Pob x Genero'!#REF!","v":{"$error":"#REF!"}},278]
[{"$f":"'Pob x Genero'!#REF!","v":{"$error":"#REF!"}},{"$f":"'Pob x Genero'!#REF!","v":{"$error":"#REF!"}},{"$f":"'Pob x Genero'!#REF!","v":{"$error":"#REF!"}},{"$f":"'Pob x Genero'!#REF!","v":{"$error":"#REF!"}},{"$f":"'Pob x Genero'!#REF!","v":{"$error":"#REF!"}},"Hombre","00-04",{"$f":"'Pob x Genero'!#REF!","v":{"$error":"#REF!"}},279]
[{"$f":"'Pob x Genero'!#REF!","v":{"$error":"#REF!"}},{"$f":"'Pob x Genero'!#REF!","v":{"$error":"#REF!"}},{"$f":"'Pob x Genero'!#REF!","v":{"$error":"#REF!"}},{"$f":"'Pob x Genero'!#REF!","v":{"$error":"#REF!"}},{"$f":"'Pob x Genero'!#REF!","v":{"$error":"#REF!"}},"Hombre","00-04",{"$f":"'Pob x Genero'!#REF!","v":{"$error":"#REF!"}},280]
[{"$f":"'Pob x Genero'!#REF!","v":{"$error":"#REF!"}},{"$f":"'Pob x Genero'!#REF!","v":{"$error":"#REF!"}},{"$f":"'Pob x Genero'!#REF!","v":{"$error":"#REF!"}},{"$f":"'Pob x Genero'!#REF!","v":{"$error":"#REF!"}},{"$f":"'Pob x Genero'!#REF!","v":{"$error":"#REF!"}},"Hombre","00-04",{"$f":"'Pob x Genero'!#REF!","v":{"$error":"#REF!"}},281]
[{"$f":"'Pob x Genero'!#REF!","v":{"$error":"#REF!"}},{"$f":"'Pob x Genero'!#REF!","v":{"$error":"#REF!"}},{"$f":"'Pob x Genero'!#REF!","v":{"$error":"#REF!"}},{"$f":"'Pob x Genero'!#REF!","v":{"$error":"#REF!"}},{"$f":"'Pob x Genero'!#REF!","v":{"$error":"#REF!"}},"Hombre","00-04",{"$f":"'Pob x Genero'!#REF!","v":{"$error":"#REF!"}},282]
[{"$f":"'Pob x Genero'!#REF!","v":{"$error":"#REF!"}},{"$f":"'Pob x Genero'!#REF!","v":{"$error":"#REF!"}},{"$f":"'Pob x Genero'!#REF!","v":{"$error":"#REF!"}},{"$f":"'Pob x Genero'!#REF!","v":{"$error":"#REF!"}},{"$f":"'Pob x Genero'!#REF!","v":{"$error":"#REF!"}},"Hombre","00-04",{"$f":"'Pob x Genero'!#REF!","v":{"$error":"#REF!"}},283]
[{"$f":"'Pob x Genero'!#REF!","v":{"$error":"#REF!"}},{"$f":"'Pob x Genero'!#REF!","v":{"$error":"#REF!"}},{"$f":"'Pob x Genero'!#REF!","v":{"$error":"#REF!"}},{"$f":"'Pob x Genero'!#REF!","v":{"$error":"#REF!"}},{"$f":"'Pob x Genero'!#REF!","v":{"$error":"#REF!"}},"Hombre","00-04",{"$f":"'Pob x Genero'!#REF!","v":{"$error":"#REF!"}},284]
[{"$f":"'Pob x Genero'!#REF!","v":{"$error":"#REF!"}},{"$f":"'Pob x Genero'!#REF!","v":{"$error":"#REF!"}},{"$f":"'Pob x Genero'!#REF!","v":{"$error":"#REF!"}},{"$f":"'Pob x Genero'!#REF!","v":{"$error":"#REF!"}},{"$f":"'Pob x Genero'!#REF!","v":{"$error":"#REF!"}},"Hombre","00-04",{"$f":"'Pob x Genero'!#REF!","v":{"$error":"#REF!"}},285]
[{"$f":"'Pob x Genero'!#REF!","v":{"$error":"#REF!"}},{"$f":"'Pob x Genero'!#REF!","v":{"$error":"#REF!"}},{"$f":"'Pob x Genero'!#REF!","v":{"$error":"#REF!"}},{"$f":"'Pob x Genero'!#REF!","v":{"$error":"#REF!"}},{"$f":"'Pob x Genero'!#REF!","v":{"$error":"#REF!"}},"Hombre","00-04",{"$f":"'Pob x Genero'!#REF!","v":{"$error":"#REF!"}},286]
[{"$f":"'Pob x Genero'!#REF!","v":{"$error":"#REF!"}},{"$f":"'Pob x Genero'!#REF!","v":{"$error":"#REF!"}},{"$f":"'Pob x Genero'!#REF!","v":{"$error":"#REF!"}},{"$f":"'Pob x Genero'!#REF!","v":{"$error":"#REF!"}},{"$f":"'Pob x Genero'!#REF!","v":{"$error":"#REF!"}},"Hombre","00-04",{"$f":"'Pob x Genero'!#REF!","v":{"$error":"#REF!"}},287]
[{"$f":"'Pob x Genero'!#REF!","v":{"$error":"#REF!"}},{"$f":"'Pob x Genero'!#REF!","v":{"$error":"#REF!"}},{"$f":"'Pob x Genero'!#REF!","v":{"$error":"#REF!"}},{"$f":"'Pob x Genero'!#REF!","v":{"$error":"#REF!"}},{"$f":"'Pob x Genero'!#REF!","v":{"$error":"#REF!"}},"Hombre","00-04",{"$f":"'Pob x Genero'!#REF!","v":{"$error":"#REF!"}},288]
[{"$f":"'Pob x Genero'!#REF!","v":{"$error":"#REF!"}},{"$f":"'Pob x Genero'!#REF!","v":{"$error":"#REF!"}},{"$f":"'Pob x Genero'!#REF!","v":{"$error":"#REF!"}},{"$f":"'Pob x Genero'!#REF!","v":{"$error":"#REF!"}},{"$f":"'Pob x Genero'!#REF!","v":{"$error":"#REF!"}},"Hombre","00-04",{"$f":"'Pob x Genero'!#REF!","v":{"$error":"#REF!"}},289]
[{"$f":"'Pob x Genero'!#REF!","v":{"$error":"#REF!"}},{"$f":"'Pob x Genero'!#REF!","v":{"$error":"#REF!"}},{"$f":"'Pob x Genero'!#REF!","v":{"$error":"#REF!"}},{"$f":"'Pob x Genero'!#REF!","v":{"$error":"#REF!"}},{"$f":"'Pob x Genero'!#REF!","v":{"$error":"#REF!"}},"Hombre","00-04",{"$f":"'Pob x Genero'!#REF!","v":{"$error":"#REF!"}},290]
[{"$f":"'Pob x Genero'!#REF!","v":{"$error":"#REF!"}},{"$f":"'Pob x Genero'!#REF!","v":{"$error":"#REF!"}},{"$f":"'Pob x Genero'!#REF!","v":{"$error":"#REF!"}},{"$f":"'Pob x Genero'!#REF!","v":{"$error":"#REF!"}},{"$f":"'Pob x Genero'!#REF!","v":{"$error":"#REF!"}},"Hombre","00-04",{"$f":"'Pob x Genero'!#REF!","v":{"$error":"#REF!"}},291]
[{"$f":"'Pob x Genero'!#REF!","v":{"$error":"#REF!"}},{"$f":"'Pob x Genero'!#REF!","v":{"$error":"#REF!"}},{"$f":"'Pob x Genero'!#REF!","v":{"$error":"#REF!"}},{"$f":"'Pob x Genero'!#REF!","v":{"$error":"#REF!"}},{"$f":"'Pob x Genero'!#REF!","v":{"$error":"#REF!"}},"Hombre","00-04",{"$f":"'Pob x Genero'!#REF!","v":{"$error":"#REF!"}},292]
[{"$f":"'Pob x Genero'!#REF!","v":{"$error":"#REF!"}},{"$f":"'Pob x Genero'!#REF!","v":{"$error":"#REF!"}},{"$f":"'Pob x Genero'!#REF!","v":{"$error":"#REF!"}},{"$f":"'Pob x Genero'!#REF!","v":{"$error":"#REF!"}},{"$f":"'Pob x Genero'!#REF!","v":{"$error":"#REF!"}},"Hombre","00-04",{"$f":"'Pob x Genero'!#REF!","v":{"$error":"#REF!"}},293]
[{"$f":"'Pob x Genero'!#REF!","v":{"$error":"#REF!"}},{"$f":"'Pob x Genero'!#REF!","v":{"$error":"#REF!"}},{"$f":"'Pob x Genero'!#REF!","v":{"$error":"#REF!"}},{"$f":"'Pob x Genero'!#REF!","v":{"$error":"#REF!"}},{"$f":"'Pob x Genero'!#REF!","v":{"$error":"#REF!"}},"Hombre","00-04",{"$f":"'Pob x Genero'!#REF!","v":{"$error":"#REF!"}},294]
[{"$f":"'Pob x Genero'!#REF!","v":{"$error":"#REF!"}},{"$f":"'Pob x Genero'!#REF!","v":{"$error":"#REF!"}},{"$f":"'Pob x Genero'!#REF!","v":{"$error":"#REF!"}},{"$f":"'Pob x Genero'!#REF!","v":{"$error":"#REF!"}},{"$f":"'Pob x Genero'!#REF!","v":{"$error":"#REF!"}},"Hombre","00-04",{"$f":"'Pob x Genero'!#REF!","v":{"$error":"#REF!"}},295]
[{"$f":"'Pob x Genero'!#REF!","v":{"$error":"#REF!"}},{"$f":"'Pob x Genero'!#REF!","v":{"$error":"#REF!"}},{"$f":"'Pob x Genero'!#REF!","v":{"$error":"#REF!"}},{"$f":"'Pob x Genero'!#REF!","v":{"$error":"#REF!"}},{"$f":"'Pob x Genero'!#REF!","v":{"$error":"#REF!"}},"Hombre","00-04",{"$f":"'Pob x Genero'!#REF!","v":{"$error":"#REF!"}},296]
[{"$f":"'Pob x Genero'!#REF!","v":{"$error":"#REF!"}},{"$f":"'Pob x Genero'!#REF!","v":{"$error":"#REF!"}},{"$f":"'Pob x Genero'!#REF!","v":{"$error":"#REF!"}},{"$f":"'Pob x Genero'!#REF!","v":{"$error":"#REF!"}},{"$f":"'Pob x Genero'!#REF!","v":{"$error":"#REF!"}},"Hombre","00-04",{"$f":"'Pob x Genero'!#REF!","v":{"$error":"#REF!"}},297]
[{"$f":"'Pob x Genero'!#REF!","v":{"$error":"#REF!"}},{"$f":"'Pob x Genero'!#REF!","v":{"$error":"#REF!"}},{"$f":"'Pob x Genero'!#REF!","v":{"$error":"#REF!"}},{"$f":"'Pob x Genero'!#REF!","v":{"$error":"#REF!"}},{"$f":"'Pob x Genero'!#REF!","v":{"$error":"#REF!"}},"Hombre","00-04",{"$f":"'Pob x Genero'!#REF!","v":{"$error":"#REF!"}},298]
[{"$f":"'Pob x Genero'!#REF!","v":{"$error":"#REF!"}},{"$f":"'Pob x Genero'!#REF!","v":{"$error":"#REF!"}},{"$f":"'Pob x Genero'!#REF!","v":{"$error":"#REF!"}},{"$f":"'Pob x Genero'!#REF!","v":{"$error":"#REF!"}},{"$f":"'Pob x Genero'!#REF!","v":{"$error":"#REF!"}},"Hombre","00-04",{"$f":"'Pob x Genero'!#REF!","v":{"$error":"#REF!"}},299]
[{"$f":"'Pob x Genero'!#REF!","v":{"$error":"#REF!"}},{"$f":"'Pob x Genero'!#REF!","v":{"$error":"#REF!"}},{"$f":"'Pob x Genero'!#REF!","v":{"$error":"#REF!"}},{"$f":"'Pob x Genero'!#REF!","v":{"$error":"#REF!"}},{"$f":"'Pob x Genero'!#REF!","v":{"$error":"#REF!"}},"Hombre","00-04",{"$f":"'Pob x Genero'!#REF!","v":{"$error":"#REF!"}},300]
[{"$f":"'Pob x Genero'!#REF!","v":{"$error":"#REF!"}},{"$f":"'Pob x Genero'!#REF!","v":{"$error":"#REF!"}},{"$f":"'Pob x Genero'!#REF!","v":{"$error":"#REF!"}},{"$f":"'Pob x Genero'!#REF!","v":{"$error":"#REF!"}},{"$f":"'Pob x Genero'!#REF!","v":{"$error":"#REF!"}},"Hombre","00-04",{"$f":"'Pob x Genero'!#REF!","v":{"$error":"#REF!"}},301]
[{"$f":"'Pob x Genero'!#REF!","v":{"$error":"#REF!"}},{"$f":"'Pob x Genero'!#REF!","v":{"$error":"#REF!"}},{"$f":"'Pob x Genero'!#REF!","v":{"$error":"#REF!"}},{"$f":"'Pob x Genero'!#REF!","v":{"$error":"#REF!"}},{"$f":"'Pob x Genero'!#REF!","v":{"$error":"#REF!"}},"Hombre","00-04",{"$f":"'Pob x Genero'!#REF!","v":{"$error":"#REF!"}},302]
[{"$f":"'Pob x Genero'!#REF!","v":{"$error":"#REF!"}},{"$f":"'Pob x Genero'!#REF!","v":{"$error":"#REF!"}},{"$f":"'Pob x Genero'!#REF!","v":{"$error":"#REF!"}},{"$f":"'Pob x Genero'!#REF!","v":{"$error":"#REF!"}},{"$f":"'Pob x Genero'!#REF!","v":{"$error":"#REF!"}},"Hombre","00-04",{"$f":"'Pob x Genero'!#REF!","v":{"$error":"#REF!"}},303]
[{"$f":"'Pob x Genero'!#REF!","v":{"$error":"#REF!"}},{"$f":"'Pob x Genero'!#REF!","v":{"$error":"#REF!"}},{"$f":"'Pob x Genero'!#REF!","v":{"$error":"#REF!"}},{"$f":"'Pob x Genero'!#REF!","v":{"$error":"#REF!"}},{"$f":"'Pob x Genero'!#REF!","v":{"$error":"#REF!"}},"Hombre","00-04",{"$f":"'Pob x Genero'!#REF!","v":{"$error":"#REF!"}},304]
[{"$f":"'Pob x Genero'!#REF!","v":{"$error":"#REF!"}},{"$f":"'Pob x Genero'!#REF!","v":{"$error":"#REF!"}},{"$f":"'Pob x Genero'!#REF!","v":{"$error":"#REF!"}},{"$f":"'Pob x Genero'!#REF!","v":{"$error":"#REF!"}},{"$f":"'Pob x Genero'!#REF!","v":{"$error":"#REF!"}},"Hombre","00-04",{"$f":"'Pob x Genero'!#REF!","v":{"$error":"#REF!"}},305]
[{"$f":"'Pob x Genero'!#REF!","v":{"$error":"#REF!"}},{"$f":"'Pob x Genero'!#REF!","v":{"$error":"#REF!"}},{"$f":"'Pob x Genero'!#REF!","v":{"$error":"#REF!"}},{"$f":"'Pob x Genero'!#REF!","v":{"$error":"#REF!"}},{"$f":"'Pob x Genero'!#REF!","v":{"$error":"#REF!"}},"Hombre","00-04",{"$f":"'Pob x Genero'!#REF!","v":{"$error":"#REF!"}},306]
[{"$f":"'Pob x Genero'!#REF!","v":{"$error":"#REF!"}},{"$f":"'Pob x Genero'!#REF!","v":{"$error":"#REF!"}},{"$f":"'Pob x Genero'!#REF!","v":{"$error":"#REF!"}},{"$f":"'Pob x Genero'!#REF!","v":{"$error":"#REF!"}},{"$f":"'Pob x Genero'!#REF!","v":{"$error":"#REF!"}},"Hombre","00-04",{"$f":"'Pob x Genero'!#REF!","v":{"$error":"#REF!"}},307]
[{"$f":"'Pob x Genero'!#REF!","v":{"$error":"#REF!"}},{"$f":"'Pob x Genero'!#REF!","v":{"$error":"#REF!"}},{"$f":"'Pob x Genero'!#REF!","v":{"$error":"#REF!"}},{"$f":"'Pob x Genero'!#REF!","v":{"$error":"#REF!"}},{"$f":"'Pob x Genero'!#REF!","v":{"$error":"#REF!"}},"Hombre","00-04",{"$f":"'Pob x Genero'!#REF!","v":{"$error":"#REF!"}},308]
[{"$f":"'Pob x Genero'!#REF!","v":{"$error":"#REF!"}},{"$f":"'Pob x Genero'!#REF!","v":{"$error":"#REF!"}},{"$f":"'Pob x Genero'!#REF!","v":{"$error":"#REF!"}},{"$f":"'Pob x Genero'!#REF!","v":{"$error":"#REF!"}},{"$f":"'Pob x Genero'!#REF!","v":{"$error":"#REF!"}},"Hombre","00-04",{"$f":"'Pob x Genero'!#REF!","v":{"$error":"#REF!"}},309]
[{"$f":"'Pob x Genero'!#REF!","v":{"$error":"#REF!"}},{"$f":"'Pob x Genero'!#REF!","v":{"$error":"#REF!"}},{"$f":"'Pob x Genero'!#REF!","v":{"$error":"#REF!"}},{"$f":"'Pob x Genero'!#REF!","v":{"$error":"#REF!"}},{"$f":"'Pob x Genero'!#REF!","v":{"$error":"#REF!"}},"Hombre","00-04",{"$f":"'Pob x Genero'!#REF!","v":{"$error":"#REF!"}},310]
[{"$f":"'Pob x Genero'!#REF!","v":{"$error":"#REF!"}},{"$f":"'Pob x Genero'!#REF!","v":{"$error":"#REF!"}},{"$f":"'Pob x Genero'!#REF!","v":{"$error":"#REF!"}},{"$f":"'Pob x Genero'!#REF!","v":{"$error":"#REF!"}},{"$f":"'Pob x Genero'!#REF!","v":{"$error":"#REF!"}},"Hombre","00-04",{"$f":"'Pob x Genero'!#REF!","v":{"$error":"#REF!"}},311]
[{"$f":"'Pob x Genero'!#REF!","v":{"$error":"#REF!"}},{"$f":"'Pob x Genero'!#REF!","v":{"$error":"#REF!"}},{"$f":"'Pob x Genero'!#REF!","v":{"$error":"#REF!"}},{"$f":"'Pob x Genero'!#REF!","v":{"$error":"#REF!"}},{"$f":"'Pob x Genero'!#REF!","v":{"$error":"#REF!"}},"Hombre","00-04",{"$f":"'Pob x Genero'!#REF!","v":{"$error":"#REF!"}},312]
[{"$f":"'Pob x Genero'!#REF!","v":{"$error":"#REF!"}},{"$f":"'Pob x Genero'!#REF!","v":{"$error":"#REF!"}},{"$f":"'Pob x Genero'!#REF!","v":{"$error":"#REF!"}},{"$f":"'Pob x Genero'!#REF!","v":{"$error":"#REF!"}},{"$f":"'Pob x Genero'!#REF!","v":{"$error":"#REF!"}},"Hombre","00-04",{"$f":"'Pob x Genero'!#REF!","v":{"$error":"#REF!"}},313]
[{"$f":"'Pob x Genero'!#REF!","v":{"$error":"#REF!"}},{"$f":"'Pob x Genero'!#REF!","v":{"$error":"#REF!"}},{"$f":"'Pob x Genero'!#REF!","v":{"$error":"#REF!"}},{"$f":"'Pob x Genero'!#REF!","v":{"$error":"#REF!"}},{"$f":"'Pob x Genero'!#REF!","v":{"$error":"#REF!"}},"Hombre","00-04",{"$f":"'Pob x Genero'!#REF!","v":{"$error":"#REF!"}},314]
[{"$f":"'Pob x Genero'!#REF!","v":{"$error":"#REF!"}},{"$f":"'Pob x Genero'!#REF!","v":{"$error":"#REF!"}},{"$f":"'Pob x Genero'!#REF!","v":{"$error":"#REF!"}},{"$f":"'Pob x Genero'!#REF!","v":{"$error":"#REF!"}},{"$f":"'Pob x Genero'!#REF!","v":{"$error":"#REF!"}},"Hombre","00-04",{"$f":"'Pob x Genero'!#REF!","v":{"$error":"#REF!"}},315]
[{"$f":"'Pob x Genero'!#REF!","v":{"$error":"#REF!"}},{"$f":"'Pob x Genero'!#REF!","v":{"$error":"#REF!"}},{"$f":"'Pob x Genero'!#REF!","v":{"$error":"#REF!"}},{"$f":"'Pob x Genero'!#REF!","v":{"$error":"#REF!"}},{"$f":"'Pob x Genero'!#REF!","v":{"$error":"#REF!"}},"Hombre","00-04",{"$f":"'Pob x Genero'!#REF!","v":{"$error":"#REF!"}},316]
[{"$f":"'Pob x Genero'!#REF!","v":{"$error":"#REF!"}},{"$f":"'Pob x Genero'!#REF!","v":{"$error":"#REF!"}},{"$f":"'Pob x Genero'!#REF!","v":{"$error":"#REF!"}},{"$f":"'Pob x Genero'!#REF!","v":{"$error":"#REF!"}},{"$f":"'Pob x Genero'!#REF!","v":{"$error":"#REF!"}},"Hombre","00-04",{"$f":"'Pob x Genero'!#REF!","v":{"$error":"#REF!"}},317]
[{"$f":"'Pob x Genero'!#REF!","v":{"$error":"#REF!"}},{"$f":"'Pob x Genero'!#REF!","v":{"$error":"#REF!"}},{"$f":"'Pob x Genero'!#REF!","v":{"$error":"#REF!"}},{"$f":"'Pob x Genero'!#REF!","v":{"$error":"#REF!"}},{"$f":"'Pob x Genero'!#REF!","v":{"$error":"#REF!"}},"Hombre","00-04",{"$f":"'Pob x Genero'!#REF!","v":{"$error":"#REF!"}},318]
[{"$f":"'Pob x Genero'!#REF!","v":{"$error":"#REF!"}},{"$f":"'Pob x Genero'!#REF!","v":{"$error":"#REF!"}},{"$f":"'Pob x Genero'!#REF!","v":{"$error":"#REF!"}},{"$f":"'Pob x Genero'!#REF!","v":{"$error":"#REF!"}},{"$f":"'Pob x Genero'!#REF!","v":{"$error":"#REF!"}},"Hombre","00-04",{"$f":"'Pob x Genero'!#REF!","v":{"$error":"#REF!"}},319]
[{"$f":"'Pob x Genero'!#REF!","v":{"$error":"#REF!"}},{"$f":"'Pob x Genero'!#REF!","v":{"$error":"#REF!"}},{"$f":"'Pob x Genero'!#REF!","v":{"$error":"#REF!"}},{"$f":"'Pob x Genero'!#REF!","v":{"$error":"#REF!"}},{"$f":"'Pob x Genero'!#REF!","v":{"$error":"#REF!"}},"Hombre","00-04",{"$f":"'Pob x Genero'!#REF!","v":{"$error":"#REF!"}},320]
[{"$f":"'Pob x Genero'!#REF!","v":{"$error":"#REF!"}},{"$f":"'Pob x Genero'!#REF!","v":{"$error":"#REF!"}},{"$f":"'Pob x Genero'!#REF!","v":{"$error":"#REF!"}},{"$f":"'Pob x Genero'!#REF!","v":{"$error":"#REF!"}},{"$f":"'Pob x Genero'!#REF!","v":{"$error":"#REF!"}},"Hombre","00-04",{"$f":"'Pob x Genero'!#REF!","v":{"$error":"#REF!"}},321]
[{"$f":"'Pob x Genero'!#REF!","v":{"$error":"#REF!"}},{"$f":"'Pob x Genero'!#REF!","v":{"$error":"#REF!"}},{"$f":"'Pob x Genero'!#REF!","v":{"$error":"#REF!"}},{"$f":"'Pob x Genero'!#REF!","v":{"$error":"#REF!"}},{"$f":"'Pob x Genero'!#REF!","v":{"$error":"#REF!"}},{"$f":"F322","v":"Hombre"},{"$f":"G322","v":"00-04"},{"$f":"'Pob x Genero'!#REF!","v":{"$error":"#REF!"}},322]
[{"$f":"'Pob x Genero'!#REF!","v":{"$error":"#REF!"}},{"$f":"'Pob x Genero'!#REF!","v":{"$error":"#REF!"}},{"$f":"'Pob x Genero'!#REF!","v":{"$error":"#REF!"}},{"$f":"'Pob x Genero'!#REF!","v":{"$error":"#REF!"}},{"$f":"'Pob x Genero'!#REF!","v":{"$error":"#REF!"}},"Hombre","00-04",{"$f":"'Pob x Genero'!#REF!","v":{"$error":"#REF!"}},323]
[{"$f":"'Pob x Genero'!#REF!","v":{"$error":"#REF!"}},{"$f":"'Pob x Genero'!#REF!","v":{"$error":"#REF!"}},{"$f":"'Pob x Genero'!#REF!","v":{"$error":"#REF!"}},{"$f":"'Pob x Genero'!#REF!","v":{"$error":"#REF!"}},{"$f":"'Pob x Genero'!#REF!","v":{"$error":"#REF!"}},"Hombre","00-04",{"$f":"'Pob x Genero'!#REF!","v":{"$error":"#REF!"}},324]
[{"$f":"'Pob x Genero'!#REF!","v":{"$error":"#REF!"}},{"$f":"'Pob x Genero'!#REF!","v":{"$error":"#REF!"}},{"$f":"'Pob x Genero'!#REF!","v":{"$error":"#REF!"}},{"$f":"'Pob x Genero'!#REF!","v":{"$error":"#REF!"}},{"$f":"'Pob x Genero'!#REF!","v":{"$error":"#REF!"}},"Hombre","00-04",{"$f":"'Pob x Genero'!#REF!","v":{"$error":"#REF!"}},325]
[{"$f":"'Pob x Genero'!#REF!","v":{"$error":"#REF!"}},{"$f":"'Pob x Genero'!#REF!","v":{"$error":"#REF!"}},{"$f":"'Pob x Genero'!#REF!","v":{"$error":"#REF!"}},{"$f":"'Pob x Genero'!#REF!","v":{"$error":"#REF!"}},{"$f":"'Pob x Genero'!#REF!","v":{"$error":"#REF!"}},"Hombre","00-04",{"$f":"'Pob x Genero'!#REF!","v":{"$error":"#REF!"}},326]
[{"$f":"'Pob x Genero'!#REF!","v":{"$error":"#REF!"}},{"$f":"'Pob x Genero'!#REF!","v":{"$error":"#REF!"}},{"$f":"'Pob x Genero'!#REF!","v":{"$error":"#REF!"}},{"$f":"'Pob x Genero'!#REF!","v":{"$error":"#REF!"}},{"$f":"'Pob x Genero'!#REF!","v":{"$error":"#REF!"}},"Hombre","00-04",{"$f":"'Pob x Genero'!#REF!","v":{"$error":"#REF!"}},327]
[{"$f":"'Pob x Genero'!#REF!","v":{"$error":"#REF!"}},{"$f":"'Pob x Genero'!#REF!","v":{"$error":"#REF!"}},{"$f":"'Pob x Genero'!#REF!","v":{"$error":"#REF!"}},{"$f":"'Pob x Genero'!#REF!","v":{"$error":"#REF!"}},{"$f":"'Pob x Genero'!#REF!","v":{"$error":"#REF!"}},"Hombre","00-04",{"$f":"'Pob x Genero'!#REF!","v":{"$error":"#REF!"}},328]
[{"$f":"'Pob x Genero'!#REF!","v":{"$error":"#REF!"}},{"$f":"'Pob x Genero'!#REF!","v":{"$error":"#REF!"}},{"$f":"'Pob x Genero'!#REF!","v":{"$error":"#REF!"}},{"$f":"'Pob x Genero'!#REF!","v":{"$error":"#REF!"}},{"$f":"'Pob x Genero'!#REF!","v":{"$error":"#REF!"}},"Hombre","00-04",{"$f":"'Pob x Genero'!#REF!","v":{"$error":"#REF!"}},329]
[{"$f":"'Pob x Genero'!#REF!","v":{"$error":"#REF!"}},{"$f":"'Pob x Genero'!#REF!","v":{"$error":"#REF!"}},{"$f":"'Pob x Genero'!#REF!","v":{"$error":"#REF!"}},{"$f":"'Pob x Genero'!#REF!","v":{"$error":"#REF!"}},{"$f":"'Pob x Genero'!#REF!","v":{"$error":"#REF!"}},"Hombre","00-04",{"$f":"'Pob x Genero'!#REF!","v":{"$error":"#REF!"}},330]
[{"$f":"'Pob x Genero'!#REF!","v":{"$error":"#REF!"}},{"$f":"'Pob x Genero'!#REF!","v":{"$error":"#REF!"}},{"$f":"'Pob x Genero'!#REF!","v":{"$error":"#REF!"}},{"$f":"'Pob x Genero'!#REF!","v":{"$error":"#REF!"}},{"$f":"'Pob x Genero'!#REF!","v":{"$error":"#REF!"}},"Hombre","00-04",{"$f":"'Pob x Genero'!#REF!","v":{"$error":"#REF!"}},331]
[{"$f":"'Pob x Genero'!#REF!","v":{"$error":"#REF!"}},{"$f":"'Pob x Genero'!#REF!","v":{"$error":"#REF!"}},{"$f":"'Pob x Genero'!#REF!","v":{"$error":"#REF!"}},{"$f":"'Pob x Genero'!#REF!","v":{"$error":"#REF!"}},{"$f":"'Pob x Genero'!#REF!","v":{"$error":"#REF!"}},"Hombre","00-04",{"$f":"'Pob x Genero'!#REF!","v":{"$error":"#REF!"}},332]
[{"$f":"'Pob x Genero'!#REF!","v":{"$error":"#REF!"}},{"$f":"'Pob x Genero'!#REF!","v":{"$error":"#REF!"}},{"$f":"'Pob x Genero'!#REF!","v":{"$error":"#REF!"}},{"$f":"'Pob x Genero'!#REF!","v":{"$error":"#REF!"}},{"$f":"'Pob x Genero'!#REF!","v":{"$error":"#REF!"}},"Hombre","00-04",{"$f":"'Pob x Genero'!#REF!","v":{"$error":"#REF!"}},333]
[{"$f":"'Pob x Genero'!#REF!","v":{"$error":"#REF!"}},{"$f":"'Pob x Genero'!#REF!","v":{"$error":"#REF!"}},{"$f":"'Pob x Genero'!#REF!","v":{"$error":"#REF!"}},{"$f":"'Pob x Genero'!#REF!","v":{"$error":"#REF!"}},{"$f":"'Pob x Genero'!#REF!","v":{"$error":"#REF!"}},"Hombre","00-04",{"$f":"'Pob x Genero'!#REF!","v":{"$error":"#REF!"}},334]
[{"$f":"'Pob x Genero'!#REF!","v":{"$error":"#REF!"}},{"$f":"'Pob x Genero'!#REF!","v":{"$error":"#REF!"}},{"$f":"'Pob x Genero'!#REF!","v":{"$error":"#REF!"}},{"$f":"'Pob x Genero'!#REF!","v":{"$error":"#REF!"}},{"$f":"'Pob x Genero'!#REF!","v":{"$error":"#REF!"}},"Hombre","00-04",{"$f":"'Pob x Genero'!#REF!","v":{"$error":"#REF!"}},335]
[{"$f":"'Pob x Genero'!A9","v":"040101"},{"$f":"'Pob x Genero'!B9","v":"AREQUIPA"},{"$f":"'Pob x Genero'!C9","v":"AREQUIPA"},{"$f":"'Pob x Genero'!D9","v":"AREQUIPA"},{"$f":"'Pob x Genero'!E9","v":"AREQUIPA"},"Hombre","00-04",{"$f":"'Pob x Genero'!CS9","v":1814},336]
[{"$f":"'Pob x Genero'!A10","v":"040102"},{"$f":"'Pob x Genero'!B10","v":"AREQUIPA"},{"$f":"'Pob x Genero'!C10","v":"AREQUIPA"},{"$f":"'Pob x Genero'!D10","v":"AREQUIPA"},{"$f":"'Pob x Genero'!E10","v":"ALTO SELVA ALEGRE"},"Hombre","00-04",{"$f":"'Pob x Genero'!CS10","v":3346},337]
[{"$f":"'Pob x Genero'!A11","v":"040103"},{"$f":"'Pob x Genero'!B11","v":"AREQUIPA"},{"$f":"'Pob x Genero'!C11","v":"AREQUIPA"},{"$f":"'Pob x Genero'!D11","v":"AREQUIPA"},{"$f":"'Pob x Genero'!E11","v":"CAYMA"},"Hombre","00-04",{"$f":"'Pob x Genero'!CS11","v":3923},338]
[{"$f":"'Pob x Genero'!A12","v":"040104"},{"$f":"'Pob x Genero'!B12","v":"AREQUIPA"},{"$f":"'Pob x Genero'!C12","v":"AREQUIPA"},{"$f":"'Pob x Genero'!D12","v":"AREQUIPA"},{"$f":"'Pob x Genero'!E12","v":"CERRO COLORADO"},"Hombre","00-04",{"$f":"'Pob x Genero'!CS12","v":8193},339]
[{"$f":"'Pob x Genero'!A13","v":"040105"},{"$f":"'Pob x Genero'!B13","v":"AREQUIPA"},{"$f":"'Pob x Genero'!C13","v":"AREQUIPA"},{"$f":"'Pob x Genero'!D13","v":"AREQUIPA"},{"$f":"'Pob x Genero'!E13","v":"CHARACATO"},"Hombre","00-04",{"$f":"'Pob x Genero'!CS13","v":449},340]
[{"$f":"'Pob x Genero'!A14","v":"040106"},{"$f":"'Pob x Genero'!B14","v":"AREQUIPA"},{"$f":"'Pob x Genero'!C14","v":"AREQUIPA"},{"$f":"'Pob x Genero'!D14","v":"AREQUIPA"},{"$f":"'Pob x Genero'!E14","v":"CHIGUATA"},"Hombre","00-04",{"$f":"'Pob x Genero'!CS14","v":153},341]
[{"$f":"'Pob x Genero'!A15","v":"040107"},{"$f":"'Pob x Genero'!B15","v":"AREQUIPA"},{"$f":"'Pob x Genero'!C15","v":"AREQUIPA"},{"$f":"'Pob x Genero'!D15","v":"AREQUIPA"},{"$f":"'Pob x Genero'!E15","v":"JACOBO HUNTER"},"Hombre","00-04",{"$f":"'Pob x Genero'!CS15","v":1922},342]
[{"$f":"'Pob x Genero'!A16","v":"040108"},{"$f":"'Pob x Genero'!B16","v":"AREQUIPA"},{"$f":"'Pob x Genero'!C16","v":"AREQUIPA"},{"$f":"'Pob x Genero'!D16","v":"AREQUIPA"},{"$f":"'Pob x Genero'!E16","v":"LA JOYA"},"Hombre","00-04",{"$f":"'Pob x Genero'!CS16","v":1562},343]
[{"$f":"'Pob x Genero'!A17","v":"040109"},{"$f":"'Pob x Genero'!B17","v":"AREQUIPA"},{"$f":"'Pob x Genero'!C17","v":"AREQUIPA"},{"$f":"'Pob x Genero'!D17","v":"AREQUIPA"},{"$f":"'Pob x Genero'!E17","v":"MARIANO MELGAR"},"Hombre","00-04",{"$f":"'Pob x Genero'!CS17","v":2285},344]
[{"$f":"'Pob x Genero'!A18","v":"040110"},{"$f":"'Pob x Genero'!B18","v":"AREQUIPA"},{"$f":"'Pob x Genero'!C18","v":"AREQUIPA"},{"$f":"'Pob x Genero'!D18","v":"AREQUIPA"},{"$f":"'Pob x Genero'!E18","v":"MIRAFLORES"},"Hombre","00-04",{"$f":"'Pob x Genero'!CS18","v":2289},345]
[{"$f":"'Pob x Genero'!A19","v":"040111"},{"$f":"'Pob x Genero'!B19","v":"AREQUIPA"},{"$f":"'Pob x Genero'!C19","v":"AREQUIPA"},{"$f":"'Pob x Genero'!D19","v":"AREQUIPA"},{"$f":"'Pob x Genero'!E19","v":"MOLLEBAYA"},"Hombre","00-04",{"$f":"'Pob x Genero'!CS19","v":164},346]
[{"$f":"'Pob x Genero'!A20","v":"040112"},{"$f":"'Pob x Genero'!B20","v":"AREQUIPA"},{"$f":"'Pob x Genero'!C20","v":"AREQUIPA"},{"$f":"'Pob x Genero'!D20","v":"AREQUIPA"},{"$f":"'Pob x Genero'!E20","v":"PAUCARPATA"},"Hombre","00-04",{"$f":"'Pob x Genero'!CS20","v":5104},347]
[{"$f":"'Pob x Genero'!A21","v":"040113"},{"$f":"'Pob x Genero'!B21","v":"AREQUIPA"},{"$f":"'Pob x Genero'!C21","v":"AREQUIPA"},{"$f":"'Pob x Genero'!D21","v":"AREQUIPA"},{"$f":"'Pob x Genero'!E21","v":"POCSI"},"Hombre","00-04",{"$f":"'Pob x Genero'!CS21","v":17},348]
[{"$f":"'Pob x Genero'!A22","v":"040114"},{"$f":"'Pob x Genero'!B22","v":"AREQUIPA"},{"$f":"'Pob x Genero'!C22","v":"AREQUIPA"},{"$f":"'Pob x Genero'!D22","v":"AREQUIPA"},{"$f":"'Pob x Genero'!E22","v":"POLOBAYA"},"Hombre","00-04",{"$f":"'Pob x Genero'!CS22","v":27},349]
[{"$f":"'Pob x Genero'!A23","v":"040115"},{"$f":"'Pob x Genero'!B23","v":"AREQUIPA"},{"$f":"'Pob x Genero'!C23","v":"AREQUIPA"},{"$f":"'Pob x Genero'!D23","v":"AREQUIPA"},{"$f":"'Pob x Genero'!E23","v":"QUEQUEÑA"},"Hombre","00-04",{"$f":"'Pob x Genero'!CS23","v":100},350]
[{"$f":"'Pob x Genero'!A24","v":"040116"},{"$f":"'Pob x Genero'!B24","v":"AREQUIPA"},{"$f":"'Pob x Genero'!C24","v":"AREQUIPA"},{"$f":"'Pob x Genero'!D24","v":"AREQUIPA"},{"$f":"'Pob x Genero'!E24","v":"SABANDIA"},"Hombre","00-04",{"$f":"'Pob x Genero'!CS24","v":234},351]
[{"$f":"'Pob x Genero'!A25","v":"040117"},{"$f":"'Pob x Genero'!B25","v":"AREQUIPA"},{"$f":"'Pob x Genero'!C25","v":"AREQUIPA"},{"$f":"'Pob x Genero'!D25","v":"AREQUIPA"},{"$f":"'Pob x Genero'!E25","v":"SACHACA"},"Hombre","00-04",{"$f":"'Pob x Genero'!CS25","v":1232},352]
[{"$f":"'Pob x Genero'!A26","v":"040118"},{"$f":"'Pob x Genero'!B26","v":"AREQUIPA"},{"$f":"'Pob x Genero'!C26","v":"AREQUIPA"},{"$f":"'Pob x Genero'!D26","v":"AREQUIPA"},{"$f":"'Pob x Genero'!E26","v":"SAN JUAN DE SIGUAS"},"Hombre","00-04",{"$f":"'Pob x Genero'!CS26","v":34},353]
[{"$f":"'Pob x Genero'!A27","v":"040119"},{"$f":"'Pob x Genero'!B27","v":"AREQUIPA"},{"$f":"'Pob x Genero'!C27","v":"AREQUIPA"},{"$f":"'Pob x Genero'!D27","v":"AREQUIPA"},{"$f":"'Pob x Genero'!E27","v":"SAN JUAN DE TARUCANI"},"Hombre","00-04",{"$f":"'Pob x Genero'!CS27","v":75},354]
[{"$f":"'Pob x Genero'!A28","v":"040120"},{"$f":"'Pob x Genero'!B28","v":"AREQUIPA"},{"$f":"'Pob x Genero'!C28","v":"AREQUIPA"},{"$f":"'Pob x Genero'!D28","v":"AREQUIPA"},{"$f":"'Pob x Genero'!E28","v":"SANTA ISABEL DE SIGUAS"},"Hombre","00-04",{"$f":"'Pob x Genero'!CS28","v":17},355]
[{"$f":"'Pob x Genero'!A29","v":"040121"},{"$f":"'Pob x Genero'!B29","v":"AREQUIPA"},{"$f":"'Pob x Genero'!C29","v":"AREQUIPA"},{"$f":"'Pob x Genero'!D29","v":"AREQUIPA"},{"$f":"'Pob x Genero'!E29","v":"SANTA RITA DE SIGUAS"},"Hombre","00-04",{"$f":"'Pob x Genero'!CS29","v":272},356]
[{"$f":"'Pob x Genero'!A30","v":"040122"},{"$f":"'Pob x Genero'!B30","v":"AREQUIPA"},{"$f":"'Pob x Genero'!C30","v":"AREQUIPA"},{"$f":"'Pob x Genero'!D30","v":"AREQUIPA"},{"$f":"'Pob x Genero'!E30","v":"SOCABAYA"},"Hombre","00-04",{"$f":"'Pob x Genero'!CS30","v":2614},357]
[{"$f":"'Pob x Genero'!A31","v":"040123"},{"$f":"'Pob x Genero'!B31","v":"AREQUIPA"},{"$f":"'Pob x Genero'!C31","v":"AREQUIPA"},{"$f":"'Pob x Genero'!D31","v":"AREQUIPA"},{"$f":"'Pob x Genero'!E31","v":"TIABAYA"},"Hombre","00-04",{"$f":"'Pob x Genero'!CS31","v":706},358]
[{"$f":"'Pob x Genero'!A32","v":"040124"},{"$f":"'Pob x Genero'!B32","v":"AREQUIPA"},{"$f":"'Pob x Genero'!C32","v":"AREQUIPA"},{"$f":"'Pob x Genero'!D32","v":"AREQUIPA"},{"$f":"'Pob x Genero'!E32","v":"UCHUMAYO"},"Hombre","00-04",{"$f":"'Pob x Genero'!CS32","v":636},359]
[{"$f":"'Pob x Genero'!A33","v":"040125"},{"$f":"'Pob x Genero'!B33","v":"AREQUIPA"},{"$f":"'Pob x Genero'!C33","v":"AREQUIPA"},{"$f":"'Pob x Genero'!D33","v":"AREQUIPA"},{"$f":"'Pob x Genero'!E33","v":"VITOR"},"Hombre","00-04",{"$f":"'Pob x Genero'!CS33","v":108},360]
[{"$f":"'Pob x Genero'!A34","v":"040126"},{"$f":"'Pob x Genero'!B34","v":"AREQUIPA"},{"$f":"'Pob x Genero'!C34","v":"AREQUIPA"},{"$f":"'Pob x Genero'!D34","v":"AREQUIPA"},{"$f":"'Pob x Genero'!E34","v":"YANAHUARA"},"Hombre","00-04",{"$f":"'Pob x Genero'!CS34","v":944},361]
[{"$f":"'Pob x Genero'!A35","v":"040127"},{"$f":"'Pob x Genero'!B35","v":"AREQUIPA"},{"$f":"'Pob x Genero'!C35","v":"AREQUIPA"},{"$f":"'Pob x Genero'!D35","v":"AREQUIPA"},{"$f":"'Pob x Genero'!E35","v":"YARABAMBA"},"Hombre","00-04",{"$f":"'Pob x Genero'!CS35","v":63},362]
[{"$f":"'Pob x Genero'!A36","v":"040128"},{"$f":"'Pob x Genero'!B36","v":"AREQUIPA"},{"$f":"'Pob x Genero'!C36","v":"AREQUIPA"},{"$f":"'Pob x Genero'!D36","v":"AREQUIPA"},{"$f":"'Pob x Genero'!E36","v":"YURA"},"Hombre","00-04",{"$f":"'Pob x Genero'!CS36","v":2054},363]
[{"$f":"'Pob x Genero'!A37","v":"040129"},{"$f":"'Pob x Genero'!B37","v":"AREQUIPA"},{"$f":"'Pob x Genero'!C37","v":"AREQUIPA"},{"$f":"'Pob x Genero'!D37","v":"AREQUIPA"},{"$f":"'Pob x Genero'!E37","v":"JOSE LUIS BUSTAMANTE Y RIVERO"},"Hombre","00-04",{"$f":"'Pob x Genero'!CS37","v":2341},364]
[{"$f":"'Pob x Genero'!A38","v":"040201"},{"$f":"'Pob x Genero'!B38","v":"AREQUIPA"},{"$f":"'Pob x Genero'!C38","v":"AREQUIPA"},{"$f":"'Pob x Genero'!D38","v":"CAMANA"},{"$f":"'Pob x Genero'!E38","v":"CAMANA"},"Hombre","00-04",{"$f":"'Pob x Genero'!CS38","v":272},365]
[{"$f":"'Pob x Genero'!A39","v":"040202"},{"$f":"'Pob x Genero'!B39","v":"AREQUIPA"},{"$f":"'Pob x Genero'!C39","v":"AREQUIPA"},{"$f":"'Pob x Genero'!D39","v":"CAMANA"},{"$f":"'Pob x Genero'!E39","v":"JOSE MARIA QUIMPER"},"Hombre","00-04",{"$f":"'Pob x Genero'!CS39","v":186},366]
[{"$f":"'Pob x Genero'!A40","v":"040203"},{"$f":"'Pob x Genero'!B40","v":"AREQUIPA"},{"$f":"'Pob x Genero'!C40","v":"AREQUIPA"},{"$f":"'Pob x Genero'!D40","v":"CAMANA"},{"$f":"'Pob x Genero'!E40","v":"MARIANO NICOLAS VALCARCEL"},"Hombre","00-04",{"$f":"'Pob x Genero'!CS40","v":578},367]
[{"$f":"'Pob x Genero'!A41","v":"040204"},{"$f":"'Pob x Genero'!B41","v":"AREQUIPA"},{"$f":"'Pob x Genero'!C41","v":"AREQUIPA"},{"$f":"'Pob x Genero'!D41","v":"CAMANA"},{"$f":"'Pob x Genero'!E41","v":"MARISCAL CACERES"},"Hombre","00-04",{"$f":"'Pob x Genero'!CS41","v":269},368]
[{"$f":"'Pob x Genero'!A42","v":"040205"},{"$f":"'Pob x Genero'!B42","v":"AREQUIPA"},{"$f":"'Pob x Genero'!C42","v":"AREQUIPA"},{"$f":"'Pob x Genero'!D42","v":"CAMANA"},{"$f":"'Pob x Genero'!E42","v":"NICOLAS DE PIEROLA"},"Hombre","00-04",{"$f":"'Pob x Genero'!CS42","v":296},369]
[{"$f":"'Pob x Genero'!A43","v":"040206"},{"$f":"'Pob x Genero'!B43","v":"AREQUIPA"},{"$f":"'Pob x Genero'!C43","v":"AREQUIPA"},{"$f":"'Pob x Genero'!D43","v":"CAMANA"},{"$f":"'Pob x Genero'!E43","v":"OCOÑA"},"Hombre","00-04",{"$f":"'Pob x Genero'!CS43","v":155},370]
[{"$f":"'Pob x Genero'!A44","v":"040207"},{"$f":"'Pob x Genero'!B44","v":"AREQUIPA"},{"$f":"'Pob x Genero'!C44","v":"AREQUIPA"},{"$f":"'Pob x Genero'!D44","v":"CAMANA"},{"$f":"'Pob x Genero'!E44","v":"QUILCA"},"Hombre","00-04",{"$f":"'Pob x Genero'!CS44","v":44},371]
[{"$f":"'Pob x Genero'!A45","v":"040208"},{"$f":"'Pob x Genero'!B45","v":"AREQUIPA"},{"$f":"'Pob x Genero'!C45","v":"AREQUIPA"},{"$f":"'Pob x Genero'!D45","v":"CAMANA"},{"$f":"'Pob x Genero'!E45","v":"SAMUEL PASTOR"},"Hombre","00-04",{"$f":"'Pob x Genero'!CS45","v":802},372]
[{"$f":"'Pob x Genero'!A46","v":"040301"},{"$f":"'Pob x Genero'!B46","v":"AREQUIPA"},{"$f":"'Pob x Genero'!C46","v":"AREQUIPA"},{"$f":"'Pob x Genero'!D46","v":"CARAVELI"},{"$f":"'Pob x Genero'!E46","v":"CARAVELI"},"Hombre","00-04",{"$f":"'Pob x Genero'!CS46","v":192},373]
[{"$f":"'Pob x Genero'!A47","v":"040302"},{"$f":"'Pob x Genero'!B47","v":"AREQUIPA"},{"$f":"'Pob x Genero'!C47","v":"AREQUIPA"},{"$f":"'Pob x Genero'!D47","v":"CARAVELI"},{"$f":"'Pob x Genero'!E47","v":"ACARI"},"Hombre","00-04",{"$f":"'Pob x Genero'!CS47","v":149},374]
[{"$f":"'Pob x Genero'!A48","v":"040303"},{"$f":"'Pob x Genero'!B48","v":"AREQUIPA"},{"$f":"'Pob x Genero'!C48","v":"AREQUIPA"},{"$f":"'Pob x Genero'!D48","v":"CARAVELI"},{"$f":"'Pob x Genero'!E48","v":"ATICO"},"Hombre","00-04",{"$f":"'Pob x Genero'!CS48","v":191},375]
[{"$f":"'Pob x Genero'!A49","v":"040304"},{"$f":"'Pob x Genero'!B49","v":"AREQUIPA"},{"$f":"'Pob x Genero'!C49","v":"AREQUIPA"},{"$f":"'Pob x Genero'!D49","v":"CARAVELI"},{"$f":"'Pob x Genero'!E49","v":"ATIQUIPA"},"Hombre","00-04",{"$f":"'Pob x Genero'!CS49","v":34},376]
[{"$f":"'Pob x Genero'!A50","v":"040305"},{"$f":"'Pob x Genero'!B50","v":"AREQUIPA"},{"$f":"'Pob x Genero'!C50","v":"AREQUIPA"},{"$f":"'Pob x Genero'!D50","v":"CARAVELI"},{"$f":"'Pob x Genero'!E50","v":"BELLA UNION"},"Hombre","00-04",{"$f":"'Pob x Genero'!CS50","v":88},377]
[{"$f":"'Pob x Genero'!A51","v":"040306"},{"$f":"'Pob x Genero'!B51","v":"AREQUIPA"},{"$f":"'Pob x Genero'!C51","v":"AREQUIPA"},{"$f":"'Pob x Genero'!D51","v":"CARAVELI"},{"$f":"'Pob x Genero'!E51","v":"CAHUACHO"},"Hombre","00-04",{"$f":"'Pob x Genero'!CS51","v":39},378]
[{"$f":"'Pob x Genero'!A52","v":"040307"},{"$f":"'Pob x Genero'!B52","v":"AREQUIPA"},{"$f":"'Pob x Genero'!C52","v":"AREQUIPA"},{"$f":"'Pob x Genero'!D52","v":"CARAVELI"},{"$f":"'Pob x Genero'!E52","v":"CHALA"},"Hombre","00-04",{"$f":"'Pob x Genero'!CS52","v":456},379]
[{"$f":"'Pob x Genero'!A53","v":"040308"},{"$f":"'Pob x Genero'!B53","v":"AREQUIPA"},{"$f":"'Pob x Genero'!C53","v":"AREQUIPA"},{"$f":"'Pob x Genero'!D53","v":"CARAVELI"},{"$f":"'Pob x Genero'!E53","v":"CHAPARRA"},"Hombre","00-04",{"$f":"'Pob x Genero'!CS53","v":146},380]
[{"$f":"'Pob x Genero'!A54","v":"040309"},{"$f":"'Pob x Genero'!B54","v":"AREQUIPA"},{"$f":"'Pob x Genero'!C54","v":"AREQUIPA"},{"$f":"'Pob x Genero'!D54","v":"CARAVELI"},{"$f":"'Pob x Genero'!E54","v":"HUANUHUANU"},"Hombre","00-04",{"$f":"'Pob x Genero'!CS54","v":115},381]
[{"$f":"'Pob x Genero'!A55","v":"040310"},{"$f":"'Pob x Genero'!B55","v":"AREQUIPA"},{"$f":"'Pob x Genero'!C55","v":"AREQUIPA"},{"$f":"'Pob x Genero'!D55","v":"CARAVELI"},{"$f":"'Pob x Genero'!E55","v":"JAQUI"},"Hombre","00-04",{"$f":"'Pob x Genero'!CS55","v":51},382]
[{"$f":"'Pob x Genero'!A56","v":"040311"},{"$f":"'Pob x Genero'!B56","v":"AREQUIPA"},{"$f":"'Pob x Genero'!C56","v":"AREQUIPA"},{"$f":"'Pob x Genero'!D56","v":"CARAVELI"},{"$f":"'Pob x Genero'!E56","v":"LOMAS"},"Hombre","00-04",{"$f":"'Pob x Genero'!CS56","v":55},383]
[{"$f":"'Pob x Genero'!A57","v":"040312"},{"$f":"'Pob x Genero'!B57","v":"AREQUIPA"},{"$f":"'Pob x Genero'!C57","v":"AREQUIPA"},{"$f":"'Pob x Genero'!D57","v":"CARAVELI"},{"$f":"'Pob x Genero'!E57","v":"QUICACHA"},"Hombre","00-04",{"$f":"'Pob x Genero'!CS57","v":71},384]
[{"$f":"'Pob x Genero'!A58","v":"040313"},{"$f":"'Pob x Genero'!B58","v":"AREQUIPA"},{"$f":"'Pob x Genero'!C58","v":"AREQUIPA"},{"$f":"'Pob x Genero'!D58","v":"CARAVELI"},{"$f":"'Pob x Genero'!E58","v":"YAUCA"},"Hombre","00-04",{"$f":"'Pob x Genero'!CS58","v":39},385]
[{"$f":"'Pob x Genero'!A59","v":"040401"},{"$f":"'Pob x Genero'!B59","v":"AREQUIPA"},{"$f":"'Pob x Genero'!C59","v":"AREQUIPA"},{"$f":"'Pob x Genero'!D59","v":"CASTILLA"},{"$f":"'Pob x Genero'!E59","v":"APLAO"},{"$f":"F386","v":"Hombre"},{"$f":"G386","v":"00-04"},{"$f":"'Pob x Genero'!CS59","v":332},386]
[{"$f":"'Pob x Genero'!A60","v":"040402"},{"$f":"'Pob x Genero'!B60","v":"AREQUIPA"},{"$f":"'Pob x Genero'!C60","v":"AREQUIPA"},{"$f":"'Pob x Genero'!D60","v":"CASTILLA"},{"$f":"'Pob x Genero'!E60","v":"ANDAGUA"},"Hombre","00-04",{"$f":"'Pob x Genero'!CS60","v":19},387]
[{"$f":"'Pob x Genero'!A61","v":"040403"},{"$f":"'Pob x Genero'!B61","v":"AREQUIPA"},{"$f":"'Pob x Genero'!C61","v":"AREQUIPA"},{"$f":"'Pob x Genero'!D61","v":"CASTILLA"},{"$f":"'Pob x Genero'!E61","v":"AYO"},"Hombre","00-04",{"$f":"'Pob x Genero'!CS61","v":7},388]
[{"$f":"'Pob x Genero'!A62","v":"040404"},{"$f":"'Pob x Genero'!B62","v":"AREQUIPA"},{"$f":"'Pob x Genero'!C62","v":"AREQUIPA"},{"$f":"'Pob x Genero'!D62","v":"CASTILLA"},{"$f":"'Pob x Genero'!E62","v":"CHACHAS"},"Hombre","00-04",{"$f":"'Pob x Genero'!CS62","v":71},389]
[{"$f":"'Pob x Genero'!A63","v":"040405"},{"$f":"'Pob x Genero'!B63","v":"AREQUIPA"},{"$f":"'Pob x Genero'!C63","v":"AREQUIPA"},{"$f":"'Pob x Genero'!D63","v":"CASTILLA"},{"$f":"'Pob x Genero'!E63","v":"CHILCAYMARCA"},"Hombre","00-04",{"$f":"'Pob x Genero'!CS63","v":20},390]
[{"$f":"'Pob x Genero'!A64","v":"040406"},{"$f":"'Pob x Genero'!B64","v":"AREQUIPA"},{"$f":"'Pob x Genero'!C64","v":"AREQUIPA"},{"$f":"'Pob x Genero'!D64","v":"CASTILLA"},{"$f":"'Pob x Genero'!E64","v":"CHOCO"},"Hombre","00-04",{"$f":"'Pob x Genero'!CS64","v":11},391]
[{"$f":"'Pob x Genero'!A65","v":"040407"},{"$f":"'Pob x Genero'!B65","v":"AREQUIPA"},{"$f":"'Pob x Genero'!C65","v":"AREQUIPA"},{"$f":"'Pob x Genero'!D65","v":"CASTILLA"},{"$f":"'Pob x Genero'!E65","v":"HUANCARQUI"},"Hombre","00-04",{"$f":"'Pob x Genero'!CS65","v":31},392]
[{"$f":"'Pob x Genero'!A66","v":"040408"},{"$f":"'Pob x Genero'!B66","v":"AREQUIPA"},{"$f":"'Pob x Genero'!C66","v":"AREQUIPA"},{"$f":"'Pob x Genero'!D66","v":"CASTILLA"},{"$f":"'Pob x Genero'!E66","v":"MACHAGUAY"},"Hombre","00-04",{"$f":"'Pob x Genero'!CS66","v":14},393]
[{"$f":"'Pob x Genero'!A67","v":"040409"},{"$f":"'Pob x Genero'!B67","v":"AREQUIPA"},{"$f":"'Pob x Genero'!C67","v":"AREQUIPA"},{"$f":"'Pob x Genero'!D67","v":"CASTILLA"},{"$f":"'Pob x Genero'!E67","v":"ORCOPAMPA"},"Hombre","00-04",{"$f":"'Pob x Genero'!CS67","v":248},394]
[{"$f":"'Pob x Genero'!A68","v":"040410"},{"$f":"'Pob x Genero'!B68","v":"AREQUIPA"},{"$f":"'Pob x Genero'!C68","v":"AREQUIPA"},{"$f":"'Pob x Genero'!D68","v":"CASTILLA"},{"$f":"'Pob x Genero'!E68","v":"PAMPACOLCA"},"Hombre","00-04",{"$f":"'Pob x Genero'!CS68","v":64},395]
[{"$f":"'Pob x Genero'!A69","v":"040411"},{"$f":"'Pob x Genero'!B69","v":"AREQUIPA"},{"$f":"'Pob x Genero'!C69","v":"AREQUIPA"},{"$f":"'Pob x Genero'!D69","v":"CASTILLA"},{"$f":"'Pob x Genero'!E69","v":"TIPAN"},"Hombre","00-04",{"$f":"'Pob x Genero'!CS69","v":5},396]
[{"$f":"'Pob x Genero'!A70","v":"040412"},{"$f":"'Pob x Genero'!B70","v":"AREQUIPA"},{"$f":"'Pob x Genero'!C70","v":"AREQUIPA"},{"$f":"'Pob x Genero'!D70","v":"CASTILLA"},{"$f":"'Pob x Genero'!E70","v":"UÑON"},"Hombre","00-04",{"$f":"'Pob x Genero'!CS70","v":7},397]
[{"$f":"'Pob x Genero'!A71","v":"040413"},{"$f":"'Pob x Genero'!B71","v":"AREQUIPA"},{"$f":"'Pob x Genero'!C71","v":"AREQUIPA"},{"$f":"'Pob x Genero'!D71","v":"CASTILLA"},{"$f":"'Pob x Genero'!E71","v":"URACA"},"Hombre","00-04",{"$f":"'Pob x Genero'!CS71","v":194},398]
[{"$f":"'Pob x Genero'!A72","v":"040414"},{"$f":"'Pob x Genero'!B72","v":"AREQUIPA"},{"$f":"'Pob x Genero'!C72","v":"AREQUIPA"},{"$f":"'Pob x Genero'!D72","v":"CASTILLA"},{"$f":"'Pob x Genero'!E72","v":"VIRACO"},"Hombre","00-04",{"$f":"'Pob x Genero'!CS72","v":44},399]
[{"$f":"'Pob x Genero'!A73","v":"040501"},{"$f":"'Pob x Genero'!B73","v":"AREQUIPA"},{"$f":"'Pob x Genero'!C73","v":"AREQUIPA"},{"$f":"'Pob x Genero'!D73","v":"CAYLLOMA"},{"$f":"'Pob x Genero'!E73","v":"CHIVAY"},"Hombre","00-04",{"$f":"'Pob x Genero'!CS73","v":202},400]
[{"$f":"'Pob x Genero'!A74","v":"040502"},{"$f":"'Pob x Genero'!B74","v":"AREQUIPA"},{"$f":"'Pob x Genero'!C74","v":"AREQUIPA"},{"$f":"'Pob x Genero'!D74","v":"CAYLLOMA"},{"$f":"'Pob x Genero'!E74","v":"ACHOMA"},"Hombre","00-04",{"$f":"'Pob x Genero'!CS74","v":24},401]
[{"$f":"'Pob x Genero'!A75","v":"040503"},{"$f":"'Pob x Genero'!B75","v":"AREQUIPA"},{"$f":"'Pob x Genero'!C75","v":"AREQUIPA"},{"$f":"'Pob x Genero'!D75","v":"CAYLLOMA"},{"$f":"'Pob x Genero'!E75","v":"CABANACONDE"},"Hombre","00-04",{"$f":"'Pob x Genero'!CS75","v":41},402]
[{"$f":"'Pob x Genero'!A76","v":"040504"},{"$f":"'Pob x Genero'!B76","v":"AREQUIPA"},{"$f":"'Pob x Genero'!C76","v":"AREQUIPA"},{"$f":"'Pob x Genero'!D76","v":"CAYLLOMA"},{"$f":"'Pob x Genero'!E76","v":"CALLALLI"},"Hombre","00-04",{"$f":"'Pob x Genero'!CS76","v":49},403]
[{"$f":"'Pob x Genero'!A77","v":"040505"},{"$f":"'Pob x Genero'!B77","v":"AREQUIPA"},{"$f":"'Pob x Genero'!C77","v":"AREQUIPA"},{"$f":"'Pob x Genero'!D77","v":"CAYLLOMA"},{"$f":"'Pob x Genero'!E77","v":"CAYLLOMA"},"Hombre","00-04",{"$f":"'Pob x Genero'!CS77","v":147},404]
[{"$f":"'Pob x Genero'!A78","v":"040506"},{"$f":"'Pob x Genero'!B78","v":"AREQUIPA"},{"$f":"'Pob x Genero'!C78","v":"AREQUIPA"},{"$f":"'Pob x Genero'!D78","v":"CAYLLOMA"},{"$f":"'Pob x Genero'!E78","v":"COPORAQUE"},"Hombre","00-04",{"$f":"'Pob x Genero'!CS78","v":32},405]
[{"$f":"'Pob x Genero'!A79","v":"040507"},{"$f":"'Pob x Genero'!B79","v":"AREQUIPA"},{"$f":"'Pob x Genero'!C79","v":"AREQUIPA"},{"$f":"'Pob x Genero'!D79","v":"CAYLLOMA"},{"$f":"'Pob x Genero'!E79","v":"HUAMBO"},"Hombre","00-04",{"$f":"'Pob x Genero'!CS79","v":21},406]
[{"$f":"'Pob x Genero'!A80","v":"040508"},{"$f":"'Pob x Genero'!B80","v":"AREQUIPA"},{"$f":"'Pob x Genero'!C80","v":"AREQUIPA"},{"$f":"'Pob x Genero'!D80","v":"CAYLLOMA"},{"$f":"'Pob x Genero'!E80","v":"HUANCA"},"Hombre","00-04",{"$f":"'Pob x Genero'!CS80","v":29},407]
[{"$f":"'Pob x Genero'!A81","v":"040509"},{"$f":"'Pob x Genero'!B81","v":"AREQUIPA"},{"$f":"'Pob x Genero'!C81","v":"AREQUIPA"},{"$f":"'Pob x Genero'!D81","v":"CAYLLOMA"},{"$f":"'Pob x Genero'!E81","v":"ICHUPAMPA"},"Hombre","00-04",{"$f":"'Pob x Genero'!CS81","v":22},408]
[{"$f":"'Pob x Genero'!A82","v":"040510"},{"$f":"'Pob x Genero'!B82","v":"AREQUIPA"},{"$f":"'Pob x Genero'!C82","v":"AREQUIPA"},{"$f":"'Pob x Genero'!D82","v":"CAYLLOMA"},{"$f":"'Pob x Genero'!E82","v":"LARI"},"Hombre","00-04",{"$f":"'Pob x Genero'!CS82","v":29},409]
[{"$f":"'Pob x Genero'!A83","v":"040511"},{"$f":"'Pob x Genero'!B83","v":"AREQUIPA"},{"$f":"'Pob x Genero'!C83","v":"AREQUIPA"},{"$f":"'Pob x Genero'!D83","v":"CAYLLOMA"},{"$f":"'Pob x Genero'!E83","v":"LLUTA"},"Hombre","00-04",{"$f":"'Pob x Genero'!CS83","v":21},410]
[{"$f":"'Pob x Genero'!A84","v":"040512"},{"$f":"'Pob x Genero'!B84","v":"AREQUIPA"},{"$f":"'Pob x Genero'!C84","v":"AREQUIPA"},{"$f":"'Pob x Genero'!D84","v":"CAYLLOMA"},{"$f":"'Pob x Genero'!E84","v":"MACA"},"Hombre","00-04",{"$f":"'Pob x Genero'!CS84","v":7},411]
[{"$f":"'Pob x Genero'!A85","v":"040513"},{"$f":"'Pob x Genero'!B85","v":"AREQUIPA"},{"$f":"'Pob x Genero'!C85","v":"AREQUIPA"},{"$f":"'Pob x Genero'!D85","v":"CAYLLOMA"},{"$f":"'Pob x Genero'!E85","v":"MADRIGAL"},"Hombre","00-04",{"$f":"'Pob x Genero'!CS85","v":13},412]
[{"$f":"'Pob x Genero'!A86","v":"040514"},{"$f":"'Pob x Genero'!B86","v":"AREQUIPA"},{"$f":"'Pob x Genero'!C86","v":"AREQUIPA"},{"$f":"'Pob x Genero'!D86","v":"CAYLLOMA"},{"$f":"'Pob x Genero'!E86","v":"SAN ANTONIO DE CHUCA"},"Hombre","00-04",{"$f":"'Pob x Genero'!CS86","v":26},413]
[{"$f":"'Pob x Genero'!A87","v":"040515"},{"$f":"'Pob x Genero'!B87","v":"AREQUIPA"},{"$f":"'Pob x Genero'!C87","v":"AREQUIPA"},{"$f":"'Pob x Genero'!D87","v":"CAYLLOMA"},{"$f":"'Pob x Genero'!E87","v":"SIBAYO"},"Hombre","00-04",{"$f":"'Pob x Genero'!CS87","v":16},414]
[{"$f":"'Pob x Genero'!A88","v":"040516"},{"$f":"'Pob x Genero'!B88","v":"AREQUIPA"},{"$f":"'Pob x Genero'!C88","v":"AREQUIPA"},{"$f":"'Pob x Genero'!D88","v":"CAYLLOMA"},{"$f":"'Pob x Genero'!E88","v":"TAPAY"},"Hombre","00-04",{"$f":"'Pob x Genero'!CS88","v":19},415]
[{"$f":"'Pob x Genero'!A89","v":"040517"},{"$f":"'Pob x Genero'!B89","v":"AREQUIPA"},{"$f":"'Pob x Genero'!C89","v":"AREQUIPA"},{"$f":"'Pob x Genero'!D89","v":"CAYLLOMA"},{"$f":"'Pob x Genero'!E89","v":"TISCO"},"Hombre","00-04",{"$f":"'Pob x Genero'!CS89","v":45},416]
[{"$f":"'Pob x Genero'!A90","v":"040518"},{"$f":"'Pob x Genero'!B90","v":"AREQUIPA"},{"$f":"'Pob x Genero'!C90","v":"AREQUIPA"},{"$f":"'Pob x Genero'!D90","v":"CAYLLOMA"},{"$f":"'Pob x Genero'!E90","v":"TUTI"},"Hombre","00-04",{"$f":"'Pob x Genero'!CS90","v":18},417]
[{"$f":"'Pob x Genero'!A91","v":"040519"},{"$f":"'Pob x Genero'!B91","v":"AREQUIPA"},{"$f":"'Pob x Genero'!C91","v":"AREQUIPA"},{"$f":"'Pob x Genero'!D91","v":"CAYLLOMA"},{"$f":"'Pob x Genero'!E91","v":"YANQUE"},"Hombre","00-04",{"$f":"'Pob x Genero'!CS91","v":63},418]
[{"$f":"'Pob x Genero'!A92","v":"040520"},{"$f":"'Pob x Genero'!B92","v":"AREQUIPA"},{"$f":"'Pob x Genero'!C92","v":"AREQUIPA"},{"$f":"'Pob x Genero'!D92","v":"CAYLLOMA"},{"$f":"'Pob x Genero'!E92","v":"MAJES"},"Hombre","00-04",{"$f":"'Pob x Genero'!CS92","v":3223},419]
[{"$f":"'Pob x Genero'!A93","v":"040601"},{"$f":"'Pob x Genero'!B93","v":"AREQUIPA"},{"$f":"'Pob x Genero'!C93","v":"AREQUIPA"},{"$f":"'Pob x Genero'!D93","v":"CONDESUYOS"},{"$f":"'Pob x Genero'!E93","v":"CHUQUIBAMBA"},"Hombre","00-04",{"$f":"'Pob x Genero'!CS93","v":134},420]
[{"$f":"'Pob x Genero'!A94","v":"040602"},{"$f":"'Pob x Genero'!B94","v":"AREQUIPA"},{"$f":"'Pob x Genero'!C94","v":"AREQUIPA"},{"$f":"'Pob x Genero'!D94","v":"CONDESUYOS"},{"$f":"'Pob x Genero'!E94","v":"ANDARAY"},"Hombre","00-04",{"$f":"'Pob x Genero'!CS94","v":8},421]
[{"$f":"'Pob x Genero'!A95","v":"040603"},{"$f":"'Pob x Genero'!B95","v":"AREQUIPA"},{"$f":"'Pob x Genero'!C95","v":"AREQUIPA"},{"$f":"'Pob x Genero'!D95","v":"CONDESUYOS"},{"$f":"'Pob x Genero'!E95","v":"CAYARANI"},"Hombre","00-04",{"$f":"'Pob x Genero'!CS95","v":98},422]
[{"$f":"'Pob x Genero'!A96","v":"040604"},{"$f":"'Pob x Genero'!B96","v":"AREQUIPA"},{"$f":"'Pob x Genero'!C96","v":"AREQUIPA"},{"$f":"'Pob x Genero'!D96","v":"CONDESUYOS"},{"$f":"'Pob x Genero'!E96","v":"CHICHAS"},"Hombre","00-04",{"$f":"'Pob x Genero'!CS96","v":12},423]
[{"$f":"'Pob x Genero'!A97","v":"040605"},{"$f":"'Pob x Genero'!B97","v":"AREQUIPA"},{"$f":"'Pob x Genero'!C97","v":"AREQUIPA"},{"$f":"'Pob x Genero'!D97","v":"CONDESUYOS"},{"$f":"'Pob x Genero'!E97","v":"IRAY"},"Hombre","00-04",{"$f":"'Pob x Genero'!CS97","v":22},424]
[{"$f":"'Pob x Genero'!A98","v":"040606"},{"$f":"'Pob x Genero'!B98","v":"AREQUIPA"},{"$f":"'Pob x Genero'!C98","v":"AREQUIPA"},{"$f":"'Pob x Genero'!D98","v":"CONDESUYOS"},{"$f":"'Pob x Genero'!E98","v":"RIO GRANDE"},"Hombre","00-04",{"$f":"'Pob x Genero'!CS98","v":144},425]
[{"$f":"'Pob x Genero'!A99","v":"040607"},{"$f":"'Pob x Genero'!B99","v":"AREQUIPA"},{"$f":"'Pob x Genero'!C99","v":"AREQUIPA"},{"$f":"'Pob x Genero'!D99","v":"CONDESUYOS"},{"$f":"'Pob x Genero'!E99","v":"SALAMANCA"},"Hombre","00-04",{"$f":"'Pob x Genero'!CS99","v":12},426]
[{"$f":"'Pob x Genero'!A100","v":"040608"},{"$f":"'Pob x Genero'!B100","v":"AREQUIPA"},{"$f":"'Pob x Genero'!C100","v":"AREQUIPA"},{"$f":"'Pob x Genero'!D100","v":"CONDESUYOS"},{"$f":"'Pob x Genero'!E100","v":"YANAQUIHUA"},"Hombre","00-04",{"$f":"'Pob x Genero'!CS100","v":118},427]
[{"$f":"'Pob x Genero'!A101","v":"040701"},{"$f":"'Pob x Genero'!B101","v":"AREQUIPA"},{"$f":"'Pob x Genero'!C101","v":"AREQUIPA"},{"$f":"'Pob x Genero'!D101","v":"ISLAY"},{"$f":"'Pob x Genero'!E101","v":"MOLLENDO"},"Hombre","00-04",{"$f":"'Pob x Genero'!CS101","v":902},428]
[{"$f":"'Pob x Genero'!A102","v":"040702"},{"$f":"'Pob x Genero'!B102","v":"AREQUIPA"},{"$f":"'Pob x Genero'!C102","v":"AREQUIPA"},{"$f":"'Pob x Genero'!D102","v":"ISLAY"},{"$f":"'Pob x Genero'!E102","v":"COCACHACRA"},"Hombre","00-04",{"$f":"'Pob x Genero'!CS102","v":286},429]
[{"$f":"'Pob x Genero'!A103","v":"040703"},{"$f":"'Pob x Genero'!B103","v":"AREQUIPA"},{"$f":"'Pob x Genero'!C103","v":"AREQUIPA"},{"$f":"'Pob x Genero'!D103","v":"ISLAY"},{"$f":"'Pob x Genero'!E103","v":"DEAN VALDIVIA"},"Hombre","00-04",{"$f":"'Pob x Genero'!CS103","v":255},430]
[{"$f":"'Pob x Genero'!A104","v":"040704"},{"$f":"'Pob x Genero'!B104","v":"AREQUIPA"},{"$f":"'Pob x Genero'!C104","v":"AREQUIPA"},{"$f":"'Pob x Genero'!D104","v":"ISLAY"},{"$f":"'Pob x Genero'!E104","v":"ISLAY"},"Hombre","00-04",{"$f":"'Pob x Genero'!CS104","v":236},431]
[{"$f":"'Pob x Genero'!A105","v":"040705"},{"$f":"'Pob x Genero'!B105","v":"AREQUIPA"},{"$f":"'Pob x Genero'!C105","v":"AREQUIPA"},{"$f":"'Pob x Genero'!D105","v":"ISLAY"},{"$f":"'Pob x Genero'!E105","v":"MEJIA"},"Hombre","00-04",{"$f":"'Pob x Genero'!CS105","v":38},432]
[{"$f":"'Pob x Genero'!A106","v":"040706"},{"$f":"'Pob x Genero'!B106","v":"AREQUIPA"},{"$f":"'Pob x Genero'!C106","v":"AREQUIPA"},{"$f":"'Pob x Genero'!D106","v":"ISLAY"},{"$f":"'Pob x Genero'!E106","v":"PUNTA DE BOMBON"},"Hombre","00-04",{"$f":"'Pob x Genero'!CS106","v":219},433]
[{"$f":"'Pob x Genero'!A107","v":"040801"},{"$f":"'Pob x Genero'!B107","v":"AREQUIPA"},{"$f":"'Pob x Genero'!C107","v":"AREQUIPA"},{"$f":"'Pob x Genero'!D107","v":"LA UNION"},{"$f":"'Pob x Genero'!E107","v":"COTAHUASI"},"Hombre","00-04",{"$f":"'Pob x Genero'!CS107","v":135},434]
[{"$f":"'Pob x Genero'!A108","v":"040802"},{"$f":"'Pob x Genero'!B108","v":"AREQUIPA"},{"$f":"'Pob x Genero'!C108","v":"AREQUIPA"},{"$f":"'Pob x Genero'!D108","v":"LA UNION"},{"$f":"'Pob x Genero'!E108","v":"ALCA"},"Hombre","00-04",{"$f":"'Pob x Genero'!CS108","v":61},435]
[{"$f":"'Pob x Genero'!A109","v":"040803"},{"$f":"'Pob x Genero'!B109","v":"AREQUIPA"},{"$f":"'Pob x Genero'!C109","v":"AREQUIPA"},{"$f":"'Pob x Genero'!D109","v":"LA UNION"},{"$f":"'Pob x Genero'!E109","v":"CHARCANA"},"Hombre","00-04",{"$f":"'Pob x Genero'!CS109","v":28},436]
[{"$f":"'Pob x Genero'!A110","v":"040804"},{"$f":"'Pob x Genero'!B110","v":"AREQUIPA"},{"$f":"'Pob x Genero'!C110","v":"AREQUIPA"},{"$f":"'Pob x Genero'!D110","v":"LA UNION"},{"$f":"'Pob x Genero'!E110","v":"HUAYNACOTAS"},"Hombre","00-04",{"$f":"'Pob x Genero'!CS110","v":66},437]
[{"$f":"'Pob x Genero'!A111","v":"040805"},{"$f":"'Pob x Genero'!B111","v":"AREQUIPA"},{"$f":"'Pob x Genero'!C111","v":"AREQUIPA"},{"$f":"'Pob x Genero'!D111","v":"LA UNION"},{"$f":"'Pob x Genero'!E111","v":"PAMPAMARCA"},"Hombre","00-04",{"$f":"'Pob x Genero'!CS111","v":48},438]
[{"$f":"'Pob x Genero'!A112","v":"040806"},{"$f":"'Pob x Genero'!B112","v":"AREQUIPA"},{"$f":"'Pob x Genero'!C112","v":"AREQUIPA"},{"$f":"'Pob x Genero'!D112","v":"LA UNION"},{"$f":"'Pob x Genero'!E112","v":"PUYCA"},"Hombre","00-04",{"$f":"'Pob x Genero'!CS112","v":90},439]
[{"$f":"'Pob x Genero'!A113","v":"040807"},{"$f":"'Pob x Genero'!B113","v":"AREQUIPA"},{"$f":"'Pob x Genero'!C113","v":"AREQUIPA"},{"$f":"'Pob x Genero'!D113","v":"LA UNION"},{"$f":"'Pob x Genero'!E113","v":"QUECHUALLA"},"Hombre","00-04",{"$f":"'Pob x Genero'!CS113","v":8},440]
[{"$f":"'Pob x Genero'!A114","v":"040808"},{"$f":"'Pob x Genero'!B114","v":"AREQUIPA"},{"$f":"'Pob x Genero'!C114","v":"AREQUIPA"},{"$f":"'Pob x Genero'!D114","v":"LA UNION"},{"$f":"'Pob x Genero'!E114","v":"SAYLA"},"Hombre","00-04",{"$f":"'Pob x Genero'!CS114","v":8},441]
[{"$f":"'Pob x Genero'!A115","v":"040809"},{"$f":"'Pob x Genero'!B115","v":"AREQUIPA"},{"$f":"'Pob x Genero'!C115","v":"AREQUIPA"},{"$f":"'Pob x Genero'!D115","v":"LA UNION"},{"$f":"'Pob x Genero'!E115","v":"TAURIA"},"Hombre","00-04",{"$f":"'Pob x Genero'!CS115","v":18},442]
[{"$f":"'Pob x Genero'!A116","v":"040810"},{"$f":"'Pob x Genero'!B116","v":"AREQUIPA"},{"$f":"'Pob x Genero'!C116","v":"AREQUIPA"},{"$f":"'Pob x Genero'!D116","v":"LA UNION"},{"$f":"'Pob x Genero'!E116","v":"TOMEPAMPA"},"Hombre","00-04",{"$f":"'Pob x Genero'!CS116","v":12},443]
[{"$f":"'Pob x Genero'!A117","v":"040811"},{"$f":"'Pob x Genero'!B117","v":"AREQUIPA"},{"$f":"'Pob x Genero'!C117","v":"AREQUIPA"},{"$f":"'Pob x Genero'!D117","v":"LA UNION"},{"$f":"'Pob x Genero'!E117","v":"TORO"},"Hombre","00-04",{"$f":"'Pob x Genero'!CS117","v":9},444]
[{"$f":"'Pob x Genero'!#REF!","v":{"$error":"#REF!"}},{"$f":"'Pob x Genero'!#REF!","v":{"$error":"#REF!"}},{"$f":"'Pob x Genero'!#REF!","v":{"$error":"#REF!"}},{"$f":"'Pob x Genero'!#REF!","v":{"$error":"#REF!"}},{"$f":"'Pob x Genero'!#REF!","v":{"$error":"#REF!"}},"Hombre","00-04",{"$f":"'Pob x Genero'!#REF!","v":{"$error":"#REF!"}},445]
[{"$f":"'Pob x Genero'!#REF!","v":{"$error":"#REF!"}},{"$f":"'Pob x Genero'!#REF!","v":{"$error":"#REF!"}},{"$f":"'Pob x Genero'!#REF!","v":{"$error":"#REF!"}},{"$f":"'Pob x Genero'!#REF!","v":{"$error":"#REF!"}},{"$f":"'Pob x Genero'!#REF!","v":{"$error":"#REF!"}},"Hombre","00-04",{"$f":"'Pob x Genero'!#REF!","v":{"$error":"#REF!"}},446]
[{"$f":"'Pob x Genero'!#REF!","v":{"$error":"#REF!"}},{"$f":"'Pob x Genero'!#REF!","v":{"$error":"#REF!"}},{"$f":"'Pob x Genero'!#REF!","v":{"$error":"#REF!"}},{"$f":"'Pob x Genero'!#REF!","v":{"$error":"#REF!"}},{"$f":"'Pob x Genero'!#REF!","v":{"$error":"#REF!"}},"Hombre","00-04",{"$f":"'Pob x Genero'!#REF!","v":{"$error":"#REF!"}},447]
[{"$f":"'Pob x Genero'!#REF!","v":{"$error":"#REF!"}},{"$f":"'Pob x Genero'!#REF!","v":{"$error":"#REF!"}},{"$f":"'Pob x Genero'!#REF!","v":{"$error":"#REF!"}},{"$f":"'Pob x Genero'!#REF!","v":{"$error":"#REF!"}},{"$f":"'Pob x Genero'!#REF!","v":{"$error":"#REF!"}},"Hombre","00-04",{"$f":"'Pob x Genero'!#REF!","v":{"$error":"#REF!"}},448]
[{"$f":"'Pob x Genero'!#REF!","v":{"$error":"#REF!"}},{"$f":"'Pob x Genero'!#REF!","v":{"$error":"#REF!"}},{"$f":"'Pob x Genero'!#REF!","v":{"$error":"#REF!"}},{"$f":"'Pob x Genero'!#REF!","v":{"$error":"#REF!"}},{"$f":"'Pob x Genero'!#REF!","v":{"$error":"#REF!"}},"Hombre","00-04",{"$f":"'Pob x Genero'!#REF!","v":{"$error":"#REF!"}},449]
[{"$f":"'Pob x Genero'!#REF!","v":{"$error":"#REF!"}},{"$f":"'Pob x Genero'!#REF!","v":{"$error":"#REF!"}},{"$f":"'Pob x Genero'!#REF!","v":{"$error":"#REF!"}},{"$f":"'Pob x Genero'!#REF!","v":{"$error":"#REF!"}},{"$f":"'Pob x Genero'!#REF!","v":{"$error":"#REF!"}},{"$f":"F450","v":"Hombre"},{"$f":"G450","v":"00-04"},{"$f":"'Pob x Genero'!#REF!","v":{"$error":"#REF!"}},450]
[{"$f":"'Pob x Genero'!#REF!","v":{"$error":"#REF!"}},{"$f":"'Pob x Genero'!#REF!","v":{"$error":"#REF!"}},{"$f":"'Pob x Genero'!#REF!","v":{"$error":"#REF!"}},{"$f":"'Pob x Genero'!#REF!","v":{"$error":"#REF!"}},{"$f":"'Pob x Genero'!#REF!","v":{"$error":"#REF!"}},"Hombre","00-04",{"$f":"'Pob x Genero'!#REF!","v":{"$error":"#REF!"}},451]
[{"$f":"'Pob x Genero'!#REF!","v":{"$error":"#REF!"}},{"$f":"'Pob x Genero'!#REF!","v":{"$error":"#REF!"}},{"$f":"'Pob x Genero'!#REF!","v":{"$error":"#REF!"}},{"$f":"'Pob x Genero'!#REF!","v":{"$error":"#REF!"}},{"$f":"'Pob x Genero'!#REF!","v":{"$error":"#REF!"}},"Hombre","00-04",{"$f":"'Pob x Genero'!#REF!","v":{"$error":"#REF!"}},452]
[{"$f":"'Pob x Genero'!#REF!","v":{"$error":"#REF!"}},{"$f":"'Pob x Genero'!#REF!","v":{"$error":"#REF!"}},{"$f":"'Pob x Genero'!#REF!","v":{"$error":"#REF!"}},{"$f":"'Pob x Genero'!#REF!","v":{"$error":"#REF!"}},{"$f":"'Pob x Genero'!#REF!","v":{"$error":"#REF!"}},"Hombre","00-04",{"$f":"'Pob x Genero'!#REF!","v":{"$error":"#REF!"}},453]
[{"$f":"'Pob x Genero'!#REF!","v":{"$error":"#REF!"}},{"$f":"'Pob x Genero'!#REF!","v":{"$error":"#REF!"}},{"$f":"'Pob x Genero'!#REF!","v":{"$error":"#REF!"}},{"$f":"'Pob x Genero'!#REF!","v":{"$error":"#REF!"}},{"$f":"'Pob x Genero'!#REF!","v":{"$error":"#REF!"}},"Hombre","00-04",{"$f":"'Pob x Genero'!#REF!","v":{"$error":"#REF!"}},454]
[{"$f":"'Pob x Genero'!#REF!","v":{"$error":"#REF!"}},{"$f":"'Pob x Genero'!#REF!","v":{"$error":"#REF!"}},{"$f":"'Pob x Genero'!#REF!","v":{"$error":"#REF!"}},{"$f":"'Pob x Genero'!#REF!","v":{"$error":"#REF!"}},{"$f":"'Pob x Genero'!#REF!","v":{"$error":"#REF!"}},"Hombre","00-04",{"$f":"'Pob x Genero'!#REF!","v":{"$error":"#REF!"}},455]
[{"$f":"'Pob x Genero'!#REF!","v":{"$error":"#REF!"}},{"$f":"'Pob x Genero'!#REF!","v":{"$error":"#REF!"}},{"$f":"'Pob x Genero'!#REF!","v":{"$error":"#REF!"}},{"$f":"'Pob x Genero'!#REF!","v":{"$error":"#REF!"}},{"$f":"'Pob x Genero'!#REF!","v":{"$error":"#REF!"}},"Hombre","00-04",{"$f":"'Pob x Genero'!#REF!","v":{"$error":"#REF!"}},456]
[{"$f":"'Pob x Genero'!#REF!","v":{"$error":"#REF!"}},{"$f":"'Pob x Genero'!#REF!","v":{"$error":"#REF!"}},{"$f":"'Pob x Genero'!#REF!","v":{"$error":"#REF!"}},{"$f":"'Pob x Genero'!#REF!","v":{"$error":"#REF!"}},{"$f":"'Pob x Genero'!#REF!","v":{"$error":"#REF!"}},"Hombre","00-04",{"$f":"'Pob x Genero'!#REF!","v":{"$error":"#REF!"}},457]
[{"$f":"'Pob x Genero'!#REF!","v":{"$error":"#REF!"}},{"$f":"'Pob x Genero'!#REF!","v":{"$error":"#REF!"}},{"$f":"'Pob x Genero'!#REF!","v":{"$error":"#REF!"}},{"$f":"'Pob x Genero'!#REF!","v":{"$error":"#REF!"}},{"$f":"'Pob x Genero'!#REF!","v":{"$error":"#REF!"}},"Hombre","00-04",{"$f":"'Pob x Genero'!#REF!","v":{"$error":"#REF!"}},458]
[{"$f":"'Pob x Genero'!#REF!","v":{"$error":"#REF!"}},{"$f":"'Pob x Genero'!#REF!","v":{"$error":"#REF!"}},{"$f":"'Pob x Genero'!#REF!","v":{"$error":"#REF!"}},{"$f":"'Pob x Genero'!#REF!","v":{"$error":"#REF!"}},{"$f":"'Pob x Genero'!#REF!","v":{"$error":"#REF!"}},"Hombre","00-04",{"$f":"'Pob x Genero'!#REF!","v":{"$error":"#REF!"}},459]
[{"$f":"'Pob x Genero'!#REF!","v":{"$error":"#REF!"}},{"$f":"'Pob x Genero'!#REF!","v":{"$error":"#REF!"}},{"$f":"'Pob x Genero'!#REF!","v":{"$error":"#REF!"}},{"$f":"'Pob x Genero'!#REF!","v":{"$error":"#REF!"}},{"$f":"'Pob x Genero'!#REF!","v":{"$error":"#REF!"}},"Hombre","00-04",{"$f":"'Pob x Genero'!#REF!","v":{"$error":"#REF!"}},460]
[{"$f":"'Pob x Genero'!#REF!","v":{"$error":"#REF!"}},{"$f":"'Pob x Genero'!#REF!","v":{"$error":"#REF!"}},{"$f":"'Pob x Genero'!#REF!","v":{"$error":"#REF!"}},{"$f":"'Pob x Genero'!#REF!","v":{"$error":"#REF!"}},{"$f":"'Pob x Genero'!#REF!","v":{"$error":"#REF!"}},"Hombre","00-04",{"$f":"'Pob x Genero'!#REF!","v":{"$error":"#REF!"}},461]
[{"$f":"'Pob x Genero'!#REF!","v":{"$error":"#REF!"}},{"$f":"'Pob x Genero'!#REF!","v":{"$error":"#REF!"}},{"$f":"'Pob x Genero'!#REF!","v":{"$error":"#REF!"}},{"$f":"'Pob x Genero'!#REF!","v":{"$error":"#REF!"}},{"$f":"'Pob x Genero'!#REF!","v":{"$error":"#REF!"}},"Hombre","00-04",{"$f":"'Pob x Genero'!#REF!","v":{"$error":"#REF!"}},462]
[{"$f":"'Pob x Genero'!#REF!","v":{"$error":"#REF!"}},{"$f":"'Pob x Genero'!#REF!","v":{"$error":"#REF!"}},{"$f":"'Pob x Genero'!#REF!","v":{"$error":"#REF!"}},{"$f":"'Pob x Genero'!#REF!","v":{"$error":"#REF!"}},{"$f":"'Pob x Genero'!#REF!","v":{"$error":"#REF!"}},"Hombre","00-04",{"$f":"'Pob x Genero'!#REF!","v":{"$error":"#REF!"}},463]
[{"$f":"'Pob x Genero'!#REF!","v":{"$error":"#REF!"}},{"$f":"'Pob x Genero'!#REF!","v":{"$error":"#REF!"}},{"$f":"'Pob x Genero'!#REF!","v":{"$error":"#REF!"}},{"$f":"'Pob x Genero'!#REF!","v":{"$error":"#REF!"}},{"$f":"'Pob x Genero'!#REF!","v":{"$error":"#REF!"}},"Hombre","00-04",{"$f":"'Pob x Genero'!#REF!","v":{"$error":"#REF!"}},464]
[{"$f":"'Pob x Genero'!#REF!","v":{"$error":"#REF!"}},{"$f":"'Pob x Genero'!#REF!","v":{"$error":"#REF!"}},{"$f":"'Pob x Genero'!#REF!","v":{"$error":"#REF!"}},{"$f":"'Pob x Genero'!#REF!","v":{"$error":"#REF!"}},{"$f":"'Pob x Genero'!#REF!","v":{"$error":"#REF!"}},"Hombre","00-04",{"$f":"'Pob x Genero'!#REF!","v":{"$error":"#REF!"}},465]
[{"$f":"'Pob x Genero'!#REF!","v":{"$error":"#REF!"}},{"$f":"'Pob x Genero'!#REF!","v":{"$error":"#REF!"}},{"$f":"'Pob x Genero'!#REF!","v":{"$error":"#REF!"}},{"$f":"'Pob x Genero'!#REF!","v":{"$error":"#REF!"}},{"$f":"'Pob x Genero'!#REF!","v":{"$error":"#REF!"}},"Hombre","00-04",{"$f":"'Pob x Genero'!#REF!","v":{"$error":"#REF!"}},466]
[{"$f":"'Pob x Genero'!#REF!","v":{"$error":"#REF!"}},{"$f":"'Pob x Genero'!#REF!","v":{"$error":"#REF!"}},{"$f":"'Pob x Genero'!#REF!","v":{"$error":"#REF!"}},{"$f":"'Pob x Genero'!#REF!","v":{"$error":"#REF!"}},{"$f":"'Pob x Genero'!#REF!","v":{"$error":"#REF!"}},"Hombre","00-04",{"$f":"'Pob x Genero'!#REF!","v":{"$error":"#REF!"}},467]
[{"$f":"'Pob x Genero'!#REF!","v":{"$error":"#REF!"}},{"$f":"'Pob x Genero'!#REF!","v":{"$error":"#REF!"}},{"$f":"'Pob x Genero'!#REF!","v":{"$error":"#REF!"}},{"$f":"'Pob x Genero'!#REF!","v":{"$error":"#REF!"}},{"$f":"'Pob x Genero'!#REF!","v":{"$error":"#REF!"}},"Hombre","00-04",{"$f":"'Pob x Genero'!#REF!","v":{"$error":"#REF!"}},468]
[{"$f":"'Pob x Genero'!#REF!","v":{"$error":"#REF!"}},{"$f":"'Pob x Genero'!#REF!","v":{"$error":"#REF!"}},{"$f":"'Pob x Genero'!#REF!","v":{"$error":"#REF!"}},{"$f":"'Pob x Genero'!#REF!","v":{"$error":"#REF!"}},{"$f":"'Pob x Genero'!#REF!","v":{"$error":"#REF!"}},"Hombre","00-04",{"$f":"'Pob x Genero'!#REF!","v":{"$error":"#REF!"}},469]
[{"$f":"'Pob x Genero'!#REF!","v":{"$error":"#REF!"}},{"$f":"'Pob x Genero'!#REF!","v":{"$error":"#REF!"}},{"$f":"'Pob x Genero'!#REF!","v":{"$error":"#REF!"}},{"$f":"'Pob x Genero'!#REF!","v":{"$error":"#REF!"}},{"$f":"'Pob x Genero'!#REF!","v":{"$error":"#REF!"}},"Hombre","00-04",{"$f":"'Pob x Genero'!#REF!","v":{"$error":"#REF!"}},470]
[{"$f":"'Pob x Genero'!#REF!","v":{"$error":"#REF!"}},{"$f":"'Pob x Genero'!#REF!","v":{"$error":"#REF!"}},{"$f":"'Pob x Genero'!#REF!","v":{"$error":"#REF!"}},{"$f":"'Pob x Genero'!#REF!","v":{"$error":"#REF!"}},{"$f":"'Pob x Genero'!#REF!","v":{"$error":"#REF!"}},"Hombre","00-04",{"$f":"'Pob x Genero'!#REF!","v":{"$error":"#REF!"}},471]
[{"$f":"'Pob x Genero'!#REF!","v":{"$error":"#REF!"}},{"$f":"'Pob x Genero'!#REF!","v":{"$error":"#REF!"}},{"$f":"'Pob x Genero'!#REF!","v":{"$error":"#REF!"}},{"$f":"'Pob x Genero'!#REF!","v":{"$error":"#REF!"}},{"$f":"'Pob x Genero'!#REF!","v":{"$error":"#REF!"}},"Hombre","00-04",{"$f":"'Pob x Genero'!#REF!","v":{"$error":"#REF!"}},472]
[{"$f":"'Pob x Genero'!#REF!","v":{"$error":"#REF!"}},{"$f":"'Pob x Genero'!#REF!","v":{"$error":"#REF!"}},{"$f":"'Pob x Genero'!#REF!","v":{"$error":"#REF!"}},{"$f":"'Pob x Genero'!#REF!","v":{"$error":"#REF!"}},{"$f":"'Pob x Genero'!#REF!","v":{"$error":"#REF!"}},"Hombre","00-04",{"$f":"'Pob x Genero'!#REF!","v":{"$error":"#REF!"}},473]
[{"$f":"'Pob x Genero'!#REF!","v":{"$error":"#REF!"}},{"$f":"'Pob x Genero'!#REF!","v":{"$error":"#REF!"}},{"$f":"'Pob x Genero'!#REF!","v":{"$error":"#REF!"}},{"$f":"'Pob x Genero'!#REF!","v":{"$error":"#REF!"}},{"$f":"'Pob x Genero'!#REF!","v":{"$error":"#REF!"}},"Hombre","00-04",{"$f":"'Pob x Genero'!#REF!","v":{"$error":"#REF!"}},474]
[{"$f":"'Pob x Genero'!#REF!","v":{"$error":"#REF!"}},{"$f":"'Pob x Genero'!#REF!","v":{"$error":"#REF!"}},{"$f":"'Pob x Genero'!#REF!","v":{"$error":"#REF!"}},{"$f":"'Pob x Genero'!#REF!","v":{"$error":"#REF!"}},{"$f":"'Pob x Genero'!#REF!","v":{"$error":"#REF!"}},"Hombre","00-04",{"$f":"'Pob x Genero'!#REF!","v":{"$error":"#REF!"}},475]
[{"$f":"'Pob x Genero'!#REF!","v":{"$error":"#REF!"}},{"$f":"'Pob x Genero'!#REF!","v":{"$error":"#REF!"}},{"$f":"'Pob x Genero'!#REF!","v":{"$error":"#REF!"}},{"$f":"'Pob x Genero'!#REF!","v":{"$error":"#REF!"}},{"$f":"'Pob x Genero'!#REF!","v":{"$error":"#REF!"}},"Hombre","00-04",{"$f":"'Pob x Genero'!#REF!","v":{"$error":"#REF!"}},476]
[{"$f":"'Pob x Genero'!#REF!","v":{"$error":"#REF!"}},{"$f":"'Pob x Genero'!#REF!","v":{"$error":"#REF!"}},{"$f":"'Pob x Genero'!#REF!","v":{"$error":"#REF!"}},{"$f":"'Pob x Genero'!#REF!","v":{"$error":"#REF!"}},{"$f":"'Pob x Genero'!#REF!","v":{"$error":"#REF!"}},"Hombre","00-04",{"$f":"'Pob x Genero'!#REF!","v":{"$error":"#REF!"}},477]
[{"$f":"'Pob x Genero'!#REF!","v":{"$error":"#REF!"}},{"$f":"'Pob x Genero'!#REF!","v":{"$error":"#REF!"}},{"$f":"'Pob x Genero'!#REF!","v":{"$error":"#REF!"}},{"$f":"'Pob x Genero'!#REF!","v":{"$error":"#REF!"}},{"$f":"'Pob x Genero'!#REF!","v":{"$error":"#REF!"}},"Hombre","00-04",{"$f":"'Pob x Genero'!#REF!","v":{"$error":"#REF!"}},478]
[{"$f":"'Pob x Genero'!#REF!","v":{"$error":"#REF!"}},{"$f":"'Pob x Genero'!#REF!","v":{"$error":"#REF!"}},{"$f":"'Pob x Genero'!#REF!","v":{"$error":"#REF!"}},{"$f":"'Pob x Genero'!#REF!","v":{"$error":"#REF!"}},{"$f":"'Pob x Genero'!#REF!","v":{"$error":"#REF!"}},"Hombre","00-04",{"$f":"'Pob x Genero'!#REF!","v":{"$error":"#REF!"}},479]
[{"$f":"'Pob x Genero'!#REF!","v":{"$error":"#REF!"}},{"$f":"'Pob x Genero'!#REF!","v":{"$error":"#REF!"}},{"$f":"'Pob x Genero'!#REF!","v":{"$error":"#REF!"}},{"$f":"'Pob x Genero'!#REF!","v":{"$error":"#REF!"}},{"$f":"'Pob x Genero'!#REF!","v":{"$error":"#REF!"}},"Hombre","00-04",{"$f":"'Pob x Genero'!#REF!","v":{"$error":"#REF!"}},480]
[{"$f":"'Pob x Genero'!#REF!","v":{"$error":"#REF!"}},{"$f":"'Pob x Genero'!#REF!","v":{"$error":"#REF!"}},{"$f":"'Pob x Genero'!#REF!","v":{"$error":"#REF!"}},{"$f":"'Pob x Genero'!#REF!","v":{"$error":"#REF!"}},{"$f":"'Pob x Genero'!#REF!","v":{"$error":"#REF!"}},"Hombre","00-04",{"$f":"'Pob x Genero'!#REF!","v":{"$error":"#REF!"}},481]
[{"$f":"'Pob x Genero'!#REF!","v":{"$error":"#REF!"}},{"$f":"'Pob x Genero'!#REF!","v":{"$error":"#REF!"}},{"$f":"'Pob x Genero'!#REF!","v":{"$error":"#REF!"}},{"$f":"'Pob x Genero'!#REF!","v":{"$error":"#REF!"}},{"$f":"'Pob x Genero'!#REF!","v":{"$error":"#REF!"}},"Hombre","00-04",{"$f":"'Pob x Genero'!#REF!","v":{"$error":"#REF!"}},482]
[{"$f":"'Pob x Genero'!#REF!","v":{"$error":"#REF!"}},{"$f":"'Pob x Genero'!#REF!","v":{"$error":"#REF!"}},{"$f":"'Pob x Genero'!#REF!","v":{"$error":"#REF!"}},{"$f":"'Pob x Genero'!#REF!","v":{"$error":"#REF!"}},{"$f":"'Pob x Genero'!#REF!","v":{"$error":"#REF!"}},"Hombre","00-04",{"$f":"'Pob x Genero'!#REF!","v":{"$error":"#REF!"}},483]
[{"$f":"'Pob x Genero'!#REF!","v":{"$error":"#REF!"}},{"$f":"'Pob x Genero'!#REF!","v":{"$error":"#REF!"}},{"$f":"'Pob x Genero'!#REF!","v":{"$error":"#REF!"}},{"$f":"'Pob x Genero'!#REF!","v":{"$error":"#REF!"}},{"$f":"'Pob x Genero'!#REF!","v":{"$error":"#REF!"}},"Hombre","00-04",{"$f":"'Pob x Genero'!#REF!","v":{"$error":"#REF!"}},484]
[{"$f":"'Pob x Genero'!#REF!","v":{"$error":"#REF!"}},{"$f":"'Pob x Genero'!#REF!","v":{"$error":"#REF!"}},{"$f":"'Pob x Genero'!#REF!","v":{"$error":"#REF!"}},{"$f":"'Pob x Genero'!#REF!","v":{"$error":"#REF!"}},{"$f":"'Pob x Genero'!#REF!","v":{"$error":"#REF!"}},"Hombre","00-04",{"$f":"'Pob x Genero'!#REF!","v":{"$error":"#REF!"}},485]
[{"$f":"'Pob x Genero'!#REF!","v":{"$error":"#REF!"}},{"$f":"'Pob x Genero'!#REF!","v":{"$error":"#REF!"}},{"$f":"'Pob x Genero'!#REF!","v":{"$error":"#REF!"}},{"$f":"'Pob x Genero'!#REF!","v":{"$error":"#REF!"}},{"$f":"'Pob x Genero'!#REF!","v":{"$error":"#REF!"}},"Hombre","00-04",{"$f":"'Pob x Genero'!#REF!","v":{"$error":"#REF!"}},486]
[{"$f":"'Pob x Genero'!#REF!","v":{"$error":"#REF!"}},{"$f":"'Pob x Genero'!#REF!","v":{"$error":"#REF!"}},{"$f":"'Pob x Genero'!#REF!","v":{"$error":"#REF!"}},{"$f":"'Pob x Genero'!#REF!","v":{"$error":"#REF!"}},{"$f":"'Pob x Genero'!#REF!","v":{"$error":"#REF!"}},"Hombre","00-04",{"$f":"'Pob x Genero'!#REF!","v":{"$error":"#REF!"}},487]
[{"$f":"'Pob x Genero'!#REF!","v":{"$error":"#REF!"}},{"$f":"'Pob x Genero'!#REF!","v":{"$error":"#REF!"}},{"$f":"'Pob x Genero'!#REF!","v":{"$error":"#REF!"}},{"$f":"'Pob x Genero'!#REF!","v":{"$error":"#REF!"}},{"$f":"'Pob x Genero'!#REF!","v":{"$error":"#REF!"}},"Hombre","00-04",{"$f":"'Pob x Genero'!#REF!","v":{"$error":"#REF!"}},488]
[{"$f":"'Pob x Genero'!#REF!","v":{"$error":"#REF!"}},{"$f":"'Pob x Genero'!#REF!","v":{"$error":"#REF!"}},{"$f":"'Pob x Genero'!#REF!","v":{"$error":"#REF!"}},{"$f":"'Pob x Genero'!#REF!","v":{"$error":"#REF!"}},{"$f":"'Pob x Genero'!#REF!","v":{"$error":"#REF!"}},"Hombre","00-04",{"$f":"'Pob x Genero'!#REF!","v":{"$error":"#REF!"}},489]
[{"$f":"'Pob x Genero'!#REF!","v":{"$error":"#REF!"}},{"$f":"'Pob x Genero'!#REF!","v":{"$error":"#REF!"}},{"$f":"'Pob x Genero'!#REF!","v":{"$error":"#REF!"}},{"$f":"'Pob x Genero'!#REF!","v":{"$error":"#REF!"}},{"$f":"'Pob x Genero'!#REF!","v":{"$error":"#REF!"}},"Hombre","00-04",{"$f":"'Pob x Genero'!#REF!","v":{"$error":"#REF!"}},490]
[{"$f":"'Pob x Genero'!#REF!","v":{"$error":"#REF!"}},{"$f":"'Pob x Genero'!#REF!","v":{"$error":"#REF!"}},{"$f":"'Pob x Genero'!#REF!","v":{"$error":"#REF!"}},{"$f":"'Pob x Genero'!#REF!","v":{"$error":"#REF!"}},{"$f":"'Pob x Genero'!#REF!","v":{"$error":"#REF!"}},"Hombre","00-04",{"$f":"'Pob x Genero'!#REF!","v":{"$error":"#REF!"}},491]
[{"$f":"'Pob x Genero'!#REF!","v":{"$error":"#REF!"}},{"$f":"'Pob x Genero'!#REF!","v":{"$error":"#REF!"}},{"$f":"'Pob x Genero'!#REF!","v":{"$error":"#REF!"}},{"$f":"'Pob x Genero'!#REF!","v":{"$error":"#REF!"}},{"$f":"'Pob x Genero'!#REF!","v":{"$error":"#REF!"}},"Hombre","00-04",{"$f":"'Pob x Genero'!#REF!","v":{"$error":"#REF!"}},492]
[{"$f":"'Pob x Genero'!#REF!","v":{"$error":"#REF!"}},{"$f":"'Pob x Genero'!#REF!","v":{"$error":"#REF!"}},{"$f":"'Pob x Genero'!#REF!","v":{"$error":"#REF!"}},{"$f":"'Pob x Genero'!#REF!","v":{"$error":"#REF!"}},{"$f":"'Pob x Genero'!#REF!","v":{"$error":"#REF!"}},"Hombre","00-04",{"$f":"'Pob x Genero'!#REF!","v":{"$error":"#REF!"}},493]
[{"$f":"'Pob x Genero'!#REF!","v":{"$error":"#REF!"}},{"$f":"'Pob x Genero'!#REF!","v":{"$error":"#REF!"}},{"$f":"'Pob x Genero'!#REF!","v":{"$error":"#REF!"}},{"$f":"'Pob x Genero'!#REF!","v":{"$error":"#REF!"}},{"$f":"'Pob x Genero'!#REF!","v":{"$error":"#REF!"}},"Hombre","00-04",{"$f":"'Pob x Genero'!#REF!","v":{"$error":"#REF!"}},494]
[{"$f":"'Pob x Genero'!#REF!","v":{"$error":"#REF!"}},{"$f":"'Pob x Genero'!#REF!","v":{"$error":"#REF!"}},{"$f":"'Pob x Genero'!#REF!","v":{"$error":"#REF!"}},{"$f":"'Pob x Genero'!#REF!","v":{"$error":"#REF!"}},{"$f":"'Pob x Genero'!#REF!","v":{"$error":"#REF!"}},"Hombre","00-04",{"$f":"'Pob x Genero'!#REF!","v":{"$error":"#REF!"}},495]
[{"$f":"'Pob x Genero'!#REF!","v":{"$error":"#REF!"}},{"$f":"'Pob x Genero'!#REF!","v":{"$error":"#REF!"}},{"$f":"'Pob x Genero'!#REF!","v":{"$error":"#REF!"}},{"$f":"'Pob x Genero'!#REF!","v":{"$error":"#REF!"}},{"$f":"'Pob x Genero'!#REF!","v":{"$error":"#REF!"}},"Hombre","00-04",{"$f":"'Pob x Genero'!#REF!","v":{"$error":"#REF!"}},496]
[{"$f":"'Pob x Genero'!#REF!","v":{"$error":"#REF!"}},{"$f":"'Pob x Genero'!#REF!","v":{"$error":"#REF!"}},{"$f":"'Pob x Genero'!#REF!","v":{"$error":"#REF!"}},{"$f":"'Pob x Genero'!#REF!","v":{"$error":"#REF!"}},{"$f":"'Pob x Genero'!#REF!","v":{"$error":"#REF!"}},"Hombre","00-04",{"$f":"'Pob x Genero'!#REF!","v":{"$error":"#REF!"}},497]
[{"$f":"'Pob x Genero'!#REF!","v":{"$error":"#REF!"}},{"$f":"'Pob x Genero'!#REF!","v":{"$error":"#REF!"}},{"$f":"'Pob x Genero'!#REF!","v":{"$error":"#REF!"}},{"$f":"'Pob x Genero'!#REF!","v":{"$error":"#REF!"}},{"$f":"'Pob x Genero'!#REF!","v":{"$error":"#REF!"}},"Hombre","00-04",{"$f":"'Pob x Genero'!#REF!","v":{"$error":"#REF!"}},498]
[{"$f":"'Pob x Genero'!#REF!","v":{"$error":"#REF!"}},{"$f":"'Pob x Genero'!#REF!","v":{"$error":"#REF!"}},{"$f":"'Pob x Genero'!#REF!","v":{"$error":"#REF!"}},{"$f":"'Pob x Genero'!#REF!","v":{"$error":"#REF!"}},{"$f":"'Pob x Genero'!#REF!","v":{"$error":"#REF!"}},"Hombre","00-04",{"$f":"'Pob x Genero'!#REF!","v":{"$error":"#REF!"}},499]
[{"$f":"'Pob x Genero'!#REF!","v":{"$error":"#REF!"}},{"$f":"'Pob x Genero'!#REF!","v":{"$error":"#REF!"}},{"$f":"'Pob x Genero'!#REF!","v":{"$error":"#REF!"}},{"$f":"'Pob x Genero'!#REF!","v":{"$error":"#REF!"}},{"$f":"'Pob x Genero'!#REF!","v":{"$error":"#REF!"}},"Hombre","00-04",{"$f":"'Pob x Genero'!#REF!","v":{"$error":"#REF!"}},500]
[{"$f":"'Pob x Genero'!#REF!","v":{"$error":"#REF!"}},{"$f":"'Pob x Genero'!#REF!","v":{"$error":"#REF!"}},{"$f":"'Pob x Genero'!#REF!","v":{"$error":"#REF!"}},{"$f":"'Pob x Genero'!#REF!","v":{"$error":"#REF!"}},{"$f":"'Pob x Genero'!#REF!","v":{"$error":"#REF!"}},"Hombre","00-04",{"$f":"'Pob x Genero'!#REF!","v":{"$error":"#REF!"}},501]
[{"$f":"'Pob x Genero'!#REF!","v":{"$error":"#REF!"}},{"$f":"'Pob x Genero'!#REF!","v":{"$error":"#REF!"}},{"$f":"'Pob x Genero'!#REF!","v":{"$error":"#REF!"}},{"$f":"'Pob x Genero'!#REF!","v":{"$error":"#REF!"}},{"$f":"'Pob x Genero'!#REF!","v":{"$error":"#REF!"}},"Hombre","00-04",{"$f":"'Pob x Genero'!#REF!","v":{"$error":"#REF!"}},502]
[{"$f":"'Pob x Genero'!#REF!","v":{"$error":"#REF!"}},{"$f":"'Pob x Genero'!#REF!","v":{"$error":"#REF!"}},{"$f":"'Pob x Genero'!#REF!","v":{"$error":"#REF!"}},{"$f":"'Pob x Genero'!#REF!","v":{"$error":"#REF!"}},{"$f":"'Pob x Genero'!#REF!","v":{"$error":"#REF!"}},"Hombre","00-04",{"$f":"'Pob x Genero'!#REF!","v":{"$error":"#REF!"}},503]
[{"$f":"'Pob x Genero'!#REF!","v":{"$error":"#REF!"}},{"$f":"'Pob x Genero'!#REF!","v":{"$error":"#REF!"}},{"$f":"'Pob x Genero'!#REF!","v":{"$error":"#REF!"}},{"$f":"'Pob x Genero'!#REF!","v":{"$error":"#REF!"}},{"$f":"'Pob x Genero'!#REF!","v":{"$error":"#REF!"}},"Hombre","00-04",{"$f":"'Pob x Genero'!#REF!","v":{"$error":"#REF!"}},504]
[{"$f":"'Pob x Genero'!#REF!","v":{"$error":"#REF!"}},{"$f":"'Pob x Genero'!#REF!","v":{"$error":"#REF!"}},{"$f":"'Pob x Genero'!#REF!","v":{"$error":"#REF!"}},{"$f":"'Pob x Genero'!#REF!","v":{"$error":"#REF!"}},{"$f":"'Pob x Genero'!#REF!","v":{"$error":"#REF!"}},"Hombre","00-04",{"$f":"'Pob x Genero'!#REF!","v":{"$error":"#REF!"}},505]
[{"$f":"'Pob x Genero'!#REF!","v":{"$error":"#REF!"}},{"$f":"'Pob x Genero'!#REF!","v":{"$error":"#REF!"}},{"$f":"'Pob x Genero'!#REF!","v":{"$error":"#REF!"}},{"$f":"'Pob x Genero'!#REF!","v":{"$error":"#REF!"}},{"$f":"'Pob x Genero'!#REF!","v":{"$error":"#REF!"}},"Hombre","00-04",{"$f":"'Pob x Genero'!#REF!","v":{"$error":"#REF!"}},506]
[{"$f":"'Pob x Genero'!#REF!","v":{"$error":"#REF!"}},{"$f":"'Pob x Genero'!#REF!","v":{"$error":"#REF!"}},{"$f":"'Pob x Genero'!#REF!","v":{"$error":"#REF!"}},{"$f":"'Pob x Genero'!#REF!","v":{"$error":"#REF!"}},{"$f":"'Pob x Genero'!#REF!","v":{"$error":"#REF!"}},"Hombre","00-04",{"$f":"'Pob x Genero'!#REF!","v":{"$error":"#REF!"}},507]
[{"$f":"'Pob x Genero'!#REF!","v":{"$error":"#REF!"}},{"$f":"'Pob x Genero'!#REF!","v":{"$error":"#REF!"}},{"$f":"'Pob x Genero'!#REF!","v":{"$error":"#REF!"}},{"$f":"'Pob x Genero'!#REF!","v":{"$error":"#REF!"}},{"$f":"'Pob x Genero'!#REF!","v":{"$error":"#REF!"}},"Hombre","00-04",{"$f":"'Pob x Genero'!#REF!","v":{"$error":"#REF!"}},508]
[{"$f":"'Pob x Genero'!#REF!","v":{"$error":"#REF!"}},{"$f":"'Pob x Genero'!#REF!","v":{"$error":"#REF!"}},{"$f":"'Pob x Genero'!#REF!","v":{"$error":"#REF!"}},{"$f":"'Pob x Genero'!#REF!","v":{"$error":"#REF!"}},{"$f":"'Pob x Genero'!#REF!","v":{"$error":"#REF!"}},"Hombre","00-04",{"$f":"'Pob x Genero'!#REF!","v":{"$error":"#REF!"}},509]
[{"$f":"'Pob x Genero'!#REF!","v":{"$error":"#REF!"}},{"$f":"'Pob x Genero'!#REF!","v":{"$error":"#REF!"}},{"$f":"'Pob x Genero'!#REF!","v":{"$error":"#REF!"}},{"$f":"'Pob x Genero'!#REF!","v":{"$error":"#REF!"}},{"$f":"'Pob x Genero'!#REF!","v":{"$error":"#REF!"}},"Hombre","00-04",{"$f":"'Pob x Genero'!#REF!","v":{"$error":"#REF!"}},510]
[{"$f":"'Pob x Genero'!#REF!","v":{"$error":"#REF!"}},{"$f":"'Pob x Genero'!#REF!","v":{"$error":"#REF!"}},{"$f":"'Pob x Genero'!#REF!","v":{"$error":"#REF!"}},{"$f":"'Pob x Genero'!#REF!","v":{"$error":"#REF!"}},{"$f":"'Pob x Genero'!#REF!","v":{"$error":"#REF!"}},"Hombre","00-04",{"$f":"'Pob x Genero'!#REF!","v":{"$error":"#REF!"}},511]
[{"$f":"'Pob x Genero'!#REF!","v":{"$error":"#REF!"}},{"$f":"'Pob x Genero'!#REF!","v":{"$error":"#REF!"}},{"$f":"'Pob x Genero'!#REF!","v":{"$error":"#REF!"}},{"$f":"'Pob x Genero'!#REF!","v":{"$error":"#REF!"}},{"$f":"'Pob x Genero'!#REF!","v":{"$error":"#REF!"}},"Hombre","00-04",{"$f":"'Pob x Genero'!#REF!","v":{"$error":"#REF!"}},512]
[{"$f":"'Pob x Genero'!#REF!","v":{"$error":"#REF!"}},{"$f":"'Pob x Genero'!#REF!","v":{"$error":"#REF!"}},{"$f":"'Pob x Genero'!#REF!","v":{"$error":"#REF!"}},{"$f":"'Pob x Genero'!#REF!","v":{"$error":"#REF!"}},{"$f":"'Pob x Genero'!#REF!","v":{"$error":"#REF!"}},"Hombre","00-04",{"$f":"'Pob x Genero'!#REF!","v":{"$error":"#REF!"}},513]
[{"$f":"'Pob x Genero'!#REF!","v":{"$error":"#REF!"}},{"$f":"'Pob x Genero'!#REF!","v":{"$error":"#REF!"}},{"$f":"'Pob x Genero'!#REF!","v":{"$error":"#REF!"}},{"$f":"'Pob x Genero'!#REF!","v":{"$error":"#REF!"}},{"$f":"'Pob x Genero'!#REF!","v":{"$error":"#REF!"}},{"$f":"F514","v":"Hombre"},{"$f":"G514","v":"00-04"},{"$f":"'Pob x Genero'!#REF!","v":{"$error":"#REF!"}},514]
[{"$f":"'Pob x Genero'!#REF!","v":{"$error":"#REF!"}},{"$f":"'Pob x Genero'!#REF!","v":{"$error":"#REF!"}},{"$f":"'Pob x Genero'!#REF!","v":{"$error":"#REF!"}},{"$f":"'Pob x Genero'!#REF!","v":{"$error":"#REF!"}},{"$f":"'Pob x Genero'!#REF!","v":{"$error":"#REF!"}},"Hombre","00-04",{"$f":"'Pob x Genero'!#REF!","v":{"$error":"#REF!"}},515]
[{"$f":"'Pob x Genero'!#REF!","v":{"$error":"#REF!"}},{"$f":"'Pob x Genero'!#REF!","v":{"$error":"#REF!"}},{"$f":"'Pob x Genero'!#REF!","v":{"$error":"#REF!"}},{"$f":"'Pob x Genero'!#REF!","v":{"$error":"#REF!"}},{"$f":"'Pob x Genero'!#REF!","v":{"$error":"#REF!"}},"Hombre","00-04",{"$f":"'Pob x Genero'!#REF!","v":{"$error":"#REF!"}},516]
[{"$f":"'Pob x Genero'!#REF!","v":{"$error":"#REF!"}},{"$f":"'Pob x Genero'!#REF!","v":{"$error":"#REF!"}},{"$f":"'Pob x Genero'!#REF!","v":{"$error":"#REF!"}},{"$f":"'Pob x Genero'!#REF!","v":{"$error":"#REF!"}},{"$f":"'Pob x Genero'!#REF!","v":{"$error":"#REF!"}},"Hombre","00-04",{"$f":"'Pob x Genero'!#REF!","v":{"$error":"#REF!"}},517]
[{"$f":"'Pob x Genero'!#REF!","v":{"$error":"#REF!"}},{"$f":"'Pob x Genero'!#REF!","v":{"$error":"#REF!"}},{"$f":"'Pob x Genero'!#REF!","v":{"$error":"#REF!"}},{"$f":"'Pob x Genero'!#REF!","v":{"$error":"#REF!"}},{"$f":"'Pob x Genero'!#REF!","v":{"$error":"#REF!"}},"Hombre","00-04",{"$f":"'Pob x Genero'!#REF!","v":{"$error":"#REF!"}},518]
[{"$f":"'Pob x Genero'!#REF!","v":{"$error":"#REF!"}},{"$f":"'Pob x Genero'!#REF!","v":{"$error":"#REF!"}},{"$f":"'Pob x Genero'!#REF!","v":{"$error":"#REF!"}},{"$f":"'Pob x Genero'!#REF!","v":{"$error":"#REF!"}},{"$f":"'Pob x Genero'!#REF!","v":{"$error":"#REF!"}},"Hombre","00-04",{"$f":"'Pob x Genero'!#REF!","v":{"$error":"#REF!"}},519]
[{"$f":"'Pob x Genero'!#REF!","v":{"$error":"#REF!"}},{"$f":"'Pob x Genero'!#REF!","v":{"$error":"#REF!"}},{"$f":"'Pob x Genero'!#REF!","v":{"$error":"#REF!"}},{"$f":"'Pob x Genero'!#REF!","v":{"$error":"#REF!"}},{"$f":"'Pob x Genero'!#REF!","v":{"$error":"#REF!"}},"Hombre","00-04",{"$f":"'Pob x Genero'!#REF!","v":{"$error":"#REF!"}},520]
[{"$f":"'Pob x Genero'!#REF!","v":{"$error":"#REF!"}},{"$f":"'Pob x Genero'!#REF!","v":{"$error":"#REF!"}},{"$f":"'Pob x Genero'!#REF!","v":{"$error":"#REF!"}},{"$f":"'Pob x Genero'!#REF!","v":{"$error":"#REF!"}},{"$f":"'Pob x Genero'!#REF!","v":{"$error":"#REF!"}},"Hombre","00-04",{"$f":"'Pob x Genero'!#REF!","v":{"$error":"#REF!"}},521]
[{"$f":"'Pob x Genero'!#REF!","v":{"$error":"#REF!"}},{"$f":"'Pob x Genero'!#REF!","v":{"$error":"#REF!"}},{"$f":"'Pob x Genero'!#REF!","v":{"$error":"#REF!"}},{"$f":"'Pob x Genero'!#REF!","v":{"$error":"#REF!"}},{"$f":"'Pob x Genero'!#REF!","v":{"$error":"#REF!"}},"Hombre","00-04",{"$f":"'Pob x Genero'!#REF!","v":{"$error":"#REF!"}},522]
[{"$f":"'Pob x Genero'!#REF!","v":{"$error":"#REF!"}},{"$f":"'Pob x Genero'!#REF!","v":{"$error":"#REF!"}},{"$f":"'Pob x Genero'!#REF!","v":{"$error":"#REF!"}},{"$f":"'Pob x Genero'!#REF!","v":{"$error":"#REF!"}},{"$f":"'Pob x Genero'!#REF!","v":{"$error":"#REF!"}},"Hombre","00-04",{"$f":"'Pob x Genero'!#REF!","v":{"$error":"#REF!"}},523]
[{"$f":"'Pob x Genero'!#REF!","v":{"$error":"#REF!"}},{"$f":"'Pob x Genero'!#REF!","v":{"$error":"#REF!"}},{"$f":"'Pob x Genero'!#REF!","v":{"$error":"#REF!"}},{"$f":"'Pob x Genero'!#REF!","v":{"$error":"#REF!"}},{"$f":"'Pob x Genero'!#REF!","v":{"$error":"#REF!"}},"Hombre","00-04",{"$f":"'Pob x Genero'!#REF!","v":{"$error":"#REF!"}},524]
[{"$f":"'Pob x Genero'!#REF!","v":{"$error":"#REF!"}},{"$f":"'Pob x Genero'!#REF!","v":{"$error":"#REF!"}},{"$f":"'Pob x Genero'!#REF!","v":{"$error":"#REF!"}},{"$f":"'Pob x Genero'!#REF!","v":{"$error":"#REF!"}},{"$f":"'Pob x Genero'!#REF!","v":{"$error":"#REF!"}},"Hombre","00-04",{"$f":"'Pob x Genero'!#REF!","v":{"$error":"#REF!"}},525]
[{"$f":"'Pob x Genero'!#REF!","v":{"$error":"#REF!"}},{"$f":"'Pob x Genero'!#REF!","v":{"$error":"#REF!"}},{"$f":"'Pob x Genero'!#REF!","v":{"$error":"#REF!"}},{"$f":"'Pob x Genero'!#REF!","v":{"$error":"#REF!"}},{"$f":"'Pob x Genero'!#REF!","v":{"$error":"#REF!"}},"Hombre","00-04",{"$f":"'Pob x Genero'!#REF!","v":{"$error":"#REF!"}},526]
[{"$f":"'Pob x Genero'!#REF!","v":{"$error":"#REF!"}},{"$f":"'Pob x Genero'!#REF!","v":{"$error":"#REF!"}},{"$f":"'Pob x Genero'!#REF!","v":{"$error":"#REF!"}},{"$f":"'Pob x Genero'!#REF!","v":{"$error":"#REF!"}},{"$f":"'Pob x Genero'!#REF!","v":{"$error":"#REF!"}},"Hombre","00-04",{"$f":"'Pob x Genero'!#REF!","v":{"$error":"#REF!"}},527]
[{"$f":"'Pob x Genero'!#REF!","v":{"$error":"#REF!"}},{"$f":"'Pob x Genero'!#REF!","v":{"$error":"#REF!"}},{"$f":"'Pob x Genero'!#REF!","v":{"$error":"#REF!"}},{"$f":"'Pob x Genero'!#REF!","v":{"$error":"#REF!"}},{"$f":"'Pob x Genero'!#REF!","v":{"$error":"#REF!"}},"Hombre","00-04",{"$f":"'Pob x Genero'!#REF!","v":{"$error":"#REF!"}},528]
[{"$f":"'Pob x Genero'!#REF!","v":{"$error":"#REF!"}},{"$f":"'Pob x Genero'!#REF!","v":{"$error":"#REF!"}},{"$f":"'Pob x Genero'!#REF!","v":{"$error":"#REF!"}},{"$f":"'Pob x Genero'!#REF!","v":{"$error":"#REF!"}},{"$f":"'Pob x Genero'!#REF!","v":{"$error":"#REF!"}},"Hombre","00-04",{"$f":"'Pob x Genero'!#REF!","v":{"$error":"#REF!"}},529]
[{"$f":"'Pob x Genero'!#REF!","v":{"$error":"#REF!"}},{"$f":"'Pob x Genero'!#REF!","v":{"$error":"#REF!"}},{"$f":"'Pob x Genero'!#REF!","v":{"$error":"#REF!"}},{"$f":"'Pob x Genero'!#REF!","v":{"$error":"#REF!"}},{"$f":"'Pob x Genero'!#REF!","v":{"$error":"#REF!"}},"Hombre","00-04",{"$f":"'Pob x Genero'!#REF!","v":{"$error":"#REF!"}},530]
[{"$f":"'Pob x Genero'!#REF!","v":{"$error":"#REF!"}},{"$f":"'Pob x Genero'!#REF!","v":{"$error":"#REF!"}},{"$f":"'Pob x Genero'!#REF!","v":{"$error":"#REF!"}},{"$f":"'Pob x Genero'!#REF!","v":{"$error":"#REF!"}},{"$f":"'Pob x Genero'!#REF!","v":{"$error":"#REF!"}},"Hombre","00-04",{"$f":"'Pob x Genero'!#REF!","v":{"$error":"#REF!"}},531]
[{"$f":"'Pob x Genero'!#REF!","v":{"$error":"#REF!"}},{"$f":"'Pob x Genero'!#REF!","v":{"$error":"#REF!"}},{"$f":"'Pob x Genero'!#REF!","v":{"$error":"#REF!"}},{"$f":"'Pob x Genero'!#REF!","v":{"$error":"#REF!"}},{"$f":"'Pob x Genero'!#REF!","v":{"$error":"#REF!"}},"Hombre","00-04",{"$f":"'Pob x Genero'!#REF!","v":{"$error":"#REF!"}},532]
[{"$f":"'Pob x Genero'!#REF!","v":{"$error":"#REF!"}},{"$f":"'Pob x Genero'!#REF!","v":{"$error":"#REF!"}},{"$f":"'Pob x Genero'!#REF!","v":{"$error":"#REF!"}},{"$f":"'Pob x Genero'!#REF!","v":{"$error":"#REF!"}},{"$f":"'Pob x Genero'!#REF!","v":{"$error":"#REF!"}},"Hombre","00-04",{"$f":"'Pob x Genero'!#REF!","v":{"$error":"#REF!"}},533]
[{"$f":"'Pob x Genero'!#REF!","v":{"$error":"#REF!"}},{"$f":"'Pob x Genero'!#REF!","v":{"$error":"#REF!"}},{"$f":"'Pob x Genero'!#REF!","v":{"$error":"#REF!"}},{"$f":"'Pob x Genero'!#REF!","v":{"$error":"#REF!"}},{"$f":"'Pob x Genero'!#REF!","v":{"$error":"#REF!"}},"Hombre","00-04",{"$f":"'Pob x Genero'!#REF!","v":{"$error":"#REF!"}},534]
[{"$f":"'Pob x Genero'!#REF!","v":{"$error":"#REF!"}},{"$f":"'Pob x Genero'!#REF!","v":{"$error":"#REF!"}},{"$f":"'Pob x Genero'!#REF!","v":{"$error":"#REF!"}},{"$f":"'Pob x Genero'!#REF!","v":{"$error":"#REF!"}},{"$f":"'Pob x Genero'!#REF!","v":{"$error":"#REF!"}},"Hombre","00-04",{"$f":"'Pob x Genero'!#REF!","v":{"$error":"#REF!"}},535]
[{"$f":"'Pob x Genero'!#REF!","v":{"$error":"#REF!"}},{"$f":"'Pob x Genero'!#REF!","v":{"$error":"#REF!"}},{"$f":"'Pob x Genero'!#REF!","v":{"$error":"#REF!"}},{"$f":"'Pob x Genero'!#REF!","v":{"$error":"#REF!"}},{"$f":"'Pob x Genero'!#REF!","v":{"$error":"#REF!"}},"Hombre","00-04",{"$f":"'Pob x Genero'!#REF!","v":{"$error":"#REF!"}},536]
[{"$f":"'Pob x Genero'!#REF!","v":{"$error":"#REF!"}},{"$f":"'Pob x Genero'!#REF!","v":{"$error":"#REF!"}},{"$f":"'Pob x Genero'!#REF!","v":{"$error":"#REF!"}},{"$f":"'Pob x Genero'!#REF!","v":{"$error":"#REF!"}},{"$f":"'Pob x Genero'!#REF!","v":{"$error":"#REF!"}},"Hombre","00-04",{"$f":"'Pob x Genero'!#REF!","v":{"$error":"#REF!"}},537]
[{"$f":"'Pob x Genero'!#REF!","v":{"$error":"#REF!"}},{"$f":"'Pob x Genero'!#REF!","v":{"$error":"#REF!"}},{"$f":"'Pob x Genero'!#REF!","v":{"$error":"#REF!"}},{"$f":"'Pob x Genero'!#REF!","v":{"$error":"#REF!"}},{"$f":"'Pob x Genero'!#REF!","v":{"$error":"#REF!"}},"Hombre","00-04",{"$f":"'Pob x Genero'!#REF!","v":{"$error":"#REF!"}},538]
[{"$f":"'Pob x Genero'!#REF!","v":{"$error":"#REF!"}},{"$f":"'Pob x Genero'!#REF!","v":{"$error":"#REF!"}},{"$f":"'Pob x Genero'!#REF!","v":{"$error":"#REF!"}},{"$f":"'Pob x Genero'!#REF!","v":{"$error":"#REF!"}},{"$f":"'Pob x Genero'!#REF!","v":{"$error":"#REF!"}},"Hombre","00-04",{"$f":"'Pob x Genero'!#REF!","v":{"$error":"#REF!"}},539]
[{"$f":"'Pob x Genero'!#REF!","v":{"$error":"#REF!"}},{"$f":"'Pob x Genero'!#REF!","v":{"$error":"#REF!"}},{"$f":"'Pob x Genero'!#REF!","v":{"$error":"#REF!"}},{"$f":"'Pob x Genero'!#REF!","v":{"$error":"#REF!"}},{"$f":"'Pob x Genero'!#REF!","v":{"$error":"#REF!"}},"Hombre","00-04",{"$f":"'Pob x Genero'!#REF!","v":{"$error":"#REF!"}},540]
[{"$f":"'Pob x Genero'!#REF!","v":{"$error":"#REF!"}},{"$f":"'Pob x Genero'!#REF!","v":{"$error":"#REF!"}},{"$f":"'Pob x Genero'!#REF!","v":{"$error":"#REF!"}},{"$f":"'Pob x Genero'!#REF!","v":{"$error":"#REF!"}},{"$f":"'Pob x Genero'!#REF!","v":{"$error":"#REF!"}},"Hombre","00-04",{"$f":"'Pob x Genero'!#REF!","v":{"$error":"#REF!"}},541]
[{"$f":"'Pob x Genero'!#REF!","v":{"$error":"#REF!"}},{"$f":"'Pob x Genero'!#REF!","v":{"$error":"#REF!"}},{"$f":"'Pob x Genero'!#REF!","v":{"$error":"#REF!"}},{"$f":"'Pob x Genero'!#REF!","v":{"$error":"#REF!"}},{"$f":"'Pob x Genero'!#REF!","v":{"$error":"#REF!"}},"Hombre","00-04",{"$f":"'Pob x Genero'!#REF!","v":{"$error":"#REF!"}},542]
[{"$f":"'Pob x Genero'!#REF!","v":{"$error":"#REF!"}},{"$f":"'Pob x Genero'!#REF!","v":{"$error":"#REF!"}},{"$f":"'Pob x Genero'!#REF!","v":{"$error":"#REF!"}},{"$f":"'Pob x Genero'!#REF!","v":{"$error":"#REF!"}},{"$f":"'Pob x Genero'!#REF!","v":{"$error":"#REF!"}},"Hombre","00-04",{"$f":"'Pob x Genero'!#REF!","v":{"$error":"#REF!"}},543]
[{"$f":"'Pob x Genero'!#REF!","v":{"$error":"#REF!"}},{"$f":"'Pob x Genero'!#REF!","v":{"$error":"#REF!"}},{"$f":"'Pob x Genero'!#REF!","v":{"$error":"#REF!"}},{"$f":"'Pob x Genero'!#REF!","v":{"$error":"#REF!"}},{"$f":"'Pob x Genero'!#REF!","v":{"$error":"#REF!"}},"Hombre","00-04",{"$f":"'Pob x Genero'!#REF!","v":{"$error":"#REF!"}},544]
[{"$f":"'Pob x Genero'!#REF!","v":{"$error":"#REF!"}},{"$f":"'Pob x Genero'!#REF!","v":{"$error":"#REF!"}},{"$f":"'Pob x Genero'!#REF!","v":{"$error":"#REF!"}},{"$f":"'Pob x Genero'!#REF!","v":{"$error":"#REF!"}},{"$f":"'Pob x Genero'!#REF!","v":{"$error":"#REF!"}},"Hombre","00-04",{"$f":"'Pob x Genero'!#REF!","v":{"$error":"#REF!"}},545]
[{"$f":"'Pob x Genero'!#REF!","v":{"$error":"#REF!"}},{"$f":"'Pob x Genero'!#REF!","v":{"$error":"#REF!"}},{"$f":"'Pob x Genero'!#REF!","v":{"$error":"#REF!"}},{"$f":"'Pob x Genero'!#REF!","v":{"$error":"#REF!"}},{"$f":"'Pob x Genero'!#REF!","v":{"$error":"#REF!"}},"Hombre","00-04",{"$f":"'Pob x Genero'!#REF!","v":{"$error":"#REF!"}},546]
[{"$f":"'Pob x Genero'!#REF!","v":{"$error":"#REF!"}},{"$f":"'Pob x Genero'!#REF!","v":{"$error":"#REF!"}},{"$f":"'Pob x Genero'!#REF!","v":{"$error":"#REF!"}},{"$f":"'Pob x Genero'!#REF!","v":{"$error":"#REF!"}},{"$f":"'Pob x Genero'!#REF!","v":{"$error":"#REF!"}},"Hombre","00-04",{"$f":"'Pob x Genero'!#REF!","v":{"$error":"#REF!"}},547]
[{"$f":"'Pob x Genero'!#REF!","v":{"$error":"#REF!"}},{"$f":"'Pob x Genero'!#REF!","v":{"$error":"#REF!"}},{"$f":"'Pob x Genero'!#REF!","v":{"$error":"#REF!"}},{"$f":"'Pob x Genero'!#REF!","v":{"$error":"#REF!"}},{"$f":"'Pob x Genero'!#REF!","v":{"$error":"#REF!"}},"Hombre","00-04",{"$f":"'Pob x Genero'!#REF!","v":{"$error":"#REF!"}},548]
[{"$f":"'Pob x Genero'!#REF!","v":{"$error":"#REF!"}},{"$f":"'Pob x Genero'!#REF!","v":{"$error":"#REF!"}},{"$f":"'Pob x Genero'!#REF!","v":{"$error":"#REF!"}},{"$f":"'Pob x Genero'!#REF!","v":{"$error":"#REF!"}},{"$f":"'Pob x Genero'!#REF!","v":{"$error":"#REF!"}},"Hombre","00-04",{"$f":"'Pob x Genero'!#REF!","v":{"$error":"#REF!"}},549]
[{"$f":"'Pob x Genero'!#REF!","v":{"$error":"#REF!"}},{"$f":"'Pob x Genero'!#REF!","v":{"$error":"#REF!"}},{"$f":"'Pob x Genero'!#REF!","v":{"$error":"#REF!"}},{"$f":"'Pob x Genero'!#REF!","v":{"$error":"#REF!"}},{"$f":"'Pob x Genero'!#REF!","v":{"$error":"#REF!"}},"Hombre","00-04",{"$f":"'Pob x Genero'!#REF!","v":{"$error":"#REF!"}},550]
[{"$f":"'Pob x Genero'!#REF!","v":{"$error":"#REF!"}},{"$f":"'Pob x Genero'!#REF!","v":{"$error":"#REF!"}},{"$f":"'Pob x Genero'!#REF!","v":{"$error":"#REF!"}},{"$f":"'Pob x Genero'!#REF!","v":{"$error":"#REF!"}},{"$f":"'Pob x Genero'!#REF!","v":{"$error":"#REF!"}},"Hombre","00-04",{"$f":"'Pob x Genero'!#REF!","v":{"$error":"#REF!"}},551]
[{"$f":"'Pob x Genero'!#REF!","v":{"$error":"#REF!"}},{"$f":"'Pob x Genero'!#REF!","v":{"$error":"#REF!"}},{"$f":"'Pob x Genero'!#REF!","v":{"$error":"#REF!"}},{"$f":"'Pob x Genero'!#REF!","v":{"$error":"#REF!"}},{"$f":"'Pob x Genero'!#REF!","v":{"$error":"#REF!"}},"Hombre","00-04",{"$f":"'Pob x Genero'!#REF!","v":{"$error":"#REF!"}},552]
[{"$f":"'Pob x Genero'!#REF!","v":{"$error":"#REF!"}},{"$f":"'Pob x Genero'!#REF!","v":{"$error":"#REF!"}},{"$f":"'Pob x Genero'!#REF!","v":{"$error":"#REF!"}},{"$f":"'Pob x Genero'!#REF!","v":{"$error":"#REF!"}},{"$f":"'Pob x Genero'!#REF!","v":{"$error":"#REF!"}},"Hombre","00-04",{"$f":"'Pob x Genero'!#REF!","v":{"$error":"#REF!"}},553]
[{"$f":"'Pob x Genero'!#REF!","v":{"$error":"#REF!"}},{"$f":"'Pob x Genero'!#REF!","v":{"$error":"#REF!"}},{"$f":"'Pob x Genero'!#REF!","v":{"$error":"#REF!"}},{"$f":"'Pob x Genero'!#REF!","v":{"$error":"#REF!"}},{"$f":"'Pob x Genero'!#REF!","v":{"$error":"#REF!"}},"Hombre","00-04",{"$f":"'Pob x Genero'!#REF!","v":{"$error":"#REF!"}},554]
[{"$f":"'Pob x Genero'!#REF!","v":{"$error":"#REF!"}},{"$f":"'Pob x Genero'!#REF!","v":{"$error":"#REF!"}},{"$f":"'Pob x Genero'!#REF!","v":{"$error":"#REF!"}},{"$f":"'Pob x Genero'!#REF!","v":{"$error":"#REF!"}},{"$f":"'Pob x Genero'!#REF!","v":{"$error":"#REF!"}},"Hombre","00-04",{"$f":"'Pob x Genero'!#REF!","v":{"$error":"#REF!"}},555]
[{"$f":"'Pob x Genero'!#REF!","v":{"$error":"#REF!"}},{"$f":"'Pob x Genero'!#REF!","v":{"$error":"#REF!"}},{"$f":"'Pob x Genero'!#REF!","v":{"$error":"#REF!"}},{"$f":"'Pob x Genero'!#REF!","v":{"$error":"#REF!"}},{"$f":"'Pob x Genero'!#REF!","v":{"$error":"#REF!"}},"Hombre","00-04",{"$f":"'Pob x Genero'!#REF!","v":{"$error":"#REF!"}},556]
[{"$f":"'Pob x Genero'!#REF!","v":{"$error":"#REF!"}},{"$f":"'Pob x Genero'!#REF!","v":{"$error":"#REF!"}},{"$f":"'Pob x Genero'!#REF!","v":{"$error":"#REF!"}},{"$f":"'Pob x Genero'!#REF!","v":{"$error":"#REF!"}},{"$f":"'Pob x Genero'!#REF!","v":{"$error":"#REF!"}},"Hombre","00-04",{"$f":"'Pob x Genero'!#REF!","v":{"$error":"#REF!"}},557]
[{"$f":"'Pob x Genero'!#REF!","v":{"$error":"#REF!"}},{"$f":"'Pob x Genero'!#REF!","v":{"$error":"#REF!"}},{"$f":"'Pob x Genero'!#REF!","v":{"$error":"#REF!"}},{"$f":"'Pob x Genero'!#REF!","v":{"$error":"#REF!"}},{"$f":"'Pob x Genero'!#REF!","v":{"$error":"#REF!"}},"Hombre","00-04",{"$f":"'Pob x Genero'!#REF!","v":{"$error":"#REF!"}},558]
[{"$f":"'Pob x Genero'!#REF!","v":{"$error":"#REF!"}},{"$f":"'Pob x Genero'!#REF!","v":{"$error":"#REF!"}},{"$f":"'Pob x Genero'!#REF!","v":{"$error":"#REF!"}},{"$f":"'Pob x Genero'!#REF!","v":{"$error":"#REF!"}},{"$f":"'Pob x Genero'!#REF!","v":{"$error":"#REF!"}},"Hombre","00-04",{"$f":"'Pob x Genero'!#REF!","v":{"$error":"#REF!"}},559]
[{"$f":"'Pob x Genero'!#REF!","v":{"$error":"#REF!"}},{"$f":"'Pob x Genero'!#REF!","v":{"$error":"#REF!"}},{"$f":"'Pob x Genero'!#REF!","v":{"$error":"#REF!"}},{"$f":"'Pob x Genero'!#REF!","v":{"$error":"#REF!"}},{"$f":"'Pob x Genero'!#REF!","v":{"$error":"#REF!"}},"Hombre","00-04",{"$f":"'Pob x Genero'!#REF!","v":{"$error":"#REF!"}},560]
[{"$f":"'Pob x Genero'!#REF!","v":{"$error":"#REF!"}},{"$f":"'Pob x Genero'!#REF!","v":{"$error":"#REF!"}},{"$f":"'Pob x Genero'!#REF!","v":{"$error":"#REF!"}},{"$f":"'Pob x Genero'!#REF!","v":{"$error":"#REF!"}},{"$f":"'Pob x Genero'!#REF!","v":{"$error":"#REF!"}},"Hombre","00-04",{"$f":"'Pob x Genero'!#REF!","v":{"$error":"#REF!"}},561]
[{"$f":"'Pob x Genero'!#REF!","v":{"$error":"#REF!"}},{"$f":"'Pob x Genero'!#REF!","v":{"$error":"#REF!"}},{"$f":"'Pob x Genero'!#REF!","v":{"$error":"#REF!"}},{"$f":"'Pob x Genero'!#REF!","v":{"$error":"#REF!"}},{"$f":"'Pob x Genero'!#REF!","v":{"$error":"#REF!"}},"Hombre","00-04",{"$f":"'Pob x Genero'!#REF!","v":{"$error":"#REF!"}},562]
[{"$f":"'Pob x Genero'!#REF!","v":{"$error":"#REF!"}},{"$f":"'Pob x Genero'!#REF!","v":{"$error":"#REF!"}},{"$f":"'Pob x Genero'!#REF!","v":{"$error":"#REF!"}},{"$f":"'Pob x Genero'!#REF!","v":{"$error":"#REF!"}},{"$f":"'Pob x Genero'!#REF!","v":{"$error":"#REF!"}},"Hombre","00-04",{"$f":"'Pob x Genero'!#REF!","v":{"$error":"#REF!"}},563]
[{"$f":"'Pob x Genero'!#REF!","v":{"$error":"#REF!"}},{"$f":"'Pob x Genero'!#REF!","v":{"$error":"#REF!"}},{"$f":"'Pob x Genero'!#REF!","v":{"$error":"#REF!"}},{"$f":"'Pob x Genero'!#REF!","v":{"$error":"#REF!"}},{"$f":"'Pob x Genero'!#REF!","v":{"$error":"#REF!"}},"Hombre","00-04",{"$f":"'Pob x Genero'!#REF!","v":{"$error":"#REF!"}},564]
[{"$f":"'Pob x Genero'!#REF!","v":{"$error":"#REF!"}},{"$f":"'Pob x Genero'!#REF!","v":{"$error":"#REF!"}},{"$f":"'Pob x Genero'!#REF!","v":{"$error":"#REF!"}},{"$f":"'Pob x Genero'!#REF!","v":{"$error":"#REF!"}},{"$f":"'Pob x Genero'!#REF!","v":{"$error":"#REF!"}},"Hombre","00-04",{"$f":"'Pob x Genero'!#REF!","v":{"$error":"#REF!"}},565]
[{"$f":"'Pob x Genero'!#REF!","v":{"$error":"#REF!"}},{"$f":"'Pob x Genero'!#REF!","v":{"$error":"#REF!"}},{"$f":"'Pob x Genero'!#REF!","v":{"$error":"#REF!"}},{"$f":"'Pob x Genero'!#REF!","v":{"$error":"#REF!"}},{"$f":"'Pob x Genero'!#REF!","v":{"$error":"#REF!"}},"Hombre","00-04",{"$f":"'Pob x Genero'!#REF!","v":{"$error":"#REF!"}},566]
[{"$f":"'Pob x Genero'!#REF!","v":{"$error":"#REF!"}},{"$f":"'Pob x Genero'!#REF!","v":{"$error":"#REF!"}},{"$f":"'Pob x Genero'!#REF!","v":{"$error":"#REF!"}},{"$f":"'Pob x Genero'!#REF!","v":{"$error":"#REF!"}},{"$f":"'Pob x Genero'!#REF!","v":{"$error":"#REF!"}},"Hombre","00-04",{"$f":"'Pob x Genero'!#REF!","v":{"$error":"#REF!"}},567]
[{"$f":"'Pob x Genero'!#REF!","v":{"$error":"#REF!"}},{"$f":"'Pob x Genero'!#REF!","v":{"$error":"#REF!"}},{"$f":"'Pob x Genero'!#REF!","v":{"$error":"#REF!"}},{"$f":"'Pob x Genero'!#REF!","v":{"$error":"#REF!"}},{"$f":"'Pob x Genero'!#REF!","v":{"$error":"#REF!"}},"Hombre","00-04",{"$f":"'Pob x Genero'!#REF!","v":{"$error":"#REF!"}},568]
[{"$f":"'Pob x Genero'!#REF!","v":{"$error":"#REF!"}},{"$f":"'Pob x Genero'!#REF!","v":{"$error":"#REF!"}},{"$f":"'Pob x Genero'!#REF!","v":{"$error":"#REF!"}},{"$f":"'Pob x Genero'!#REF!","v":{"$error":"#REF!"}},{"$f":"'Pob x Genero'!#REF!","v":{"$error":"#REF!"}},"Hombre","00-04",{"$f":"'Pob x Genero'!#REF!","v":{"$error":"#REF!"}},569]
[{"$f":"'Pob x Genero'!#REF!","v":{"$error":"#REF!"}},{"$f":"'Pob x Genero'!#REF!","v":{"$error":"#REF!"}},{"$f":"'Pob x Genero'!#REF!","v":{"$error":"#REF!"}},{"$f":"'Pob x Genero'!#REF!","v":{"$error":"#REF!"}},{"$f":"'Pob x Genero'!#REF!","v":{"$error":"#REF!"}},"Hombre","00-04",{"$f":"'Pob x Genero'!#REF!","v":{"$error":"#REF!"}},570]
[{"$f":"'Pob x Genero'!#REF!","v":{"$error":"#REF!"}},{"$f":"'Pob x Genero'!#REF!","v":{"$error":"#REF!"}},{"$f":"'Pob x Genero'!#REF!","v":{"$error":"#REF!"}},{"$f":"'Pob x Genero'!#REF!","v":{"$error":"#REF!"}},{"$f":"'Pob x Genero'!#REF!","v":{"$error":"#REF!"}},"Hombre","00-04",{"$f":"'Pob x Genero'!#REF!","v":{"$error":"#REF!"}},571]
[{"$f":"'Pob x Genero'!#REF!","v":{"$error":"#REF!"}},{"$f":"'Pob x Genero'!#REF!","v":{"$error":"#REF!"}},{"$f":"'Pob x Genero'!#REF!","v":{"$error":"#REF!"}},{"$f":"'Pob x Genero'!#REF!","v":{"$error":"#REF!"}},{"$f":"'Pob x Genero'!#REF!","v":{"$error":"#REF!"}},"Hombre","00-04",{"$f":"'Pob x Genero'!#REF!","v":{"$error":"#REF!"}},572]
[{"$f":"'Pob x Genero'!#REF!","v":{"$error":"#REF!"}},{"$f":"'Pob x Genero'!#REF!","v":{"$error":"#REF!"}},{"$f":"'Pob x Genero'!#REF!","v":{"$error":"#REF!"}},{"$f":"'Pob x Genero'!#REF!","v":{"$error":"#REF!"}},{"$f":"'Pob x Genero'!#REF!","v":{"$error":"#REF!"}},"Hombre","00-04",{"$f":"'Pob x Genero'!#REF!","v":{"$error":"#REF!"}},573]
[{"$f":"'Pob x Genero'!#REF!","v":{"$error":"#REF!"}},{"$f":"'Pob x Genero'!#REF!","v":{"$error":"#REF!"}},{"$f":"'Pob x Genero'!#REF!","v":{"$error":"#REF!"}},{"$f":"'Pob x Genero'!#REF!","v":{"$error":"#REF!"}},{"$f":"'Pob x Genero'!#REF!","v":{"$error":"#REF!"}},"Hombre","00-04",{"$f":"'Pob x Genero'!#REF!","v":{"$error":"#REF!"}},574]
[{"$f":"'Pob x Genero'!#REF!","v":{"$error":"#REF!"}},{"$f":"'Pob x Genero'!#REF!","v":{"$error":"#REF!"}},{"$f":"'Pob x Genero'!#REF!","v":{"$error":"#REF!"}},{"$f":"'Pob x Genero'!#REF!","v":{"$error":"#REF!"}},{"$f":"'Pob x Genero'!#REF!","v":{"$error":"#REF!"}},"Hombre","00-04",{"$f":"'Pob x Genero'!#REF!","v":{"$error":"#REF!"}},575]
[{"$f":"'Pob x Genero'!#REF!","v":{"$error":"#REF!"}},{"$f":"'Pob x Genero'!#REF!","v":{"$error":"#REF!"}},{"$f":"'Pob x Genero'!#REF!","v":{"$error":"#REF!"}},{"$f":"'Pob x Genero'!#REF!","v":{"$error":"#REF!"}},{"$f":"'Pob x Genero'!#REF!","v":{"$error":"#REF!"}},"Hombre","00-04",{"$f":"'Pob x Genero'!#REF!","v":{"$error":"#REF!"}},576]
[{"$f":"'Pob x Genero'!#REF!","v":{"$error":"#REF!"}},{"$f":"'Pob x Genero'!#REF!","v":{"$error":"#REF!"}},{"$f":"'Pob x Genero'!#REF!","v":{"$error":"#REF!"}},{"$f":"'Pob x Genero'!#REF!","v":{"$error":"#REF!"}},{"$f":"'Pob x Genero'!#REF!","v":{"$error":"#REF!"}},"Hombre","00-04",{"$f":"'Pob x Genero'!#REF!","v":{"$error":"#REF!"}},577]
[{"$f":"'Pob x Genero'!#REF!","v":{"$error":"#REF!"}},{"$f":"'Pob x Genero'!#REF!","v":{"$error":"#REF!"}},{"$f":"'Pob x Genero'!#REF!","v":{"$error":"#REF!"}},{"$f":"'Pob x Genero'!#REF!","v":{"$error":"#REF!"}},{"$f":"'Pob x Genero'!#REF!","v":{"$error":"#REF!"}},{"$f":"F578","v":"Hombre"},{"$f":"G578","v":"00-04"},{"$f":"'Pob x Genero'!#REF!","v":{"$error":"#REF!"}},578]
[{"$f":"'Pob x Genero'!#REF!","v":{"$error":"#REF!"}},{"$f":"'Pob x Genero'!#REF!","v":{"$error":"#REF!"}},{"$f":"'Pob x Genero'!#REF!","v":{"$error":"#REF!"}},{"$f":"'Pob x Genero'!#REF!","v":{"$error":"#REF!"}},{"$f":"'Pob x Genero'!#REF!","v":{"$error":"#REF!"}},"Hombre","00-04",{"$f":"'Pob x Genero'!#REF!","v":{"$error":"#REF!"}},579]
[{"$f":"'Pob x Genero'!#REF!","v":{"$error":"#REF!"}},{"$f":"'Pob x Genero'!#REF!","v":{"$error":"#REF!"}},{"$f":"'Pob x Genero'!#REF!","v":{"$error":"#REF!"}},{"$f":"'Pob x Genero'!#REF!","v":{"$error":"#REF!"}},{"$f":"'Pob x Genero'!#REF!","v":{"$error":"#REF!"}},"Hombre","00-04",{"$f":"'Pob x Genero'!#REF!","v":{"$error":"#REF!"}},580]
[{"$f":"'Pob x Genero'!#REF!","v":{"$error":"#REF!"}},{"$f":"'Pob x Genero'!#REF!","v":{"$error":"#REF!"}},{"$f":"'Pob x Genero'!#REF!","v":{"$error":"#REF!"}},{"$f":"'Pob x Genero'!#REF!","v":{"$error":"#REF!"}},{"$f":"'Pob x Genero'!#REF!","v":{"$error":"#REF!"}},"Hombre","00-04",{"$f":"'Pob x Genero'!#REF!","v":{"$error":"#REF!"}},581]
[{"$f":"'Pob x Genero'!#REF!","v":{"$error":"#REF!"}},{"$f":"'Pob x Genero'!#REF!","v":{"$error":"#REF!"}},{"$f":"'Pob x Genero'!#REF!","v":{"$error":"#REF!"}},{"$f":"'Pob x Genero'!#REF!","v":{"$error":"#REF!"}},{"$f":"'Pob x Genero'!#REF!","v":{"$error":"#REF!"}},"Hombre","00-04",{"$f":"'Pob x Genero'!#REF!","v":{"$error":"#REF!"}},582]
[{"$f":"'Pob x Genero'!#REF!","v":{"$error":"#REF!"}},{"$f":"'Pob x Genero'!#REF!","v":{"$error":"#REF!"}},{"$f":"'Pob x Genero'!#REF!","v":{"$error":"#REF!"}},{"$f":"'Pob x Genero'!#REF!","v":{"$error":"#REF!"}},{"$f":"'Pob x Genero'!#REF!","v":{"$error":"#REF!"}},"Hombre","00-04",{"$f":"'Pob x Genero'!#REF!","v":{"$error":"#REF!"}},583]
[{"$f":"'Pob x Genero'!#REF!","v":{"$error":"#REF!"}},{"$f":"'Pob x Genero'!#REF!","v":{"$error":"#REF!"}},{"$f":"'Pob x Genero'!#REF!","v":{"$error":"#REF!"}},{"$f":"'Pob x Genero'!#REF!","v":{"$error":"#REF!"}},{"$f":"'Pob x Genero'!#REF!","v":{"$error":"#REF!"}},"Hombre","00-04",{"$f":"'Pob x Genero'!#REF!","v":{"$error":"#REF!"}},584]
[{"$f":"'Pob x Genero'!#REF!","v":{"$error":"#REF!"}},{"$f":"'Pob x Genero'!#REF!","v":{"$error":"#REF!"}},{"$f":"'Pob x Genero'!#REF!","v":{"$error":"#REF!"}},{"$f":"'Pob x Genero'!#REF!","v":{"$error":"#REF!"}},{"$f":"'Pob x Genero'!#REF!","v":{"$error":"#REF!"}},"Hombre","00-04",{"$f":"'Pob x Genero'!#REF!","v":{"$error":"#REF!"}},585]
[{"$f":"'Pob x Genero'!#REF!","v":{"$error":"#REF!"}},{"$f":"'Pob x Genero'!#REF!","v":{"$error":"#REF!"}},{"$f":"'Pob x Genero'!#REF!","v":{"$error":"#REF!"}},{"$f":"'Pob x Genero'!#REF!","v":{"$error":"#REF!"}},{"$f":"'Pob x Genero'!#REF!","v":{"$error":"#REF!"}},"Hombre","00-04",{"$f":"'Pob x Genero'!#REF!","v":{"$error":"#REF!"}},586]
[{"$f":"'Pob x Genero'!#REF!","v":{"$error":"#REF!"}},{"$f":"'Pob x Genero'!#REF!","v":{"$error":"#REF!"}},{"$f":"'Pob x Genero'!#REF!","v":{"$error":"#REF!"}},{"$f":"'Pob x Genero'!#REF!","v":{"$error":"#REF!"}},{"$f":"'Pob x Genero'!#REF!","v":{"$error":"#REF!"}},"Hombre","00-04",{"$f":"'Pob x Genero'!#REF!","v":{"$error":"#REF!"}},587]
[{"$f":"'Pob x Genero'!#REF!","v":{"$error":"#REF!"}},{"$f":"'Pob x Genero'!#REF!","v":{"$error":"#REF!"}},{"$f":"'Pob x Genero'!#REF!","v":{"$error":"#REF!"}},{"$f":"'Pob x Genero'!#REF!","v":{"$error":"#REF!"}},{"$f":"'Pob x Genero'!#REF!","v":{"$error":"#REF!"}},"Hombre","00-04",{"$f":"'Pob x Genero'!#REF!","v":{"$error":"#REF!"}},588]
[{"$f":"'Pob x Genero'!#REF!","v":{"$error":"#REF!"}},{"$f":"'Pob x Genero'!#REF!","v":{"$error":"#REF!"}},{"$f":"'Pob x Genero'!#REF!","v":{"$error":"#REF!"}},{"$f":"'Pob x Genero'!#REF!","v":{"$error":"#REF!"}},{"$f":"'Pob x Genero'!#REF!","v":{"$error":"#REF!"}},"Hombre","00-04",{"$f":"'Pob x Genero'!#REF!","v":{"$error":"#REF!"}},589]
[{"$f":"'Pob x Genero'!#REF!","v":{"$error":"#REF!"}},{"$f":"'Pob x Genero'!#REF!","v":{"$error":"#REF!"}},{"$f":"'Pob x Genero'!#REF!","v":{"$error":"#REF!"}},{"$f":"'Pob x Genero'!#REF!","v":{"$error":"#REF!"}},{"$f":"'Pob x Genero'!#REF!","v":{"$error":"#REF!"}},"Hombre","00-04",{"$f":"'Pob x Genero'!#REF!","v":{"$error":"#REF!"}},590]
[{"$f":"'Pob x Genero'!#REF!","v":{"$error":"#REF!"}},{"$f":"'Pob x Genero'!#REF!","v":{"$error":"#REF!"}},{"$f":"'Pob x Genero'!#REF!","v":{"$error":"#REF!"}},{"$f":"'Pob x Genero'!#REF!","v":{"$error":"#REF!"}},{"$f":"'Pob x Genero'!#REF!","v":{"$error":"#REF!"}},"Hombre","00-04",{"$f":"'Pob x Genero'!#REF!","v":{"$error":"#REF!"}},591]
[{"$f":"'Pob x Genero'!#REF!","v":{"$error":"#REF!"}},{"$f":"'Pob x Genero'!#REF!","v":{"$error":"#REF!"}},{"$f":"'Pob x Genero'!#REF!","v":{"$error":"#REF!"}},{"$f":"'Pob x Genero'!#REF!","v":{"$error":"#REF!"}},{"$f":"'Pob x Genero'!#REF!","v":{"$error":"#REF!"}},"Hombre","00-04",{"$f":"'Pob x Genero'!#REF!","v":{"$error":"#REF!"}},592]
[{"$f":"'Pob x Genero'!#REF!","v":{"$error":"#REF!"}},{"$f":"'Pob x Genero'!#REF!","v":{"$error":"#REF!"}},{"$f":"'Pob x Genero'!#REF!","v":{"$error":"#REF!"}},{"$f":"'Pob x Genero'!#REF!","v":{"$error":"#REF!"}},{"$f":"'Pob x Genero'!#REF!","v":{"$error":"#REF!"}},"Hombre","00-04",{"$f":"'Pob x Genero'!#REF!","v":{"$error":"#REF!"}},593]
[{"$f":"'Pob x Genero'!#REF!","v":{"$error":"#REF!"}},{"$f":"'Pob x Genero'!#REF!","v":{"$error":"#REF!"}},{"$f":"'Pob x Genero'!#REF!","v":{"$error":"#REF!"}},{"$f":"'Pob x Genero'!#REF!","v":{"$error":"#REF!"}},{"$f":"'Pob x Genero'!#REF!","v":{"$error":"#REF!"}},"Hombre","00-04",{"$f":"'Pob x Genero'!#REF!","v":{"$error":"#REF!"}},594]
[{"$f":"'Pob x Genero'!#REF!","v":{"$error":"#REF!"}},{"$f":"'Pob x Genero'!#REF!","v":{"$error":"#REF!"}},{"$f":"'Pob x Genero'!#REF!","v":{"$error":"#REF!"}},{"$f":"'Pob x Genero'!#REF!","v":{"$error":"#REF!"}},{"$f":"'Pob x Genero'!#REF!","v":{"$error":"#REF!"}},"Hombre","00-04",{"$f":"'Pob x Genero'!#REF!","v":{"$error":"#REF!"}},595]
[{"$f":"'Pob x Genero'!#REF!","v":{"$error":"#REF!"}},{"$f":"'Pob x Genero'!#REF!","v":{"$error":"#REF!"}},{"$f":"'Pob x Genero'!#REF!","v":{"$error":"#REF!"}},{"$f":"'Pob x Genero'!#REF!","v":{"$error":"#REF!"}},{"$f":"'Pob x Genero'!#REF!","v":{"$error":"#REF!"}},"Hombre","00-04",{"$f":"'Pob x Genero'!#REF!","v":{"$error":"#REF!"}},596]
[{"$f":"'Pob x Genero'!#REF!","v":{"$error":"#REF!"}},{"$f":"'Pob x Genero'!#REF!","v":{"$error":"#REF!"}},{"$f":"'Pob x Genero'!#REF!","v":{"$error":"#REF!"}},{"$f":"'Pob x Genero'!#REF!","v":{"$error":"#REF!"}},{"$f":"'Pob x Genero'!#REF!","v":{"$error":"#REF!"}},"Hombre","00-04",{"$f":"'Pob x Genero'!#REF!","v":{"$error":"#REF!"}},597]
[{"$f":"'Pob x Genero'!#REF!","v":{"$error":"#REF!"}},{"$f":"'Pob x Genero'!#REF!","v":{"$error":"#REF!"}},{"$f":"'Pob x Genero'!#REF!","v":{"$error":"#REF!"}},{"$f":"'Pob x Genero'!#REF!","v":{"$error":"#REF!"}},{"$f":"'Pob x Genero'!#REF!","v":{"$error":"#REF!"}},"Hombre","00-04",{"$f":"'Pob x Genero'!#REF!","v":{"$error":"#REF!"}},598]
[{"$f":"'Pob x Genero'!#REF!","v":{"$error":"#REF!"}},{"$f":"'Pob x Genero'!#REF!","v":{"$error":"#REF!"}},{"$f":"'Pob x Genero'!#REF!","v":{"$error":"#REF!"}},{"$f":"'Pob x Genero'!#REF!","v":{"$error":"#REF!"}},{"$f":"'Pob x Genero'!#REF!","v":{"$error":"#REF!"}},"Hombre","00-04",{"$f":"'Pob x Genero'!#REF!","v":{"$error":"#REF!"}},599]
[{"$f":"'Pob x Genero'!#REF!","v":{"$error":"#REF!"}},{"$f":"'Pob x Genero'!#REF!","v":{"$error":"#REF!"}},{"$f":"'Pob x Genero'!#REF!","v":{"$error":"#REF!"}},{"$f":"'Pob x Genero'!#REF!","v":{"$error":"#REF!"}},{"$f":"'Pob x Genero'!#REF!","v":{"$error":"#REF!"}},"Hombre","00-04",{"$f":"'Pob x Genero'!#REF!","v":{"$error":"#REF!"}},600]
[{"$f":"'Pob x Genero'!#REF!","v":{"$error":"#REF!"}},{"$f":"'Pob x Genero'!#REF!","v":{"$error":"#REF!"}},{"$f":"'Pob x Genero'!#REF!","v":{"$error":"#REF!"}},{"$f":"'Pob x Genero'!#REF!","v":{"$error":"#REF!"}},{"$f":"'Pob x Genero'!#REF!","v":{"$error":"#REF!"}},"Hombre","00-04",{"$f":"'Pob x Genero'!#REF!","v":{"$error":"#REF!"}},601]
[{"$f":"'Pob x Genero'!#REF!","v":{"$error":"#REF!"}},{"$f":"'Pob x Genero'!#REF!","v":{"$error":"#REF!"}},{"$f":"'Pob x Genero'!#REF!","v":{"$error":"#REF!"}},{"$f":"'Pob x Genero'!#REF!","v":{"$error":"#REF!"}},{"$f":"'Pob x Genero'!#REF!","v":{"$error":"#REF!"}},"Hombre","00-04",{"$f":"'Pob x Genero'!#REF!","v":{"$error":"#REF!"}},602]
[{"$f":"'Pob x Genero'!#REF!","v":{"$error":"#REF!"}},{"$f":"'Pob x Genero'!#REF!","v":{"$error":"#REF!"}},{"$f":"'Pob x Genero'!#REF!","v":{"$error":"#REF!"}},{"$f":"'Pob x Genero'!#REF!","v":{"$error":"#REF!"}},{"$f":"'Pob x Genero'!#REF!","v":{"$error":"#REF!"}},"Hombre","00-04",{"$f":"'Pob x Genero'!#REF!","v":{"$error":"#REF!"}},603]
[{"$f":"'Pob x Genero'!#REF!","v":{"$error":"#REF!"}},{"$f":"'Pob x Genero'!#REF!","v":{"$error":"#REF!"}},{"$f":"'Pob x Genero'!#REF!","v":{"$error":"#REF!"}},{"$f":"'Pob x Genero'!#REF!","v":{"$error":"#REF!"}},{"$f":"'Pob x Genero'!#REF!","v":{"$error":"#REF!"}},"Hombre","00-04",{"$f":"'Pob x Genero'!#REF!","v":{"$error":"#REF!"}},604]
[{"$f":"'Pob x Genero'!#REF!","v":{"$error":"#REF!"}},{"$f":"'Pob x Genero'!#REF!","v":{"$error":"#REF!"}},{"$f":"'Pob x Genero'!#REF!","v":{"$error":"#REF!"}},{"$f":"'Pob x Genero'!#REF!","v":{"$error":"#REF!"}},{"$f":"'Pob x Genero'!#REF!","v":{"$error":"#REF!"}},"Hombre","00-04",{"$f":"'Pob x Genero'!#REF!","v":{"$error":"#REF!"}},605]
[{"$f":"'Pob x Genero'!#REF!","v":{"$error":"#REF!"}},{"$f":"'Pob x Genero'!#REF!","v":{"$error":"#REF!"}},{"$f":"'Pob x Genero'!#REF!","v":{"$error":"#REF!"}},{"$f":"'Pob x Genero'!#REF!","v":{"$error":"#REF!"}},{"$f":"'Pob x Genero'!#REF!","v":{"$error":"#REF!"}},"Hombre","00-04",{"$f":"'Pob x Genero'!#REF!","v":{"$error":"#REF!"}},606]
[{"$f":"'Pob x Genero'!#REF!","v":{"$error":"#REF!"}},{"$f":"'Pob x Genero'!#REF!","v":{"$error":"#REF!"}},{"$f":"'Pob x Genero'!#REF!","v":{"$error":"#REF!"}},{"$f":"'Pob x Genero'!#REF!","v":{"$error":"#REF!"}},{"$f":"'Pob x Genero'!#REF!","v":{"$error":"#REF!"}},"Hombre","00-04",{"$f":"'Pob x Genero'!#REF!","v":{"$error":"#REF!"}},607]
[{"$f":"'Pob x Genero'!#REF!","v":{"$error":"#REF!"}},{"$f":"'Pob x Genero'!#REF!","v":{"$error":"#REF!"}},{"$f":"'Pob x Genero'!#REF!","v":{"$error":"#REF!"}},{"$f":"'Pob x Genero'!#REF!","v":{"$error":"#REF!"}},{"$f":"'Pob x Genero'!#REF!","v":{"$error":"#REF!"}},"Hombre","00-04",{"$f":"'Pob x Genero'!#REF!","v":{"$error":"#REF!"}},608]
[{"$f":"'Pob x Genero'!#REF!","v":{"$error":"#REF!"}},{"$f":"'Pob x Genero'!#REF!","v":{"$error":"#REF!"}},{"$f":"'Pob x Genero'!#REF!","v":{"$error":"#REF!"}},{"$f":"'Pob x Genero'!#REF!","v":{"$error":"#REF!"}},{"$f":"'Pob x Genero'!#REF!","v":{"$error":"#REF!"}},"Hombre","00-04",{"$f":"'Pob x Genero'!#REF!","v":{"$error":"#REF!"}},609]
[{"$f":"'Pob x Genero'!#REF!","v":{"$error":"#REF!"}},{"$f":"'Pob x Genero'!#REF!","v":{"$error":"#REF!"}},{"$f":"'Pob x Genero'!#REF!","v":{"$error":"#REF!"}},{"$f":"'Pob x Genero'!#REF!","v":{"$error":"#REF!"}},{"$f":"'Pob x Genero'!#REF!","v":{"$error":"#REF!"}},"Hombre","00-04",{"$f":"'Pob x Genero'!#REF!","v":{"$error":"#REF!"}},610]
[{"$f":"'Pob x Genero'!#REF!","v":{"$error":"#REF!"}},{"$f":"'Pob x Genero'!#REF!","v":{"$error":"#REF!"}},{"$f":"'Pob x Genero'!#REF!","v":{"$error":"#REF!"}},{"$f":"'Pob x Genero'!#REF!","v":{"$error":"#REF!"}},{"$f":"'Pob x Genero'!#REF!","v":{"$error":"#REF!"}},"Hombre","00-04",{"$f":"'Pob x Genero'!#REF!","v":{"$error":"#REF!"}},611]
[{"$f":"'Pob x Genero'!#REF!","v":{"$error":"#REF!"}},{"$f":"'Pob x Genero'!#REF!","v":{"$error":"#REF!"}},{"$f":"'Pob x Genero'!#REF!","v":{"$error":"#REF!"}},{"$f":"'Pob x Genero'!#REF!","v":{"$error":"#REF!"}},{"$f":"'Pob x Genero'!#REF!","v":{"$error":"#REF!"}},"Hombre","00-04",{"$f":"'Pob x Genero'!#REF!","v":{"$error":"#REF!"}},612]
[{"$f":"'Pob x Genero'!#REF!","v":{"$error":"#REF!"}},{"$f":"'Pob x Genero'!#REF!","v":{"$error":"#REF!"}},{"$f":"'Pob x Genero'!#REF!","v":{"$error":"#REF!"}},{"$f":"'Pob x Genero'!#REF!","v":{"$error":"#REF!"}},{"$f":"'Pob x Genero'!#REF!","v":{"$error":"#REF!"}},"Hombre","00-04",{"$f":"'Pob x Genero'!#REF!","v":{"$error":"#REF!"}},613]
[{"$f":"'Pob x Genero'!#REF!","v":{"$error":"#REF!"}},{"$f":"'Pob x Genero'!#REF!","v":{"$error":"#REF!"}},{"$f":"'Pob x Genero'!#REF!","v":{"$error":"#REF!"}},{"$f":"'Pob x Genero'!#REF!","v":{"$error":"#REF!"}},{"$f":"'Pob x Genero'!#REF!","v":{"$error":"#REF!"}},"Hombre","00-04",{"$f":"'Pob x Genero'!#REF!","v":{"$error":"#REF!"}},614]
[{"$f":"'Pob x Genero'!#REF!","v":{"$error":"#REF!"}},{"$f":"'Pob x Genero'!#REF!","v":{"$error":"#REF!"}},{"$f":"'Pob x Genero'!#REF!","v":{"$error":"#REF!"}},{"$f":"'Pob x Genero'!#REF!","v":{"$error":"#REF!"}},{"$f":"'Pob x Genero'!#REF!","v":{"$error":"#REF!"}},"Hombre","00-04",{"$f":"'Pob x Genero'!#REF!","v":{"$error":"#REF!"}},615]
[{"$f":"'Pob x Genero'!#REF!","v":{"$error":"#REF!"}},{"$f":"'Pob x Genero'!#REF!","v":{"$error":"#REF!"}},{"$f":"'Pob x Genero'!#REF!","v":{"$error":"#REF!"}},{"$f":"'Pob x Genero'!#REF!","v":{"$error":"#REF!"}},{"$f":"'Pob x Genero'!#REF!","v":{"$error":"#REF!"}},"Hombre","00-04",{"$f":"'Pob x Genero'!#REF!","v":{"$error":"#REF!"}},616]
[{"$f":"'Pob x Genero'!#REF!","v":{"$error":"#REF!"}},{"$f":"'Pob x Genero'!#REF!","v":{"$error":"#REF!"}},{"$f":"'Pob x Genero'!#REF!","v":{"$error":"#REF!"}},{"$f":"'Pob x Genero'!#REF!","v":{"$error":"#REF!"}},{"$f":"'Pob x Genero'!#REF!","v":{"$error":"#REF!"}},"Hombre","00-04",{"$f":"'Pob x Genero'!#REF!","v":{"$error":"#REF!"}},617]
[{"$f":"'Pob x Genero'!#REF!","v":{"$error":"#REF!"}},{"$f":"'Pob x Genero'!#REF!","v":{"$error":"#REF!"}},{"$f":"'Pob x Genero'!#REF!","v":{"$error":"#REF!"}},{"$f":"'Pob x Genero'!#REF!","v":{"$error":"#REF!"}},{"$f":"'Pob x Genero'!#REF!","v":{"$error":"#REF!"}},"Hombre","00-04",{"$f":"'Pob x Genero'!#REF!","v":{"$error":"#REF!"}},618]
[{"$f":"'Pob x Genero'!#REF!","v":{"$error":"#REF!"}},{"$f":"'Pob x Genero'!#REF!","v":{"$error":"#REF!"}},{"$f":"'Pob x Genero'!#REF!","v":{"$error":"#REF!"}},{"$f":"'Pob x Genero'!#REF!","v":{"$error":"#REF!"}},{"$f":"'Pob x Genero'!#REF!","v":{"$error":"#REF!"}},"Hombre","00-04",{"$f":"'Pob x Genero'!#REF!","v":{"$error":"#REF!"}},619]
[{"$f":"'Pob x Genero'!#REF!","v":{"$error":"#REF!"}},{"$f":"'Pob x Genero'!#REF!","v":{"$error":"#REF!"}},{"$f":"'Pob x Genero'!#REF!","v":{"$error":"#REF!"}},{"$f":"'Pob x Genero'!#REF!","v":{"$error":"#REF!"}},{"$f":"'Pob x Genero'!#REF!","v":{"$error":"#REF!"}},"Hombre","00-04",{"$f":"'Pob x Genero'!#REF!","v":{"$error":"#REF!"}},620]
[{"$f":"'Pob x Genero'!#REF!","v":{"$error":"#REF!"}},{"$f":"'Pob x Genero'!#REF!","v":{"$error":"#REF!"}},{"$f":"'Pob x Genero'!#REF!","v":{"$error":"#REF!"}},{"$f":"'Pob x Genero'!#REF!","v":{"$error":"#REF!"}},{"$f":"'Pob x Genero'!#REF!","v":{"$error":"#REF!"}},"Hombre","00-04",{"$f":"'Pob x Genero'!#REF!","v":{"$error":"#REF!"}},621]
[{"$f":"'Pob x Genero'!#REF!","v":{"$error":"#REF!"}},{"$f":"'Pob x Genero'!#REF!","v":{"$error":"#REF!"}},{"$f":"'Pob x Genero'!#REF!","v":{"$error":"#REF!"}},{"$f":"'Pob x Genero'!#REF!","v":{"$error":"#REF!"}},{"$f":"'Pob x Genero'!#REF!","v":{"$error":"#REF!"}},"Hombre","00-04",{"$f":"'Pob x Genero'!#REF!","v":{"$error":"#REF!"}},622]
[{"$f":"'Pob x Genero'!#REF!","v":{"$error":"#REF!"}},{"$f":"'Pob x Genero'!#REF!","v":{"$error":"#REF!"}},{"$f":"'Pob x Genero'!#REF!","v":{"$error":"#REF!"}},{"$f":"'Pob x Genero'!#REF!","v":{"$error":"#REF!"}},{"$f":"'Pob x Genero'!#REF!","v":{"$error":"#REF!"}},"Hombre","00-04",{"$f":"'Pob x Genero'!#REF!","v":{"$error":"#REF!"}},623]
[{"$f":"'Pob x Genero'!#REF!","v":{"$error":"#REF!"}},{"$f":"'Pob x Genero'!#REF!","v":{"$error":"#REF!"}},{"$f":"'Pob x Genero'!#REF!","v":{"$error":"#REF!"}},{"$f":"'Pob x Genero'!#REF!","v":{"$error":"#REF!"}},{"$f":"'Pob x Genero'!#REF!","v":{"$error":"#REF!"}},"Hombre","00-04",{"$f":"'Pob x Genero'!#REF!","v":{"$error":"#REF!"}},624]
[{"$f":"'Pob x Genero'!#REF!","v":{"$error":"#REF!"}},{"$f":"'Pob x Genero'!#REF!","v":{"$error":"#REF!"}},{"$f":"'Pob x Genero'!#REF!","v":{"$error":"#REF!"}},{"$f":"'Pob x Genero'!#REF!","v":{"$error":"#REF!"}},{"$f":"'Pob x Genero'!#REF!","v":{"$error":"#REF!"}},"Hombre","00-04",{"$f":"'Pob x Genero'!#REF!","v":{"$error":"#REF!"}},625]
[{"$f":"'Pob x Genero'!#REF!","v":{"$error":"#REF!"}},{"$f":"'Pob x Genero'!#REF!","v":{"$error":"#REF!"}},{"$f":"'Pob x Genero'!#REF!","v":{"$error":"#REF!"}},{"$f":"'Pob x Genero'!#REF!","v":{"$error":"#REF!"}},{"$f":"'Pob x Genero'!#REF!","v":{"$error":"#REF!"}},"Hombre","00-04",{"$f":"'Pob x Genero'!#REF!","v":{"$error":"#REF!"}},626]
[{"$f":"'Pob x Genero'!#REF!","v":{"$error":"#REF!"}},{"$f":"'Pob x Genero'!#REF!","v":{"$error":"#REF!"}},{"$f":"'Pob x Genero'!#REF!","v":{"$error":"#REF!"}},{"$f":"'Pob x Genero'!#REF!","v":{"$error":"#REF!"}},{"$f":"'Pob x Genero'!#REF!","v":{"$error":"#REF!"}},"Hombre","00-04",{"$f":"'Pob x Genero'!#REF!","v":{"$error":"#REF!"}},627]
[{"$f":"'Pob x Genero'!#REF!","v":{"$error":"#REF!"}},{"$f":"'Pob x Genero'!#REF!","v":{"$error":"#REF!"}},{"$f":"'Pob x Genero'!#REF!","v":{"$error":"#REF!"}},{"$f":"'Pob x Genero'!#REF!","v":{"$error":"#REF!"}},{"$f":"'Pob x Genero'!#REF!","v":{"$error":"#REF!"}},"Hombre","00-04",{"$f":"'Pob x Genero'!#REF!","v":{"$error":"#REF!"}},628]
[{"$f":"'Pob x Genero'!#REF!","v":{"$error":"#REF!"}},{"$f":"'Pob x Genero'!#REF!","v":{"$error":"#REF!"}},{"$f":"'Pob x Genero'!#REF!","v":{"$error":"#REF!"}},{"$f":"'Pob x Genero'!#REF!","v":{"$error":"#REF!"}},{"$f":"'Pob x Genero'!#REF!","v":{"$error":"#REF!"}},"Hombre","00-04",{"$f":"'Pob x Genero'!#REF!","v":{"$error":"#REF!"}},629]
[{"$f":"'Pob x Genero'!#REF!","v":{"$error":"#REF!"}},{"$f":"'Pob x Genero'!#REF!","v":{"$error":"#REF!"}},{"$f":"'Pob x Genero'!#REF!","v":{"$error":"#REF!"}},{"$f":"'Pob x Genero'!#REF!","v":{"$error":"#REF!"}},{"$f":"'Pob x Genero'!#REF!","v":{"$error":"#REF!"}},"Hombre","00-04",{"$f":"'Pob x Genero'!#REF!","v":{"$error":"#REF!"}},630]
[{"$f":"'Pob x Genero'!#REF!","v":{"$error":"#REF!"}},{"$f":"'Pob x Genero'!#REF!","v":{"$error":"#REF!"}},{"$f":"'Pob x Genero'!#REF!","v":{"$error":"#REF!"}},{"$f":"'Pob x Genero'!#REF!","v":{"$error":"#REF!"}},{"$f":"'Pob x Genero'!#REF!","v":{"$error":"#REF!"}},"Hombre","00-04",{"$f":"'Pob x Genero'!#REF!","v":{"$error":"#REF!"}},631]
[{"$f":"'Pob x Genero'!#REF!","v":{"$error":"#REF!"}},{"$f":"'Pob x Genero'!#REF!","v":{"$error":"#REF!"}},{"$f":"'Pob x Genero'!#REF!","v":{"$error":"#REF!"}},{"$f":"'Pob x Genero'!#REF!","v":{"$error":"#REF!"}},{"$f":"'Pob x Genero'!#REF!","v":{"$error":"#REF!"}},"Hombre","00-04",{"$f":"'Pob x Genero'!#REF!","v":{"$error":"#REF!"}},632]
[{"$f":"'Pob x Genero'!#REF!","v":{"$error":"#REF!"}},{"$f":"'Pob x Genero'!#REF!","v":{"$error":"#REF!"}},{"$f":"'Pob x Genero'!#REF!","v":{"$error":"#REF!"}},{"$f":"'Pob x Genero'!#REF!","v":{"$error":"#REF!"}},{"$f":"'Pob x Genero'!#REF!","v":{"$error":"#REF!"}},"Hombre","00-04",{"$f":"'Pob x Genero'!#REF!","v":{"$error":"#REF!"}},633]
[{"$f":"'Pob x Genero'!#REF!","v":{"$error":"#REF!"}},{"$f":"'Pob x Genero'!#REF!","v":{"$error":"#REF!"}},{"$f":"'Pob x Genero'!#REF!","v":{"$error":"#REF!"}},{"$f":"'Pob x Genero'!#REF!","v":{"$error":"#REF!"}},{"$f":"'Pob x Genero'!#REF!","v":{"$error":"#REF!"}},"Hombre","00-04",{"$f":"'Pob x Genero'!#REF!","v":{"$error":"#REF!"}},634]
[{"$f":"'Pob x Genero'!#REF!","v":{"$error":"#REF!"}},{"$f":"'Pob x Genero'!#REF!","v":{"$error":"#REF!"}},{"$f":"'Pob x Genero'!#REF!","v":{"$error":"#REF!"}},{"$f":"'Pob x Genero'!#REF!","v":{"$error":"#REF!"}},{"$f":"'Pob x Genero'!#REF!","v":{"$error":"#REF!"}},"Hombre","00-04",{"$f":"'Pob x Genero'!#REF!","v":{"$error":"#REF!"}},635]
[{"$f":"'Pob x Genero'!#REF!","v":{"$error":"#REF!"}},{"$f":"'Pob x Genero'!#REF!","v":{"$error":"#REF!"}},{"$f":"'Pob x Genero'!#REF!","v":{"$error":"#REF!"}},{"$f":"'Pob x Genero'!#REF!","v":{"$error":"#REF!"}},{"$f":"'Pob x Genero'!#REF!","v":{"$error":"#REF!"}},"Hombre","00-04",{"$f":"'Pob x Genero'!#REF!","v":{"$error":"#REF!"}},636]
[{"$f":"'Pob x Genero'!#REF!","v":{"$error":"#REF!"}},{"$f":"'Pob x Genero'!#REF!","v":{"$error":"#REF!"}},{"$f":"'Pob x Genero'!#REF!","v":{"$error":"#REF!"}},{"$f":"'Pob x Genero'!#REF!","v":{"$error":"#REF!"}},{"$f":"'Pob x Genero'!#REF!","v":{"$error":"#REF!"}},"Hombre","00-04",{"$f":"'Pob x Genero'!#REF!","v":{"$error":"#REF!"}},637]
[{"$f":"'Pob x Genero'!#REF!","v":{"$error":"#REF!"}},{"$f":"'Pob x Genero'!#REF!","v":{"$error":"#REF!"}},{"$f":"'Pob x Genero'!#REF!","v":{"$error":"#REF!"}},{"$f":"'Pob x Genero'!#REF!","v":{"$error":"#REF!"}},{"$f":"'Pob x Genero'!#REF!","v":{"$error":"#REF!"}},"Hombre","00-04",{"$f":"'Pob x Genero'!#REF!","v":{"$error":"#REF!"}},638]
[{"$f":"'Pob x Genero'!#REF!","v":{"$error":"#REF!"}},{"$f":"'Pob x Genero'!#REF!","v":{"$error":"#REF!"}},{"$f":"'Pob x Genero'!#REF!","v":{"$error":"#REF!"}},{"$f":"'Pob x Genero'!#REF!","v":{"$error":"#REF!"}},{"$f":"'Pob x Genero'!#REF!","v":{"$error":"#REF!"}},"Hombre","00-04",{"$f":"'Pob x Genero'!#REF!","v":{"$error":"#REF!"}},639]
[{"$f":"'Pob x Genero'!#REF!","v":{"$error":"#REF!"}},{"$f":"'Pob x Genero'!#REF!","v":{"$error":"#REF!"}},{"$f":"'Pob x Genero'!#REF!","v":{"$error":"#REF!"}},{"$f":"'Pob x Genero'!#REF!","v":{"$error":"#REF!"}},{"$f":"'Pob x Genero'!#REF!","v":{"$error":"#REF!"}},"Hombre","00-04",{"$f":"'Pob x Genero'!#REF!","v":{"$error":"#REF!"}},640]
[{"$f":"'Pob x Genero'!#REF!","v":{"$error":"#REF!"}},{"$f":"'Pob x Genero'!#REF!","v":{"$error":"#REF!"}},{"$f":"'Pob x Genero'!#REF!","v":{"$error":"#REF!"}},{"$f":"'Pob x Genero'!#REF!","v":{"$error":"#REF!"}},{"$f":"'Pob x Genero'!#REF!","v":{"$error":"#REF!"}},"Hombre","00-04",{"$f":"'Pob x Genero'!#REF!","v":{"$error":"#REF!"}},641]
[{"$f":"'Pob x Genero'!#REF!","v":{"$error":"#REF!"}},{"$f":"'Pob x Genero'!#REF!","v":{"$error":"#REF!"}},{"$f":"'Pob x Genero'!#REF!","v":{"$error":"#REF!"}},{"$f":"'Pob x Genero'!#REF!","v":{"$error":"#REF!"}},{"$f":"'Pob x Genero'!#REF!","v":{"$error":"#REF!"}},{"$f":"F642","v":"Hombre"},{"$f":"G642","v":"00-04"},{"$f":"'Pob x Genero'!#REF!","v":{"$error":"#REF!"}},642]
[{"$f":"'Pob x Genero'!#REF!","v":{"$error":"#REF!"}},{"$f":"'Pob x Genero'!#REF!","v":{"$error":"#REF!"}},{"$f":"'Pob x Genero'!#REF!","v":{"$error":"#REF!"}},{"$f":"'Pob x Genero'!#REF!","v":{"$error":"#REF!"}},{"$f":"'Pob x Genero'!#REF!","v":{"$error":"#REF!"}},"Hombre","00-04",{"$f":"'Pob x Genero'!#REF!","v":{"$error":"#REF!"}},643]
[{"$f":"'Pob x Genero'!#REF!","v":{"$error":"#REF!"}},{"$f":"'Pob x Genero'!#REF!","v":{"$error":"#REF!"}},{"$f":"'Pob x Genero'!#REF!","v":{"$error":"#REF!"}},{"$f":"'Pob x Genero'!#REF!","v":{"$error":"#REF!"}},{"$f":"'Pob x Genero'!#REF!","v":{"$error":"#REF!"}},"Hombre","00-04",{"$f":"'Pob x Genero'!#REF!","v":{"$error":"#REF!"}},644]
[{"$f":"'Pob x Genero'!#REF!","v":{"$error":"#REF!"}},{"$f":"'Pob x Genero'!#REF!","v":{"$error":"#REF!"}},{"$f":"'Pob x Genero'!#REF!","v":{"$error":"#REF!"}},{"$f":"'Pob x Genero'!#REF!","v":{"$error":"#REF!"}},{"$f":"'Pob x Genero'!#REF!","v":{"$error":"#REF!"}},"Hombre","00-04",{"$f":"'Pob x Genero'!#REF!","v":{"$error":"#REF!"}},645]
[{"$f":"'Pob x Genero'!#REF!","v":{"$error":"#REF!"}},{"$f":"'Pob x Genero'!#REF!","v":{"$error":"#REF!"}},{"$f":"'Pob x Genero'!#REF!","v":{"$error":"#REF!"}},{"$f":"'Pob x Genero'!#REF!","v":{"$error":"#REF!"}},{"$f":"'Pob x Genero'!#REF!","v":{"$error":"#REF!"}},"Hombre","00-04",{"$f":"'Pob x Genero'!#REF!","v":{"$error":"#REF!"}},646]
[{"$f":"'Pob x Genero'!#REF!","v":{"$error":"#REF!"}},{"$f":"'Pob x Genero'!#REF!","v":{"$error":"#REF!"}},{"$f":"'Pob x Genero'!#REF!","v":{"$error":"#REF!"}},{"$f":"'Pob x Genero'!#REF!","v":{"$error":"#REF!"}},{"$f":"'Pob x Genero'!#REF!","v":{"$error":"#REF!"}},"Hombre","00-04",{"$f":"'Pob x Genero'!#REF!","v":{"$error":"#REF!"}},647]
[{"$f":"'Pob x Genero'!#REF!","v":{"$error":"#REF!"}},{"$f":"'Pob x Genero'!#REF!","v":{"$error":"#REF!"}},{"$f":"'Pob x Genero'!#REF!","v":{"$error":"#REF!"}},{"$f":"'Pob x Genero'!#REF!","v":{"$error":"#REF!"}},{"$f":"'Pob x Genero'!#REF!","v":{"$error":"#REF!"}},"Hombre","00-04",{"$f":"'Pob x Genero'!#REF!","v":{"$error":"#REF!"}},648]
[{"$f":"'Pob x Genero'!#REF!","v":{"$error":"#REF!"}},{"$f":"'Pob x Genero'!#REF!","v":{"$error":"#REF!"}},{"$f":"'Pob x Genero'!#REF!","v":{"$error":"#REF!"}},{"$f":"'Pob x Genero'!#REF!","v":{"$error":"#REF!"}},{"$f":"'Pob x Genero'!#REF!","v":{"$error":"#REF!"}},"Hombre","00-04",{"$f":"'Pob x Genero'!#REF!","v":{"$error":"#REF!"}},649]
[{"$f":"'Pob x Genero'!#REF!","v":{"$error":"#REF!"}},{"$f":"'Pob x Genero'!#REF!","v":{"$error":"#REF!"}},{"$f":"'Pob x Genero'!#REF!","v":{"$error":"#REF!"}},{"$f":"'Pob x Genero'!#REF!","v":{"$error":"#REF!"}},{"$f":"'Pob x Genero'!#REF!","v":{"$error":"#REF!"}},"Hombre","00-04",{"$f":"'Pob x Genero'!#REF!","v":{"$error":"#REF!"}},650]
[{"$f":"'Pob x Genero'!#REF!","v":{"$error":"#REF!"}},{"$f":"'Pob x Genero'!#REF!","v":{"$error":"#REF!"}},{"$f":"'Pob x Genero'!#REF!","v":{"$error":"#REF!"}},{"$f":"'Pob x Genero'!#REF!","v":{"$error":"#REF!"}},{"$f":"'Pob x Genero'!#REF!","v":{"$error":"#REF!"}},"Hombre","00-04",{"$f":"'Pob x Genero'!#REF!","v":{"$error":"#REF!"}},651]
[{"$f":"'Pob x Genero'!#REF!","v":{"$error":"#REF!"}},{"$f":"'Pob x Genero'!#REF!","v":{"$error":"#REF!"}},{"$f":"'Pob x Genero'!#REF!","v":{"$error":"#REF!"}},{"$f":"'Pob x Genero'!#REF!","v":{"$error":"#REF!"}},{"$f":"'Pob x Genero'!#REF!","v":{"$error":"#REF!"}},"Hombre","00-04",{"$f":"'Pob x Genero'!#REF!","v":{"$error":"#REF!"}},652]
[{"$f":"'Pob x Genero'!#REF!","v":{"$error":"#REF!"}},{"$f":"'Pob x Genero'!#REF!","v":{"$error":"#REF!"}},{"$f":"'Pob x Genero'!#REF!","v":{"$error":"#REF!"}},{"$f":"'Pob x Genero'!#REF!","v":{"$error":"#REF!"}},{"$f":"'Pob x Genero'!#REF!","v":{"$error":"#REF!"}},"Hombre","00-04",{"$f":"'Pob x Genero'!#REF!","v":{"$error":"#REF!"}},653]
[{"$f":"'Pob x Genero'!#REF!","v":{"$error":"#REF!"}},{"$f":"'Pob x Genero'!#REF!","v":{"$error":"#REF!"}},{"$f":"'Pob x Genero'!#REF!","v":{"$error":"#REF!"}},{"$f":"'Pob x Genero'!#REF!","v":{"$error":"#REF!"}},{"$f":"'Pob x Genero'!#REF!","v":{"$error":"#REF!"}},"Hombre","00-04",{"$f":"'Pob x Genero'!#REF!","v":{"$error":"#REF!"}},654]
[{"$f":"'Pob x Genero'!#REF!","v":{"$error":"#REF!"}},{"$f":"'Pob x Genero'!#REF!","v":{"$error":"#REF!"}},{"$f":"'Pob x Genero'!#REF!","v":{"$error":"#REF!"}},{"$f":"'Pob x Genero'!#REF!","v":{"$error":"#REF!"}},{"$f":"'Pob x Genero'!#REF!","v":{"$error":"#REF!"}},"Hombre","00-04",{"$f":"'Pob x Genero'!#REF!","v":{"$error":"#REF!"}},655]
[{"$f":"'Pob x Genero'!#REF!","v":{"$error":"#REF!"}},{"$f":"'Pob x Genero'!#REF!","v":{"$error":"#REF!"}},{"$f":"'Pob x Genero'!#REF!","v":{"$error":"#REF!"}},{"$f":"'Pob x Genero'!#REF!","v":{"$error":"#REF!"}},{"$f":"'Pob x Genero'!#REF!","v":{"$error":"#REF!"}},"Hombre","00-04",{"$f":"'Pob x Genero'!#REF!","v":{"$error":"#REF!"}},656]
[{"$f":"'Pob x Genero'!#REF!","v":{"$error":"#REF!"}},{"$f":"'Pob x Genero'!#REF!","v":{"$error":"#REF!"}},{"$f":"'Pob x Genero'!#REF!","v":{"$error":"#REF!"}},{"$f":"'Pob x Genero'!#REF!","v":{"$error":"#REF!"}},{"$f":"'Pob x Genero'!#REF!","v":{"$error":"#REF!"}},"Hombre","00-04",{"$f":"'Pob x Genero'!#REF!","v":{"$error":"#REF!"}},657]
[{"$f":"'Pob x Genero'!#REF!","v":{"$error":"#REF!"}},{"$f":"'Pob x Genero'!#REF!","v":{"$error":"#REF!"}},{"$f":"'Pob x Genero'!#REF!","v":{"$error":"#REF!"}},{"$f":"'Pob x Genero'!#REF!","v":{"$error":"#REF!"}},{"$f":"'Pob x Genero'!#REF!","v":{"$error":"#REF!"}},"Hombre","00-04",{"$f":"'Pob x Genero'!#REF!","v":{"$error":"#REF!"}},658]
[{"$f":"'Pob x Genero'!#REF!","v":{"$error":"#REF!"}},{"$f":"'Pob x Genero'!#REF!","v":{"$error":"#REF!"}},{"$f":"'Pob x Genero'!#REF!","v":{"$error":"#REF!"}},{"$f":"'Pob x Genero'!#REF!","v":{"$error":"#REF!"}},{"$f":"'Pob x Genero'!#REF!","v":{"$error":"#REF!"}},"Hombre","00-04",{"$f":"'Pob x Genero'!#REF!","v":{"$error":"#REF!"}},659]
[{"$f":"'Pob x Genero'!#REF!","v":{"$error":"#REF!"}},{"$f":"'Pob x Genero'!#REF!","v":{"$error":"#REF!"}},{"$f":"'Pob x Genero'!#REF!","v":{"$error":"#REF!"}},{"$f":"'Pob x Genero'!#REF!","v":{"$error":"#REF!"}},{"$f":"'Pob x Genero'!#REF!","v":{"$error":"#REF!"}},"Hombre","00-04",{"$f":"'Pob x Genero'!#REF!","v":{"$error":"#REF!"}},660]
[{"$f":"'Pob x Genero'!#REF!","v":{"$error":"#REF!"}},{"$f":"'Pob x Genero'!#REF!","v":{"$error":"#REF!"}},{"$f":"'Pob x Genero'!#REF!","v":{"$error":"#REF!"}},{"$f":"'Pob x Genero'!#REF!","v":{"$error":"#REF!"}},{"$f":"'Pob x Genero'!#REF!","v":{"$error":"#REF!"}},"Hombre","00-04",{"$f":"'Pob x Genero'!#REF!","v":{"$error":"#REF!"}},661]
[{"$f":"'Pob x Genero'!#REF!","v":{"$error":"#REF!"}},{"$f":"'Pob x Genero'!#REF!","v":{"$error":"#REF!"}},{"$f":"'Pob x Genero'!#REF!","v":{"$error":"#REF!"}},{"$f":"'Pob x Genero'!#REF!","v":{"$error":"#REF!"}},{"$f":"'Pob x Genero'!#REF!","v":{"$error":"#REF!"}},"Hombre","00-04",{"$f":"'Pob x Genero'!#REF!","v":{"$error":"#REF!"}},662]
[{"$f":"'Pob x Genero'!#REF!","v":{"$error":"#REF!"}},{"$f":"'Pob x Genero'!#REF!","v":{"$error":"#REF!"}},{"$f":"'Pob x Genero'!#REF!","v":{"$error":"#REF!"}},{"$f":"'Pob x Genero'!#REF!","v":{"$error":"#REF!"}},{"$f":"'Pob x Genero'!#REF!","v":{"$error":"#REF!"}},"Hombre","00-04",{"$f":"'Pob x Genero'!#REF!","v":{"$error":"#REF!"}},663]
[{"$f":"'Pob x Genero'!#REF!","v":{"$error":"#REF!"}},{"$f":"'Pob x Genero'!#REF!","v":{"$error":"#REF!"}},{"$f":"'Pob x Genero'!#REF!","v":{"$error":"#REF!"}},{"$f":"'Pob x Genero'!#REF!","v":{"$error":"#REF!"}},{"$f":"'Pob x Genero'!#REF!","v":{"$error":"#REF!"}},"Hombre","00-04",{"$f":"'Pob x Genero'!#REF!","v":{"$error":"#REF!"}},664]
[{"$f":"'Pob x Genero'!#REF!","v":{"$error":"#REF!"}},{"$f":"'Pob x Genero'!#REF!","v":{"$error":"#REF!"}},{"$f":"'Pob x Genero'!#REF!","v":{"$error":"#REF!"}},{"$f":"'Pob x Genero'!#REF!","v":{"$error":"#REF!"}},{"$f":"'Pob x Genero'!#REF!","v":{"$error":"#REF!"}},"Hombre","00-04",{"$f":"'Pob x Genero'!#REF!","v":{"$error":"#REF!"}},665]
[{"$f":"'Pob x Genero'!#REF!","v":{"$error":"#REF!"}},{"$f":"'Pob x Genero'!#REF!","v":{"$error":"#REF!"}},{"$f":"'Pob x Genero'!#REF!","v":{"$error":"#REF!"}},{"$f":"'Pob x Genero'!#REF!","v":{"$error":"#REF!"}},{"$f":"'Pob x Genero'!#REF!","v":{"$error":"#REF!"}},"Hombre","00-04",{"$f":"'Pob x Genero'!#REF!","v":{"$error":"#REF!"}},666]
[{"$f":"'Pob x Genero'!#REF!","v":{"$error":"#REF!"}},{"$f":"'Pob x Genero'!#REF!","v":{"$error":"#REF!"}},{"$f":"'Pob x Genero'!#REF!","v":{"$error":"#REF!"}},{"$f":"'Pob x Genero'!#REF!","v":{"$error":"#REF!"}},{"$f":"'Pob x Genero'!#REF!","v":{"$error":"#REF!"}},"Hombre","00-04",{"$f":"'Pob x Genero'!#REF!","v":{"$error":"#REF!"}},667]
[{"$f":"'Pob x Genero'!#REF!","v":{"$error":"#REF!"}},{"$f":"'Pob x Genero'!#REF!","v":{"$error":"#REF!"}},{"$f":"'Pob x Genero'!#REF!","v":{"$error":"#REF!"}},{"$f":"'Pob x Genero'!#REF!","v":{"$error":"#REF!"}},{"$f":"'Pob x Genero'!#REF!","v":{"$error":"#REF!"}},"Hombre","00-04",{"$f":"'Pob x Genero'!#REF!","v":{"$error":"#REF!"}},668]
[{"$f":"'Pob x Genero'!#REF!","v":{"$error":"#REF!"}},{"$f":"'Pob x Genero'!#REF!","v":{"$error":"#REF!"}},{"$f":"'Pob x Genero'!#REF!","v":{"$error":"#REF!"}},{"$f":"'Pob x Genero'!#REF!","v":{"$error":"#REF!"}},{"$f":"'Pob x Genero'!#REF!","v":{"$error":"#REF!"}},"Hombre","00-04",{"$f":"'Pob x Genero'!#REF!","v":{"$error":"#REF!"}},669]
[{"$f":"'Pob x Genero'!#REF!","v":{"$error":"#REF!"}},{"$f":"'Pob x Genero'!#REF!","v":{"$error":"#REF!"}},{"$f":"'Pob x Genero'!#REF!","v":{"$error":"#REF!"}},{"$f":"'Pob x Genero'!#REF!","v":{"$error":"#REF!"}},{"$f":"'Pob x Genero'!#REF!","v":{"$error":"#REF!"}},"Hombre","00-04",{"$f":"'Pob x Genero'!#REF!","v":{"$error":"#REF!"}},670]
[{"$f":"'Pob x Genero'!#REF!","v":{"$error":"#REF!"}},{"$f":"'Pob x Genero'!#REF!","v":{"$error":"#REF!"}},{"$f":"'Pob x Genero'!#REF!","v":{"$error":"#REF!"}},{"$f":"'Pob x Genero'!#REF!","v":{"$error":"#REF!"}},{"$f":"'Pob x Genero'!#REF!","v":{"$error":"#REF!"}},"Hombre","00-04",{"$f":"'Pob x Genero'!#REF!","v":{"$error":"#REF!"}},671]
[{"$f":"'Pob x Genero'!#REF!","v":{"$error":"#REF!"}},{"$f":"'Pob x Genero'!#REF!","v":{"$error":"#REF!"}},{"$f":"'Pob x Genero'!#REF!","v":{"$error":"#REF!"}},{"$f":"'Pob x Genero'!#REF!","v":{"$error":"#REF!"}},{"$f":"'Pob x Genero'!#REF!","v":{"$error":"#REF!"}},"Hombre","00-04",{"$f":"'Pob x Genero'!#REF!","v":{"$error":"#REF!"}},672]
[{"$f":"'Pob x Genero'!#REF!","v":{"$error":"#REF!"}},{"$f":"'Pob x Genero'!#REF!","v":{"$error":"#REF!"}},{"$f":"'Pob x Genero'!#REF!","v":{"$error":"#REF!"}},{"$f":"'Pob x Genero'!#REF!","v":{"$error":"#REF!"}},{"$f":"'Pob x Genero'!#REF!","v":{"$error":"#REF!"}},"Hombre","00-04",{"$f":"'Pob x Genero'!#REF!","v":{"$error":"#REF!"}},673]
[{"$f":"'Pob x Genero'!#REF!","v":{"$error":"#REF!"}},{"$f":"'Pob x Genero'!#REF!","v":{"$error":"#REF!"}},{"$f":"'Pob x Genero'!#REF!","v":{"$error":"#REF!"}},{"$f":"'Pob x Genero'!#REF!","v":{"$error":"#REF!"}},{"$f":"'Pob x Genero'!#REF!","v":{"$error":"#REF!"}},"Hombre","00-04",{"$f":"'Pob x Genero'!#REF!","v":{"$error":"#REF!"}},674]
[{"$f":"'Pob x Genero'!#REF!","v":{"$error":"#REF!"}},{"$f":"'Pob x Genero'!#REF!","v":{"$error":"#REF!"}},{"$f":"'Pob x Genero'!#REF!","v":{"$error":"#REF!"}},{"$f":"'Pob x Genero'!#REF!","v":{"$error":"#REF!"}},{"$f":"'Pob x Genero'!#REF!","v":{"$error":"#REF!"}},"Hombre","00-04",{"$f":"'Pob x Genero'!#REF!","v":{"$error":"#REF!"}},675]
[{"$f":"'Pob x Genero'!#REF!","v":{"$error":"#REF!"}},{"$f":"'Pob x Genero'!#REF!","v":{"$error":"#REF!"}},{"$f":"'Pob x Genero'!#REF!","v":{"$error":"#REF!"}},{"$f":"'Pob x Genero'!#REF!","v":{"$error":"#REF!"}},{"$f":"'Pob x Genero'!#REF!","v":{"$error":"#REF!"}},"Hombre","00-04",{"$f":"'Pob x Genero'!#REF!","v":{"$error":"#REF!"}},676]
[{"$f":"'Pob x Genero'!#REF!","v":{"$error":"#REF!"}},{"$f":"'Pob x Genero'!#REF!","v":{"$error":"#REF!"}},{"$f":"'Pob x Genero'!#REF!","v":{"$error":"#REF!"}},{"$f":"'Pob x Genero'!#REF!","v":{"$error":"#REF!"}},{"$f":"'Pob x Genero'!#REF!","v":{"$error":"#REF!"}},"Hombre","00-04",{"$f":"'Pob x Genero'!#REF!","v":{"$error":"#REF!"}},677]
[{"$f":"'Pob x Genero'!#REF!","v":{"$error":"#REF!"}},{"$f":"'Pob x Genero'!#REF!","v":{"$error":"#REF!"}},{"$f":"'Pob x Genero'!#REF!","v":{"$error":"#REF!"}},{"$f":"'Pob x Genero'!#REF!","v":{"$error":"#REF!"}},{"$f":"'Pob x Genero'!#REF!","v":{"$error":"#REF!"}},"Hombre","00-04",{"$f":"'Pob x Genero'!#REF!","v":{"$error":"#REF!"}},678]
[{"$f":"'Pob x Genero'!#REF!","v":{"$error":"#REF!"}},{"$f":"'Pob x Genero'!#REF!","v":{"$error":"#REF!"}},{"$f":"'Pob x Genero'!#REF!","v":{"$error":"#REF!"}},{"$f":"'Pob x Genero'!#REF!","v":{"$error":"#REF!"}},{"$f":"'Pob x Genero'!#REF!","v":{"$error":"#REF!"}},"Hombre","00-04",{"$f":"'Pob x Genero'!#REF!","v":{"$error":"#REF!"}},679]
[{"$f":"'Pob x Genero'!#REF!","v":{"$error":"#REF!"}},{"$f":"'Pob x Genero'!#REF!","v":{"$error":"#REF!"}},{"$f":"'Pob x Genero'!#REF!","v":{"$error":"#REF!"}},{"$f":"'Pob x Genero'!#REF!","v":{"$error":"#REF!"}},{"$f":"'Pob x Genero'!#REF!","v":{"$error":"#REF!"}},"Hombre","00-04",{"$f":"'Pob x Genero'!#REF!","v":{"$error":"#REF!"}},680]
[{"$f":"'Pob x Genero'!#REF!","v":{"$error":"#REF!"}},{"$f":"'Pob x Genero'!#REF!","v":{"$error":"#REF!"}},{"$f":"'Pob x Genero'!#REF!","v":{"$error":"#REF!"}},{"$f":"'Pob x Genero'!#REF!","v":{"$error":"#REF!"}},{"$f":"'Pob x Genero'!#REF!","v":{"$error":"#REF!"}},"Hombre","00-04",{"$f":"'Pob x Genero'!#REF!","v":{"$error":"#REF!"}},681]
[{"$f":"'Pob x Genero'!#REF!","v":{"$error":"#REF!"}},{"$f":"'Pob x Genero'!#REF!","v":{"$error":"#REF!"}},{"$f":"'Pob x Genero'!#REF!","v":{"$error":"#REF!"}},{"$f":"'Pob x Genero'!#REF!","v":{"$error":"#REF!"}},{"$f":"'Pob x Genero'!#REF!","v":{"$error":"#REF!"}},"Hombre","00-04",{"$f":"'Pob x Genero'!#REF!","v":{"$error":"#REF!"}},682]
[{"$f":"'Pob x Genero'!#REF!","v":{"$error":"#REF!"}},{"$f":"'Pob x Genero'!#REF!","v":{"$error":"#REF!"}},{"$f":"'Pob x Genero'!#REF!","v":{"$error":"#REF!"}},{"$f":"'Pob x Genero'!#REF!","v":{"$error":"#REF!"}},{"$f":"'Pob x Genero'!#REF!","v":{"$error":"#REF!"}},"Hombre","00-04",{"$f":"'Pob x Genero'!#REF!","v":{"$error":"#REF!"}},683]
[{"$f":"'Pob x Genero'!#REF!","v":{"$error":"#REF!"}},{"$f":"'Pob x Genero'!#REF!","v":{"$error":"#REF!"}},{"$f":"'Pob x Genero'!#REF!","v":{"$error":"#REF!"}},{"$f":"'Pob x Genero'!#REF!","v":{"$error":"#REF!"}},{"$f":"'Pob x Genero'!#REF!","v":{"$error":"#REF!"}},"Hombre","00-04",{"$f":"'Pob x Genero'!#REF!","v":{"$error":"#REF!"}},684]
[{"$f":"'Pob x Genero'!#REF!","v":{"$error":"#REF!"}},{"$f":"'Pob x Genero'!#REF!","v":{"$error":"#REF!"}},{"$f":"'Pob x Genero'!#REF!","v":{"$error":"#REF!"}},{"$f":"'Pob x Genero'!#REF!","v":{"$error":"#REF!"}},{"$f":"'Pob x Genero'!#REF!","v":{"$error":"#REF!"}},"Hombre","00-04",{"$f":"'Pob x Genero'!#REF!","v":{"$error":"#REF!"}},685]
[{"$f":"'Pob x Genero'!#REF!","v":{"$error":"#REF!"}},{"$f":"'Pob x Genero'!#REF!","v":{"$error":"#REF!"}},{"$f":"'Pob x Genero'!#REF!","v":{"$error":"#REF!"}},{"$f":"'Pob x Genero'!#REF!","v":{"$error":"#REF!"}},{"$f":"'Pob x Genero'!#REF!","v":{"$error":"#REF!"}},"Hombre","00-04",{"$f":"'Pob x Genero'!#REF!","v":{"$error":"#REF!"}},686]
[{"$f":"'Pob x Genero'!#REF!","v":{"$error":"#REF!"}},{"$f":"'Pob x Genero'!#REF!","v":{"$error":"#REF!"}},{"$f":"'Pob x Genero'!#REF!","v":{"$error":"#REF!"}},{"$f":"'Pob x Genero'!#REF!","v":{"$error":"#REF!"}},{"$f":"'Pob x Genero'!#REF!","v":{"$error":"#REF!"}},"Hombre","00-04",{"$f":"'Pob x Genero'!#REF!","v":{"$error":"#REF!"}},687]
[{"$f":"'Pob x Genero'!#REF!","v":{"$error":"#REF!"}},{"$f":"'Pob x Genero'!#REF!","v":{"$error":"#REF!"}},{"$f":"'Pob x Genero'!#REF!","v":{"$error":"#REF!"}},{"$f":"'Pob x Genero'!#REF!","v":{"$error":"#REF!"}},{"$f":"'Pob x Genero'!#REF!","v":{"$error":"#REF!"}},"Hombre","00-04",{"$f":"'Pob x Genero'!#REF!","v":{"$error":"#REF!"}},688]
[{"$f":"'Pob x Genero'!#REF!","v":{"$error":"#REF!"}},{"$f":"'Pob x Genero'!#REF!","v":{"$error":"#REF!"}},{"$f":"'Pob x Genero'!#REF!","v":{"$error":"#REF!"}},{"$f":"'Pob x Genero'!#REF!","v":{"$error":"#REF!"}},{"$f":"'Pob x Genero'!#REF!","v":{"$error":"#REF!"}},"Hombre","00-04",{"$f":"'Pob x Genero'!#REF!","v":{"$error":"#REF!"}},689]
[{"$f":"'Pob x Genero'!#REF!","v":{"$error":"#REF!"}},{"$f":"'Pob x Genero'!#REF!","v":{"$error":"#REF!"}},{"$f":"'Pob x Genero'!#REF!","v":{"$error":"#REF!"}},{"$f":"'Pob x Genero'!#REF!","v":{"$error":"#REF!"}},{"$f":"'Pob x Genero'!#REF!","v":{"$error":"#REF!"}},"Hombre","00-04",{"$f":"'Pob x Genero'!#REF!","v":{"$error":"#REF!"}},690]
[{"$f":"'Pob x Genero'!#REF!","v":{"$error":"#REF!"}},{"$f":"'Pob x Genero'!#REF!","v":{"$error":"#REF!"}},{"$f":"'Pob x Genero'!#REF!","v":{"$error":"#REF!"}},{"$f":"'Pob x Genero'!#REF!","v":{"$error":"#REF!"}},{"$f":"'Pob x Genero'!#REF!","v":{"$error":"#REF!"}},"Hombre","00-04",{"$f":"'Pob x Genero'!#REF!","v":{"$error":"#REF!"}},691]
[{"$f":"'Pob x Genero'!#REF!","v":{"$error":"#REF!"}},{"$f":"'Pob x Genero'!#REF!","v":{"$error":"#REF!"}},{"$f":"'Pob x Genero'!#REF!","v":{"$error":"#REF!"}},{"$f":"'Pob x Genero'!#REF!","v":{"$error":"#REF!"}},{"$f":"'Pob x Genero'!#REF!","v":{"$error":"#REF!"}},"Hombre","00-04",{"$f":"'Pob x Genero'!#REF!","v":{"$error":"#REF!"}},692]
[{"$f":"'Pob x Genero'!#REF!","v":{"$error":"#REF!"}},{"$f":"'Pob x Genero'!#REF!","v":{"$error":"#REF!"}},{"$f":"'Pob x Genero'!#REF!","v":{"$error":"#REF!"}},{"$f":"'Pob x Genero'!#REF!","v":{"$error":"#REF!"}},{"$f":"'Pob x Genero'!#REF!","v":{"$error":"#REF!"}},"Hombre","00-04",{"$f":"'Pob x Genero'!#REF!","v":{"$error":"#REF!"}},693]
[{"$f":"'Pob x Genero'!#REF!","v":{"$error":"#REF!"}},{"$f":"'Pob x Genero'!#REF!","v":{"$error":"#REF!"}},{"$f":"'Pob x Genero'!#REF!","v":{"$error":"#REF!"}},{"$f":"'Pob x Genero'!#REF!","v":{"$error":"#REF!"}},{"$f":"'Pob x Genero'!#REF!","v":{"$error":"#REF!"}},"Hombre","00-04",{"$f":"'Pob x Genero'!#REF!","v":{"$error":"#REF!"}},694]
[{"$f":"'Pob x Genero'!#REF!","v":{"$error":"#REF!"}},{"$f":"'Pob x Genero'!#REF!","v":{"$error":"#REF!"}},{"$f":"'Pob x Genero'!#REF!","v":{"$error":"#REF!"}},{"$f":"'Pob x Genero'!#REF!","v":{"$error":"#REF!"}},{"$f":"'Pob x Genero'!#REF!","v":{"$error":"#REF!"}},"Hombre","00-04",{"$f":"'Pob x Genero'!#REF!","v":{"$error":"#REF!"}},695]
[{"$f":"'Pob x Genero'!#REF!","v":{"$error":"#REF!"}},{"$f":"'Pob x Genero'!#REF!","v":{"$error":"#REF!"}},{"$f":"'Pob x Genero'!#REF!","v":{"$error":"#REF!"}},{"$f":"'Pob x Genero'!#REF!","v":{"$error":"#REF!"}},{"$f":"'Pob x Genero'!#REF!","v":{"$error":"#REF!"}},"Hombre","00-04",{"$f":"'Pob x Genero'!#REF!","v":{"$error":"#REF!"}},696]
[{"$f":"'Pob x Genero'!#REF!","v":{"$error":"#REF!"}},{"$f":"'Pob x Genero'!#REF!","v":{"$error":"#REF!"}},{"$f":"'Pob x Genero'!#REF!","v":{"$error":"#REF!"}},{"$f":"'Pob x Genero'!#REF!","v":{"$error":"#REF!"}},{"$f":"'Pob x Genero'!#REF!","v":{"$error":"#REF!"}},"Hombre","00-04",{"$f":"'Pob x Genero'!#REF!","v":{"$error":"#REF!"}},697]
[{"$f":"'Pob x Genero'!#REF!","v":{"$error":"#REF!"}},{"$f":"'Pob x Genero'!#REF!","v":{"$error":"#REF!"}},{"$f":"'Pob x Genero'!#REF!","v":{"$error":"#REF!"}},{"$f":"'Pob x Genero'!#REF!","v":{"$error":"#REF!"}},{"$f":"'Pob x Genero'!#REF!","v":{"$error":"#REF!"}},"Hombre","00-04",{"$f":"'Pob x Genero'!#REF!","v":{"$error":"#REF!"}},698]
[{"$f":"'Pob x Genero'!#REF!","v":{"$error":"#REF!"}},{"$f":"'Pob x Genero'!#REF!","v":{"$error":"#REF!"}},{"$f":"'Pob x Genero'!#REF!","v":{"$error":"#REF!"}},{"$f":"'Pob x Genero'!#REF!","v":{"$error":"#REF!"}},{"$f":"'Pob x Genero'!#REF!","v":{"$error":"#REF!"}},"Hombre","00-04",{"$f":"'Pob x Genero'!#REF!","v":{"$error":"#REF!"}},699]
[{"$f":"'Pob x Genero'!#REF!","v":{"$error":"#REF!"}},{"$f":"'Pob x Genero'!#REF!","v":{"$error":"#REF!"}},{"$f":"'Pob x Genero'!#REF!","v":{"$error":"#REF!"}},{"$f":"'Pob x Genero'!#REF!","v":{"$error":"#REF!"}},{"$f":"'Pob x Genero'!#REF!","v":{"$error":"#REF!"}},"Hombre","00-04",{"$f":"'Pob x Genero'!#REF!","v":{"$error":"#REF!"}},700]
[{"$f":"'Pob x Genero'!#REF!","v":{"$error":"#REF!"}},{"$f":"'Pob x Genero'!#REF!","v":{"$error":"#REF!"}},{"$f":"'Pob x Genero'!#REF!","v":{"$error":"#REF!"}},{"$f":"'Pob x Genero'!#REF!","v":{"$error":"#REF!"}},{"$f":"'Pob x Genero'!#REF!","v":{"$error":"#REF!"}},"Hombre","00-04",{"$f":"'Pob x Genero'!#REF!","v":{"$error":"#REF!"}},701]
[{"$f":"'Pob x Genero'!#REF!","v":{"$error":"#REF!"}},{"$f":"'Pob x Genero'!#REF!","v":{"$error":"#REF!"}},{"$f":"'Pob x Genero'!#REF!","v":{"$error":"#REF!"}},{"$f":"'Pob x Genero'!#REF!","v":{"$error":"#REF!"}},{"$f":"'Pob x Genero'!#REF!","v":{"$error":"#REF!"}},"Hombre","00-04",{"$f":"'Pob x Genero'!#REF!","v":{"$error":"#REF!"}},702]
[{"$f":"'Pob x Genero'!#REF!","v":{"$error":"#REF!"}},{"$f":"'Pob x Genero'!#REF!","v":{"$error":"#REF!"}},{"$f":"'Pob x Genero'!#REF!","v":{"$error":"#REF!"}},{"$f":"'Pob x Genero'!#REF!","v":{"$error":"#REF!"}},{"$f":"'Pob x Genero'!#REF!","v":{"$error":"#REF!"}},"Hombre","00-04",{"$f":"'Pob x Genero'!#REF!","v":{"$error":"#REF!"}},703]
[{"$f":"'Pob x Genero'!#REF!","v":{"$error":"#REF!"}},{"$f":"'Pob x Genero'!#REF!","v":{"$error":"#REF!"}},{"$f":"'Pob x Genero'!#REF!","v":{"$error":"#REF!"}},{"$f":"'Pob x Genero'!#REF!","v":{"$error":"#REF!"}},{"$f":"'Pob x Genero'!#REF!","v":{"$error":"#REF!"}},"Hombre","00-04",{"$f":"'Pob x Genero'!#REF!","v":{"$error":"#REF!"}},704]
[{"$f":"'Pob x Genero'!#REF!","v":{"$error":"#REF!"}},{"$f":"'Pob x Genero'!#REF!","v":{"$error":"#REF!"}},{"$f":"'Pob x Genero'!#REF!","v":{"$error":"#REF!"}},{"$f":"'Pob x Genero'!#REF!","v":{"$error":"#REF!"}},{"$f":"'Pob x Genero'!#REF!","v":{"$error":"#REF!"}},"Hombre","00-04",{"$f":"'Pob x Genero'!#REF!","v":{"$error":"#REF!"}},705]
[{"$f":"'Pob x Genero'!#REF!","v":{"$error":"#REF!"}},{"$f":"'Pob x Genero'!#REF!","v":{"$error":"#REF!"}},{"$f":"'Pob x Genero'!#REF!","v":{"$error":"#REF!"}},{"$f":"'Pob x Genero'!#REF!","v":{"$error":"#REF!"}},{"$f":"'Pob x Genero'!#REF!","v":{"$error":"#REF!"}},{"$f":"F706","v":"Hombre"},{"$f":"G706","v":"00-04"},{"$f":"'Pob x Genero'!#REF!","v":{"$error":"#REF!"}},706]
[{"$f":"'Pob x Genero'!#REF!","v":{"$error":"#REF!"}},{"$f":"'Pob x Genero'!#REF!","v":{"$error":"#REF!"}},{"$f":"'Pob x Genero'!#REF!","v":{"$error":"#REF!"}},{"$f":"'Pob x Genero'!#REF!","v":{"$error":"#REF!"}},{"$f":"'Pob x Genero'!#REF!","v":{"$error":"#REF!"}},"Hombre","00-04",{"$f":"'Pob x Genero'!#REF!","v":{"$error":"#REF!"}},707]
[{"$f":"'Pob x Genero'!#REF!","v":{"$error":"#REF!"}},{"$f":"'Pob x Genero'!#REF!","v":{"$error":"#REF!"}},{"$f":"'Pob x Genero'!#REF!","v":{"$error":"#REF!"}},{"$f":"'Pob x Genero'!#REF!","v":{"$error":"#REF!"}},{"$f":"'Pob x Genero'!#REF!","v":{"$error":"#REF!"}},"Hombre","00-04",{"$f":"'Pob x Genero'!#REF!","v":{"$error":"#REF!"}},708]
[{"$f":"'Pob x Genero'!#REF!","v":{"$error":"#REF!"}},{"$f":"'Pob x Genero'!#REF!","v":{"$error":"#REF!"}},{"$f":"'Pob x Genero'!#REF!","v":{"$error":"#REF!"}},{"$f":"'Pob x Genero'!#REF!","v":{"$error":"#REF!"}},{"$f":"'Pob x Genero'!#REF!","v":{"$error":"#REF!"}},"Hombre","00-04",{"$f":"'Pob x Genero'!#REF!","v":{"$error":"#REF!"}},709]
[{"$f":"'Pob x Genero'!#REF!","v":{"$error":"#REF!"}},{"$f":"'Pob x Genero'!#REF!","v":{"$error":"#REF!"}},{"$f":"'Pob x Genero'!#REF!","v":{"$error":"#REF!"}},{"$f":"'Pob x Genero'!#REF!","v":{"$error":"#REF!"}},{"$f":"'Pob x Genero'!#REF!","v":{"$error":"#REF!"}},"Hombre","00-04",{"$f":"'Pob x Genero'!#REF!","v":{"$error":"#REF!"}},710]
[{"$f":"'Pob x Genero'!#REF!","v":{"$error":"#REF!"}},{"$f":"'Pob x Genero'!#REF!","v":{"$error":"#REF!"}},{"$f":"'Pob x Genero'!#REF!","v":{"$error":"#REF!"}},{"$f":"'Pob x Genero'!#REF!","v":{"$error":"#REF!"}},{"$f":"'Pob x Genero'!#REF!","v":{"$error":"#REF!"}},"Hombre","00-04",{"$f":"'Pob x Genero'!#REF!","v":{"$error":"#REF!"}},711]
[{"$f":"'Pob x Genero'!#REF!","v":{"$error":"#REF!"}},{"$f":"'Pob x Genero'!#REF!","v":{"$error":"#REF!"}},{"$f":"'Pob x Genero'!#REF!","v":{"$error":"#REF!"}},{"$f":"'Pob x Genero'!#REF!","v":{"$error":"#REF!"}},{"$f":"'Pob x Genero'!#REF!","v":{"$error":"#REF!"}},"Hombre","00-04",{"$f":"'Pob x Genero'!#REF!","v":{"$error":"#REF!"}},712]
[{"$f":"'Pob x Genero'!#REF!","v":{"$error":"#REF!"}},{"$f":"'Pob x Genero'!#REF!","v":{"$error":"#REF!"}},{"$f":"'Pob x Genero'!#REF!","v":{"$error":"#REF!"}},{"$f":"'Pob x Genero'!#REF!","v":{"$error":"#REF!"}},{"$f":"'Pob x Genero'!#REF!","v":{"$error":"#REF!"}},"Hombre","00-04",{"$f":"'Pob x Genero'!#REF!","v":{"$error":"#REF!"}},713]
[{"$f":"'Pob x Genero'!#REF!","v":{"$error":"#REF!"}},{"$f":"'Pob x Genero'!#REF!","v":{"$error":"#REF!"}},{"$f":"'Pob x Genero'!#REF!","v":{"$error":"#REF!"}},{"$f":"'Pob x Genero'!#REF!","v":{"$error":"#REF!"}},{"$f":"'Pob x Genero'!#REF!","v":{"$error":"#REF!"}},"Hombre","00-04",{"$f":"'Pob x Genero'!#REF!","v":{"$error":"#REF!"}},714]
[{"$f":"'Pob x Genero'!#REF!","v":{"$error":"#REF!"}},{"$f":"'Pob x Genero'!#REF!","v":{"$error":"#REF!"}},{"$f":"'Pob x Genero'!#REF!","v":{"$error":"#REF!"}},{"$f":"'Pob x Genero'!#REF!","v":{"$error":"#REF!"}},{"$f":"'Pob x Genero'!#REF!","v":{"$error":"#REF!"}},"Hombre","00-04",{"$f":"'Pob x Genero'!#REF!","v":{"$error":"#REF!"}},715]
[{"$f":"'Pob x Genero'!#REF!","v":{"$error":"#REF!"}},{"$f":"'Pob x Genero'!#REF!","v":{"$error":"#REF!"}},{"$f":"'Pob x Genero'!#REF!","v":{"$error":"#REF!"}},{"$f":"'Pob x Genero'!#REF!","v":{"$error":"#REF!"}},{"$f":"'Pob x Genero'!#REF!","v":{"$error":"#REF!"}},"Hombre","00-04",{"$f":"'Pob x Genero'!#REF!","v":{"$error":"#REF!"}},716]
[{"$f":"'Pob x Genero'!#REF!","v":{"$error":"#REF!"}},{"$f":"'Pob x Genero'!#REF!","v":{"$error":"#REF!"}},{"$f":"'Pob x Genero'!#REF!","v":{"$error":"#REF!"}},{"$f":"'Pob x Genero'!#REF!","v":{"$error":"#REF!"}},{"$f":"'Pob x Genero'!#REF!","v":{"$error":"#REF!"}},"Hombre","00-04",{"$f":"'Pob x Genero'!#REF!","v":{"$error":"#REF!"}},717]
[{"$f":"'Pob x Genero'!#REF!","v":{"$error":"#REF!"}},{"$f":"'Pob x Genero'!#REF!","v":{"$error":"#REF!"}},{"$f":"'Pob x Genero'!#REF!","v":{"$error":"#REF!"}},{"$f":"'Pob x Genero'!#REF!","v":{"$error":"#REF!"}},{"$f":"'Pob x Genero'!#REF!","v":{"$error":"#REF!"}},"Hombre","00-04",{"$f":"'Pob x Genero'!#REF!","v":{"$error":"#REF!"}},718]
[{"$f":"'Pob x Genero'!#REF!","v":{"$error":"#REF!"}},{"$f":"'Pob x Genero'!#REF!","v":{"$error":"#REF!"}},{"$f":"'Pob x Genero'!#REF!","v":{"$error":"#REF!"}},{"$f":"'Pob x Genero'!#REF!","v":{"$error":"#REF!"}},{"$f":"'Pob x Genero'!#REF!","v":{"$error":"#REF!"}},"Hombre","00-04",{"$f":"'Pob x Genero'!#REF!","v":{"$error":"#REF!"}},719]
[{"$f":"'Pob x Genero'!#REF!","v":{"$error":"#REF!"}},{"$f":"'Pob x Genero'!#REF!","v":{"$error":"#REF!"}},{"$f":"'Pob x Genero'!#REF!","v":{"$error":"#REF!"}},{"$f":"'Pob x Genero'!#REF!","v":{"$error":"#REF!"}},{"$f":"'Pob x Genero'!#REF!","v":{"$error":"#REF!"}},"Hombre","00-04",{"$f":"'Pob x Genero'!#REF!","v":{"$error":"#REF!"}},720]
[{"$f":"'Pob x Genero'!#REF!","v":{"$error":"#REF!"}},{"$f":"'Pob x Genero'!#REF!","v":{"$error":"#REF!"}},{"$f":"'Pob x Genero'!#REF!","v":{"$error":"#REF!"}},{"$f":"'Pob x Genero'!#REF!","v":{"$error":"#REF!"}},{"$f":"'Pob x Genero'!#REF!","v":{"$error":"#REF!"}},"Hombre","00-04",{"$f":"'Pob x Genero'!#REF!","v":{"$error":"#REF!"}},721]
[{"$f":"'Pob x Genero'!#REF!","v":{"$error":"#REF!"}},{"$f":"'Pob x Genero'!#REF!","v":{"$error":"#REF!"}},{"$f":"'Pob x Genero'!#REF!","v":{"$error":"#REF!"}},{"$f":"'Pob x Genero'!#REF!","v":{"$error":"#REF!"}},{"$f":"'Pob x Genero'!#REF!","v":{"$error":"#REF!"}},"Hombre","00-04",{"$f":"'Pob x Genero'!#REF!","v":{"$error":"#REF!"}},722]
[{"$f":"'Pob x Genero'!#REF!","v":{"$error":"#REF!"}},{"$f":"'Pob x Genero'!#REF!","v":{"$error":"#REF!"}},{"$f":"'Pob x Genero'!#REF!","v":{"$error":"#REF!"}},{"$f":"'Pob x Genero'!#REF!","v":{"$error":"#REF!"}},{"$f":"'Pob x Genero'!#REF!","v":{"$error":"#REF!"}},"Hombre","00-04",{"$f":"'Pob x Genero'!#REF!","v":{"$error":"#REF!"}},723]
[{"$f":"'Pob x Genero'!#REF!","v":{"$error":"#REF!"}},{"$f":"'Pob x Genero'!#REF!","v":{"$error":"#REF!"}},{"$f":"'Pob x Genero'!#REF!","v":{"$error":"#REF!"}},{"$f":"'Pob x Genero'!#REF!","v":{"$error":"#REF!"}},{"$f":"'Pob x Genero'!#REF!","v":{"$error":"#REF!"}},"Hombre","00-04",{"$f":"'Pob x Genero'!#REF!","v":{"$error":"#REF!"}},724]
[{"$f":"'Pob x Genero'!#REF!","v":{"$error":"#REF!"}},{"$f":"'Pob x Genero'!#REF!","v":{"$error":"#REF!"}},{"$f":"'Pob x Genero'!#REF!","v":{"$error":"#REF!"}},{"$f":"'Pob x Genero'!#REF!","v":{"$error":"#REF!"}},{"$f":"'Pob x Genero'!#REF!","v":{"$error":"#REF!"}},"Hombre","00-04",{"$f":"'Pob x Genero'!#REF!","v":{"$error":"#REF!"}},725]
[{"$f":"'Pob x Genero'!#REF!","v":{"$error":"#REF!"}},{"$f":"'Pob x Genero'!#REF!","v":{"$error":"#REF!"}},{"$f":"'Pob x Genero'!#REF!","v":{"$error":"#REF!"}},{"$f":"'Pob x Genero'!#REF!","v":{"$error":"#REF!"}},{"$f":"'Pob x Genero'!#REF!","v":{"$error":"#REF!"}},"Hombre","00-04",{"$f":"'Pob x Genero'!#REF!","v":{"$error":"#REF!"}},726]
[{"$f":"'Pob x Genero'!#REF!","v":{"$error":"#REF!"}},{"$f":"'Pob x Genero'!#REF!","v":{"$error":"#REF!"}},{"$f":"'Pob x Genero'!#REF!","v":{"$error":"#REF!"}},{"$f":"'Pob x Genero'!#REF!","v":{"$error":"#REF!"}},{"$f":"'Pob x Genero'!#REF!","v":{"$error":"#REF!"}},"Hombre","00-04",{"$f":"'Pob x Genero'!#REF!","v":{"$error":"#REF!"}},727]
[{"$f":"'Pob x Genero'!#REF!","v":{"$error":"#REF!"}},{"$f":"'Pob x Genero'!#REF!","v":{"$error":"#REF!"}},{"$f":"'Pob x Genero'!#REF!","v":{"$error":"#REF!"}},{"$f":"'Pob x Genero'!#REF!","v":{"$error":"#REF!"}},{"$f":"'Pob x Genero'!#REF!","v":{"$error":"#REF!"}},"Hombre","00-04",{"$f":"'Pob x Genero'!#REF!","v":{"$error":"#REF!"}},728]
[{"$f":"'Pob x Genero'!#REF!","v":{"$error":"#REF!"}},{"$f":"'Pob x Genero'!#REF!","v":{"$error":"#REF!"}},{"$f":"'Pob x Genero'!#REF!","v":{"$error":"#REF!"}},{"$f":"'Pob x Genero'!#REF!","v":{"$error":"#REF!"}},{"$f":"'Pob x Genero'!#REF!","v":{"$error":"#REF!"}},"Hombre","00-04",{"$f":"'Pob x Genero'!#REF!","v":{"$error":"#REF!"}},729]
[{"$f":"'Pob x Genero'!#REF!","v":{"$error":"#REF!"}},{"$f":"'Pob x Genero'!#REF!","v":{"$error":"#REF!"}},{"$f":"'Pob x Genero'!#REF!","v":{"$error":"#REF!"}},{"$f":"'Pob x Genero'!#REF!","v":{"$error":"#REF!"}},{"$f":"'Pob x Genero'!#REF!","v":{"$error":"#REF!"}},"Hombre","00-04",{"$f":"'Pob x Genero'!#REF!","v":{"$error":"#REF!"}},730]
[{"$f":"'Pob x Genero'!#REF!","v":{"$error":"#REF!"}},{"$f":"'Pob x Genero'!#REF!","v":{"$error":"#REF!"}},{"$f":"'Pob x Genero'!#REF!","v":{"$error":"#REF!"}},{"$f":"'Pob x Genero'!#REF!","v":{"$error":"#REF!"}},{"$f":"'Pob x Genero'!#REF!","v":{"$error":"#REF!"}},"Hombre","00-04",{"$f":"'Pob x Genero'!#REF!","v":{"$error":"#REF!"}},731]
[{"$f":"'Pob x Genero'!#REF!","v":{"$error":"#REF!"}},{"$f":"'Pob x Genero'!#REF!","v":{"$error":"#REF!"}},{"$f":"'Pob x Genero'!#REF!","v":{"$error":"#REF!"}},{"$f":"'Pob x Genero'!#REF!","v":{"$error":"#REF!"}},{"$f":"'Pob x Genero'!#REF!","v":{"$error":"#REF!"}},"Hombre","00-04",{"$f":"'Pob x Genero'!#REF!","v":{"$error":"#REF!"}},732]
[{"$f":"'Pob x Genero'!#REF!","v":{"$error":"#REF!"}},{"$f":"'Pob x Genero'!#REF!","v":{"$error":"#REF!"}},{"$f":"'Pob x Genero'!#REF!","v":{"$error":"#REF!"}},{"$f":"'Pob x Genero'!#REF!","v":{"$error":"#REF!"}},{"$f":"'Pob x Genero'!#REF!","v":{"$error":"#REF!"}},"Hombre","00-04",{"$f":"'Pob x Genero'!#REF!","v":{"$error":"#REF!"}},733]
[{"$f":"'Pob x Genero'!#REF!","v":{"$error":"#REF!"}},{"$f":"'Pob x Genero'!#REF!","v":{"$error":"#REF!"}},{"$f":"'Pob x Genero'!#REF!","v":{"$error":"#REF!"}},{"$f":"'Pob x Genero'!#REF!","v":{"$error":"#REF!"}},{"$f":"'Pob x Genero'!#REF!","v":{"$error":"#REF!"}},"Hombre","00-04",{"$f":"'Pob x Genero'!#REF!","v":{"$error":"#REF!"}},734]
[{"$f":"'Pob x Genero'!#REF!","v":{"$error":"#REF!"}},{"$f":"'Pob x Genero'!#REF!","v":{"$error":"#REF!"}},{"$f":"'Pob x Genero'!#REF!","v":{"$error":"#REF!"}},{"$f":"'Pob x Genero'!#REF!","v":{"$error":"#REF!"}},{"$f":"'Pob x Genero'!#REF!","v":{"$error":"#REF!"}},"Hombre","00-04",{"$f":"'Pob x Genero'!#REF!","v":{"$error":"#REF!"}},735]
[{"$f":"'Pob x Genero'!#REF!","v":{"$error":"#REF!"}},{"$f":"'Pob x Genero'!#REF!","v":{"$error":"#REF!"}},{"$f":"'Pob x Genero'!#REF!","v":{"$error":"#REF!"}},{"$f":"'Pob x Genero'!#REF!","v":{"$error":"#REF!"}},{"$f":"'Pob x Genero'!#REF!","v":{"$error":"#REF!"}},"Hombre","00-04",{"$f":"'Pob x Genero'!#REF!","v":{"$error":"#REF!"}},736]
[{"$f":"'Pob x Genero'!#REF!","v":{"$error":"#REF!"}},{"$f":"'Pob x Genero'!#REF!","v":{"$error":"#REF!"}},{"$f":"'Pob x Genero'!#REF!","v":{"$error":"#REF!"}},{"$f":"'Pob x Genero'!#REF!","v":{"$error":"#REF!"}},{"$f":"'Pob x Genero'!#REF!","v":{"$error":"#REF!"}},"Hombre","00-04",{"$f":"'Pob x Genero'!#REF!","v":{"$error":"#REF!"}},737]
[{"$f":"'Pob x Genero'!#REF!","v":{"$error":"#REF!"}},{"$f":"'Pob x Genero'!#REF!","v":{"$error":"#REF!"}},{"$f":"'Pob x Genero'!#REF!","v":{"$error":"#REF!"}},{"$f":"'Pob x Genero'!#REF!","v":{"$error":"#REF!"}},{"$f":"'Pob x Genero'!#REF!","v":{"$error":"#REF!"}},"Hombre","00-04",{"$f":"'Pob x Genero'!#REF!","v":{"$error":"#REF!"}},738]
[{"$f":"'Pob x Genero'!#REF!","v":{"$error":"#REF!"}},{"$f":"'Pob x Genero'!#REF!","v":{"$error":"#REF!"}},{"$f":"'Pob x Genero'!#REF!","v":{"$error":"#REF!"}},{"$f":"'Pob x Genero'!#REF!","v":{"$error":"#REF!"}},{"$f":"'Pob x Genero'!#REF!","v":{"$error":"#REF!"}},"Hombre","00-04",{"$f":"'Pob x Genero'!#REF!","v":{"$error":"#REF!"}},739]
[{"$f":"'Pob x Genero'!#REF!","v":{"$error":"#REF!"}},{"$f":"'Pob x Genero'!#REF!","v":{"$error":"#REF!"}},{"$f":"'Pob x Genero'!#REF!","v":{"$error":"#REF!"}},{"$f":"'Pob x Genero'!#REF!","v":{"$error":"#REF!"}},{"$f":"'Pob x Genero'!#REF!","v":{"$error":"#REF!"}},"Hombre","00-04",{"$f":"'Pob x Genero'!#REF!","v":{"$error":"#REF!"}},740]
[{"$f":"'Pob x Genero'!#REF!","v":{"$error":"#REF!"}},{"$f":"'Pob x Genero'!#REF!","v":{"$error":"#REF!"}},{"$f":"'Pob x Genero'!#REF!","v":{"$error":"#REF!"}},{"$f":"'Pob x Genero'!#REF!","v":{"$error":"#REF!"}},{"$f":"'Pob x Genero'!#REF!","v":{"$error":"#REF!"}},"Hombre","00-04",{"$f":"'Pob x Genero'!#REF!","v":{"$error":"#REF!"}},741]
[{"$f":"'Pob x Genero'!#REF!","v":{"$error":"#REF!"}},{"$f":"'Pob x Genero'!#REF!","v":{"$error":"#REF!"}},{"$f":"'Pob x Genero'!#REF!","v":{"$error":"#REF!"}},{"$f":"'Pob x Genero'!#REF!","v":{"$error":"#REF!"}},{"$f":"'Pob x Genero'!#REF!","v":{"$error":"#REF!"}},"Hombre","00-04",{"$f":"'Pob x Genero'!#REF!","v":{"$error":"#REF!"}},742]
[{"$f":"'Pob x Genero'!#REF!","v":{"$error":"#REF!"}},{"$f":"'Pob x Genero'!#REF!","v":{"$error":"#REF!"}},{"$f":"'Pob x Genero'!#REF!","v":{"$error":"#REF!"}},{"$f":"'Pob x Genero'!#REF!","v":{"$error":"#REF!"}},{"$f":"'Pob x Genero'!#REF!","v":{"$error":"#REF!"}},"Hombre","00-04",{"$f":"'Pob x Genero'!#REF!","v":{"$error":"#REF!"}},743]
[{"$f":"'Pob x Genero'!#REF!","v":{"$error":"#REF!"}},{"$f":"'Pob x Genero'!#REF!","v":{"$error":"#REF!"}},{"$f":"'Pob x Genero'!#REF!","v":{"$error":"#REF!"}},{"$f":"'Pob x Genero'!#REF!","v":{"$error":"#REF!"}},{"$f":"'Pob x Genero'!#REF!","v":{"$error":"#REF!"}},"Hombre","00-04",{"$f":"'Pob x Genero'!#REF!","v":{"$error":"#REF!"}},744]
[{"$f":"'Pob x Genero'!#REF!","v":{"$error":"#REF!"}},{"$f":"'Pob x Genero'!#REF!","v":{"$error":"#REF!"}},{"$f":"'Pob x Genero'!#REF!","v":{"$error":"#REF!"}},{"$f":"'Pob x Genero'!#REF!","v":{"$error":"#REF!"}},{"$f":"'Pob x Genero'!#REF!","v":{"$error":"#REF!"}},"Hombre","00-04",{"$f":"'Pob x Genero'!#REF!","v":{"$error":"#REF!"}},745]
[{"$f":"'Pob x Genero'!#REF!","v":{"$error":"#REF!"}},{"$f":"'Pob x Genero'!#REF!","v":{"$error":"#REF!"}},{"$f":"'Pob x Genero'!#REF!","v":{"$error":"#REF!"}},{"$f":"'Pob x Genero'!#REF!","v":{"$error":"#REF!"}},{"$f":"'Pob x Genero'!#REF!","v":{"$error":"#REF!"}},"Hombre","00-04",{"$f":"'Pob x Genero'!#REF!","v":{"$error":"#REF!"}},746]
[{"$f":"'Pob x Genero'!#REF!","v":{"$error":"#REF!"}},{"$f":"'Pob x Genero'!#REF!","v":{"$error":"#REF!"}},{"$f":"'Pob x Genero'!#REF!","v":{"$error":"#REF!"}},{"$f":"'Pob x Genero'!#REF!","v":{"$error":"#REF!"}},{"$f":"'Pob x Genero'!#REF!","v":{"$error":"#REF!"}},"Hombre","00-04",{"$f":"'Pob x Genero'!#REF!","v":{"$error":"#REF!"}},747]
[{"$f":"'Pob x Genero'!#REF!","v":{"$error":"#REF!"}},{"$f":"'Pob x Genero'!#REF!","v":{"$error":"#REF!"}},{"$f":"'Pob x Genero'!#REF!","v":{"$error":"#REF!"}},{"$f":"'Pob x Genero'!#REF!","v":{"$error":"#REF!"}},{"$f":"'Pob x Genero'!#REF!","v":{"$error":"#REF!"}},"Hombre","00-04",{"$f":"'Pob x Genero'!#REF!","v":{"$error":"#REF!"}},748]
[{"$f":"'Pob x Genero'!#REF!","v":{"$error":"#REF!"}},{"$f":"'Pob x Genero'!#REF!","v":{"$error":"#REF!"}},{"$f":"'Pob x Genero'!#REF!","v":{"$error":"#REF!"}},{"$f":"'Pob x Genero'!#REF!","v":{"$error":"#REF!"}},{"$f":"'Pob x Genero'!#REF!","v":{"$error":"#REF!"}},"Hombre","00-04",{"$f":"'Pob x Genero'!#REF!","v":{"$error":"#REF!"}},749]
[{"$f":"'Pob x Genero'!#REF!","v":{"$error":"#REF!"}},{"$f":"'Pob x Genero'!#REF!","v":{"$error":"#REF!"}},{"$f":"'Pob x Genero'!#REF!","v":{"$error":"#REF!"}},{"$f":"'Pob x Genero'!#REF!","v":{"$error":"#REF!"}},{"$f":"'Pob x Genero'!#REF!","v":{"$error":"#REF!"}},"Hombre","00-04",{"$f":"'Pob x Genero'!#REF!","v":{"$error":"#REF!"}},750]
[{"$f":"'Pob x Genero'!#REF!","v":{"$error":"#REF!"}},{"$f":"'Pob x Genero'!#REF!","v":{"$error":"#REF!"}},{"$f":"'Pob x Genero'!#REF!","v":{"$error":"#REF!"}},{"$f":"'Pob x Genero'!#REF!","v":{"$error":"#REF!"}},{"$f":"'Pob x Genero'!#REF!","v":{"$error":"#REF!"}},"Hombre","00-04",{"$f":"'Pob x Genero'!#REF!","v":{"$error":"#REF!"}},751]
[{"$f":"'Pob x Genero'!#REF!","v":{"$error":"#REF!"}},{"$f":"'Pob x Genero'!#REF!","v":{"$error":"#REF!"}},{"$f":"'Pob x Genero'!#REF!","v":{"$error":"#REF!"}},{"$f":"'Pob x Genero'!#REF!","v":{"$error":"#REF!"}},{"$f":"'Pob x Genero'!#REF!","v":{"$error":"#REF!"}},"Hombre","00-04",{"$f":"'Pob x Genero'!#REF!","v":{"$error":"#REF!"}},752]
[{"$f":"'Pob x Genero'!#REF!","v":{"$error":"#REF!"}},{"$f":"'Pob x Genero'!#REF!","v":{"$error":"#REF!"}},{"$f":"'Pob x Genero'!#REF!","v":{"$error":"#REF!"}},{"$f":"'Pob x Genero'!#REF!","v":{"$error":"#REF!"}},{"$f":"'Pob x Genero'!#REF!","v":{"$error":"#REF!"}},"Hombre","00-04",{"$f":"'Pob x Genero'!#REF!","v":{"$error":"#REF!"}},753]
[{"$f":"'Pob x Genero'!#REF!","v":{"$error":"#REF!"}},{"$f":"'Pob x Genero'!#REF!","v":{"$error":"#REF!"}},{"$f":"'Pob x Genero'!#REF!","v":{"$error":"#REF!"}},{"$f":"'Pob x Genero'!#REF!","v":{"$error":"#REF!"}},{"$f":"'Pob x Genero'!#REF!","v":{"$error":"#REF!"}},"Hombre","00-04",{"$f":"'Pob x Genero'!#REF!","v":{"$error":"#REF!"}},754]
[{"$f":"'Pob x Genero'!#REF!","v":{"$error":"#REF!"}},{"$f":"'Pob x Genero'!#REF!","v":{"$error":"#REF!"}},{"$f":"'Pob x Genero'!#REF!","v":{"$error":"#REF!"}},{"$f":"'Pob x Genero'!#REF!","v":{"$error":"#REF!"}},{"$f":"'Pob x Genero'!#REF!","v":{"$error":"#REF!"}},"Hombre","00-04",{"$f":"'Pob x Genero'!#REF!","v":{"$error":"#REF!"}},755]
[{"$f":"'Pob x Genero'!#REF!","v":{"$error":"#REF!"}},{"$f":"'Pob x Genero'!#REF!","v":{"$error":"#REF!"}},{"$f":"'Pob x Genero'!#REF!","v":{"$error":"#REF!"}},{"$f":"'Pob x Genero'!#REF!","v":{"$error":"#REF!"}},{"$f":"'Pob x Genero'!#REF!","v":{"$error":"#REF!"}},"Hombre","00-04",{"$f":"'Pob x Genero'!#REF!","v":{"$error":"#REF!"}},756]
[{"$f":"'Pob x Genero'!#REF!","v":{"$error":"#REF!"}},{"$f":"'Pob x Genero'!#REF!","v":{"$error":"#REF!"}},{"$f":"'Pob x Genero'!#REF!","v":{"$error":"#REF!"}},{"$f":"'Pob x Genero'!#REF!","v":{"$error":"#REF!"}},{"$f":"'Pob x Genero'!#REF!","v":{"$error":"#REF!"}},"Hombre","00-04",{"$f":"'Pob x Genero'!#REF!","v":{"$error":"#REF!"}},757]
[{"$f":"'Pob x Genero'!#REF!","v":{"$error":"#REF!"}},{"$f":"'Pob x Genero'!#REF!","v":{"$error":"#REF!"}},{"$f":"'Pob x Genero'!#REF!","v":{"$error":"#REF!"}},{"$f":"'Pob x Genero'!#REF!","v":{"$error":"#REF!"}},{"$f":"'Pob x Genero'!#REF!","v":{"$error":"#REF!"}},"Hombre","00-04",{"$f":"'Pob x Genero'!#REF!","v":{"$error":"#REF!"}},758]
[{"$f":"'Pob x Genero'!#REF!","v":{"$error":"#REF!"}},{"$f":"'Pob x Genero'!#REF!","v":{"$error":"#REF!"}},{"$f":"'Pob x Genero'!#REF!","v":{"$error":"#REF!"}},{"$f":"'Pob x Genero'!#REF!","v":{"$error":"#REF!"}},{"$f":"'Pob x Genero'!#REF!","v":{"$error":"#REF!"}},"Hombre","00-04",{"$f":"'Pob x Genero'!#REF!","v":{"$error":"#REF!"}},759]
[{"$f":"'Pob x Genero'!#REF!","v":{"$error":"#REF!"}},{"$f":"'Pob x Genero'!#REF!","v":{"$error":"#REF!"}},{"$f":"'Pob x Genero'!#REF!","v":{"$error":"#REF!"}},{"$f":"'Pob x Genero'!#REF!","v":{"$error":"#REF!"}},{"$f":"'Pob x Genero'!#REF!","v":{"$error":"#REF!"}},"Hombre","00-04",{"$f":"'Pob x Genero'!#REF!","v":{"$error":"#REF!"}},760]
[{"$f":"'Pob x Genero'!#REF!","v":{"$error":"#REF!"}},{"$f":"'Pob x Genero'!#REF!","v":{"$error":"#REF!"}},{"$f":"'Pob x Genero'!#REF!","v":{"$error":"#REF!"}},{"$f":"'Pob x Genero'!#REF!","v":{"$error":"#REF!"}},{"$f":"'Pob x Genero'!#REF!","v":{"$error":"#REF!"}},"Hombre","00-04",{"$f":"'Pob x Genero'!#REF!","v":{"$error":"#REF!"}},761]
[{"$f":"'Pob x Genero'!#REF!","v":{"$error":"#REF!"}},{"$f":"'Pob x Genero'!#REF!","v":{"$error":"#REF!"}},{"$f":"'Pob x Genero'!#REF!","v":{"$error":"#REF!"}},{"$f":"'Pob x Genero'!#REF!","v":{"$error":"#REF!"}},{"$f":"'Pob x Genero'!#REF!","v":{"$error":"#REF!"}},"Hombre","00-04",{"$f":"'Pob x Genero'!#REF!","v":{"$error":"#REF!"}},762]
[{"$f":"'Pob x Genero'!#REF!","v":{"$error":"#REF!"}},{"$f":"'Pob x Genero'!#REF!","v":{"$error":"#REF!"}},{"$f":"'Pob x Genero'!#REF!","v":{"$error":"#REF!"}},{"$f":"'Pob x Genero'!#REF!","v":{"$error":"#REF!"}},{"$f":"'Pob x Genero'!#REF!","v":{"$error":"#REF!"}},"Hombre","00-04",{"$f":"'Pob x Genero'!#REF!","v":{"$error":"#REF!"}},763]
[{"$f":"'Pob x Genero'!#REF!","v":{"$error":"#REF!"}},{"$f":"'Pob x Genero'!#REF!","v":{"$error":"#REF!"}},{"$f":"'Pob x Genero'!#REF!","v":{"$error":"#REF!"}},{"$f":"'Pob x Genero'!#REF!","v":{"$error":"#REF!"}},{"$f":"'Pob x Genero'!#REF!","v":{"$error":"#REF!"}},"Hombre","00-04",{"$f":"'Pob x Genero'!#REF!","v":{"$error":"#REF!"}},764]
[{"$f":"'Pob x Genero'!#REF!","v":{"$error":"#REF!"}},{"$f":"'Pob x Genero'!#REF!","v":{"$error":"#REF!"}},{"$f":"'Pob x Genero'!#REF!","v":{"$error":"#REF!"}},{"$f":"'Pob x Genero'!#REF!","v":{"$error":"#REF!"}},{"$f":"'Pob x Genero'!#REF!","v":{"$error":"#REF!"}},"Hombre","00-04",{"$f":"'Pob x Genero'!#REF!","v":{"$error":"#REF!"}},765]
[{"$f":"'Pob x Genero'!#REF!","v":{"$error":"#REF!"}},{"$f":"'Pob x Genero'!#REF!","v":{"$error":"#REF!"}},{"$f":"'Pob x Genero'!#REF!","v":{"$error":"#REF!"}},{"$f":"'Pob x Genero'!#REF!","v":{"$error":"#REF!"}},{"$f":"'Pob x Genero'!#REF!","v":{"$error":"#REF!"}},"Hombre","00-04",{"$f":"'Pob x Genero'!#REF!","v":{"$error":"#REF!"}},766]
[{"$f":"'Pob x Genero'!#REF!","v":{"$error":"#REF!"}},{"$f":"'Pob x Genero'!#REF!","v":{"$error":"#REF!"}},{"$f":"'Pob x Genero'!#REF!","v":{"$error":"#REF!"}},{"$f":"'Pob x Genero'!#REF!","v":{"$error":"#REF!"}},{"$f":"'Pob x Genero'!#REF!","v":{"$error":"#REF!"}},"Hombre","00-04",{"$f":"'Pob x Genero'!#REF!","v":{"$error":"#REF!"}},767]
[{"$f":"'Pob x Genero'!#REF!","v":{"$error":"#REF!"}},{"$f":"'Pob x Genero'!#REF!","v":{"$error":"#REF!"}},{"$f":"'Pob x Genero'!#REF!","v":{"$error":"#REF!"}},{"$f":"'Pob x Genero'!#REF!","v":{"$error":"#REF!"}},{"$f":"'Pob x Genero'!#REF!","v":{"$error":"#REF!"}},"Hombre","00-04",{"$f":"'Pob x Genero'!#REF!","v":{"$error":"#REF!"}},768]
[{"$f":"'Pob x Genero'!#REF!","v":{"$error":"#REF!"}},{"$f":"'Pob x Genero'!#REF!","v":{"$error":"#REF!"}},{"$f":"'Pob x Genero'!#REF!","v":{"$error":"#REF!"}},{"$f":"'Pob x Genero'!#REF!","v":{"$error":"#REF!"}},{"$f":"'Pob x Genero'!#REF!","v":{"$error":"#REF!"}},"Hombre","00-04",{"$f":"'Pob x Genero'!#REF!","v":{"$error":"#REF!"}},769]
[{"$f":"'Pob x Genero'!#REF!","v":{"$error":"#REF!"}},{"$f":"'Pob x Genero'!#REF!","v":{"$error":"#REF!"}},{"$f":"'Pob x Genero'!#REF!","v":{"$error":"#REF!"}},{"$f":"'Pob x Genero'!#REF!","v":{"$error":"#REF!"}},{"$f":"'Pob x Genero'!#REF!","v":{"$error":"#REF!"}},{"$f":"F770","v":"Hombre"},{"$f":"G770","v":"00-04"},{"$f":"'Pob x Genero'!#REF!","v":{"$error":"#REF!"}},770]
[{"$f":"'Pob x Genero'!#REF!","v":{"$error":"#REF!"}},{"$f":"'Pob x Genero'!#REF!","v":{"$error":"#REF!"}},{"$f":"'Pob x Genero'!#REF!","v":{"$error":"#REF!"}},{"$f":"'Pob x Genero'!#REF!","v":{"$error":"#REF!"}},{"$f":"'Pob x Genero'!#REF!","v":{"$error":"#REF!"}},"Hombre","00-04",{"$f":"'Pob x Genero'!#REF!","v":{"$error":"#REF!"}},771]
[{"$f":"'Pob x Genero'!#REF!","v":{"$error":"#REF!"}},{"$f":"'Pob x Genero'!#REF!","v":{"$error":"#REF!"}},{"$f":"'Pob x Genero'!#REF!","v":{"$error":"#REF!"}},{"$f":"'Pob x Genero'!#REF!","v":{"$error":"#REF!"}},{"$f":"'Pob x Genero'!#REF!","v":{"$error":"#REF!"}},"Hombre","00-04",{"$f":"'Pob x Genero'!#REF!","v":{"$error":"#REF!"}},772]
[{"$f":"'Pob x Genero'!#REF!","v":{"$error":"#REF!"}},{"$f":"'Pob x Genero'!#REF!","v":{"$error":"#REF!"}},{"$f":"'Pob x Genero'!#REF!","v":{"$error":"#REF!"}},{"$f":"'Pob x Genero'!#REF!","v":{"$error":"#REF!"}},{"$f":"'Pob x Genero'!#REF!","v":{"$error":"#REF!"}},"Hombre","00-04",{"$f":"'Pob x Genero'!#REF!","v":{"$error":"#REF!"}},773]
[{"$f":"'Pob x Genero'!#REF!","v":{"$error":"#REF!"}},{"$f":"'Pob x Genero'!#REF!","v":{"$error":"#REF!"}},{"$f":"'Pob x Genero'!#REF!","v":{"$error":"#REF!"}},{"$f":"'Pob x Genero'!#REF!","v":{"$error":"#REF!"}},{"$f":"'Pob x Genero'!#REF!","v":{"$error":"#REF!"}},"Hombre","00-04",{"$f":"'Pob x Genero'!#REF!","v":{"$error":"#REF!"}},774]
[{"$f":"'Pob x Genero'!#REF!","v":{"$error":"#REF!"}},{"$f":"'Pob x Genero'!#REF!","v":{"$error":"#REF!"}},{"$f":"'Pob x Genero'!#REF!","v":{"$error":"#REF!"}},{"$f":"'Pob x Genero'!#REF!","v":{"$error":"#REF!"}},{"$f":"'Pob x Genero'!#REF!","v":{"$error":"#REF!"}},"Hombre","00-04",{"$f":"'Pob x Genero'!#REF!","v":{"$error":"#REF!"}},775]
[{"$f":"'Pob x Genero'!#REF!","v":{"$error":"#REF!"}},{"$f":"'Pob x Genero'!#REF!","v":{"$error":"#REF!"}},{"$f":"'Pob x Genero'!#REF!","v":{"$error":"#REF!"}},{"$f":"'Pob x Genero'!#REF!","v":{"$error":"#REF!"}},{"$f":"'Pob x Genero'!#REF!","v":{"$error":"#REF!"}},"Hombre","00-04",{"$f":"'Pob x Genero'!#REF!","v":{"$error":"#REF!"}},776]
[{"$f":"'Pob x Genero'!#REF!","v":{"$error":"#REF!"}},{"$f":"'Pob x Genero'!#REF!","v":{"$error":"#REF!"}},{"$f":"'Pob x Genero'!#REF!","v":{"$error":"#REF!"}},{"$f":"'Pob x Genero'!#REF!","v":{"$error":"#REF!"}},{"$f":"'Pob x Genero'!#REF!","v":{"$error":"#REF!"}},"Hombre","00-04",{"$f":"'Pob x Genero'!#REF!","v":{"$error":"#REF!"}},777]
[{"$f":"'Pob x Genero'!#REF!","v":{"$error":"#REF!"}},{"$f":"'Pob x Genero'!#REF!","v":{"$error":"#REF!"}},{"$f":"'Pob x Genero'!#REF!","v":{"$error":"#REF!"}},{"$f":"'Pob x Genero'!#REF!","v":{"$error":"#REF!"}},{"$f":"'Pob x Genero'!#REF!","v":{"$error":"#REF!"}},"Hombre","00-04",{"$f":"'Pob x Genero'!#REF!","v":{"$error":"#REF!"}},778]
[{"$f":"'Pob x Genero'!#REF!","v":{"$error":"#REF!"}},{"$f":"'Pob x Genero'!#REF!","v":{"$error":"#REF!"}},{"$f":"'Pob x Genero'!#REF!","v":{"$error":"#REF!"}},{"$f":"'Pob x Genero'!#REF!","v":{"$error":"#REF!"}},{"$f":"'Pob x Genero'!#REF!","v":{"$error":"#REF!"}},"Hombre","00-04",{"$f":"'Pob x Genero'!#REF!","v":{"$error":"#REF!"}},779]
[{"$f":"'Pob x Genero'!#REF!","v":{"$error":"#REF!"}},{"$f":"'Pob x Genero'!#REF!","v":{"$error":"#REF!"}},{"$f":"'Pob x Genero'!#REF!","v":{"$error":"#REF!"}},{"$f":"'Pob x Genero'!#REF!","v":{"$error":"#REF!"}},{"$f":"'Pob x Genero'!#REF!","v":{"$error":"#REF!"}},"Hombre","00-04",{"$f":"'Pob x Genero'!#REF!","v":{"$error":"#REF!"}},780]
[{"$f":"'Pob x Genero'!#REF!","v":{"$error":"#REF!"}},{"$f":"'Pob x Genero'!#REF!","v":{"$error":"#REF!"}},{"$f":"'Pob x Genero'!#REF!","v":{"$error":"#REF!"}},{"$f":"'Pob x Genero'!#REF!","v":{"$error":"#REF!"}},{"$f":"'Pob x Genero'!#REF!","v":{"$error":"#REF!"}},"Hombre","00-04",{"$f":"'Pob x Genero'!#REF!","v":{"$error":"#REF!"}},781]
[{"$f":"'Pob x Genero'!#REF!","v":{"$error":"#REF!"}},{"$f":"'Pob x Genero'!#REF!","v":{"$error":"#REF!"}},{"$f":"'Pob x Genero'!#REF!","v":{"$error":"#REF!"}},{"$f":"'Pob x Genero'!#REF!","v":{"$error":"#REF!"}},{"$f":"'Pob x Genero'!#REF!","v":{"$error":"#REF!"}},"Hombre","00-04",{"$f":"'Pob x Genero'!#REF!","v":{"$error":"#REF!"}},782]
[{"$f":"'Pob x Genero'!#REF!","v":{"$error":"#REF!"}},{"$f":"'Pob x Genero'!#REF!","v":{"$error":"#REF!"}},{"$f":"'Pob x Genero'!#REF!","v":{"$error":"#REF!"}},{"$f":"'Pob x Genero'!#REF!","v":{"$error":"#REF!"}},{"$f":"'Pob x Genero'!#REF!","v":{"$error":"#REF!"}},"Hombre","00-04",{"$f":"'Pob x Genero'!#REF!","v":{"$error":"#REF!"}},783]
[{"$f":"'Pob x Genero'!#REF!","v":{"$error":"#REF!"}},{"$f":"'Pob x Genero'!#REF!","v":{"$error":"#REF!"}},{"$f":"'Pob x Genero'!#REF!","v":{"$error":"#REF!"}},{"$f":"'Pob x Genero'!#REF!","v":{"$error":"#REF!"}},{"$f":"'Pob x Genero'!#REF!","v":{"$error":"#REF!"}},"Hombre","00-04",{"$f":"'Pob x Genero'!#REF!","v":{"$error":"#REF!"}},784]
[{"$f":"'Pob x Genero'!#REF!","v":{"$error":"#REF!"}},{"$f":"'Pob x Genero'!#REF!","v":{"$error":"#REF!"}},{"$f":"'Pob x Genero'!#REF!","v":{"$error":"#REF!"}},{"$f":"'Pob x Genero'!#REF!","v":{"$error":"#REF!"}},{"$f":"'Pob x Genero'!#REF!","v":{"$error":"#REF!"}},"Hombre","00-04",{"$f":"'Pob x Genero'!#REF!","v":{"$error":"#REF!"}},785]
[{"$f":"'Pob x Genero'!#REF!","v":{"$error":"#REF!"}},{"$f":"'Pob x Genero'!#REF!","v":{"$error":"#REF!"}},{"$f":"'Pob x Genero'!#REF!","v":{"$error":"#REF!"}},{"$f":"'Pob x Genero'!#REF!","v":{"$error":"#REF!"}},{"$f":"'Pob x Genero'!#REF!","v":{"$error":"#REF!"}},"Hombre","00-04",{"$f":"'Pob x Genero'!#REF!","v":{"$error":"#REF!"}},786]
[{"$f":"'Pob x Genero'!#REF!","v":{"$error":"#REF!"}},{"$f":"'Pob x Genero'!#REF!","v":{"$error":"#REF!"}},{"$f":"'Pob x Genero'!#REF!","v":{"$error":"#REF!"}},{"$f":"'Pob x Genero'!#REF!","v":{"$error":"#REF!"}},{"$f":"'Pob x Genero'!#REF!","v":{"$error":"#REF!"}},"Hombre","00-04",{"$f":"'Pob x Genero'!#REF!","v":{"$error":"#REF!"}},787]
[{"$f":"'Pob x Genero'!#REF!","v":{"$error":"#REF!"}},{"$f":"'Pob x Genero'!#REF!","v":{"$error":"#REF!"}},{"$f":"'Pob x Genero'!#REF!","v":{"$error":"#REF!"}},{"$f":"'Pob x Genero'!#REF!","v":{"$error":"#REF!"}},{"$f":"'Pob x Genero'!#REF!","v":{"$error":"#REF!"}},"Hombre","00-04",{"$f":"'Pob x Genero'!#REF!","v":{"$error":"#REF!"}},788]
[{"$f":"'Pob x Genero'!#REF!","v":{"$error":"#REF!"}},{"$f":"'Pob x Genero'!#REF!","v":{"$error":"#REF!"}},{"$f":"'Pob x Genero'!#REF!","v":{"$error":"#REF!"}},{"$f":"'Pob x Genero'!#REF!","v":{"$error":"#REF!"}},{"$f":"'Pob x Genero'!#REF!","v":{"$error":"#REF!"}},"Hombre","00-04",{"$f":"'Pob x Genero'!#REF!","v":{"$error":"#REF!"}},789]
[{"$f":"'Pob x Genero'!#REF!","v":{"$error":"#REF!"}},{"$f":"'Pob x Genero'!#REF!","v":{"$error":"#REF!"}},{"$f":"'Pob x Genero'!#REF!","v":{"$error":"#REF!"}},{"$f":"'Pob x Genero'!#REF!","v":{"$error":"#REF!"}},{"$f":"'Pob x Genero'!#REF!","v":{"$error":"#REF!"}},"Hombre","00-04",{"$f":"'Pob x Genero'!#REF!","v":{"$error":"#REF!"}},790]
[{"$f":"'Pob x Genero'!#REF!","v":{"$error":"#REF!"}},{"$f":"'Pob x Genero'!#REF!","v":{"$error":"#REF!"}},{"$f":"'Pob x Genero'!#REF!","v":{"$error":"#REF!"}},{"$f":"'Pob x Genero'!#REF!","v":{"$error":"#REF!"}},{"$f":"'Pob x Genero'!#REF!","v":{"$error":"#REF!"}},"Hombre","00-04",{"$f":"'Pob x Genero'!#REF!","v":{"$error":"#REF!"}},791]
[{"$f":"'Pob x Genero'!#REF!","v":{"$error":"#REF!"}},{"$f":"'Pob x Genero'!#REF!","v":{"$error":"#REF!"}},{"$f":"'Pob x Genero'!#REF!","v":{"$error":"#REF!"}},{"$f":"'Pob x Genero'!#REF!","v":{"$error":"#REF!"}},{"$f":"'Pob x Genero'!#REF!","v":{"$error":"#REF!"}},"Hombre","00-04",{"$f":"'Pob x Genero'!#REF!","v":{"$error":"#REF!"}},792]
[{"$f":"'Pob x Genero'!#REF!","v":{"$error":"#REF!"}},{"$f":"'Pob x Genero'!#REF!","v":{"$error":"#REF!"}},{"$f":"'Pob x Genero'!#REF!","v":{"$error":"#REF!"}},{"$f":"'Pob x Genero'!#REF!","v":{"$error":"#REF!"}},{"$f":"'Pob x Genero'!#REF!","v":{"$error":"#REF!"}},"Hombre","00-04",{"$f":"'Pob x Genero'!#REF!","v":{"$error":"#REF!"}},793]
[{"$f":"'Pob x Genero'!#REF!","v":{"$error":"#REF!"}},{"$f":"'Pob x Genero'!#REF!","v":{"$error":"#REF!"}},{"$f":"'Pob x Genero'!#REF!","v":{"$error":"#REF!"}},{"$f":"'Pob x Genero'!#REF!","v":{"$error":"#REF!"}},{"$f":"'Pob x Genero'!#REF!","v":{"$error":"#REF!"}},"Hombre","00-04",{"$f":"'Pob x Genero'!#REF!","v":{"$error":"#REF!"}},794]
[{"$f":"'Pob x Genero'!#REF!","v":{"$error":"#REF!"}},{"$f":"'Pob x Genero'!#REF!","v":{"$error":"#REF!"}},{"$f":"'Pob x Genero'!#REF!","v":{"$error":"#REF!"}},{"$f":"'Pob x Genero'!#REF!","v":{"$error":"#REF!"}},{"$f":"'Pob x Genero'!#REF!","v":{"$error":"#REF!"}},"Hombre","00-04",{"$f":"'Pob x Genero'!#REF!","v":{"$error":"#REF!"}},795]
[{"$f":"'Pob x Genero'!#REF!","v":{"$error":"#REF!"}},{"$f":"'Pob x Genero'!#REF!","v":{"$error":"#REF!"}},{"$f":"'Pob x Genero'!#REF!","v":{"$error":"#REF!"}},{"$f":"'Pob x Genero'!#REF!","v":{"$error":"#REF!"}},{"$f":"'Pob x Genero'!#REF!","v":{"$error":"#REF!"}},"Hombre","00-04",{"$f":"'Pob x Genero'!#REF!","v":{"$error":"#REF!"}},796]
[{"$f":"'Pob x Genero'!#REF!","v":{"$error":"#REF!"}},{"$f":"'Pob x Genero'!#REF!","v":{"$error":"#REF!"}},{"$f":"'Pob x Genero'!#REF!","v":{"$error":"#REF!"}},{"$f":"'Pob x Genero'!#REF!","v":{"$error":"#REF!"}},{"$f":"'Pob x Genero'!#REF!","v":{"$error":"#REF!"}},"Hombre","00-04",{"$f":"'Pob x Genero'!#REF!","v":{"$error":"#REF!"}},797]
[{"$f":"'Pob x Genero'!#REF!","v":{"$error":"#REF!"}},{"$f":"'Pob x Genero'!#REF!","v":{"$error":"#REF!"}},{"$f":"'Pob x Genero'!#REF!","v":{"$error":"#REF!"}},{"$f":"'Pob x Genero'!#REF!","v":{"$error":"#REF!"}},{"$f":"'Pob x Genero'!#REF!","v":{"$error":"#REF!"}},"Hombre","00-04",{"$f":"'Pob x Genero'!#REF!","v":{"$error":"#REF!"}},798]
[{"$f":"'Pob x Genero'!#REF!","v":{"$error":"#REF!"}},{"$f":"'Pob x Genero'!#REF!","v":{"$error":"#REF!"}},{"$f":"'Pob x Genero'!#REF!","v":{"$error":"#REF!"}},{"$f":"'Pob x Genero'!#REF!","v":{"$error":"#REF!"}},{"$f":"'Pob x Genero'!#REF!","v":{"$error":"#REF!"}},"Hombre","00-04",{"$f":"'Pob x Genero'!#REF!","v":{"$error":"#REF!"}},799]
[{"$f":"'Pob x Genero'!#REF!","v":{"$error":"#REF!"}},{"$f":"'Pob x Genero'!#REF!","v":{"$error":"#REF!"}},{"$f":"'Pob x Genero'!#REF!","v":{"$error":"#REF!"}},{"$f":"'Pob x Genero'!#REF!","v":{"$error":"#REF!"}},{"$f":"'Pob x Genero'!#REF!","v":{"$error":"#REF!"}},"Hombre","00-04",{"$f":"'Pob x Genero'!#REF!","v":{"$error":"#REF!"}},800]
[{"$f":"'Pob x Genero'!#REF!","v":{"$error":"#REF!"}},{"$f":"'Pob x Genero'!#REF!","v":{"$error":"#REF!"}},{"$f":"'Pob x Genero'!#REF!","v":{"$error":"#REF!"}},{"$f":"'Pob x Genero'!#REF!","v":{"$error":"#REF!"}},{"$f":"'Pob x Genero'!#REF!","v":{"$error":"#REF!"}},"Hombre","00-04",{"$f":"'Pob x Genero'!#REF!","v":{"$error":"#REF!"}},801]
[{"$f":"'Pob x Genero'!#REF!","v":{"$error":"#REF!"}},{"$f":"'Pob x Genero'!#REF!","v":{"$error":"#REF!"}},{"$f":"'Pob x Genero'!#REF!","v":{"$error":"#REF!"}},{"$f":"'Pob x Genero'!#REF!","v":{"$error":"#REF!"}},{"$f":"'Pob x Genero'!#REF!","v":{"$error":"#REF!"}},"Hombre","00-04",{"$f":"'Pob x Genero'!#REF!","v":{"$error":"#REF!"}},802]
[{"$f":"'Pob x Genero'!#REF!","v":{"$error":"#REF!"}},{"$f":"'Pob x Genero'!#REF!","v":{"$error":"#REF!"}},{"$f":"'Pob x Genero'!#REF!","v":{"$error":"#REF!"}},{"$f":"'Pob x Genero'!#REF!","v":{"$error":"#REF!"}},{"$f":"'Pob x Genero'!#REF!","v":{"$error":"#REF!"}},"Hombre","00-04",{"$f":"'Pob x Genero'!#REF!","v":{"$error":"#REF!"}},803]
[{"$f":"'Pob x Genero'!#REF!","v":{"$error":"#REF!"}},{"$f":"'Pob x Genero'!#REF!","v":{"$error":"#REF!"}},{"$f":"'Pob x Genero'!#REF!","v":{"$error":"#REF!"}},{"$f":"'Pob x Genero'!#REF!","v":{"$error":"#REF!"}},{"$f":"'Pob x Genero'!#REF!","v":{"$error":"#REF!"}},"Hombre","00-04",{"$f":"'Pob x Genero'!#REF!","v":{"$error":"#REF!"}},804]
[{"$f":"'Pob x Genero'!#REF!","v":{"$error":"#REF!"}},{"$f":"'Pob x Genero'!#REF!","v":{"$error":"#REF!"}},{"$f":"'Pob x Genero'!#REF!","v":{"$error":"#REF!"}},{"$f":"'Pob x Genero'!#REF!","v":{"$error":"#REF!"}},{"$f":"'Pob x Genero'!#REF!","v":{"$error":"#REF!"}},"Hombre","00-04",{"$f":"'Pob x Genero'!#REF!","v":{"$error":"#REF!"}},805]
[{"$f":"'Pob x Genero'!#REF!","v":{"$error":"#REF!"}},{"$f":"'Pob x Genero'!#REF!","v":{"$error":"#REF!"}},{"$f":"'Pob x Genero'!#REF!","v":{"$error":"#REF!"}},{"$f":"'Pob x Genero'!#REF!","v":{"$error":"#REF!"}},{"$f":"'Pob x Genero'!#REF!","v":{"$error":"#REF!"}},"Hombre","00-04",{"$f":"'Pob x Genero'!#REF!","v":{"$error":"#REF!"}},806]
[{"$f":"'Pob x Genero'!#REF!","v":{"$error":"#REF!"}},{"$f":"'Pob x Genero'!#REF!","v":{"$error":"#REF!"}},{"$f":"'Pob x Genero'!#REF!","v":{"$error":"#REF!"}},{"$f":"'Pob x Genero'!#REF!","v":{"$error":"#REF!"}},{"$f":"'Pob x Genero'!#REF!","v":{"$error":"#REF!"}},"Hombre","00-04",{"$f":"'Pob x Genero'!#REF!","v":{"$error":"#REF!"}},807]
[{"$f":"'Pob x Genero'!#REF!","v":{"$error":"#REF!"}},{"$f":"'Pob x Genero'!#REF!","v":{"$error":"#REF!"}},{"$f":"'Pob x Genero'!#REF!","v":{"$error":"#REF!"}},{"$f":"'Pob x Genero'!#REF!","v":{"$error":"#REF!"}},{"$f":"'Pob x Genero'!#REF!","v":{"$error":"#REF!"}},"Hombre","00-04",{"$f":"'Pob x Genero'!#REF!","v":{"$error":"#REF!"}},808]
[{"$f":"'Pob x Genero'!#REF!","v":{"$error":"#REF!"}},{"$f":"'Pob x Genero'!#REF!","v":{"$error":"#REF!"}},{"$f":"'Pob x Genero'!#REF!","v":{"$error":"#REF!"}},{"$f":"'Pob x Genero'!#REF!","v":{"$error":"#REF!"}},{"$f":"'Pob x Genero'!#REF!","v":{"$error":"#REF!"}},"Hombre","00-04",{"$f":"'Pob x Genero'!#REF!","v":{"$error":"#REF!"}},809]
[{"$f":"'Pob x Genero'!#REF!","v":{"$error":"#REF!"}},{"$f":"'Pob x Genero'!#REF!","v":{"$error":"#REF!"}},{"$f":"'Pob x Genero'!#REF!","v":{"$error":"#REF!"}},{"$f":"'Pob x Genero'!#REF!","v":{"$error":"#REF!"}},{"$f":"'Pob x Genero'!#REF!","v":{"$error":"#REF!"}},"Hombre","00-04",{"$f":"'Pob x Genero'!#REF!","v":{"$error":"#REF!"}},810]
[{"$f":"'Pob x Genero'!#REF!","v":{"$error":"#REF!"}},{"$f":"'Pob x Genero'!#REF!","v":{"$error":"#REF!"}},{"$f":"'Pob x Genero'!#REF!","v":{"$error":"#REF!"}},{"$f":"'Pob x Genero'!#REF!","v":{"$error":"#REF!"}},{"$f":"'Pob x Genero'!#REF!","v":{"$error":"#REF!"}},"Hombre","00-04",{"$f":"'Pob x Genero'!#REF!","v":{"$error":"#REF!"}},811]
[{"$f":"'Pob x Genero'!#REF!","v":{"$error":"#REF!"}},{"$f":"'Pob x Genero'!#REF!","v":{"$error":"#REF!"}},{"$f":"'Pob x Genero'!#REF!","v":{"$error":"#REF!"}},{"$f":"'Pob x Genero'!#REF!","v":{"$error":"#REF!"}},{"$f":"'Pob x Genero'!#REF!","v":{"$error":"#REF!"}},"Hombre","00-04",{"$f":"'Pob x Genero'!#REF!","v":{"$error":"#REF!"}},812]
[{"$f":"'Pob x Genero'!#REF!","v":{"$error":"#REF!"}},{"$f":"'Pob x Genero'!#REF!","v":{"$error":"#REF!"}},{"$f":"'Pob x Genero'!#REF!","v":{"$error":"#REF!"}},{"$f":"'Pob x Genero'!#REF!","v":{"$error":"#REF!"}},{"$f":"'Pob x Genero'!#REF!","v":{"$error":"#REF!"}},"Hombre","00-04",{"$f":"'Pob x Genero'!#REF!","v":{"$error":"#REF!"}},813]
[{"$f":"'Pob x Genero'!#REF!","v":{"$error":"#REF!"}},{"$f":"'Pob x Genero'!#REF!","v":{"$error":"#REF!"}},{"$f":"'Pob x Genero'!#REF!","v":{"$error":"#REF!"}},{"$f":"'Pob x Genero'!#REF!","v":{"$error":"#REF!"}},{"$f":"'Pob x Genero'!#REF!","v":{"$error":"#REF!"}},"Hombre","00-04",{"$f":"'Pob x Genero'!#REF!","v":{"$error":"#REF!"}},814]
[{"$f":"'Pob x Genero'!#REF!","v":{"$error":"#REF!"}},{"$f":"'Pob x Genero'!#REF!","v":{"$error":"#REF!"}},{"$f":"'Pob x Genero'!#REF!","v":{"$error":"#REF!"}},{"$f":"'Pob x Genero'!#REF!","v":{"$error":"#REF!"}},{"$f":"'Pob x Genero'!#REF!","v":{"$error":"#REF!"}},"Hombre","00-04",{"$f":"'Pob x Genero'!#REF!","v":{"$error":"#REF!"}},815]
[{"$f":"'Pob x Genero'!#REF!","v":{"$error":"#REF!"}},{"$f":"'Pob x Genero'!#REF!","v":{"$error":"#REF!"}},{"$f":"'Pob x Genero'!#REF!","v":{"$error":"#REF!"}},{"$f":"'Pob x Genero'!#REF!","v":{"$error":"#REF!"}},{"$f":"'Pob x Genero'!#REF!","v":{"$error":"#REF!"}},"Hombre","00-04",{"$f":"'Pob x Genero'!#REF!","v":{"$error":"#REF!"}},816]
[{"$f":"'Pob x Genero'!#REF!","v":{"$error":"#REF!"}},{"$f":"'Pob x Genero'!#REF!","v":{"$error":"#REF!"}},{"$f":"'Pob x Genero'!#REF!","v":{"$error":"#REF!"}},{"$f":"'Pob x Genero'!#REF!","v":{"$error":"#REF!"}},{"$f":"'Pob x Genero'!#REF!","v":{"$error":"#REF!"}},"Hombre","00-04",{"$f":"'Pob x Genero'!#REF!","v":{"$error":"#REF!"}},817]
[{"$f":"'Pob x Genero'!#REF!","v":{"$error":"#REF!"}},{"$f":"'Pob x Genero'!#REF!","v":{"$error":"#REF!"}},{"$f":"'Pob x Genero'!#REF!","v":{"$error":"#REF!"}},{"$f":"'Pob x Genero'!#REF!","v":{"$error":"#REF!"}},{"$f":"'Pob x Genero'!#REF!","v":{"$error":"#REF!"}},"Hombre","00-04",{"$f":"'Pob x Genero'!#REF!","v":{"$error":"#REF!"}},818]
[{"$f":"'Pob x Genero'!#REF!","v":{"$error":"#REF!"}},{"$f":"'Pob x Genero'!#REF!","v":{"$error":"#REF!"}},{"$f":"'Pob x Genero'!#REF!","v":{"$error":"#REF!"}},{"$f":"'Pob x Genero'!#REF!","v":{"$error":"#REF!"}},{"$f":"'Pob x Genero'!#REF!","v":{"$error":"#REF!"}},"Hombre","00-04",{"$f":"'Pob x Genero'!#REF!","v":{"$error":"#REF!"}},819]
[{"$f":"'Pob x Genero'!#REF!","v":{"$error":"#REF!"}},{"$f":"'Pob x Genero'!#REF!","v":{"$error":"#REF!"}},{"$f":"'Pob x Genero'!#REF!","v":{"$error":"#REF!"}},{"$f":"'Pob x Genero'!#REF!","v":{"$error":"#REF!"}},{"$f":"'Pob x Genero'!#REF!","v":{"$error":"#REF!"}},"Hombre","00-04",{"$f":"'Pob x Genero'!#REF!","v":{"$error":"#REF!"}},820]
[{"$f":"'Pob x Genero'!#REF!","v":{"$error":"#REF!"}},{"$f":"'Pob x Genero'!#REF!","v":{"$error":"#REF!"}},{"$f":"'Pob x Genero'!#REF!","v":{"$error":"#REF!"}},{"$f":"'Pob x Genero'!#REF!","v":{"$error":"#REF!"}},{"$f":"'Pob x Genero'!#REF!","v":{"$error":"#REF!"}},"Hombre","00-04",{"$f":"'Pob x Genero'!#REF!","v":{"$error":"#REF!"}},821]
[{"$f":"'Pob x Genero'!#REF!","v":{"$error":"#REF!"}},{"$f":"'Pob x Genero'!#REF!","v":{"$error":"#REF!"}},{"$f":"'Pob x Genero'!#REF!","v":{"$error":"#REF!"}},{"$f":"'Pob x Genero'!#REF!","v":{"$error":"#REF!"}},{"$f":"'Pob x Genero'!#REF!","v":{"$error":"#REF!"}},"Hombre","00-04",{"$f":"'Pob x Genero'!#REF!","v":{"$error":"#REF!"}},822]
[{"$f":"'Pob x Genero'!#REF!","v":{"$error":"#REF!"}},{"$f":"'Pob x Genero'!#REF!","v":{"$error":"#REF!"}},{"$f":"'Pob x Genero'!#REF!","v":{"$error":"#REF!"}},{"$f":"'Pob x Genero'!#REF!","v":{"$error":"#REF!"}},{"$f":"'Pob x Genero'!#REF!","v":{"$error":"#REF!"}},"Hombre","00-04",{"$f":"'Pob x Genero'!#REF!","v":{"$error":"#REF!"}},823]
[{"$f":"'Pob x Genero'!#REF!","v":{"$error":"#REF!"}},{"$f":"'Pob x Genero'!#REF!","v":{"$error":"#REF!"}},{"$f":"'Pob x Genero'!#REF!","v":{"$error":"#REF!"}},{"$f":"'Pob x Genero'!#REF!","v":{"$error":"#REF!"}},{"$f":"'Pob x Genero'!#REF!","v":{"$error":"#REF!"}},"Hombre","00-04",{"$f":"'Pob x Genero'!#REF!","v":{"$error":"#REF!"}},824]
[{"$f":"'Pob x Genero'!#REF!","v":{"$error":"#REF!"}},{"$f":"'Pob x Genero'!#REF!","v":{"$error":"#REF!"}},{"$f":"'Pob x Genero'!#REF!","v":{"$error":"#REF!"}},{"$f":"'Pob x Genero'!#REF!","v":{"$error":"#REF!"}},{"$f":"'Pob x Genero'!#REF!","v":{"$error":"#REF!"}},"Hombre","00-04",{"$f":"'Pob x Genero'!#REF!","v":{"$error":"#REF!"}},825]
[{"$f":"'Pob x Genero'!#REF!","v":{"$error":"#REF!"}},{"$f":"'Pob x Genero'!#REF!","v":{"$error":"#REF!"}},{"$f":"'Pob x Genero'!#REF!","v":{"$error":"#REF!"}},{"$f":"'Pob x Genero'!#REF!","v":{"$error":"#REF!"}},{"$f":"'Pob x Genero'!#REF!","v":{"$error":"#REF!"}},"Hombre","00-04",{"$f":"'Pob x Genero'!#REF!","v":{"$error":"#REF!"}},826]
[{"$f":"'Pob x Genero'!#REF!","v":{"$error":"#REF!"}},{"$f":"'Pob x Genero'!#REF!","v":{"$error":"#REF!"}},{"$f":"'Pob x Genero'!#REF!","v":{"$error":"#REF!"}},{"$f":"'Pob x Genero'!#REF!","v":{"$error":"#REF!"}},{"$f":"'Pob x Genero'!#REF!","v":{"$error":"#REF!"}},"Hombre","00-04",{"$f":"'Pob x Genero'!#REF!","v":{"$error":"#REF!"}},827]
[{"$f":"'Pob x Genero'!#REF!","v":{"$error":"#REF!"}},{"$f":"'Pob x Genero'!#REF!","v":{"$error":"#REF!"}},{"$f":"'Pob x Genero'!#REF!","v":{"$error":"#REF!"}},{"$f":"'Pob x Genero'!#REF!","v":{"$error":"#REF!"}},{"$f":"'Pob x Genero'!#REF!","v":{"$error":"#REF!"}},"Hombre","00-04",{"$f":"'Pob x Genero'!#REF!","v":{"$error":"#REF!"}},828]
[{"$f":"'Pob x Genero'!#REF!","v":{"$error":"#REF!"}},{"$f":"'Pob x Genero'!#REF!","v":{"$error":"#REF!"}},{"$f":"'Pob x Genero'!#REF!","v":{"$error":"#REF!"}},{"$f":"'Pob x Genero'!#REF!","v":{"$error":"#REF!"}},{"$f":"'Pob x Genero'!#REF!","v":{"$error":"#REF!"}},"Hombre","00-04",{"$f":"'Pob x Genero'!#REF!","v":{"$error":"#REF!"}},829]
[{"$f":"'Pob x Genero'!#REF!","v":{"$error":"#REF!"}},{"$f":"'Pob x Genero'!#REF!","v":{"$error":"#REF!"}},{"$f":"'Pob x Genero'!#REF!","v":{"$error":"#REF!"}},{"$f":"'Pob x Genero'!#REF!","v":{"$error":"#REF!"}},{"$f":"'Pob x Genero'!#REF!","v":{"$error":"#REF!"}},"Hombre","00-04",{"$f":"'Pob x Genero'!#REF!","v":{"$error":"#REF!"}},830]
[{"$f":"'Pob x Genero'!#REF!","v":{"$error":"#REF!"}},{"$f":"'Pob x Genero'!#REF!","v":{"$error":"#REF!"}},{"$f":"'Pob x Genero'!#REF!","v":{"$error":"#REF!"}},{"$f":"'Pob x Genero'!#REF!","v":{"$error":"#REF!"}},{"$f":"'Pob x Genero'!#REF!","v":{"$error":"#REF!"}},"Hombre","00-04",{"$f":"'Pob x Genero'!#REF!","v":{"$error":"#REF!"}},831]
[{"$f":"'Pob x Genero'!#REF!","v":{"$error":"#REF!"}},{"$f":"'Pob x Genero'!#REF!","v":{"$error":"#REF!"}},{"$f":"'Pob x Genero'!#REF!","v":{"$error":"#REF!"}},{"$f":"'Pob x Genero'!#REF!","v":{"$error":"#REF!"}},{"$f":"'Pob x Genero'!#REF!","v":{"$error":"#REF!"}},"Hombre","00-04",{"$f":"'Pob x Genero'!#REF!","v":{"$error":"#REF!"}},832]
[{"$f":"'Pob x Genero'!#REF!","v":{"$error":"#REF!"}},{"$f":"'Pob x Genero'!#REF!","v":{"$error":"#REF!"}},{"$f":"'Pob x Genero'!#REF!","v":{"$error":"#REF!"}},{"$f":"'Pob x Genero'!#REF!","v":{"$error":"#REF!"}},{"$f":"'Pob x Genero'!#REF!","v":{"$error":"#REF!"}},"Hombre","00-04",{"$f":"'Pob x Genero'!#REF!","v":{"$error":"#REF!"}},833]
[{"$f":"'Pob x Genero'!#REF!","v":{"$error":"#REF!"}},{"$f":"'Pob x Genero'!#REF!","v":{"$error":"#REF!"}},{"$f":"'Pob x Genero'!#REF!","v":{"$error":"#REF!"}},{"$f":"'Pob x Genero'!#REF!","v":{"$error":"#REF!"}},{"$f":"'Pob x Genero'!#REF!","v":{"$error":"#REF!"}},{"$f":"F834","v":"Hombre"},{"$f":"G834","v":"00-04"},{"$f":"'Pob x Genero'!#REF!","v":{"$error":"#REF!"}},834]
[{"$f":"'Pob x Genero'!#REF!","v":{"$error":"#REF!"}},{"$f":"'Pob x Genero'!#REF!","v":{"$error":"#REF!"}},{"$f":"'Pob x Genero'!#REF!","v":{"$error":"#REF!"}},{"$f":"'Pob x Genero'!#REF!","v":{"$error":"#REF!"}},{"$f":"'Pob x Genero'!#REF!","v":{"$error":"#REF!"}},"Hombre","00-04",{"$f":"'Pob x Genero'!#REF!","v":{"$error":"#REF!"}},835]
[{"$f":"'Pob x Genero'!#REF!","v":{"$error":"#REF!"}},{"$f":"'Pob x Genero'!#REF!","v":{"$error":"#REF!"}},{"$f":"'Pob x Genero'!#REF!","v":{"$error":"#REF!"}},{"$f":"'Pob x Genero'!#REF!","v":{"$error":"#REF!"}},{"$f":"'Pob x Genero'!#REF!","v":{"$error":"#REF!"}},"Hombre","00-04",{"$f":"'Pob x Genero'!#REF!","v":{"$error":"#REF!"}},836]
[{"$f":"'Pob x Genero'!#REF!","v":{"$error":"#REF!"}},{"$f":"'Pob x Genero'!#REF!","v":{"$error":"#REF!"}},{"$f":"'Pob x Genero'!#REF!","v":{"$error":"#REF!"}},{"$f":"'Pob x Genero'!#REF!","v":{"$error":"#REF!"}},{"$f":"'Pob x Genero'!#REF!","v":{"$error":"#REF!"}},"Hombre","00-04",{"$f":"'Pob x Genero'!#REF!","v":{"$error":"#REF!"}},837]
[{"$f":"'Pob x Genero'!#REF!","v":{"$error":"#REF!"}},{"$f":"'Pob x Genero'!#REF!","v":{"$error":"#REF!"}},{"$f":"'Pob x Genero'!#REF!","v":{"$error":"#REF!"}},{"$f":"'Pob x Genero'!#REF!","v":{"$error":"#REF!"}},{"$f":"'Pob x Genero'!#REF!","v":{"$error":"#REF!"}},"Hombre","00-04",{"$f":"'Pob x Genero'!#REF!","v":{"$error":"#REF!"}},838]
[{"$f":"'Pob x Genero'!#REF!","v":{"$error":"#REF!"}},{"$f":"'Pob x Genero'!#REF!","v":{"$error":"#REF!"}},{"$f":"'Pob x Genero'!#REF!","v":{"$error":"#REF!"}},{"$f":"'Pob x Genero'!#REF!","v":{"$error":"#REF!"}},{"$f":"'Pob x Genero'!#REF!","v":{"$error":"#REF!"}},"Hombre","00-04",{"$f":"'Pob x Genero'!#REF!","v":{"$error":"#REF!"}},839]
[{"$f":"'Pob x Genero'!#REF!","v":{"$error":"#REF!"}},{"$f":"'Pob x Genero'!#REF!","v":{"$error":"#REF!"}},{"$f":"'Pob x Genero'!#REF!","v":{"$error":"#REF!"}},{"$f":"'Pob x Genero'!#REF!","v":{"$error":"#REF!"}},{"$f":"'Pob x Genero'!#REF!","v":{"$error":"#REF!"}},"Hombre","00-04",{"$f":"'Pob x Genero'!#REF!","v":{"$error":"#REF!"}},840]
[{"$f":"'Pob x Genero'!#REF!","v":{"$error":"#REF!"}},{"$f":"'Pob x Genero'!#REF!","v":{"$error":"#REF!"}},{"$f":"'Pob x Genero'!#REF!","v":{"$error":"#REF!"}},{"$f":"'Pob x Genero'!#REF!","v":{"$error":"#REF!"}},{"$f":"'Pob x Genero'!#REF!","v":{"$error":"#REF!"}},"Hombre","00-04",{"$f":"'Pob x Genero'!#REF!","v":{"$error":"#REF!"}},841]
[{"$f":"'Pob x Genero'!#REF!","v":{"$error":"#REF!"}},{"$f":"'Pob x Genero'!#REF!","v":{"$error":"#REF!"}},{"$f":"'Pob x Genero'!#REF!","v":{"$error":"#REF!"}},{"$f":"'Pob x Genero'!#REF!","v":{"$error":"#REF!"}},{"$f":"'Pob x Genero'!#REF!","v":{"$error":"#REF!"}},"Hombre","00-04",{"$f":"'Pob x Genero'!#REF!","v":{"$error":"#REF!"}},842]
[{"$f":"'Pob x Genero'!#REF!","v":{"$error":"#REF!"}},{"$f":"'Pob x Genero'!#REF!","v":{"$error":"#REF!"}},{"$f":"'Pob x Genero'!#REF!","v":{"$error":"#REF!"}},{"$f":"'Pob x Genero'!#REF!","v":{"$error":"#REF!"}},{"$f":"'Pob x Genero'!#REF!","v":{"$error":"#REF!"}},"Hombre","00-04",{"$f":"'Pob x Genero'!#REF!","v":{"$error":"#REF!"}},843]
[{"$f":"'Pob x Genero'!#REF!","v":{"$error":"#REF!"}},{"$f":"'Pob x Genero'!#REF!","v":{"$error":"#REF!"}},{"$f":"'Pob x Genero'!#REF!","v":{"$error":"#REF!"}},{"$f":"'Pob x Genero'!#REF!","v":{"$error":"#REF!"}},{"$f":"'Pob x Genero'!#REF!","v":{"$error":"#REF!"}},"Hombre","00-04",{"$f":"'Pob x Genero'!#REF!","v":{"$error":"#REF!"}},844]
[{"$f":"'Pob x Genero'!#REF!","v":{"$error":"#REF!"}},{"$f":"'Pob x Genero'!#REF!","v":{"$error":"#REF!"}},{"$f":"'Pob x Genero'!#REF!","v":{"$error":"#REF!"}},{"$f":"'Pob x Genero'!#REF!","v":{"$error":"#REF!"}},{"$f":"'Pob x Genero'!#REF!","v":{"$error":"#REF!"}},"Hombre","00-04",{"$f":"'Pob x Genero'!#REF!","v":{"$error":"#REF!"}},845]
[{"$f":"'Pob x Genero'!#REF!","v":{"$error":"#REF!"}},{"$f":"'Pob x Genero'!#REF!","v":{"$error":"#REF!"}},{"$f":"'Pob x Genero'!#REF!","v":{"$error":"#REF!"}},{"$f":"'Pob x Genero'!#REF!","v":{"$error":"#REF!"}},{"$f":"'Pob x Genero'!#REF!","v":{"$error":"#REF!"}},"Hombre","00-04",{"$f":"'Pob x Genero'!#REF!","v":{"$error":"#REF!"}},846]
[{"$f":"'Pob x Genero'!#REF!","v":{"$error":"#REF!"}},{"$f":"'Pob x Genero'!#REF!","v":{"$error":"#REF!"}},{"$f":"'Pob x Genero'!#REF!","v":{"$error":"#REF!"}},{"$f":"'Pob x Genero'!#REF!","v":{"$error":"#REF!"}},{"$f":"'Pob x Genero'!#REF!","v":{"$error":"#REF!"}},"Hombre","00-04",{"$f":"'Pob x Genero'!#REF!","v":{"$error":"#REF!"}},847]
[{"$f":"'Pob x Genero'!#REF!","v":{"$error":"#REF!"}},{"$f":"'Pob x Genero'!#REF!","v":{"$error":"#REF!"}},{"$f":"'Pob x Genero'!#REF!","v":{"$error":"#REF!"}},{"$f":"'Pob x Genero'!#REF!","v":{"$error":"#REF!"}},{"$f":"'Pob x Genero'!#REF!","v":{"$error":"#REF!"}},"Hombre","00-04",{"$f":"'Pob x Genero'!#REF!","v":{"$error":"#REF!"}},848]
[{"$f":"'Pob x Genero'!#REF!","v":{"$error":"#REF!"}},{"$f":"'Pob x Genero'!#REF!","v":{"$error":"#REF!"}},{"$f":"'Pob x Genero'!#REF!","v":{"$error":"#REF!"}},{"$f":"'Pob x Genero'!#REF!","v":{"$error":"#REF!"}},{"$f":"'Pob x Genero'!#REF!","v":{"$error":"#REF!"}},"Hombre","00-04",{"$f":"'Pob x Genero'!#REF!","v":{"$error":"#REF!"}},849]
[{"$f":"'Pob x Genero'!#REF!","v":{"$error":"#REF!"}},{"$f":"'Pob x Genero'!#REF!","v":{"$error":"#REF!"}},{"$f":"'Pob x Genero'!#REF!","v":{"$error":"#REF!"}},{"$f":"'Pob x Genero'!#REF!","v":{"$error":"#REF!"}},{"$f":"'Pob x Genero'!#REF!","v":{"$error":"#REF!"}},"Hombre","00-04",{"$f":"'Pob x Genero'!#REF!","v":{"$error":"#REF!"}},850]
[{"$f":"'Pob x Genero'!#REF!","v":{"$error":"#REF!"}},{"$f":"'Pob x Genero'!#REF!","v":{"$error":"#REF!"}},{"$f":"'Pob x Genero'!#REF!","v":{"$error":"#REF!"}},{"$f":"'Pob x Genero'!#REF!","v":{"$error":"#REF!"}},{"$f":"'Pob x Genero'!#REF!","v":{"$error":"#REF!"}},"Hombre","00-04",{"$f":"'Pob x Genero'!#REF!","v":{"$error":"#REF!"}},851]
[{"$f":"'Pob x Genero'!#REF!","v":{"$error":"#REF!"}},{"$f":"'Pob x Genero'!#REF!","v":{"$error":"#REF!"}},{"$f":"'Pob x Genero'!#REF!","v":{"$error":"#REF!"}},{"$f":"'Pob x Genero'!#REF!","v":{"$error":"#REF!"}},{"$f":"'Pob x Genero'!#REF!","v":{"$error":"#REF!"}},"Hombre","00-04",{"$f":"'Pob x Genero'!#REF!","v":{"$error":"#REF!"}},852]
[{"$f":"'Pob x Genero'!#REF!","v":{"$error":"#REF!"}},{"$f":"'Pob x Genero'!#REF!","v":{"$error":"#REF!"}},{"$f":"'Pob x Genero'!#REF!","v":{"$error":"#REF!"}},{"$f":"'Pob x Genero'!#REF!","v":{"$error":"#REF!"}},{"$f":"'Pob x Genero'!#REF!","v":{"$error":"#REF!"}},"Hombre","00-04",{"$f":"'Pob x Genero'!#REF!","v":{"$error":"#REF!"}},853]
[{"$f":"'Pob x Genero'!#REF!","v":{"$error":"#REF!"}},{"$f":"'Pob x Genero'!#REF!","v":{"$error":"#REF!"}},{"$f":"'Pob x Genero'!#REF!","v":{"$error":"#REF!"}},{"$f":"'Pob x Genero'!#REF!","v":{"$error":"#REF!"}},{"$f":"'Pob x Genero'!#REF!","v":{"$error":"#REF!"}},"Hombre","00-04",{"$f":"'Pob x Genero'!#REF!","v":{"$error":"#REF!"}},854]
[{"$f":"'Pob x Genero'!#REF!","v":{"$error":"#REF!"}},{"$f":"'Pob x Genero'!#REF!","v":{"$error":"#REF!"}},{"$f":"'Pob x Genero'!#REF!","v":{"$error":"#REF!"}},{"$f":"'Pob x Genero'!#REF!","v":{"$error":"#REF!"}},{"$f":"'Pob x Genero'!#REF!","v":{"$error":"#REF!"}},"Hombre","00-04",{"$f":"'Pob x Genero'!#REF!","v":{"$error":"#REF!"}},855]
[{"$f":"'Pob x Genero'!#REF!","v":{"$error":"#REF!"}},{"$f":"'Pob x Genero'!#REF!","v":{"$error":"#REF!"}},{"$f":"'Pob x Genero'!#REF!","v":{"$error":"#REF!"}},{"$f":"'Pob x Genero'!#REF!","v":{"$error":"#REF!"}},{"$f":"'Pob x Genero'!#REF!","v":{"$error":"#REF!"}},"Hombre","00-04",{"$f":"'Pob x Genero'!#REF!","v":{"$error":"#REF!"}},856]
[{"$f":"'Pob x Genero'!#REF!","v":{"$error":"#REF!"}},{"$f":"'Pob x Genero'!#REF!","v":{"$error":"#REF!"}},{"$f":"'Pob x Genero'!#REF!","v":{"$error":"#REF!"}},{"$f":"'Pob x Genero'!#REF!","v":{"$error":"#REF!"}},{"$f":"'Pob x Genero'!#REF!","v":{"$error":"#REF!"}},"Hombre","00-04",{"$f":"'Pob x Genero'!#REF!","v":{"$error":"#REF!"}},857]
[{"$f":"'Pob x Genero'!#REF!","v":{"$error":"#REF!"}},{"$f":"'Pob x Genero'!#REF!","v":{"$error":"#REF!"}},{"$f":"'Pob x Genero'!#REF!","v":{"$error":"#REF!"}},{"$f":"'Pob x Genero'!#REF!","v":{"$error":"#REF!"}},{"$f":"'Pob x Genero'!#REF!","v":{"$error":"#REF!"}},"Hombre","00-04",{"$f":"'Pob x Genero'!#REF!","v":{"$error":"#REF!"}},858]
[{"$f":"'Pob x Genero'!#REF!","v":{"$error":"#REF!"}},{"$f":"'Pob x Genero'!#REF!","v":{"$error":"#REF!"}},{"$f":"'Pob x Genero'!#REF!","v":{"$error":"#REF!"}},{"$f":"'Pob x Genero'!#REF!","v":{"$error":"#REF!"}},{"$f":"'Pob x Genero'!#REF!","v":{"$error":"#REF!"}},"Hombre","00-04",{"$f":"'Pob x Genero'!#REF!","v":{"$error":"#REF!"}},859]
[{"$f":"'Pob x Genero'!#REF!","v":{"$error":"#REF!"}},{"$f":"'Pob x Genero'!#REF!","v":{"$error":"#REF!"}},{"$f":"'Pob x Genero'!#REF!","v":{"$error":"#REF!"}},{"$f":"'Pob x Genero'!#REF!","v":{"$error":"#REF!"}},{"$f":"'Pob x Genero'!#REF!","v":{"$error":"#REF!"}},"Hombre","00-04",{"$f":"'Pob x Genero'!#REF!","v":{"$error":"#REF!"}},860]
[{"$f":"'Pob x Genero'!#REF!","v":{"$error":"#REF!"}},{"$f":"'Pob x Genero'!#REF!","v":{"$error":"#REF!"}},{"$f":"'Pob x Genero'!#REF!","v":{"$error":"#REF!"}},{"$f":"'Pob x Genero'!#REF!","v":{"$error":"#REF!"}},{"$f":"'Pob x Genero'!#REF!","v":{"$error":"#REF!"}},"Hombre","00-04",{"$f":"'Pob x Genero'!#REF!","v":{"$error":"#REF!"}},861]
[{"$f":"'Pob x Genero'!#REF!","v":{"$error":"#REF!"}},{"$f":"'Pob x Genero'!#REF!","v":{"$error":"#REF!"}},{"$f":"'Pob x Genero'!#REF!","v":{"$error":"#REF!"}},{"$f":"'Pob x Genero'!#REF!","v":{"$error":"#REF!"}},{"$f":"'Pob x Genero'!#REF!","v":{"$error":"#REF!"}},"Hombre","00-04",{"$f":"'Pob x Genero'!#REF!","v":{"$error":"#REF!"}},862]
[{"$f":"'Pob x Genero'!#REF!","v":{"$error":"#REF!"}},{"$f":"'Pob x Genero'!#REF!","v":{"$error":"#REF!"}},{"$f":"'Pob x Genero'!#REF!","v":{"$error":"#REF!"}},{"$f":"'Pob x Genero'!#REF!","v":{"$error":"#REF!"}},{"$f":"'Pob x Genero'!#REF!","v":{"$error":"#REF!"}},"Hombre","00-04",{"$f":"'Pob x Genero'!#REF!","v":{"$error":"#REF!"}},863]
[{"$f":"'Pob x Genero'!#REF!","v":{"$error":"#REF!"}},{"$f":"'Pob x Genero'!#REF!","v":{"$error":"#REF!"}},{"$f":"'Pob x Genero'!#REF!","v":{"$error":"#REF!"}},{"$f":"'Pob x Genero'!#REF!","v":{"$error":"#REF!"}},{"$f":"'Pob x Genero'!#REF!","v":{"$error":"#REF!"}},"Hombre","00-04",{"$f":"'Pob x Genero'!#REF!","v":{"$error":"#REF!"}},864]
[{"$f":"'Pob x Genero'!#REF!","v":{"$error":"#REF!"}},{"$f":"'Pob x Genero'!#REF!","v":{"$error":"#REF!"}},{"$f":"'Pob x Genero'!#REF!","v":{"$error":"#REF!"}},{"$f":"'Pob x Genero'!#REF!","v":{"$error":"#REF!"}},{"$f":"'Pob x Genero'!#REF!","v":{"$error":"#REF!"}},"Hombre","00-04",{"$f":"'Pob x Genero'!#REF!","v":{"$error":"#REF!"}},865]
[{"$f":"'Pob x Genero'!#REF!","v":{"$error":"#REF!"}},{"$f":"'Pob x Genero'!#REF!","v":{"$error":"#REF!"}},{"$f":"'Pob x Genero'!#REF!","v":{"$error":"#REF!"}},{"$f":"'Pob x Genero'!#REF!","v":{"$error":"#REF!"}},{"$f":"'Pob x Genero'!#REF!","v":{"$error":"#REF!"}},"Hombre","00-04",{"$f":"'Pob x Genero'!#REF!","v":{"$error":"#REF!"}},866]
[{"$f":"'Pob x Genero'!#REF!","v":{"$error":"#REF!"}},{"$f":"'Pob x Genero'!#REF!","v":{"$error":"#REF!"}},{"$f":"'Pob x Genero'!#REF!","v":{"$error":"#REF!"}},{"$f":"'Pob x Genero'!#REF!","v":{"$error":"#REF!"}},{"$f":"'Pob x Genero'!#REF!","v":{"$error":"#REF!"}},"Hombre","00-04",{"$f":"'Pob x Genero'!#REF!","v":{"$error":"#REF!"}},867]
[{"$f":"'Pob x Genero'!#REF!","v":{"$error":"#REF!"}},{"$f":"'Pob x Genero'!#REF!","v":{"$error":"#REF!"}},{"$f":"'Pob x Genero'!#REF!","v":{"$error":"#REF!"}},{"$f":"'Pob x Genero'!#REF!","v":{"$error":"#REF!"}},{"$f":"'Pob x Genero'!#REF!","v":{"$error":"#REF!"}},"Hombre","00-04",{"$f":"'Pob x Genero'!#REF!","v":{"$error":"#REF!"}},868]
[{"$f":"'Pob x Genero'!#REF!","v":{"$error":"#REF!"}},{"$f":"'Pob x Genero'!#REF!","v":{"$error":"#REF!"}},{"$f":"'Pob x Genero'!#REF!","v":{"$error":"#REF!"}},{"$f":"'Pob x Genero'!#REF!","v":{"$error":"#REF!"}},{"$f":"'Pob x Genero'!#REF!","v":{"$error":"#REF!"}},"Hombre","00-04",{"$f":"'Pob x Genero'!#REF!","v":{"$error":"#REF!"}},869]
[{"$f":"'Pob x Genero'!#REF!","v":{"$error":"#REF!"}},{"$f":"'Pob x Genero'!#REF!","v":{"$error":"#REF!"}},{"$f":"'Pob x Genero'!#REF!","v":{"$error":"#REF!"}},{"$f":"'Pob x Genero'!#REF!","v":{"$error":"#REF!"}},{"$f":"'Pob x Genero'!#REF!","v":{"$error":"#REF!"}},"Hombre","00-04",{"$f":"'Pob x Genero'!#REF!","v":{"$error":"#REF!"}},870]
[{"$f":"'Pob x Genero'!#REF!","v":{"$error":"#REF!"}},{"$f":"'Pob x Genero'!#REF!","v":{"$error":"#REF!"}},{"$f":"'Pob x Genero'!#REF!","v":{"$error":"#REF!"}},{"$f":"'Pob x Genero'!#REF!","v":{"$error":"#REF!"}},{"$f":"'Pob x Genero'!#REF!","v":{"$error":"#REF!"}},"Hombre","00-04",{"$f":"'Pob x Genero'!#REF!","v":{"$error":"#REF!"}},871]
[{"$f":"'Pob x Genero'!#REF!","v":{"$error":"#REF!"}},{"$f":"'Pob x Genero'!#REF!","v":{"$error":"#REF!"}},{"$f":"'Pob x Genero'!#REF!","v":{"$error":"#REF!"}},{"$f":"'Pob x Genero'!#REF!","v":{"$error":"#REF!"}},{"$f":"'Pob x Genero'!#REF!","v":{"$error":"#REF!"}},"Hombre","00-04",{"$f":"'Pob x Genero'!#REF!","v":{"$error":"#REF!"}},872]
[{"$f":"'Pob x Genero'!#REF!","v":{"$error":"#REF!"}},{"$f":"'Pob x Genero'!#REF!","v":{"$error":"#REF!"}},{"$f":"'Pob x Genero'!#REF!","v":{"$error":"#REF!"}},{"$f":"'Pob x Genero'!#REF!","v":{"$error":"#REF!"}},{"$f":"'Pob x Genero'!#REF!","v":{"$error":"#REF!"}},"Hombre","00-04",{"$f":"'Pob x Genero'!#REF!","v":{"$error":"#REF!"}},873]
[{"$f":"'Pob x Genero'!#REF!","v":{"$error":"#REF!"}},{"$f":"'Pob x Genero'!#REF!","v":{"$error":"#REF!"}},{"$f":"'Pob x Genero'!#REF!","v":{"$error":"#REF!"}},{"$f":"'Pob x Genero'!#REF!","v":{"$error":"#REF!"}},{"$f":"'Pob x Genero'!#REF!","v":{"$error":"#REF!"}},"Hombre","00-04",{"$f":"'Pob x Genero'!#REF!","v":{"$error":"#REF!"}},874]
[{"$f":"'Pob x Genero'!#REF!","v":{"$error":"#REF!"}},{"$f":"'Pob x Genero'!#REF!","v":{"$error":"#REF!"}},{"$f":"'Pob x Genero'!#REF!","v":{"$error":"#REF!"}},{"$f":"'Pob x Genero'!#REF!","v":{"$error":"#REF!"}},{"$f":"'Pob x Genero'!#REF!","v":{"$error":"#REF!"}},"Hombre","00-04",{"$f":"'Pob x Genero'!#REF!","v":{"$error":"#REF!"}},875]
[{"$f":"'Pob x Genero'!#REF!","v":{"$error":"#REF!"}},{"$f":"'Pob x Genero'!#REF!","v":{"$error":"#REF!"}},{"$f":"'Pob x Genero'!#REF!","v":{"$error":"#REF!"}},{"$f":"'Pob x Genero'!#REF!","v":{"$error":"#REF!"}},{"$f":"'Pob x Genero'!#REF!","v":{"$error":"#REF!"}},"Hombre","00-04",{"$f":"'Pob x Genero'!#REF!","v":{"$error":"#REF!"}},876]
[{"$f":"'Pob x Genero'!#REF!","v":{"$error":"#REF!"}},{"$f":"'Pob x Genero'!#REF!","v":{"$error":"#REF!"}},{"$f":"'Pob x Genero'!#REF!","v":{"$error":"#REF!"}},{"$f":"'Pob x Genero'!#REF!","v":{"$error":"#REF!"}},{"$f":"'Pob x Genero'!#REF!","v":{"$error":"#REF!"}},"Hombre","00-04",{"$f":"'Pob x Genero'!#REF!","v":{"$error":"#REF!"}},877]
[{"$f":"'Pob x Genero'!#REF!","v":{"$error":"#REF!"}},{"$f":"'Pob x Genero'!#REF!","v":{"$error":"#REF!"}},{"$f":"'Pob x Genero'!#REF!","v":{"$error":"#REF!"}},{"$f":"'Pob x Genero'!#REF!","v":{"$error":"#REF!"}},{"$f":"'Pob x Genero'!#REF!","v":{"$error":"#REF!"}},"Hombre","00-04",{"$f":"'Pob x Genero'!#REF!","v":{"$error":"#REF!"}},878]
[{"$f":"'Pob x Genero'!#REF!","v":{"$error":"#REF!"}},{"$f":"'Pob x Genero'!#REF!","v":{"$error":"#REF!"}},{"$f":"'Pob x Genero'!#REF!","v":{"$error":"#REF!"}},{"$f":"'Pob x Genero'!#REF!","v":{"$error":"#REF!"}},{"$f":"'Pob x Genero'!#REF!","v":{"$error":"#REF!"}},"Hombre","00-04",{"$f":"'Pob x Genero'!#REF!","v":{"$error":"#REF!"}},879]
[{"$f":"'Pob x Genero'!#REF!","v":{"$error":"#REF!"}},{"$f":"'Pob x Genero'!#REF!","v":{"$error":"#REF!"}},{"$f":"'Pob x Genero'!#REF!","v":{"$error":"#REF!"}},{"$f":"'Pob x Genero'!#REF!","v":{"$error":"#REF!"}},{"$f":"'Pob x Genero'!#REF!","v":{"$error":"#REF!"}},"Hombre","00-04",{"$f":"'Pob x Genero'!#REF!","v":{"$error":"#REF!"}},880]
[{"$f":"'Pob x Genero'!#REF!","v":{"$error":"#REF!"}},{"$f":"'Pob x Genero'!#REF!","v":{"$error":"#REF!"}},{"$f":"'Pob x Genero'!#REF!","v":{"$error":"#REF!"}},{"$f":"'Pob x Genero'!#REF!","v":{"$error":"#REF!"}},{"$f":"'Pob x Genero'!#REF!","v":{"$error":"#REF!"}},"Hombre","00-04",{"$f":"'Pob x Genero'!#REF!","v":{"$error":"#REF!"}},881]
[{"$f":"'Pob x Genero'!#REF!","v":{"$error":"#REF!"}},{"$f":"'Pob x Genero'!#REF!","v":{"$error":"#REF!"}},{"$f":"'Pob x Genero'!#REF!","v":{"$error":"#REF!"}},{"$f":"'Pob x Genero'!#REF!","v":{"$error":"#REF!"}},{"$f":"'Pob x Genero'!#REF!","v":{"$error":"#REF!"}},"Hombre","00-04",{"$f":"'Pob x Genero'!#REF!","v":{"$error":"#REF!"}},882]
[{"$f":"'Pob x Genero'!#REF!","v":{"$error":"#REF!"}},{"$f":"'Pob x Genero'!#REF!","v":{"$error":"#REF!"}},{"$f":"'Pob x Genero'!#REF!","v":{"$error":"#REF!"}},{"$f":"'Pob x Genero'!#REF!","v":{"$error":"#REF!"}},{"$f":"'Pob x Genero'!#REF!","v":{"$error":"#REF!"}},"Hombre","00-04",{"$f":"'Pob x Genero'!#REF!","v":{"$error":"#REF!"}},883]
[{"$f":"'Pob x Genero'!#REF!","v":{"$error":"#REF!"}},{"$f":"'Pob x Genero'!#REF!","v":{"$error":"#REF!"}},{"$f":"'Pob x Genero'!#REF!","v":{"$error":"#REF!"}},{"$f":"'Pob x Genero'!#REF!","v":{"$error":"#REF!"}},{"$f":"'Pob x Genero'!#REF!","v":{"$error":"#REF!"}},"Hombre","00-04",{"$f":"'Pob x Genero'!#REF!","v":{"$error":"#REF!"}},884]
[{"$f":"'Pob x Genero'!#REF!","v":{"$error":"#REF!"}},{"$f":"'Pob x Genero'!#REF!","v":{"$error":"#REF!"}},{"$f":"'Pob x Genero'!#REF!","v":{"$error":"#REF!"}},{"$f":"'Pob x Genero'!#REF!","v":{"$error":"#REF!"}},{"$f":"'Pob x Genero'!#REF!","v":{"$error":"#REF!"}},"Hombre","00-04",{"$f":"'Pob x Genero'!#REF!","v":{"$error":"#REF!"}},885]
[{"$f":"'Pob x Genero'!#REF!","v":{"$error":"#REF!"}},{"$f":"'Pob x Genero'!#REF!","v":{"$error":"#REF!"}},{"$f":"'Pob x Genero'!#REF!","v":{"$error":"#REF!"}},{"$f":"'Pob x Genero'!#REF!","v":{"$error":"#REF!"}},{"$f":"'Pob x Genero'!#REF!","v":{"$error":"#REF!"}},"Hombre","00-04",{"$f":"'Pob x Genero'!#REF!","v":{"$error":"#REF!"}},886]
[{"$f":"'Pob x Genero'!#REF!","v":{"$error":"#REF!"}},{"$f":"'Pob x Genero'!#REF!","v":{"$error":"#REF!"}},{"$f":"'Pob x Genero'!#REF!","v":{"$error":"#REF!"}},{"$f":"'Pob x Genero'!#REF!","v":{"$error":"#REF!"}},{"$f":"'Pob x Genero'!#REF!","v":{"$error":"#REF!"}},"Hombre","00-04",{"$f":"'Pob x Genero'!#REF!","v":{"$error":"#REF!"}},887]
[{"$f":"'Pob x Genero'!#REF!","v":{"$error":"#REF!"}},{"$f":"'Pob x Genero'!#REF!","v":{"$error":"#REF!"}},{"$f":"'Pob x Genero'!#REF!","v":{"$error":"#REF!"}},{"$f":"'Pob x Genero'!#REF!","v":{"$error":"#REF!"}},{"$f":"'Pob x Genero'!#REF!","v":{"$error":"#REF!"}},"Hombre","00-04",{"$f":"'Pob x Genero'!#REF!","v":{"$error":"#REF!"}},888]
[{"$f":"'Pob x Genero'!#REF!","v":{"$error":"#REF!"}},{"$f":"'Pob x Genero'!#REF!","v":{"$error":"#REF!"}},{"$f":"'Pob x Genero'!#REF!","v":{"$error":"#REF!"}},{"$f":"'Pob x Genero'!#REF!","v":{"$error":"#REF!"}},{"$f":"'Pob x Genero'!#REF!","v":{"$error":"#REF!"}},"Hombre","00-04",{"$f":"'Pob x Genero'!#REF!","v":{"$error":"#REF!"}},889]
[{"$f":"'Pob x Genero'!#REF!","v":{"$error":"#REF!"}},{"$f":"'Pob x Genero'!#REF!","v":{"$error":"#REF!"}},{"$f":"'Pob x Genero'!#REF!","v":{"$error":"#REF!"}},{"$f":"'Pob x Genero'!#REF!","v":{"$error":"#REF!"}},{"$f":"'Pob x Genero'!#REF!","v":{"$error":"#REF!"}},"Hombre","00-04",{"$f":"'Pob x Genero'!#REF!","v":{"$error":"#REF!"}},890]
[{"$f":"'Pob x Genero'!#REF!","v":{"$error":"#REF!"}},{"$f":"'Pob x Genero'!#REF!","v":{"$error":"#REF!"}},{"$f":"'Pob x Genero'!#REF!","v":{"$error":"#REF!"}},{"$f":"'Pob x Genero'!#REF!","v":{"$error":"#REF!"}},{"$f":"'Pob x Genero'!#REF!","v":{"$error":"#REF!"}},"Hombre","00-04",{"$f":"'Pob x Genero'!#REF!","v":{"$error":"#REF!"}},891]
[{"$f":"'Pob x Genero'!#REF!","v":{"$error":"#REF!"}},{"$f":"'Pob x Genero'!#REF!","v":{"$error":"#REF!"}},{"$f":"'Pob x Genero'!#REF!","v":{"$error":"#REF!"}},{"$f":"'Pob x Genero'!#REF!","v":{"$error":"#REF!"}},{"$f":"'Pob x Genero'!#REF!","v":{"$error":"#REF!"}},"Hombre","00-04",{"$f":"'Pob x Genero'!#REF!","v":{"$error":"#REF!"}},892]
[{"$f":"'Pob x Genero'!#REF!","v":{"$error":"#REF!"}},{"$f":"'Pob x Genero'!#REF!","v":{"$error":"#REF!"}},{"$f":"'Pob x Genero'!#REF!","v":{"$error":"#REF!"}},{"$f":"'Pob x Genero'!#REF!","v":{"$error":"#REF!"}},{"$f":"'Pob x Genero'!#REF!","v":{"$error":"#REF!"}},"Hombre","00-04",{"$f":"'Pob x Genero'!#REF!","v":{"$error":"#REF!"}},893]
[{"$f":"'Pob x Genero'!#REF!","v":{"$error":"#REF!"}},{"$f":"'Pob x Genero'!#REF!","v":{"$error":"#REF!"}},{"$f":"'Pob x Genero'!#REF!","v":{"$error":"#REF!"}},{"$f":"'Pob x Genero'!#REF!","v":{"$error":"#REF!"}},{"$f":"'Pob x Genero'!#REF!","v":{"$error":"#REF!"}},"Hombre","00-04",{"$f":"'Pob x Genero'!#REF!","v":{"$error":"#REF!"}},894]
[{"$f":"'Pob x Genero'!#REF!","v":{"$error":"#REF!"}},{"$f":"'Pob x Genero'!#REF!","v":{"$error":"#REF!"}},{"$f":"'Pob x Genero'!#REF!","v":{"$error":"#REF!"}},{"$f":"'Pob x Genero'!#REF!","v":{"$error":"#REF!"}},{"$f":"'Pob x Genero'!#REF!","v":{"$error":"#REF!"}},"Hombre","00-04",{"$f":"'Pob x Genero'!#REF!","v":{"$error":"#REF!"}},895]
[{"$f":"'Pob x Genero'!#REF!","v":{"$error":"#REF!"}},{"$f":"'Pob x Genero'!#REF!","v":{"$error":"#REF!"}},{"$f":"'Pob x Genero'!#REF!","v":{"$error":"#REF!"}},{"$f":"'Pob x Genero'!#REF!","v":{"$error":"#REF!"}},{"$f":"'Pob x Genero'!#REF!","v":{"$error":"#REF!"}},"Hombre","00-04",{"$f":"'Pob x Genero'!#REF!","v":{"$error":"#REF!"}},896]
[{"$f":"'Pob x Genero'!#REF!","v":{"$error":"#REF!"}},{"$f":"'Pob x Genero'!#REF!","v":{"$error":"#REF!"}},{"$f":"'Pob x Genero'!#REF!","v":{"$error":"#REF!"}},{"$f":"'Pob x Genero'!#REF!","v":{"$error":"#REF!"}},{"$f":"'Pob x Genero'!#REF!","v":{"$error":"#REF!"}},"Hombre","00-04",{"$f":"'Pob x Genero'!#REF!","v":{"$error":"#REF!"}},897]
[{"$f":"'Pob x Genero'!#REF!","v":{"$error":"#REF!"}},{"$f":"'Pob x Genero'!#REF!","v":{"$error":"#REF!"}},{"$f":"'Pob x Genero'!#REF!","v":{"$error":"#REF!"}},{"$f":"'Pob x Genero'!#REF!","v":{"$error":"#REF!"}},{"$f":"'Pob x Genero'!#REF!","v":{"$error":"#REF!"}},{"$f":"F898","v":"Hombre"},{"$f":"G898","v":"00-04"},{"$f":"'Pob x Genero'!#REF!","v":{"$error":"#REF!"}},898]
[{"$f":"'Pob x Genero'!#REF!","v":{"$error":"#REF!"}},{"$f":"'Pob x Genero'!#REF!","v":{"$error":"#REF!"}},{"$f":"'Pob x Genero'!#REF!","v":{"$error":"#REF!"}},{"$f":"'Pob x Genero'!#REF!","v":{"$error":"#REF!"}},{"$f":"'Pob x Genero'!#REF!","v":{"$error":"#REF!"}},"Hombre","00-04",{"$f":"'Pob x Genero'!#REF!","v":{"$error":"#REF!"}},899]
[{"$f":"'Pob x Genero'!#REF!","v":{"$error":"#REF!"}},{"$f":"'Pob x Genero'!#REF!","v":{"$error":"#REF!"}},{"$f":"'Pob x Genero'!#REF!","v":{"$error":"#REF!"}},{"$f":"'Pob x Genero'!#REF!","v":{"$error":"#REF!"}},{"$f":"'Pob x Genero'!#REF!","v":{"$error":"#REF!"}},"Hombre","00-04",{"$f":"'Pob x Genero'!#REF!","v":{"$error":"#REF!"}},900]
[{"$f":"'Pob x Genero'!#REF!","v":{"$error":"#REF!"}},{"$f":"'Pob x Genero'!#REF!","v":{"$error":"#REF!"}},{"$f":"'Pob x Genero'!#REF!","v":{"$error":"#REF!"}},{"$f":"'Pob x Genero'!#REF!","v":{"$error":"#REF!"}},{"$f":"'Pob x Genero'!#REF!","v":{"$error":"#REF!"}},"Hombre","00-04",{"$f":"'Pob x Genero'!#REF!","v":{"$error":"#REF!"}},901]
[{"$f":"'Pob x Genero'!#REF!","v":{"$error":"#REF!"}},{"$f":"'Pob x Genero'!#REF!","v":{"$error":"#REF!"}},{"$f":"'Pob x Genero'!#REF!","v":{"$error":"#REF!"}},{"$f":"'Pob x Genero'!#REF!","v":{"$error":"#REF!"}},{"$f":"'Pob x Genero'!#REF!","v":{"$error":"#REF!"}},"Hombre","00-04",{"$f":"'Pob x Genero'!#REF!","v":{"$error":"#REF!"}},902]
[{"$f":"'Pob x Genero'!#REF!","v":{"$error":"#REF!"}},{"$f":"'Pob x Genero'!#REF!","v":{"$error":"#REF!"}},{"$f":"'Pob x Genero'!#REF!","v":{"$error":"#REF!"}},{"$f":"'Pob x Genero'!#REF!","v":{"$error":"#REF!"}},{"$f":"'Pob x Genero'!#REF!","v":{"$error":"#REF!"}},"Hombre","00-04",{"$f":"'Pob x Genero'!#REF!","v":{"$error":"#REF!"}},903]
[{"$f":"'Pob x Genero'!#REF!","v":{"$error":"#REF!"}},{"$f":"'Pob x Genero'!#REF!","v":{"$error":"#REF!"}},{"$f":"'Pob x Genero'!#REF!","v":{"$error":"#REF!"}},{"$f":"'Pob x Genero'!#REF!","v":{"$error":"#REF!"}},{"$f":"'Pob x Genero'!#REF!","v":{"$error":"#REF!"}},"Hombre","00-04",{"$f":"'Pob x Genero'!#REF!","v":{"$error":"#REF!"}},904]
[{"$f":"'Pob x Genero'!#REF!","v":{"$error":"#REF!"}},{"$f":"'Pob x Genero'!#REF!","v":{"$error":"#REF!"}},{"$f":"'Pob x Genero'!#REF!","v":{"$error":"#REF!"}},{"$f":"'Pob x Genero'!#REF!","v":{"$error":"#REF!"}},{"$f":"'Pob x Genero'!#REF!","v":{"$error":"#REF!"}},"Hombre","00-04",{"$f":"'Pob x Genero'!#REF!","v":{"$error":"#REF!"}},905]
[{"$f":"'Pob x Genero'!#REF!","v":{"$error":"#REF!"}},{"$f":"'Pob x Genero'!#REF!","v":{"$error":"#REF!"}},{"$f":"'Pob x Genero'!#REF!","v":{"$error":"#REF!"}},{"$f":"'Pob x Genero'!#REF!","v":{"$error":"#REF!"}},{"$f":"'Pob x Genero'!#REF!","v":{"$error":"#REF!"}},"Hombre","00-04",{"$f":"'Pob x Genero'!#REF!","v":{"$error":"#REF!"}},906]
[{"$f":"'Pob x Genero'!#REF!","v":{"$error":"#REF!"}},{"$f":"'Pob x Genero'!#REF!","v":{"$error":"#REF!"}},{"$f":"'Pob x Genero'!#REF!","v":{"$error":"#REF!"}},{"$f":"'Pob x Genero'!#REF!","v":{"$error":"#REF!"}},{"$f":"'Pob x Genero'!#REF!","v":{"$error":"#REF!"}},"Hombre","00-04",{"$f":"'Pob x Genero'!#REF!","v":{"$error":"#REF!"}},907]
[{"$f":"'Pob x Genero'!#REF!","v":{"$error":"#REF!"}},{"$f":"'Pob x Genero'!#REF!","v":{"$error":"#REF!"}},{"$f":"'Pob x Genero'!#REF!","v":{"$error":"#REF!"}},{"$f":"'Pob x Genero'!#REF!","v":{"$error":"#REF!"}},{"$f":"'Pob x Genero'!#REF!","v":{"$error":"#REF!"}},"Hombre","00-04",{"$f":"'Pob x Genero'!#REF!","v":{"$error":"#REF!"}},908]
[{"$f":"'Pob x Genero'!#REF!","v":{"$error":"#REF!"}},{"$f":"'Pob x Genero'!#REF!","v":{"$error":"#REF!"}},{"$f":"'Pob x Genero'!#REF!","v":{"$error":"#REF!"}},{"$f":"'Pob x Genero'!#REF!","v":{"$error":"#REF!"}},{"$f":"'Pob x Genero'!#REF!","v":{"$error":"#REF!"}},"Hombre","00-04",{"$f":"'Pob x Genero'!#REF!","v":{"$error":"#REF!"}},909]
[{"$f":"'Pob x Genero'!#REF!","v":{"$error":"#REF!"}},{"$f":"'Pob x Genero'!#REF!","v":{"$error":"#REF!"}},{"$f":"'Pob x Genero'!#REF!","v":{"$error":"#REF!"}},{"$f":"'Pob x Genero'!#REF!","v":{"$error":"#REF!"}},{"$f":"'Pob x Genero'!#REF!","v":{"$error":"#REF!"}},"Hombre","00-04",{"$f":"'Pob x Genero'!#REF!","v":{"$error":"#REF!"}},910]
[{"$f":"'Pob x Genero'!#REF!","v":{"$error":"#REF!"}},{"$f":"'Pob x Genero'!#REF!","v":{"$error":"#REF!"}},{"$f":"'Pob x Genero'!#REF!","v":{"$error":"#REF!"}},{"$f":"'Pob x Genero'!#REF!","v":{"$error":"#REF!"}},{"$f":"'Pob x Genero'!#REF!","v":{"$error":"#REF!"}},"Hombre","00-04",{"$f":"'Pob x Genero'!#REF!","v":{"$error":"#REF!"}},911]
[{"$f":"'Pob x Genero'!#REF!","v":{"$error":"#REF!"}},{"$f":"'Pob x Genero'!#REF!","v":{"$error":"#REF!"}},{"$f":"'Pob x Genero'!#REF!","v":{"$error":"#REF!"}},{"$f":"'Pob x Genero'!#REF!","v":{"$error":"#REF!"}},{"$f":"'Pob x Genero'!#REF!","v":{"$error":"#REF!"}},"Hombre","00-04",{"$f":"'Pob x Genero'!#REF!","v":{"$error":"#REF!"}},912]
[{"$f":"'Pob x Genero'!#REF!","v":{"$error":"#REF!"}},{"$f":"'Pob x Genero'!#REF!","v":{"$error":"#REF!"}},{"$f":"'Pob x Genero'!#REF!","v":{"$error":"#REF!"}},{"$f":"'Pob x Genero'!#REF!","v":{"$error":"#REF!"}},{"$f":"'Pob x Genero'!#REF!","v":{"$error":"#REF!"}},"Hombre","00-04",{"$f":"'Pob x Genero'!#REF!","v":{"$error":"#REF!"}},913]
[{"$f":"'Pob x Genero'!#REF!","v":{"$error":"#REF!"}},{"$f":"'Pob x Genero'!#REF!","v":{"$error":"#REF!"}},{"$f":"'Pob x Genero'!#REF!","v":{"$error":"#REF!"}},{"$f":"'Pob x Genero'!#REF!","v":{"$error":"#REF!"}},{"$f":"'Pob x Genero'!#REF!","v":{"$error":"#REF!"}},"Hombre","00-04",{"$f":"'Pob x Genero'!#REF!","v":{"$error":"#REF!"}},914]
[{"$f":"'Pob x Genero'!#REF!","v":{"$error":"#REF!"}},{"$f":"'Pob x Genero'!#REF!","v":{"$error":"#REF!"}},{"$f":"'Pob x Genero'!#REF!","v":{"$error":"#REF!"}},{"$f":"'Pob x Genero'!#REF!","v":{"$error":"#REF!"}},{"$f":"'Pob x Genero'!#REF!","v":{"$error":"#REF!"}},"Hombre","00-04",{"$f":"'Pob x Genero'!#REF!","v":{"$error":"#REF!"}},915]
[{"$f":"'Pob x Genero'!#REF!","v":{"$error":"#REF!"}},{"$f":"'Pob x Genero'!#REF!","v":{"$error":"#REF!"}},{"$f":"'Pob x Genero'!#REF!","v":{"$error":"#REF!"}},{"$f":"'Pob x Genero'!#REF!","v":{"$error":"#REF!"}},{"$f":"'Pob x Genero'!#REF!","v":{"$error":"#REF!"}},"Hombre","00-04",{"$f":"'Pob x Genero'!#REF!","v":{"$error":"#REF!"}},916]
[{"$f":"'Pob x Genero'!#REF!","v":{"$error":"#REF!"}},{"$f":"'Pob x Genero'!#REF!","v":{"$error":"#REF!"}},{"$f":"'Pob x Genero'!#REF!","v":{"$error":"#REF!"}},{"$f":"'Pob x Genero'!#REF!","v":{"$error":"#REF!"}},{"$f":"'Pob x Genero'!#REF!","v":{"$error":"#REF!"}},"Hombre","00-04",{"$f":"'Pob x Genero'!#REF!","v":{"$error":"#REF!"}},917]
[{"$f":"'Pob x Genero'!#REF!","v":{"$error":"#REF!"}},{"$f":"'Pob x Genero'!#REF!","v":{"$error":"#REF!"}},{"$f":"'Pob x Genero'!#REF!","v":{"$error":"#REF!"}},{"$f":"'Pob x Genero'!#REF!","v":{"$error":"#REF!"}},{"$f":"'Pob x Genero'!#REF!","v":{"$error":"#REF!"}},"Hombre","00-04",{"$f":"'Pob x Genero'!#REF!","v":{"$error":"#REF!"}},918]
[{"$f":"'Pob x Genero'!#REF!","v":{"$error":"#REF!"}},{"$f":"'Pob x Genero'!#REF!","v":{"$error":"#REF!"}},{"$f":"'Pob x Genero'!#REF!","v":{"$error":"#REF!"}},{"$f":"'Pob x Genero'!#REF!","v":{"$error":"#REF!"}},{"$f":"'Pob x Genero'!#REF!","v":{"$error":"#REF!"}},"Hombre","00-04",{"$f":"'Pob x Genero'!#REF!","v":{"$error":"#REF!"}},919]
[{"$f":"'Pob x Genero'!#REF!","v":{"$error":"#REF!"}},{"$f":"'Pob x Genero'!#REF!","v":{"$error":"#REF!"}},{"$f":"'Pob x Genero'!#REF!","v":{"$error":"#REF!"}},{"$f":"'Pob x Genero'!#REF!","v":{"$error":"#REF!"}},{"$f":"'Pob x Genero'!#REF!","v":{"$error":"#REF!"}},"Hombre","00-04",{"$f":"'Pob x Genero'!#REF!","v":{"$error":"#REF!"}},920]
[{"$f":"'Pob x Genero'!#REF!","v":{"$error":"#REF!"}},{"$f":"'Pob x Genero'!#REF!","v":{"$error":"#REF!"}},{"$f":"'Pob x Genero'!#REF!","v":{"$error":"#REF!"}},{"$f":"'Pob x Genero'!#REF!","v":{"$error":"#REF!"}},{"$f":"'Pob x Genero'!#REF!","v":{"$error":"#REF!"}},"Hombre","00-04",{"$f":"'Pob x Genero'!#REF!","v":{"$error":"#REF!"}},921]
[{"$f":"'Pob x Genero'!#REF!","v":{"$error":"#REF!"}},{"$f":"'Pob x Genero'!#REF!","v":{"$error":"#REF!"}},{"$f":"'Pob x Genero'!#REF!","v":{"$error":"#REF!"}},{"$f":"'Pob x Genero'!#REF!","v":{"$error":"#REF!"}},{"$f":"'Pob x Genero'!#REF!","v":{"$error":"#REF!"}},"Hombre","00-04",{"$f":"'Pob x Genero'!#REF!","v":{"$error":"#REF!"}},922]
[{"$f":"'Pob x Genero'!#REF!","v":{"$error":"#REF!"}},{"$f":"'Pob x Genero'!#REF!","v":{"$error":"#REF!"}},{"$f":"'Pob x Genero'!#REF!","v":{"$error":"#REF!"}},{"$f":"'Pob x Genero'!#REF!","v":{"$error":"#REF!"}},{"$f":"'Pob x Genero'!#REF!","v":{"$error":"#REF!"}},"Hombre","00-04",{"$f":"'Pob x Genero'!#REF!","v":{"$error":"#REF!"}},923]
[{"$f":"'Pob x Genero'!#REF!","v":{"$error":"#REF!"}},{"$f":"'Pob x Genero'!#REF!","v":{"$error":"#REF!"}},{"$f":"'Pob x Genero'!#REF!","v":{"$error":"#REF!"}},{"$f":"'Pob x Genero'!#REF!","v":{"$error":"#REF!"}},{"$f":"'Pob x Genero'!#REF!","v":{"$error":"#REF!"}},"Hombre","00-04",{"$f":"'Pob x Genero'!#REF!","v":{"$error":"#REF!"}},924]
[{"$f":"'Pob x Genero'!#REF!","v":{"$error":"#REF!"}},{"$f":"'Pob x Genero'!#REF!","v":{"$error":"#REF!"}},{"$f":"'Pob x Genero'!#REF!","v":{"$error":"#REF!"}},{"$f":"'Pob x Genero'!#REF!","v":{"$error":"#REF!"}},{"$f":"'Pob x Genero'!#REF!","v":{"$error":"#REF!"}},"Hombre","00-04",{"$f":"'Pob x Genero'!#REF!","v":{"$error":"#REF!"}},925]
[{"$f":"'Pob x Genero'!#REF!","v":{"$error":"#REF!"}},{"$f":"'Pob x Genero'!#REF!","v":{"$error":"#REF!"}},{"$f":"'Pob x Genero'!#REF!","v":{"$error":"#REF!"}},{"$f":"'Pob x Genero'!#REF!","v":{"$error":"#REF!"}},{"$f":"'Pob x Genero'!#REF!","v":{"$error":"#REF!"}},"Hombre","00-04",{"$f":"'Pob x Genero'!#REF!","v":{"$error":"#REF!"}},926]
[{"$f":"'Pob x Genero'!#REF!","v":{"$error":"#REF!"}},{"$f":"'Pob x Genero'!#REF!","v":{"$error":"#REF!"}},{"$f":"'Pob x Genero'!#REF!","v":{"$error":"#REF!"}},{"$f":"'Pob x Genero'!#REF!","v":{"$error":"#REF!"}},{"$f":"'Pob x Genero'!#REF!","v":{"$error":"#REF!"}},"Hombre","00-04",{"$f":"'Pob x Genero'!#REF!","v":{"$error":"#REF!"}},927]
[{"$f":"'Pob x Genero'!#REF!","v":{"$error":"#REF!"}},{"$f":"'Pob x Genero'!#REF!","v":{"$error":"#REF!"}},{"$f":"'Pob x Genero'!#REF!","v":{"$error":"#REF!"}},{"$f":"'Pob x Genero'!#REF!","v":{"$error":"#REF!"}},{"$f":"'Pob x Genero'!#REF!","v":{"$error":"#REF!"}},"Hombre","00-04",{"$f":"'Pob x Genero'!#REF!","v":{"$error":"#REF!"}},928]
[{"$f":"'Pob x Genero'!#REF!","v":{"$error":"#REF!"}},{"$f":"'Pob x Genero'!#REF!","v":{"$error":"#REF!"}},{"$f":"'Pob x Genero'!#REF!","v":{"$error":"#REF!"}},{"$f":"'Pob x Genero'!#REF!","v":{"$error":"#REF!"}},{"$f":"'Pob x Genero'!#REF!","v":{"$error":"#REF!"}},"Hombre","00-04",{"$f":"'Pob x Genero'!#REF!","v":{"$error":"#REF!"}},929]
[{"$f":"'Pob x Genero'!#REF!","v":{"$error":"#REF!"}},{"$f":"'Pob x Genero'!#REF!","v":{"$error":"#REF!"}},{"$f":"'Pob x Genero'!#REF!","v":{"$error":"#REF!"}},{"$f":"'Pob x Genero'!#REF!","v":{"$error":"#REF!"}},{"$f":"'Pob x Genero'!#REF!","v":{"$error":"#REF!"}},"Hombre","00-04",{"$f":"'Pob x Genero'!#REF!","v":{"$error":"#REF!"}},930]
[{"$f":"'Pob x Genero'!#REF!","v":{"$error":"#REF!"}},{"$f":"'Pob x Genero'!#REF!","v":{"$error":"#REF!"}},{"$f":"'Pob x Genero'!#REF!","v":{"$error":"#REF!"}},{"$f":"'Pob x Genero'!#REF!","v":{"$error":"#REF!"}},{"$f":"'Pob x Genero'!#REF!","v":{"$error":"#REF!"}},"Hombre","00-04",{"$f":"'Pob x Genero'!#REF!","v":{"$error":"#REF!"}},931]
[{"$f":"'Pob x Genero'!#REF!","v":{"$error":"#REF!"}},{"$f":"'Pob x Genero'!#REF!","v":{"$error":"#REF!"}},{"$f":"'Pob x Genero'!#REF!","v":{"$error":"#REF!"}},{"$f":"'Pob x Genero'!#REF!","v":{"$error":"#REF!"}},{"$f":"'Pob x Genero'!#REF!","v":{"$error":"#REF!"}},"Hombre","00-04",{"$f":"'Pob x Genero'!#REF!","v":{"$error":"#REF!"}},932]
[{"$f":"'Pob x Genero'!#REF!","v":{"$error":"#REF!"}},{"$f":"'Pob x Genero'!#REF!","v":{"$error":"#REF!"}},{"$f":"'Pob x Genero'!#REF!","v":{"$error":"#REF!"}},{"$f":"'Pob x Genero'!#REF!","v":{"$error":"#REF!"}},{"$f":"'Pob x Genero'!#REF!","v":{"$error":"#REF!"}},"Hombre","00-04",{"$f":"'Pob x Genero'!#REF!","v":{"$error":"#REF!"}},933]
[{"$f":"'Pob x Genero'!#REF!","v":{"$error":"#REF!"}},{"$f":"'Pob x Genero'!#REF!","v":{"$error":"#REF!"}},{"$f":"'Pob x Genero'!#REF!","v":{"$error":"#REF!"}},{"$f":"'Pob x Genero'!#REF!","v":{"$error":"#REF!"}},{"$f":"'Pob x Genero'!#REF!","v":{"$error":"#REF!"}},"Hombre","00-04",{"$f":"'Pob x Genero'!#REF!","v":{"$error":"#REF!"}},934]
[{"$f":"'Pob x Genero'!#REF!","v":{"$error":"#REF!"}},{"$f":"'Pob x Genero'!#REF!","v":{"$error":"#REF!"}},{"$f":"'Pob x Genero'!#REF!","v":{"$error":"#REF!"}},{"$f":"'Pob x Genero'!#REF!","v":{"$error":"#REF!"}},{"$f":"'Pob x Genero'!#REF!","v":{"$error":"#REF!"}},"Hombre","00-04",{"$f":"'Pob x Genero'!#REF!","v":{"$error":"#REF!"}},935]
[{"$f":"'Pob x Genero'!#REF!","v":{"$error":"#REF!"}},{"$f":"'Pob x Genero'!#REF!","v":{"$error":"#REF!"}},{"$f":"'Pob x Genero'!#REF!","v":{"$error":"#REF!"}},{"$f":"'Pob x Genero'!#REF!","v":{"$error":"#REF!"}},{"$f":"'Pob x Genero'!#REF!","v":{"$error":"#REF!"}},"Hombre","00-04",{"$f":"'Pob x Genero'!#REF!","v":{"$error":"#REF!"}},936]
[{"$f":"'Pob x Genero'!#REF!","v":{"$error":"#REF!"}},{"$f":"'Pob x Genero'!#REF!","v":{"$error":"#REF!"}},{"$f":"'Pob x Genero'!#REF!","v":{"$error":"#REF!"}},{"$f":"'Pob x Genero'!#REF!","v":{"$error":"#REF!"}},{"$f":"'Pob x Genero'!#REF!","v":{"$error":"#REF!"}},"Hombre","00-04",{"$f":"'Pob x Genero'!#REF!","v":{"$error":"#REF!"}},937]
[{"$f":"'Pob x Genero'!#REF!","v":{"$error":"#REF!"}},{"$f":"'Pob x Genero'!#REF!","v":{"$error":"#REF!"}},{"$f":"'Pob x Genero'!#REF!","v":{"$error":"#REF!"}},{"$f":"'Pob x Genero'!#REF!","v":{"$error":"#REF!"}},{"$f":"'Pob x Genero'!#REF!","v":{"$error":"#REF!"}},"Hombre","00-04",{"$f":"'Pob x Genero'!#REF!","v":{"$error":"#REF!"}},938]
[{"$f":"'Pob x Genero'!#REF!","v":{"$error":"#REF!"}},{"$f":"'Pob x Genero'!#REF!","v":{"$error":"#REF!"}},{"$f":"'Pob x Genero'!#REF!","v":{"$error":"#REF!"}},{"$f":"'Pob x Genero'!#REF!","v":{"$error":"#REF!"}},{"$f":"'Pob x Genero'!#REF!","v":{"$error":"#REF!"}},"Hombre","00-04",{"$f":"'Pob x Genero'!#REF!","v":{"$error":"#REF!"}},939]
[{"$f":"'Pob x Genero'!#REF!","v":{"$error":"#REF!"}},{"$f":"'Pob x Genero'!#REF!","v":{"$error":"#REF!"}},{"$f":"'Pob x Genero'!#REF!","v":{"$error":"#REF!"}},{"$f":"'Pob x Genero'!#REF!","v":{"$error":"#REF!"}},{"$f":"'Pob x Genero'!#REF!","v":{"$error":"#REF!"}},"Hombre","00-04",{"$f":"'Pob x Genero'!#REF!","v":{"$error":"#REF!"}},940]
[{"$f":"'Pob x Genero'!#REF!","v":{"$error":"#REF!"}},{"$f":"'Pob x Genero'!#REF!","v":{"$error":"#REF!"}},{"$f":"'Pob x Genero'!#REF!","v":{"$error":"#REF!"}},{"$f":"'Pob x Genero'!#REF!","v":{"$error":"#REF!"}},{"$f":"'Pob x Genero'!#REF!","v":{"$error":"#REF!"}},"Hombre","00-04",{"$f":"'Pob x Genero'!#REF!","v":{"$error":"#REF!"}},941]
[{"$f":"'Pob x Genero'!#REF!","v":{"$error":"#REF!"}},{"$f":"'Pob x Genero'!#REF!","v":{"$error":"#REF!"}},{"$f":"'Pob x Genero'!#REF!","v":{"$error":"#REF!"}},{"$f":"'Pob x Genero'!#REF!","v":{"$error":"#REF!"}},{"$f":"'Pob x Genero'!#REF!","v":{"$error":"#REF!"}},"Hombre","00-04",{"$f":"'Pob x Genero'!#REF!","v":{"$error":"#REF!"}},942]
[{"$f":"'Pob x Genero'!#REF!","v":{"$error":"#REF!"}},{"$f":"'Pob x Genero'!#REF!","v":{"$error":"#REF!"}},{"$f":"'Pob x Genero'!#REF!","v":{"$error":"#REF!"}},{"$f":"'Pob x Genero'!#REF!","v":{"$error":"#REF!"}},{"$f":"'Pob x Genero'!#REF!","v":{"$error":"#REF!"}},"Hombre","00-04",{"$f":"'Pob x Genero'!#REF!","v":{"$error":"#REF!"}},943]
[{"$f":"'Pob x Genero'!#REF!","v":{"$error":"#REF!"}},{"$f":"'Pob x Genero'!#REF!","v":{"$error":"#REF!"}},{"$f":"'Pob x Genero'!#REF!","v":{"$error":"#REF!"}},{"$f":"'Pob x Genero'!#REF!","v":{"$error":"#REF!"}},{"$f":"'Pob x Genero'!#REF!","v":{"$error":"#REF!"}},"Hombre","00-04",{"$f":"'Pob x Genero'!#REF!","v":{"$error":"#REF!"}},944]
[{"$f":"'Pob x Genero'!#REF!","v":{"$error":"#REF!"}},{"$f":"'Pob x Genero'!#REF!","v":{"$error":"#REF!"}},{"$f":"'Pob x Genero'!#REF!","v":{"$error":"#REF!"}},{"$f":"'Pob x Genero'!#REF!","v":{"$error":"#REF!"}},{"$f":"'Pob x Genero'!#REF!","v":{"$error":"#REF!"}},"Hombre","00-04",{"$f":"'Pob x Genero'!#REF!","v":{"$error":"#REF!"}},945]
[{"$f":"'Pob x Genero'!#REF!","v":{"$error":"#REF!"}},{"$f":"'Pob x Genero'!#REF!","v":{"$error":"#REF!"}},{"$f":"'Pob x Genero'!#REF!","v":{"$error":"#REF!"}},{"$f":"'Pob x Genero'!#REF!","v":{"$error":"#REF!"}},{"$f":"'Pob x Genero'!#REF!","v":{"$error":"#REF!"}},"Hombre","00-04",{"$f":"'Pob x Genero'!#REF!","v":{"$error":"#REF!"}},946]
[{"$f":"'Pob x Genero'!#REF!","v":{"$error":"#REF!"}},{"$f":"'Pob x Genero'!#REF!","v":{"$error":"#REF!"}},{"$f":"'Pob x Genero'!#REF!","v":{"$error":"#REF!"}},{"$f":"'Pob x Genero'!#REF!","v":{"$error":"#REF!"}},{"$f":"'Pob x Genero'!#REF!","v":{"$error":"#REF!"}},"Hombre","00-04",{"$f":"'Pob x Genero'!#REF!","v":{"$error":"#REF!"}},947]
[{"$f":"'Pob x Genero'!#REF!","v":{"$error":"#REF!"}},{"$f":"'Pob x Genero'!#REF!","v":{"$error":"#REF!"}},{"$f":"'Pob x Genero'!#REF!","v":{"$error":"#REF!"}},{"$f":"'Pob x Genero'!#REF!","v":{"$error":"#REF!"}},{"$f":"'Pob x Genero'!#REF!","v":{"$error":"#REF!"}},"Hombre","00-04",{"$f":"'Pob x Genero'!#REF!","v":{"$error":"#REF!"}},948]
[{"$f":"'Pob x Genero'!#REF!","v":{"$error":"#REF!"}},{"$f":"'Pob x Genero'!#REF!","v":{"$error":"#REF!"}},{"$f":"'Pob x Genero'!#REF!","v":{"$error":"#REF!"}},{"$f":"'Pob x Genero'!#REF!","v":{"$error":"#REF!"}},{"$f":"'Pob x Genero'!#REF!","v":{"$error":"#REF!"}},"Hombre","00-04",{"$f":"'Pob x Genero'!#REF!","v":{"$error":"#REF!"}},949]
[{"$f":"'Pob x Genero'!#REF!","v":{"$error":"#REF!"}},{"$f":"'Pob x Genero'!#REF!","v":{"$error":"#REF!"}},{"$f":"'Pob x Genero'!#REF!","v":{"$error":"#REF!"}},{"$f":"'Pob x Genero'!#REF!","v":{"$error":"#REF!"}},{"$f":"'Pob x Genero'!#REF!","v":{"$error":"#REF!"}},"Hombre","00-04",{"$f":"'Pob x Genero'!#REF!","v":{"$error":"#REF!"}},950]
[{"$f":"'Pob x Genero'!#REF!","v":{"$error":"#REF!"}},{"$f":"'Pob x Genero'!#REF!","v":{"$error":"#REF!"}},{"$f":"'Pob x Genero'!#REF!","v":{"$error":"#REF!"}},{"$f":"'Pob x Genero'!#REF!","v":{"$error":"#REF!"}},{"$f":"'Pob x Genero'!#REF!","v":{"$error":"#REF!"}},"Hombre","00-04",{"$f":"'Pob x Genero'!#REF!","v":{"$error":"#REF!"}},951]
[{"$f":"'Pob x Genero'!#REF!","v":{"$error":"#REF!"}},{"$f":"'Pob x Genero'!#REF!","v":{"$error":"#REF!"}},{"$f":"'Pob x Genero'!#REF!","v":{"$error":"#REF!"}},{"$f":"'Pob x Genero'!#REF!","v":{"$error":"#REF!"}},{"$f":"'Pob x Genero'!#REF!","v":{"$error":"#REF!"}},"Hombre","00-04",{"$f":"'Pob x Genero'!#REF!","v":{"$error":"#REF!"}},952]
[{"$f":"'Pob x Genero'!#REF!","v":{"$error":"#REF!"}},{"$f":"'Pob x Genero'!#REF!","v":{"$error":"#REF!"}},{"$f":"'Pob x Genero'!#REF!","v":{"$error":"#REF!"}},{"$f":"'Pob x Genero'!#REF!","v":{"$error":"#REF!"}},{"$f":"'Pob x Genero'!#REF!","v":{"$error":"#REF!"}},"Hombre","00-04",{"$f":"'Pob x Genero'!#REF!","v":{"$error":"#REF!"}},953]
[{"$f":"'Pob x Genero'!#REF!","v":{"$error":"#REF!"}},{"$f":"'Pob x Genero'!#REF!","v":{"$error":"#REF!"}},{"$f":"'Pob x Genero'!#REF!","v":{"$error":"#REF!"}},{"$f":"'Pob x Genero'!#REF!","v":{"$error":"#REF!"}},{"$f":"'Pob x Genero'!#REF!","v":{"$error":"#REF!"}},"Hombre","00-04",{"$f":"'Pob x Genero'!#REF!","v":{"$error":"#REF!"}},954]
[{"$f":"'Pob x Genero'!#REF!","v":{"$error":"#REF!"}},{"$f":"'Pob x Genero'!#REF!","v":{"$error":"#REF!"}},{"$f":"'Pob x Genero'!#REF!","v":{"$error":"#REF!"}},{"$f":"'Pob x Genero'!#REF!","v":{"$error":"#REF!"}},{"$f":"'Pob x Genero'!#REF!","v":{"$error":"#REF!"}},"Hombre","00-04",{"$f":"'Pob x Genero'!#REF!","v":{"$error":"#REF!"}},955]
[{"$f":"'Pob x Genero'!#REF!","v":{"$error":"#REF!"}},{"$f":"'Pob x Genero'!#REF!","v":{"$error":"#REF!"}},{"$f":"'Pob x Genero'!#REF!","v":{"$error":"#REF!"}},{"$f":"'Pob x Genero'!#REF!","v":{"$error":"#REF!"}},{"$f":"'Pob x Genero'!#REF!","v":{"$error":"#REF!"}},"Hombre","00-04",{"$f":"'Pob x Genero'!#REF!","v":{"$error":"#REF!"}},956]
[{"$f":"'Pob x Genero'!#REF!","v":{"$error":"#REF!"}},{"$f":"'Pob x Genero'!#REF!","v":{"$error":"#REF!"}},{"$f":"'Pob x Genero'!#REF!","v":{"$error":"#REF!"}},{"$f":"'Pob x Genero'!#REF!","v":{"$error":"#REF!"}},{"$f":"'Pob x Genero'!#REF!","v":{"$error":"#REF!"}},"Hombre","00-04",{"$f":"'Pob x Genero'!#REF!","v":{"$error":"#REF!"}},957]
[{"$f":"'Pob x Genero'!#REF!","v":{"$error":"#REF!"}},{"$f":"'Pob x Genero'!#REF!","v":{"$error":"#REF!"}},{"$f":"'Pob x Genero'!#REF!","v":{"$error":"#REF!"}},{"$f":"'Pob x Genero'!#REF!","v":{"$error":"#REF!"}},{"$f":"'Pob x Genero'!#REF!","v":{"$error":"#REF!"}},"Hombre","00-04",{"$f":"'Pob x Genero'!#REF!","v":{"$error":"#REF!"}},958]
[{"$f":"'Pob x Genero'!#REF!","v":{"$error":"#REF!"}},{"$f":"'Pob x Genero'!#REF!","v":{"$error":"#REF!"}},{"$f":"'Pob x Genero'!#REF!","v":{"$error":"#REF!"}},{"$f":"'Pob x Genero'!#REF!","v":{"$error":"#REF!"}},{"$f":"'Pob x Genero'!#REF!","v":{"$error":"#REF!"}},"Hombre","00-04",{"$f":"'Pob x Genero'!#REF!","v":{"$error":"#REF!"}},959]
[{"$f":"'Pob x Genero'!#REF!","v":{"$error":"#REF!"}},{"$f":"'Pob x Genero'!#REF!","v":{"$error":"#REF!"}},{"$f":"'Pob x Genero'!#REF!","v":{"$error":"#REF!"}},{"$f":"'Pob x Genero'!#REF!","v":{"$error":"#REF!"}},{"$f":"'Pob x Genero'!#REF!","v":{"$error":"#REF!"}},"Hombre","00-04",{"$f":"'Pob x Genero'!#REF!","v":{"$error":"#REF!"}},960]
[{"$f":"'Pob x Genero'!#REF!","v":{"$error":"#REF!"}},{"$f":"'Pob x Genero'!#REF!","v":{"$error":"#REF!"}},{"$f":"'Pob x Genero'!#REF!","v":{"$error":"#REF!"}},{"$f":"'Pob x Genero'!#REF!","v":{"$error":"#REF!"}},{"$f":"'Pob x Genero'!#REF!","v":{"$error":"#REF!"}},"Hombre","00-04",{"$f":"'Pob x Genero'!#REF!","v":{"$error":"#REF!"}},961]
[{"$f":"'Pob x Genero'!#REF!","v":{"$error":"#REF!"}},{"$f":"'Pob x Genero'!#REF!","v":{"$error":"#REF!"}},{"$f":"'Pob x Genero'!#REF!","v":{"$error":"#REF!"}},{"$f":"'Pob x Genero'!#REF!","v":{"$error":"#REF!"}},{"$f":"'Pob x Genero'!#REF!","v":{"$error":"#REF!"}},{"$f":"F962","v":"Hombre"},{"$f":"G962","v":"00-04"},{"$f":"'Pob x Genero'!#REF!","v":{"$error":"#REF!"}},962]
[{"$f":"'Pob x Genero'!#REF!","v":{"$error":"#REF!"}},{"$f":"'Pob x Genero'!#REF!","v":{"$error":"#REF!"}},{"$f":"'Pob x Genero'!#REF!","v":{"$error":"#REF!"}},{"$f":"'Pob x Genero'!#REF!","v":{"$error":"#REF!"}},{"$f":"'Pob x Genero'!#REF!","v":{"$error":"#REF!"}},"Hombre","00-04",{"$f":"'Pob x Genero'!#REF!","v":{"$error":"#REF!"}},963]
[{"$f":"'Pob x Genero'!#REF!","v":{"$error":"#REF!"}},{"$f":"'Pob x Genero'!#REF!","v":{"$error":"#REF!"}},{"$f":"'Pob x Genero'!#REF!","v":{"$error":"#REF!"}},{"$f":"'Pob x Genero'!#REF!","v":{"$error":"#REF!"}},{"$f":"'Pob x Genero'!#REF!","v":{"$error":"#REF!"}},"Hombre","00-04",{"$f":"'Pob x Genero'!#REF!","v":{"$error":"#REF!"}},964]
[{"$f":"'Pob x Genero'!#REF!","v":{"$error":"#REF!"}},{"$f":"'Pob x Genero'!#REF!","v":{"$error":"#REF!"}},{"$f":"'Pob x Genero'!#REF!","v":{"$error":"#REF!"}},{"$f":"'Pob x Genero'!#REF!","v":{"$error":"#REF!"}},{"$f":"'Pob x Genero'!#REF!","v":{"$error":"#REF!"}},"Hombre","00-04",{"$f":"'Pob x Genero'!#REF!","v":{"$error":"#REF!"}},965]
[{"$f":"'Pob x Genero'!#REF!","v":{"$error":"#REF!"}},{"$f":"'Pob x Genero'!#REF!","v":{"$error":"#REF!"}},{"$f":"'Pob x Genero'!#REF!","v":{"$error":"#REF!"}},{"$f":"'Pob x Genero'!#REF!","v":{"$error":"#REF!"}},{"$f":"'Pob x Genero'!#REF!","v":{"$error":"#REF!"}},"Hombre","00-04",{"$f":"'Pob x Genero'!#REF!","v":{"$error":"#REF!"}},966]
[{"$f":"'Pob x Genero'!#REF!","v":{"$error":"#REF!"}},{"$f":"'Pob x Genero'!#REF!","v":{"$error":"#REF!"}},{"$f":"'Pob x Genero'!#REF!","v":{"$error":"#REF!"}},{"$f":"'Pob x Genero'!#REF!","v":{"$error":"#REF!"}},{"$f":"'Pob x Genero'!#REF!","v":{"$error":"#REF!"}},"Hombre","00-04",{"$f":"'Pob x Genero'!#REF!","v":{"$error":"#REF!"}},967]
[{"$f":"'Pob x Genero'!#REF!","v":{"$error":"#REF!"}},{"$f":"'Pob x Genero'!#REF!","v":{"$error":"#REF!"}},{"$f":"'Pob x Genero'!#REF!","v":{"$error":"#REF!"}},{"$f":"'Pob x Genero'!#REF!","v":{"$error":"#REF!"}},{"$f":"'Pob x Genero'!#REF!","v":{"$error":"#REF!"}},"Hombre","00-04",{"$f":"'Pob x Genero'!#REF!","v":{"$error":"#REF!"}},968]
[{"$f":"'Pob x Genero'!#REF!","v":{"$error":"#REF!"}},{"$f":"'Pob x Genero'!#REF!","v":{"$error":"#REF!"}},{"$f":"'Pob x Genero'!#REF!","v":{"$error":"#REF!"}},{"$f":"'Pob x Genero'!#REF!","v":{"$error":"#REF!"}},{"$f":"'Pob x Genero'!#REF!","v":{"$error":"#REF!"}},"Hombre","00-04",{"$f":"'Pob x Genero'!#REF!","v":{"$error":"#REF!"}},969]
[{"$f":"'Pob x Genero'!#REF!","v":{"$error":"#REF!"}},{"$f":"'Pob x Genero'!#REF!","v":{"$error":"#REF!"}},{"$f":"'Pob x Genero'!#REF!","v":{"$error":"#REF!"}},{"$f":"'Pob x Genero'!#REF!","v":{"$error":"#REF!"}},{"$f":"'Pob x Genero'!#REF!","v":{"$error":"#REF!"}},"Hombre","00-04",{"$f":"'Pob x Genero'!#REF!","v":{"$error":"#REF!"}},970]
[{"$f":"'Pob x Genero'!#REF!","v":{"$error":"#REF!"}},{"$f":"'Pob x Genero'!#REF!","v":{"$error":"#REF!"}},{"$f":"'Pob x Genero'!#REF!","v":{"$error":"#REF!"}},{"$f":"'Pob x Genero'!#REF!","v":{"$error":"#REF!"}},{"$f":"'Pob x Genero'!#REF!","v":{"$error":"#REF!"}},"Hombre","00-04",{"$f":"'Pob x Genero'!#REF!","v":{"$error":"#REF!"}},971]
[{"$f":"'Pob x Genero'!#REF!","v":{"$error":"#REF!"}},{"$f":"'Pob x Genero'!#REF!","v":{"$error":"#REF!"}},{"$f":"'Pob x Genero'!#REF!","v":{"$error":"#REF!"}},{"$f":"'Pob x Genero'!#REF!","v":{"$error":"#REF!"}},{"$f":"'Pob x Genero'!#REF!","v":{"$error":"#REF!"}},"Hombre","00-04",{"$f":"'Pob x Genero'!#REF!","v":{"$error":"#REF!"}},972]
[{"$f":"'Pob x Genero'!#REF!","v":{"$error":"#REF!"}},{"$f":"'Pob x Genero'!#REF!","v":{"$error":"#REF!"}},{"$f":"'Pob x Genero'!#REF!","v":{"$error":"#REF!"}},{"$f":"'Pob x Genero'!#REF!","v":{"$error":"#REF!"}},{"$f":"'Pob x Genero'!#REF!","v":{"$error":"#REF!"}},"Hombre","00-04",{"$f":"'Pob x Genero'!#REF!","v":{"$error":"#REF!"}},973]
[{"$f":"'Pob x Genero'!#REF!","v":{"$error":"#REF!"}},{"$f":"'Pob x Genero'!#REF!","v":{"$error":"#REF!"}},{"$f":"'Pob x Genero'!#REF!","v":{"$error":"#REF!"}},{"$f":"'Pob x Genero'!#REF!","v":{"$error":"#REF!"}},{"$f":"'Pob x Genero'!#REF!","v":{"$error":"#REF!"}},"Hombre","00-04",{"$f":"'Pob x Genero'!#REF!","v":{"$error":"#REF!"}},974]
[{"$f":"'Pob x Genero'!#REF!","v":{"$error":"#REF!"}},{"$f":"'Pob x Genero'!#REF!","v":{"$error":"#REF!"}},{"$f":"'Pob x Genero'!#REF!","v":{"$error":"#REF!"}},{"$f":"'Pob x Genero'!#REF!","v":{"$error":"#REF!"}},{"$f":"'Pob x Genero'!#REF!","v":{"$error":"#REF!"}},"Hombre","00-04",{"$f":"'Pob x Genero'!#REF!","v":{"$error":"#REF!"}},975]
[{"$f":"'Pob x Genero'!#REF!","v":{"$error":"#REF!"}},{"$f":"'Pob x Genero'!#REF!","v":{"$error":"#REF!"}},{"$f":"'Pob x Genero'!#REF!","v":{"$error":"#REF!"}},{"$f":"'Pob x Genero'!#REF!","v":{"$error":"#REF!"}},{"$f":"'Pob x Genero'!#REF!","v":{"$error":"#REF!"}},"Hombre","00-04",{"$f":"'Pob x Genero'!#REF!","v":{"$error":"#REF!"}},976]
[{"$f":"'Pob x Genero'!#REF!","v":{"$error":"#REF!"}},{"$f":"'Pob x Genero'!#REF!","v":{"$error":"#REF!"}},{"$f":"'Pob x Genero'!#REF!","v":{"$error":"#REF!"}},{"$f":"'Pob x Genero'!#REF!","v":{"$error":"#REF!"}},{"$f":"'Pob x Genero'!#REF!","v":{"$error":"#REF!"}},"Hombre","00-04",{"$f":"'Pob x Genero'!#REF!","v":{"$error":"#REF!"}},977]
[{"$f":"'Pob x Genero'!#REF!","v":{"$error":"#REF!"}},{"$f":"'Pob x Genero'!#REF!","v":{"$error":"#REF!"}},{"$f":"'Pob x Genero'!#REF!","v":{"$error":"#REF!"}},{"$f":"'Pob x Genero'!#REF!","v":{"$error":"#REF!"}},{"$f":"'Pob x Genero'!#REF!","v":{"$error":"#REF!"}},"Hombre","00-04",{"$f":"'Pob x Genero'!#REF!","v":{"$error":"#REF!"}},978]
[{"$f":"'Pob x Genero'!#REF!","v":{"$error":"#REF!"}},{"$f":"'Pob x Genero'!#REF!","v":{"$error":"#REF!"}},{"$f":"'Pob x Genero'!#REF!","v":{"$error":"#REF!"}},{"$f":"'Pob x Genero'!#REF!","v":{"$error":"#REF!"}},{"$f":"'Pob x Genero'!#REF!","v":{"$error":"#REF!"}},"Hombre","00-04",{"$f":"'Pob x Genero'!#REF!","v":{"$error":"#REF!"}},979]
[{"$f":"'Pob x Genero'!#REF!","v":{"$error":"#REF!"}},{"$f":"'Pob x Genero'!#REF!","v":{"$error":"#REF!"}},{"$f":"'Pob x Genero'!#REF!","v":{"$error":"#REF!"}},{"$f":"'Pob x Genero'!#REF!","v":{"$error":"#REF!"}},{"$f":"'Pob x Genero'!#REF!","v":{"$error":"#REF!"}},"Hombre","00-04",{"$f":"'Pob x Genero'!#REF!","v":{"$error":"#REF!"}},980]
[{"$f":"'Pob x Genero'!#REF!","v":{"$error":"#REF!"}},{"$f":"'Pob x Genero'!#REF!","v":{"$error":"#REF!"}},{"$f":"'Pob x Genero'!#REF!","v":{"$error":"#REF!"}},{"$f":"'Pob x Genero'!#REF!","v":{"$error":"#REF!"}},{"$f":"'Pob x Genero'!#REF!","v":{"$error":"#REF!"}},"Hombre","00-04",{"$f":"'Pob x Genero'!#REF!","v":{"$error":"#REF!"}},981]
[{"$f":"'Pob x Genero'!#REF!","v":{"$error":"#REF!"}},{"$f":"'Pob x Genero'!#REF!","v":{"$error":"#REF!"}},{"$f":"'Pob x Genero'!#REF!","v":{"$error":"#REF!"}},{"$f":"'Pob x Genero'!#REF!","v":{"$error":"#REF!"}},{"$f":"'Pob x Genero'!#REF!","v":{"$error":"#REF!"}},"Hombre","00-04",{"$f":"'Pob x Genero'!#REF!","v":{"$error":"#REF!"}},982]
[{"$f":"'Pob x Genero'!#REF!","v":{"$error":"#REF!"}},{"$f":"'Pob x Genero'!#REF!","v":{"$error":"#REF!"}},{"$f":"'Pob x Genero'!#REF!","v":{"$error":"#REF!"}},{"$f":"'Pob x Genero'!#REF!","v":{"$error":"#REF!"}},{"$f":"'Pob x Genero'!#REF!","v":{"$error":"#REF!"}},"Hombre","00-04",{"$f":"'Pob x Genero'!#REF!","v":{"$error":"#REF!"}},983]
[{"$f":"'Pob x Genero'!#REF!","v":{"$error":"#REF!"}},{"$f":"'Pob x Genero'!#REF!","v":{"$error":"#REF!"}},{"$f":"'Pob x Genero'!#REF!","v":{"$error":"#REF!"}},{"$f":"'Pob x Genero'!#REF!","v":{"$error":"#REF!"}},{"$f":"'Pob x Genero'!#REF!","v":{"$error":"#REF!"}},"Hombre","00-04",{"$f":"'Pob x Genero'!#REF!","v":{"$error":"#REF!"}},984]
[{"$f":"'Pob x Genero'!#REF!","v":{"$error":"#REF!"}},{"$f":"'Pob x Genero'!#REF!","v":{"$error":"#REF!"}},{"$f":"'Pob x Genero'!#REF!","v":{"$error":"#REF!"}},{"$f":"'Pob x Genero'!#REF!","v":{"$error":"#REF!"}},{"$f":"'Pob x Genero'!#REF!","v":{"$error":"#REF!"}},"Hombre","00-04",{"$f":"'Pob x Genero'!#REF!","v":{"$error":"#REF!"}},985]
[{"$f":"'Pob x Genero'!#REF!","v":{"$error":"#REF!"}},{"$f":"'Pob x Genero'!#REF!","v":{"$error":"#REF!"}},{"$f":"'Pob x Genero'!#REF!","v":{"$error":"#REF!"}},{"$f":"'Pob x Genero'!#REF!","v":{"$error":"#REF!"}},{"$f":"'Pob x Genero'!#REF!","v":{"$error":"#REF!"}},"Hombre","00-04",{"$f":"'Pob x Genero'!#REF!","v":{"$error":"#REF!"}},986]
[{"$f":"'Pob x Genero'!#REF!","v":{"$error":"#REF!"}},{"$f":"'Pob x Genero'!#REF!","v":{"$error":"#REF!"}},{"$f":"'Pob x Genero'!#REF!","v":{"$error":"#REF!"}},{"$f":"'Pob x Genero'!#REF!","v":{"$error":"#REF!"}},{"$f":"'Pob x Genero'!#REF!","v":{"$error":"#REF!"}},"Hombre","00-04",{"$f":"'Pob x Genero'!#REF!","v":{"$error":"#REF!"}},987]
[{"$f":"'Pob x Genero'!#REF!","v":{"$error":"#REF!"}},{"$f":"'Pob x Genero'!#REF!","v":{"$error":"#REF!"}},{"$f":"'Pob x Genero'!#REF!","v":{"$error":"#REF!"}},{"$f":"'Pob x Genero'!#REF!","v":{"$error":"#REF!"}},{"$f":"'Pob x Genero'!#REF!","v":{"$error":"#REF!"}},"Hombre","00-04",{"$f":"'Pob x Genero'!#REF!","v":{"$error":"#REF!"}},988]
[{"$f":"'Pob x Genero'!#REF!","v":{"$error":"#REF!"}},{"$f":"'Pob x Genero'!#REF!","v":{"$error":"#REF!"}},{"$f":"'Pob x Genero'!#REF!","v":{"$error":"#REF!"}},{"$f":"'Pob x Genero'!#REF!","v":{"$error":"#REF!"}},{"$f":"'Pob x Genero'!#REF!","v":{"$error":"#REF!"}},"Hombre","00-04",{"$f":"'Pob x Genero'!#REF!","v":{"$error":"#REF!"}},989]
[{"$f":"'Pob x Genero'!#REF!","v":{"$error":"#REF!"}},{"$f":"'Pob x Genero'!#REF!","v":{"$error":"#REF!"}},{"$f":"'Pob x Genero'!#REF!","v":{"$error":"#REF!"}},{"$f":"'Pob x Genero'!#REF!","v":{"$error":"#REF!"}},{"$f":"'Pob x Genero'!#REF!","v":{"$error":"#REF!"}},"Hombre","00-04",{"$f":"'Pob x Genero'!#REF!","v":{"$error":"#REF!"}},990]
[{"$f":"'Pob x Genero'!#REF!","v":{"$error":"#REF!"}},{"$f":"'Pob x Genero'!#REF!","v":{"$error":"#REF!"}},{"$f":"'Pob x Genero'!#REF!","v":{"$error":"#REF!"}},{"$f":"'Pob x Genero'!#REF!","v":{"$error":"#REF!"}},{"$f":"'Pob x Genero'!#REF!","v":{"$error":"#REF!"}},"Hombre","00-04",{"$f":"'Pob x Genero'!#REF!","v":{"$error":"#REF!"}},991]
[{"$f":"'Pob x Genero'!#REF!","v":{"$error":"#REF!"}},{"$f":"'Pob x Genero'!#REF!","v":{"$error":"#REF!"}},{"$f":"'Pob x Genero'!#REF!","v":{"$error":"#REF!"}},{"$f":"'Pob x Genero'!#REF!","v":{"$error":"#REF!"}},{"$f":"'Pob x Genero'!#REF!","v":{"$error":"#REF!"}},"Hombre","00-04",{"$f":"'Pob x Genero'!#REF!","v":{"$error":"#REF!"}},992]
[{"$f":"'Pob x Genero'!#REF!","v":{"$error":"#REF!"}},{"$f":"'Pob x Genero'!#REF!","v":{"$error":"#REF!"}},{"$f":"'Pob x Genero'!#REF!","v":{"$error":"#REF!"}},{"$f":"'Pob x Genero'!#REF!","v":{"$error":"#REF!"}},{"$f":"'Pob x Genero'!#REF!","v":{"$error":"#REF!"}},"Hombre","00-04",{"$f":"'Pob x Genero'!#REF!","v":{"$error":"#REF!"}},993]
[{"$f":"'Pob x Genero'!#REF!","v":{"$error":"#REF!"}},{"$f":"'Pob x Genero'!#REF!","v":{"$error":"#REF!"}},{"$f":"'Pob x Genero'!#REF!","v":{"$error":"#REF!"}},{"$f":"'Pob x Genero'!#REF!","v":{"$error":"#REF!"}},{"$f":"'Pob x Genero'!#REF!","v":{"$error":"#REF!"}},"Hombre","00-04",{"$f":"'Pob x Genero'!#REF!","v":{"$error":"#REF!"}},994]
[{"$f":"'Pob x Genero'!#REF!","v":{"$error":"#REF!"}},{"$f":"'Pob x Genero'!#REF!","v":{"$error":"#REF!"}},{"$f":"'Pob x Genero'!#REF!","v":{"$error":"#REF!"}},{"$f":"'Pob x Genero'!#REF!","v":{"$error":"#REF!"}},{"$f":"'Pob x Genero'!#REF!","v":{"$error":"#REF!"}},"Hombre","00-04",{"$f":"'Pob x Genero'!#REF!","v":{"$error":"#REF!"}},995]
[{"$f":"'Pob x Genero'!#REF!","v":{"$error":"#REF!"}},{"$f":"'Pob x Genero'!#REF!","v":{"$error":"#REF!"}},{"$f":"'Pob x Genero'!#REF!","v":{"$error":"#REF!"}},{"$f":"'Pob x Genero'!#REF!","v":{"$error":"#REF!"}},{"$f":"'Pob x Genero'!#REF!","v":{"$error":"#REF!"}},"Hombre","00-04",{"$f":"'Pob x Genero'!#REF!","v":{"$error":"#REF!"}},996]
[{"$f":"'Pob x Genero'!#REF!","v":{"$error":"#REF!"}},{"$f":"'Pob x Genero'!#REF!","v":{"$error":"#REF!"}},{"$f":"'Pob x Genero'!#REF!","v":{"$error":"#REF!"}},{"$f":"'Pob x Genero'!#REF!","v":{"$error":"#REF!"}},{"$f":"'Pob x Genero'!#REF!","v":{"$error":"#REF!"}},"Hombre","00-04",{"$f":"'Pob x Genero'!#REF!","v":{"$error":"#REF!"}},997]
[{"$f":"'Pob x Genero'!#REF!","v":{"$error":"#REF!"}},{"$f":"'Pob x Genero'!#REF!","v":{"$error":"#REF!"}},{"$f":"'Pob x Genero'!#REF!","v":{"$error":"#REF!"}},{"$f":"'Pob x Genero'!#REF!","v":{"$error":"#REF!"}},{"$f":"'Pob x Genero'!#REF!","v":{"$error":"#REF!"}},"Hombre","00-04",{"$f":"'Pob x Genero'!#REF!","v":{"$error":"#REF!"}},998]
[{"$f":"'Pob x Genero'!#REF!","v":{"$error":"#REF!"}},{"$f":"'Pob x Genero'!#REF!","v":{"$error":"#REF!"}},{"$f":"'Pob x Genero'!#REF!","v":{"$error":"#REF!"}},{"$f":"'Pob x Genero'!#REF!","v":{"$error":"#REF!"}},{"$f":"'Pob x Genero'!#REF!","v":{"$error":"#REF!"}},"Hombre","00-04",{"$f":"'Pob x Genero'!#REF!","v":{"$error":"#REF!"}},999]
[{"$f":"'Pob x Genero'!#REF!","v":{"$error":"#REF!"}},{"$f":"'Pob x Genero'!#REF!","v":{"$error":"#REF!"}},{"$f":"'Pob x Genero'!#REF!","v":{"$error":"#REF!"}},{"$f":"'Pob x Genero'!#REF!","v":{"$error":"#REF!"}},{"$f":"'Pob x Genero'!#REF!","v":{"$error":"#REF!"}},"Hombre","00-04",{"$f":"'Pob x Genero'!#REF!","v":{"$error":"#REF!"}},1000]
[{"$f":"'Pob x Genero'!#REF!","v":{"$error":"#REF!"}},{"$f":"'Pob x Genero'!#REF!","v":{"$error":"#REF!"}},{"$f":"'Pob x Genero'!#REF!","v":{"$error":"#REF!"}},{"$f":"'Pob x Genero'!#REF!","v":{"$error":"#REF!"}},{"$f":"'Pob x Genero'!#REF!","v":{"$error":"#REF!"}},"Hombre","00-04",{"$f":"'Pob x Genero'!#REF!","v":{"$error":"#REF!"}},1001]
[{"$f":"'Pob x Genero'!#REF!","v":{"$error":"#REF!"}},{"$f":"'Pob x Genero'!#REF!","v":{"$error":"#REF!"}},{"$f":"'Pob x Genero'!#REF!","v":{"$error":"#REF!"}},{"$f":"'Pob x Genero'!#REF!","v":{"$error":"#REF!"}},{"$f":"'Pob x Genero'!#REF!","v":{"$error":"#REF!"}},"Hombre","00-04",{"$f":"'Pob x Genero'!#REF!","v":{"$error":"#REF!"}},1002]
[{"$f":"'Pob x Genero'!#REF!","v":{"$error":"#REF!"}},{"$f":"'Pob x Genero'!#REF!","v":{"$error":"#REF!"}},{"$f":"'Pob x Genero'!#REF!","v":{"$error":"#REF!"}},{"$f":"'Pob x Genero'!#REF!","v":{"$error":"#REF!"}},{"$f":"'Pob x Genero'!#REF!","v":{"$error":"#REF!"}},"Hombre","00-04",{"$f":"'Pob x Genero'!#REF!","v":{"$error":"#REF!"}},1003]
[{"$f":"'Pob x Genero'!#REF!","v":{"$error":"#REF!"}},{"$f":"'Pob x Genero'!#REF!","v":{"$error":"#REF!"}},{"$f":"'Pob x Genero'!#REF!","v":{"$error":"#REF!"}},{"$f":"'Pob x Genero'!#REF!","v":{"$error":"#REF!"}},{"$f":"'Pob x Genero'!#REF!","v":{"$error":"#REF!"}},"Hombre","00-04",{"$f":"'Pob x Genero'!#REF!","v":{"$error":"#REF!"}},1004]
[{"$f":"'Pob x Genero'!#REF!","v":{"$error":"#REF!"}},{"$f":"'Pob x Genero'!#REF!","v":{"$error":"#REF!"}},{"$f":"'Pob x Genero'!#REF!","v":{"$error":"#REF!"}},{"$f":"'Pob x Genero'!#REF!","v":{"$error":"#REF!"}},{"$f":"'Pob x Genero'!#REF!","v":{"$error":"#REF!"}},"Hombre","00-04",{"$f":"'Pob x Genero'!#REF!","v":{"$error":"#REF!"}},1005]
[{"$f":"'Pob x Genero'!#REF!","v":{"$error":"#REF!"}},{"$f":"'Pob x Genero'!#REF!","v":{"$error":"#REF!"}},{"$f":"'Pob x Genero'!#REF!","v":{"$error":"#REF!"}},{"$f":"'Pob x Genero'!#REF!","v":{"$error":"#REF!"}},{"$f":"'Pob x Genero'!#REF!","v":{"$error":"#REF!"}},"Hombre","00-04",{"$f":"'Pob x Genero'!#REF!","v":{"$error":"#REF!"}},1006]
[{"$f":"'Pob x Genero'!#REF!","v":{"$error":"#REF!"}},{"$f":"'Pob x Genero'!#REF!","v":{"$error":"#REF!"}},{"$f":"'Pob x Genero'!#REF!","v":{"$error":"#REF!"}},{"$f":"'Pob x Genero'!#REF!","v":{"$error":"#REF!"}},{"$f":"'Pob x Genero'!#REF!","v":{"$error":"#REF!"}},"Hombre","00-04",{"$f":"'Pob x Genero'!#REF!","v":{"$error":"#REF!"}},1007]
[{"$f":"'Pob x Genero'!#REF!","v":{"$error":"#REF!"}},{"$f":"'Pob x Genero'!#REF!","v":{"$error":"#REF!"}},{"$f":"'Pob x Genero'!#REF!","v":{"$error":"#REF!"}},{"$f":"'Pob x Genero'!#REF!","v":{"$error":"#REF!"}},{"$f":"'Pob x Genero'!#REF!","v":{"$error":"#REF!"}},"Hombre","00-04",{"$f":"'Pob x Genero'!#REF!","v":{"$error":"#REF!"}},1008]
[{"$f":"'Pob x Genero'!#REF!","v":{"$error":"#REF!"}},{"$f":"'Pob x Genero'!#REF!","v":{"$error":"#REF!"}},{"$f":"'Pob x Genero'!#REF!","v":{"$error":"#REF!"}},{"$f":"'Pob x Genero'!#REF!","v":{"$error":"#REF!"}},{"$f":"'Pob x Genero'!#REF!","v":{"$error":"#REF!"}},"Hombre","00-04",{"$f":"'Pob x Genero'!#REF!","v":{"$error":"#REF!"}},1009]
[{"$f":"'Pob x Genero'!#REF!","v":{"$error":"#REF!"}},{"$f":"'Pob x Genero'!#REF!","v":{"$error":"#REF!"}},{"$f":"'Pob x Genero'!#REF!","v":{"$error":"#REF!"}},{"$f":"'Pob x Genero'!#REF!","v":{"$error":"#REF!"}},{"$f":"'Pob x Genero'!#REF!","v":{"$error":"#REF!"}},"Hombre","00-04",{"$f":"'Pob x Genero'!#REF!","v":{"$error":"#REF!"}},1010]
[{"$f":"'Pob x Genero'!#REF!","v":{"$error":"#REF!"}},{"$f":"'Pob x Genero'!#REF!","v":{"$error":"#REF!"}},{"$f":"'Pob x Genero'!#REF!","v":{"$error":"#REF!"}},{"$f":"'Pob x Genero'!#REF!","v":{"$error":"#REF!"}},{"$f":"'Pob x Genero'!#REF!","v":{"$error":"#REF!"}},"Hombre","00-04",{"$f":"'Pob x Genero'!#REF!","v":{"$error":"#REF!"}},1011]
[{"$f":"'Pob x Genero'!#REF!","v":{"$error":"#REF!"}},{"$f":"'Pob x Genero'!#REF!","v":{"$error":"#REF!"}},{"$f":"'Pob x Genero'!#REF!","v":{"$error":"#REF!"}},{"$f":"'Pob x Genero'!#REF!","v":{"$error":"#REF!"}},{"$f":"'Pob x Genero'!#REF!","v":{"$error":"#REF!"}},"Hombre","00-04",{"$f":"'Pob x Genero'!#REF!","v":{"$error":"#REF!"}},1012]
[{"$f":"'Pob x Genero'!#REF!","v":{"$error":"#REF!"}},{"$f":"'Pob x Genero'!#REF!","v":{"$error":"#REF!"}},{"$f":"'Pob x Genero'!#REF!","v":{"$error":"#REF!"}},{"$f":"'Pob x Genero'!#REF!","v":{"$error":"#REF!"}},{"$f":"'Pob x Genero'!#REF!","v":{"$error":"#REF!"}},"Hombre","00-04",{"$f":"'Pob x Genero'!#REF!","v":{"$error":"#REF!"}},1013]
[{"$f":"'Pob x Genero'!#REF!","v":{"$error":"#REF!"}},{"$f":"'Pob x Genero'!#REF!","v":{"$error":"#REF!"}},{"$f":"'Pob x Genero'!#REF!","v":{"$error":"#REF!"}},{"$f":"'Pob x Genero'!#REF!","v":{"$error":"#REF!"}},{"$f":"'Pob x Genero'!#REF!","v":{"$error":"#REF!"}},"Hombre","00-04",{"$f":"'Pob x Genero'!#REF!","v":{"$error":"#REF!"}},1014]
[{"$f":"'Pob x Genero'!#REF!","v":{"$error":"#REF!"}},{"$f":"'Pob x Genero'!#REF!","v":{"$error":"#REF!"}},{"$f":"'Pob x Genero'!#REF!","v":{"$error":"#REF!"}},{"$f":"'Pob x Genero'!#REF!","v":{"$error":"#REF!"}},{"$f":"'Pob x Genero'!#REF!","v":{"$error":"#REF!"}},"Hombre","00-04",{"$f":"'Pob x Genero'!#REF!","v":{"$error":"#REF!"}},1015]
[{"$f":"'Pob x Genero'!#REF!","v":{"$error":"#REF!"}},{"$f":"'Pob x Genero'!#REF!","v":{"$error":"#REF!"}},{"$f":"'Pob x Genero'!#REF!","v":{"$error":"#REF!"}},{"$f":"'Pob x Genero'!#REF!","v":{"$error":"#REF!"}},{"$f":"'Pob x Genero'!#REF!","v":{"$error":"#REF!"}},"Hombre","00-04",{"$f":"'Pob x Genero'!#REF!","v":{"$error":"#REF!"}},1016]
[{"$f":"'Pob x Genero'!#REF!","v":{"$error":"#REF!"}},{"$f":"'Pob x Genero'!#REF!","v":{"$error":"#REF!"}},{"$f":"'Pob x Genero'!#REF!","v":{"$error":"#REF!"}},{"$f":"'Pob x Genero'!#REF!","v":{"$error":"#REF!"}},{"$f":"'Pob x Genero'!#REF!","v":{"$error":"#REF!"}},"Hombre","00-04",{"$f":"'Pob x Genero'!#REF!","v":{"$error":"#REF!"}},1017]
[{"$f":"'Pob x Genero'!#REF!","v":{"$error":"#REF!"}},{"$f":"'Pob x Genero'!#REF!","v":{"$error":"#REF!"}},{"$f":"'Pob x Genero'!#REF!","v":{"$error":"#REF!"}},{"$f":"'Pob x Genero'!#REF!","v":{"$error":"#REF!"}},{"$f":"'Pob x Genero'!#REF!","v":{"$error":"#REF!"}},"Hombre","00-04",{"$f":"'Pob x Genero'!#REF!","v":{"$error":"#REF!"}},1018]
[{"$f":"'Pob x Genero'!#REF!","v":{"$error":"#REF!"}},{"$f":"'Pob x Genero'!#REF!","v":{"$error":"#REF!"}},{"$f":"'Pob x Genero'!#REF!","v":{"$error":"#REF!"}},{"$f":"'Pob x Genero'!#REF!","v":{"$error":"#REF!"}},{"$f":"'Pob x Genero'!#REF!","v":{"$error":"#REF!"}},"Hombre","00-04",{"$f":"'Pob x Genero'!#REF!","v":{"$error":"#REF!"}},1019]
[{"$f":"'Pob x Genero'!#REF!","v":{"$error":"#REF!"}},{"$f":"'Pob x Genero'!#REF!","v":{"$error":"#REF!"}},{"$f":"'Pob x Genero'!#REF!","v":{"$error":"#REF!"}},{"$f":"'Pob x Genero'!#REF!","v":{"$error":"#REF!"}},{"$f":"'Pob x Genero'!#REF!","v":{"$error":"#REF!"}},"Hombre","00-04",{"$f":"'Pob x Genero'!#REF!","v":{"$error":"#REF!"}},1020]
[{"$f":"'Pob x Genero'!#REF!","v":{"$error":"#REF!"}},{"$f":"'Pob x Genero'!#REF!","v":{"$error":"#REF!"}},{"$f":"'Pob x Genero'!#REF!","v":{"$error":"#REF!"}},{"$f":"'Pob x Genero'!#REF!","v":{"$error":"#REF!"}},{"$f":"'Pob x Genero'!#REF!","v":{"$error":"#REF!"}},"Hombre","00-04",{"$f":"'Pob x Genero'!#REF!","v":{"$error":"#REF!"}},1021]
[{"$f":"'Pob x Genero'!#REF!","v":{"$error":"#REF!"}},{"$f":"'Pob x Genero'!#REF!","v":{"$error":"#REF!"}},{"$f":"'Pob x Genero'!#REF!","v":{"$error":"#REF!"}},{"$f":"'Pob x Genero'!#REF!","v":{"$error":"#REF!"}},{"$f":"'Pob x Genero'!#REF!","v":{"$error":"#REF!"}},"Hombre","00-04",{"$f":"'Pob x Genero'!#REF!","v":{"$error":"#REF!"}},1022]
[{"$f":"'Pob x Genero'!#REF!","v":{"$error":"#REF!"}},{"$f":"'Pob x Genero'!#REF!","v":{"$error":"#REF!"}},{"$f":"'Pob x Genero'!#REF!","v":{"$error":"#REF!"}},{"$f":"'Pob x Genero'!#REF!","v":{"$error":"#REF!"}},{"$f":"'Pob x Genero'!#REF!","v":{"$error":"#REF!"}},"Hombre","00-04",{"$f":"'Pob x Genero'!#REF!","v":{"$error":"#REF!"}},1023]
[{"$f":"'Pob x Genero'!#REF!","v":{"$error":"#REF!"}},{"$f":"'Pob x Genero'!#REF!","v":{"$error":"#REF!"}},{"$f":"'Pob x Genero'!#REF!","v":{"$error":"#REF!"}},{"$f":"'Pob x Genero'!#REF!","v":{"$error":"#REF!"}},{"$f":"'Pob x Genero'!#REF!","v":{"$error":"#REF!"}},"Hombre","00-04",{"$f":"'Pob x Genero'!#REF!","v":{"$error":"#REF!"}},1024]
[{"$f":"'Pob x Genero'!#REF!","v":{"$error":"#REF!"}},{"$f":"'Pob x Genero'!#REF!","v":{"$error":"#REF!"}},{"$f":"'Pob x Genero'!#REF!","v":{"$error":"#REF!"}},{"$f":"'Pob x Genero'!#REF!","v":{"$error":"#REF!"}},{"$f":"'Pob x Genero'!#REF!","v":{"$error":"#REF!"}},"Hombre","00-04",{"$f":"'Pob x Genero'!#REF!","v":{"$error":"#REF!"}},1025]
[{"$f":"'Pob x Genero'!#REF!","v":{"$error":"#REF!"}},{"$f":"'Pob x Genero'!#REF!","v":{"$error":"#REF!"}},{"$f":"'Pob x Genero'!#REF!","v":{"$error":"#REF!"}},{"$f":"'Pob x Genero'!#REF!","v":{"$error":"#REF!"}},{"$f":"'Pob x Genero'!#REF!","v":{"$error":"#REF!"}},{"$f":"F1026","v":"Hombre"},{"$f":"G1026","v":"00-04"},{"$f":"'Pob x Genero'!#REF!","v":{"$error":"#REF!"}},1026]
[{"$f":"'Pob x Genero'!#REF!","v":{"$error":"#REF!"}},{"$f":"'Pob x Genero'!#REF!","v":{"$error":"#REF!"}},{"$f":"'Pob x Genero'!#REF!","v":{"$error":"#REF!"}},{"$f":"'Pob x Genero'!#REF!","v":{"$error":"#REF!"}},{"$f":"'Pob x Genero'!#REF!","v":{"$error":"#REF!"}},"Hombre","00-04",{"$f":"'Pob x Genero'!#REF!","v":{"$error":"#REF!"}},1027]
[{"$f":"'Pob x Genero'!#REF!","v":{"$error":"#REF!"}},{"$f":"'Pob x Genero'!#REF!","v":{"$error":"#REF!"}},{"$f":"'Pob x Genero'!#REF!","v":{"$error":"#REF!"}},{"$f":"'Pob x Genero'!#REF!","v":{"$error":"#REF!"}},{"$f":"'Pob x Genero'!#REF!","v":{"$error":"#REF!"}},"Hombre","00-04",{"$f":"'Pob x Genero'!#REF!","v":{"$error":"#REF!"}},1028]
[{"$f":"'Pob x Genero'!#REF!","v":{"$error":"#REF!"}},{"$f":"'Pob x Genero'!#REF!","v":{"$error":"#REF!"}},{"$f":"'Pob x Genero'!#REF!","v":{"$error":"#REF!"}},{"$f":"'Pob x Genero'!#REF!","v":{"$error":"#REF!"}},{"$f":"'Pob x Genero'!#REF!","v":{"$error":"#REF!"}},"Hombre","00-04",{"$f":"'Pob x Genero'!#REF!","v":{"$error":"#REF!"}},1029]
[{"$f":"'Pob x Genero'!#REF!","v":{"$error":"#REF!"}},{"$f":"'Pob x Genero'!#REF!","v":{"$error":"#REF!"}},{"$f":"'Pob x Genero'!#REF!","v":{"$error":"#REF!"}},{"$f":"'Pob x Genero'!#REF!","v":{"$error":"#REF!"}},{"$f":"'Pob x Genero'!#REF!","v":{"$error":"#REF!"}},"Hombre","00-04",{"$f":"'Pob x Genero'!#REF!","v":{"$error":"#REF!"}},1030]
[{"$f":"'Pob x Genero'!#REF!","v":{"$error":"#REF!"}},{"$f":"'Pob x Genero'!#REF!","v":{"$error":"#REF!"}},{"$f":"'Pob x Genero'!#REF!","v":{"$error":"#REF!"}},{"$f":"'Pob x Genero'!#REF!","v":{"$error":"#REF!"}},{"$f":"'Pob x Genero'!#REF!","v":{"$error":"#REF!"}},"Hombre","00-04",{"$f":"'Pob x Genero'!#REF!","v":{"$error":"#REF!"}},1031]
[{"$f":"'Pob x Genero'!#REF!","v":{"$error":"#REF!"}},{"$f":"'Pob x Genero'!#REF!","v":{"$error":"#REF!"}},{"$f":"'Pob x Genero'!#REF!","v":{"$error":"#REF!"}},{"$f":"'Pob x Genero'!#REF!","v":{"$error":"#REF!"}},{"$f":"'Pob x Genero'!#REF!","v":{"$error":"#REF!"}},"Hombre","00-04",{"$f":"'Pob x Genero'!#REF!","v":{"$error":"#REF!"}},1032]
[{"$f":"'Pob x Genero'!#REF!","v":{"$error":"#REF!"}},{"$f":"'Pob x Genero'!#REF!","v":{"$error":"#REF!"}},{"$f":"'Pob x Genero'!#REF!","v":{"$error":"#REF!"}},{"$f":"'Pob x Genero'!#REF!","v":{"$error":"#REF!"}},{"$f":"'Pob x Genero'!#REF!","v":{"$error":"#REF!"}},"Hombre","00-04",{"$f":"'Pob x Genero'!#REF!","v":{"$error":"#REF!"}},1033]
[{"$f":"'Pob x Genero'!#REF!","v":{"$error":"#REF!"}},{"$f":"'Pob x Genero'!#REF!","v":{"$error":"#REF!"}},{"$f":"'Pob x Genero'!#REF!","v":{"$error":"#REF!"}},{"$f":"'Pob x Genero'!#REF!","v":{"$error":"#REF!"}},{"$f":"'Pob x Genero'!#REF!","v":{"$error":"#REF!"}},"Hombre","00-04",{"$f":"'Pob x Genero'!#REF!","v":{"$error":"#REF!"}},1034]
[{"$f":"'Pob x Genero'!#REF!","v":{"$error":"#REF!"}},{"$f":"'Pob x Genero'!#REF!","v":{"$error":"#REF!"}},{"$f":"'Pob x Genero'!#REF!","v":{"$error":"#REF!"}},{"$f":"'Pob x Genero'!#REF!","v":{"$error":"#REF!"}},{"$f":"'Pob x Genero'!#REF!","v":{"$error":"#REF!"}},"Hombre","00-04",{"$f":"'Pob x Genero'!#REF!","v":{"$error":"#REF!"}},1035]
[{"$f":"'Pob x Genero'!#REF!","v":{"$error":"#REF!"}},{"$f":"'Pob x Genero'!#REF!","v":{"$error":"#REF!"}},{"$f":"'Pob x Genero'!#REF!","v":{"$error":"#REF!"}},{"$f":"'Pob x Genero'!#REF!","v":{"$error":"#REF!"}},{"$f":"'Pob x Genero'!#REF!","v":{"$error":"#REF!"}},"Hombre","00-04",{"$f":"'Pob x Genero'!#REF!","v":{"$error":"#REF!"}},1036]
[{"$f":"'Pob x Genero'!#REF!","v":{"$error":"#REF!"}},{"$f":"'Pob x Genero'!#REF!","v":{"$error":"#REF!"}},{"$f":"'Pob x Genero'!#REF!","v":{"$error":"#REF!"}},{"$f":"'Pob x Genero'!#REF!","v":{"$error":"#REF!"}},{"$f":"'Pob x Genero'!#REF!","v":{"$error":"#REF!"}},"Hombre","00-04",{"$f":"'Pob x Genero'!#REF!","v":{"$error":"#REF!"}},1037]
[{"$f":"'Pob x Genero'!#REF!","v":{"$error":"#REF!"}},{"$f":"'Pob x Genero'!#REF!","v":{"$error":"#REF!"}},{"$f":"'Pob x Genero'!#REF!","v":{"$error":"#REF!"}},{"$f":"'Pob x Genero'!#REF!","v":{"$error":"#REF!"}},{"$f":"'Pob x Genero'!#REF!","v":{"$error":"#REF!"}},"Hombre","00-04",{"$f":"'Pob x Genero'!#REF!","v":{"$error":"#REF!"}},1038]
[{"$f":"'Pob x Genero'!#REF!","v":{"$error":"#REF!"}},{"$f":"'Pob x Genero'!#REF!","v":{"$error":"#REF!"}},{"$f":"'Pob x Genero'!#REF!","v":{"$error":"#REF!"}},{"$f":"'Pob x Genero'!#REF!","v":{"$error":"#REF!"}},{"$f":"'Pob x Genero'!#REF!","v":{"$error":"#REF!"}},"Hombre","00-04",{"$f":"'Pob x Genero'!#REF!","v":{"$error":"#REF!"}},1039]
[{"$f":"'Pob x Genero'!#REF!","v":{"$error":"#REF!"}},{"$f":"'Pob x Genero'!#REF!","v":{"$error":"#REF!"}},{"$f":"'Pob x Genero'!#REF!","v":{"$error":"#REF!"}},{"$f":"'Pob x Genero'!#REF!","v":{"$error":"#REF!"}},{"$f":"'Pob x Genero'!#REF!","v":{"$error":"#REF!"}},"Hombre","00-04",{"$f":"'Pob x Genero'!#REF!","v":{"$error":"#REF!"}},1040]
[{"$f":"'Pob x Genero'!#REF!","v":{"$error":"#REF!"}},{"$f":"'Pob x Genero'!#REF!","v":{"$error":"#REF!"}},{"$f":"'Pob x Genero'!#REF!","v":{"$error":"#REF!"}},{"$f":"'Pob x Genero'!#REF!","v":{"$error":"#REF!"}},{"$f":"'Pob x Genero'!#REF!","v":{"$error":"#REF!"}},"Hombre","00-04",{"$f":"'Pob x Genero'!#REF!","v":{"$error":"#REF!"}},1041]
[{"$f":"'Pob x Genero'!#REF!","v":{"$error":"#REF!"}},{"$f":"'Pob x Genero'!#REF!","v":{"$error":"#REF!"}},{"$f":"'Pob x Genero'!#REF!","v":{"$error":"#REF!"}},{"$f":"'Pob x Genero'!#REF!","v":{"$error":"#REF!"}},{"$f":"'Pob x Genero'!#REF!","v":{"$error":"#REF!"}},"Hombre","00-04",{"$f":"'Pob x Genero'!#REF!","v":{"$error":"#REF!"}},1042]
[{"$f":"'Pob x Genero'!#REF!","v":{"$error":"#REF!"}},{"$f":"'Pob x Genero'!#REF!","v":{"$error":"#REF!"}},{"$f":"'Pob x Genero'!#REF!","v":{"$error":"#REF!"}},{"$f":"'Pob x Genero'!#REF!","v":{"$error":"#REF!"}},{"$f":"'Pob x Genero'!#REF!","v":{"$error":"#REF!"}},"Hombre","00-04",{"$f":"'Pob x Genero'!#REF!","v":{"$error":"#REF!"}},1043]
[{"$f":"'Pob x Genero'!#REF!","v":{"$error":"#REF!"}},{"$f":"'Pob x Genero'!#REF!","v":{"$error":"#REF!"}},{"$f":"'Pob x Genero'!#REF!","v":{"$error":"#REF!"}},{"$f":"'Pob x Genero'!#REF!","v":{"$error":"#REF!"}},{"$f":"'Pob x Genero'!#REF!","v":{"$error":"#REF!"}},"Hombre","00-04",{"$f":"'Pob x Genero'!#REF!","v":{"$error":"#REF!"}},1044]
[{"$f":"'Pob x Genero'!#REF!","v":{"$error":"#REF!"}},{"$f":"'Pob x Genero'!#REF!","v":{"$error":"#REF!"}},{"$f":"'Pob x Genero'!#REF!","v":{"$error":"#REF!"}},{"$f":"'Pob x Genero'!#REF!","v":{"$error":"#REF!"}},{"$f":"'Pob x Genero'!#REF!","v":{"$error":"#REF!"}},"Hombre","00-04",{"$f":"'Pob x Genero'!#REF!","v":{"$error":"#REF!"}},1045]
[{"$f":"'Pob x Genero'!#REF!","v":{"$error":"#REF!"}},{"$f":"'Pob x Genero'!#REF!","v":{"$error":"#REF!"}},{"$f":"'Pob x Genero'!#REF!","v":{"$error":"#REF!"}},{"$f":"'Pob x Genero'!#REF!","v":{"$error":"#REF!"}},{"$f":"'Pob x Genero'!#REF!","v":{"$error":"#REF!"}},"Hombre","00-04",{"$f":"'Pob x Genero'!#REF!","v":{"$error":"#REF!"}},1046]
[{"$f":"'Pob x Genero'!#REF!","v":{"$error":"#REF!"}},{"$f":"'Pob x Genero'!#REF!","v":{"$error":"#REF!"}},{"$f":"'Pob x Genero'!#REF!","v":{"$error":"#REF!"}},{"$f":"'Pob x Genero'!#REF!","v":{"$error":"#REF!"}},{"$f":"'Pob x Genero'!#REF!","v":{"$error":"#REF!"}},"Hombre","00-04",{"$f":"'Pob x Genero'!#REF!","v":{"$error":"#REF!"}},1047]
[{"$f":"'Pob x Genero'!#REF!","v":{"$error":"#REF!"}},{"$f":"'Pob x Genero'!#REF!","v":{"$error":"#REF!"}},{"$f":"'Pob x Genero'!#REF!","v":{"$error":"#REF!"}},{"$f":"'Pob x Genero'!#REF!","v":{"$error":"#REF!"}},{"$f":"'Pob x Genero'!#REF!","v":{"$error":"#REF!"}},"Hombre","00-04",{"$f":"'Pob x Genero'!#REF!","v":{"$error":"#REF!"}},1048]
[{"$f":"'Pob x Genero'!#REF!","v":{"$error":"#REF!"}},{"$f":"'Pob x Genero'!#REF!","v":{"$error":"#REF!"}},{"$f":"'Pob x Genero'!#REF!","v":{"$error":"#REF!"}},{"$f":"'Pob x Genero'!#REF!","v":{"$error":"#REF!"}},{"$f":"'Pob x Genero'!#REF!","v":{"$error":"#REF!"}},"Hombre","00-04",{"$f":"'Pob x Genero'!#REF!","v":{"$error":"#REF!"}},1049]
[{"$f":"'Pob x Genero'!#REF!","v":{"$error":"#REF!"}},{"$f":"'Pob x Genero'!#REF!","v":{"$error":"#REF!"}},{"$f":"'Pob x Genero'!#REF!","v":{"$error":"#REF!"}},{"$f":"'Pob x Genero'!#REF!","v":{"$error":"#REF!"}},{"$f":"'Pob x Genero'!#REF!","v":{"$error":"#REF!"}},"Hombre","00-04",{"$f":"'Pob x Genero'!#REF!","v":{"$error":"#REF!"}},1050]
[{"$f":"'Pob x Genero'!#REF!","v":{"$error":"#REF!"}},{"$f":"'Pob x Genero'!#REF!","v":{"$error":"#REF!"}},{"$f":"'Pob x Genero'!#REF!","v":{"$error":"#REF!"}},{"$f":"'Pob x Genero'!#REF!","v":{"$error":"#REF!"}},{"$f":"'Pob x Genero'!#REF!","v":{"$error":"#REF!"}},"Hombre","00-04",{"$f":"'Pob x Genero'!#REF!","v":{"$error":"#REF!"}},1051]
[{"$f":"'Pob x Genero'!#REF!","v":{"$error":"#REF!"}},{"$f":"'Pob x Genero'!#REF!","v":{"$error":"#REF!"}},{"$f":"'Pob x Genero'!#REF!","v":{"$error":"#REF!"}},{"$f":"'Pob x Genero'!#REF!","v":{"$error":"#REF!"}},{"$f":"'Pob x Genero'!#REF!","v":{"$error":"#REF!"}},"Hombre","00-04",{"$f":"'Pob x Genero'!#REF!","v":{"$error":"#REF!"}},1052]
[{"$f":"'Pob x Genero'!#REF!","v":{"$error":"#REF!"}},{"$f":"'Pob x Genero'!#REF!","v":{"$error":"#REF!"}},{"$f":"'Pob x Genero'!#REF!","v":{"$error":"#REF!"}},{"$f":"'Pob x Genero'!#REF!","v":{"$error":"#REF!"}},{"$f":"'Pob x Genero'!#REF!","v":{"$error":"#REF!"}},"Hombre","00-04",{"$f":"'Pob x Genero'!#REF!","v":{"$error":"#REF!"}},1053]
[{"$f":"'Pob x Genero'!#REF!","v":{"$error":"#REF!"}},{"$f":"'Pob x Genero'!#REF!","v":{"$error":"#REF!"}},{"$f":"'Pob x Genero'!#REF!","v":{"$error":"#REF!"}},{"$f":"'Pob x Genero'!#REF!","v":{"$error":"#REF!"}},{"$f":"'Pob x Genero'!#REF!","v":{"$error":"#REF!"}},"Hombre","00-04",{"$f":"'Pob x Genero'!#REF!","v":{"$error":"#REF!"}},1054]
[{"$f":"'Pob x Genero'!#REF!","v":{"$error":"#REF!"}},{"$f":"'Pob x Genero'!#REF!","v":{"$error":"#REF!"}},{"$f":"'Pob x Genero'!#REF!","v":{"$error":"#REF!"}},{"$f":"'Pob x Genero'!#REF!","v":{"$error":"#REF!"}},{"$f":"'Pob x Genero'!#REF!","v":{"$error":"#REF!"}},"Hombre","00-04",{"$f":"'Pob x Genero'!#REF!","v":{"$error":"#REF!"}},1055]
[{"$f":"'Pob x Genero'!#REF!","v":{"$error":"#REF!"}},{"$f":"'Pob x Genero'!#REF!","v":{"$error":"#REF!"}},{"$f":"'Pob x Genero'!#REF!","v":{"$error":"#REF!"}},{"$f":"'Pob x Genero'!#REF!","v":{"$error":"#REF!"}},{"$f":"'Pob x Genero'!#REF!","v":{"$error":"#REF!"}},"Hombre","00-04",{"$f":"'Pob x Genero'!#REF!","v":{"$error":"#REF!"}},1056]
[{"$f":"'Pob x Genero'!#REF!","v":{"$error":"#REF!"}},{"$f":"'Pob x Genero'!#REF!","v":{"$error":"#REF!"}},{"$f":"'Pob x Genero'!#REF!","v":{"$error":"#REF!"}},{"$f":"'Pob x Genero'!#REF!","v":{"$error":"#REF!"}},{"$f":"'Pob x Genero'!#REF!","v":{"$error":"#REF!"}},"Hombre","00-04",{"$f":"'Pob x Genero'!#REF!","v":{"$error":"#REF!"}},1057]
[{"$f":"'Pob x Genero'!#REF!","v":{"$error":"#REF!"}},{"$f":"'Pob x Genero'!#REF!","v":{"$error":"#REF!"}},{"$f":"'Pob x Genero'!#REF!","v":{"$error":"#REF!"}},{"$f":"'Pob x Genero'!#REF!","v":{"$error":"#REF!"}},{"$f":"'Pob x Genero'!#REF!","v":{"$error":"#REF!"}},"Hombre","00-04",{"$f":"'Pob x Genero'!#REF!","v":{"$error":"#REF!"}},1058]
[{"$f":"'Pob x Genero'!#REF!","v":{"$error":"#REF!"}},{"$f":"'Pob x Genero'!#REF!","v":{"$error":"#REF!"}},{"$f":"'Pob x Genero'!#REF!","v":{"$error":"#REF!"}},{"$f":"'Pob x Genero'!#REF!","v":{"$error":"#REF!"}},{"$f":"'Pob x Genero'!#REF!","v":{"$error":"#REF!"}},"Hombre","00-04",{"$f":"'Pob x Genero'!#REF!","v":{"$error":"#REF!"}},1059]
[{"$f":"'Pob x Genero'!#REF!","v":{"$error":"#REF!"}},{"$f":"'Pob x Genero'!#REF!","v":{"$error":"#REF!"}},{"$f":"'Pob x Genero'!#REF!","v":{"$error":"#REF!"}},{"$f":"'Pob x Genero'!#REF!","v":{"$error":"#REF!"}},{"$f":"'Pob x Genero'!#REF!","v":{"$error":"#REF!"}},"Hombre","00-04",{"$f":"'Pob x Genero'!#REF!","v":{"$error":"#REF!"}},1060]
[{"$f":"'Pob x Genero'!#REF!","v":{"$error":"#REF!"}},{"$f":"'Pob x Genero'!#REF!","v":{"$error":"#REF!"}},{"$f":"'Pob x Genero'!#REF!","v":{"$error":"#REF!"}},{"$f":"'Pob x Genero'!#REF!","v":{"$error":"#REF!"}},{"$f":"'Pob x Genero'!#REF!","v":{"$error":"#REF!"}},"Hombre","00-04",{"$f":"'Pob x Genero'!#REF!","v":{"$error":"#REF!"}},1061]
[{"$f":"'Pob x Genero'!#REF!","v":{"$error":"#REF!"}},{"$f":"'Pob x Genero'!#REF!","v":{"$error":"#REF!"}},{"$f":"'Pob x Genero'!#REF!","v":{"$error":"#REF!"}},{"$f":"'Pob x Genero'!#REF!","v":{"$error":"#REF!"}},{"$f":"'Pob x Genero'!#REF!","v":{"$error":"#REF!"}},"Hombre","00-04",{"$f":"'Pob x Genero'!#REF!","v":{"$error":"#REF!"}},1062]
[{"$f":"'Pob x Genero'!#REF!","v":{"$error":"#REF!"}},{"$f":"'Pob x Genero'!#REF!","v":{"$error":"#REF!"}},{"$f":"'Pob x Genero'!#REF!","v":{"$error":"#REF!"}},{"$f":"'Pob x Genero'!#REF!","v":{"$error":"#REF!"}},{"$f":"'Pob x Genero'!#REF!","v":{"$error":"#REF!"}},"Hombre","00-04",{"$f":"'Pob x Genero'!#REF!","v":{"$error":"#REF!"}},1063]
[{"$f":"'Pob x Genero'!#REF!","v":{"$error":"#REF!"}},{"$f":"'Pob x Genero'!#REF!","v":{"$error":"#REF!"}},{"$f":"'Pob x Genero'!#REF!","v":{"$error":"#REF!"}},{"$f":"'Pob x Genero'!#REF!","v":{"$error":"#REF!"}},{"$f":"'Pob x Genero'!#REF!","v":{"$error":"#REF!"}},"Hombre","00-04",{"$f":"'Pob x Genero'!#REF!","v":{"$error":"#REF!"}},1064]
[{"$f":"'Pob x Genero'!#REF!","v":{"$error":"#REF!"}},{"$f":"'Pob x Genero'!#REF!","v":{"$error":"#REF!"}},{"$f":"'Pob x Genero'!#REF!","v":{"$error":"#REF!"}},{"$f":"'Pob x Genero'!#REF!","v":{"$error":"#REF!"}},{"$f":"'Pob x Genero'!#REF!","v":{"$error":"#REF!"}},"Hombre","00-04",{"$f":"'Pob x Genero'!#REF!","v":{"$error":"#REF!"}},1065]
[{"$f":"'Pob x Genero'!#REF!","v":{"$error":"#REF!"}},{"$f":"'Pob x Genero'!#REF!","v":{"$error":"#REF!"}},{"$f":"'Pob x Genero'!#REF!","v":{"$error":"#REF!"}},{"$f":"'Pob x Genero'!#REF!","v":{"$error":"#REF!"}},{"$f":"'Pob x Genero'!#REF!","v":{"$error":"#REF!"}},"Hombre","00-04",{"$f":"'Pob x Genero'!#REF!","v":{"$error":"#REF!"}},1066]
[{"$f":"'Pob x Genero'!#REF!","v":{"$error":"#REF!"}},{"$f":"'Pob x Genero'!#REF!","v":{"$error":"#REF!"}},{"$f":"'Pob x Genero'!#REF!","v":{"$error":"#REF!"}},{"$f":"'Pob x Genero'!#REF!","v":{"$error":"#REF!"}},{"$f":"'Pob x Genero'!#REF!","v":{"$error":"#REF!"}},"Hombre","00-04",{"$f":"'Pob x Genero'!#REF!","v":{"$error":"#REF!"}},1067]
[{"$f":"'Pob x Genero'!#REF!","v":{"$error":"#REF!"}},{"$f":"'Pob x Genero'!#REF!","v":{"$error":"#REF!"}},{"$f":"'Pob x Genero'!#REF!","v":{"$error":"#REF!"}},{"$f":"'Pob x Genero'!#REF!","v":{"$error":"#REF!"}},{"$f":"'Pob x Genero'!#REF!","v":{"$error":"#REF!"}},"Hombre","00-04",{"$f":"'Pob x Genero'!#REF!","v":{"$error":"#REF!"}},1068]
[{"$f":"'Pob x Genero'!#REF!","v":{"$error":"#REF!"}},{"$f":"'Pob x Genero'!#REF!","v":{"$error":"#REF!"}},{"$f":"'Pob x Genero'!#REF!","v":{"$error":"#REF!"}},{"$f":"'Pob x Genero'!#REF!","v":{"$error":"#REF!"}},{"$f":"'Pob x Genero'!#REF!","v":{"$error":"#REF!"}},"Hombre","00-04",{"$f":"'Pob x Genero'!#REF!","v":{"$error":"#REF!"}},1069]
[{"$f":"'Pob x Genero'!#REF!","v":{"$error":"#REF!"}},{"$f":"'Pob x Genero'!#REF!","v":{"$error":"#REF!"}},{"$f":"'Pob x Genero'!#REF!","v":{"$error":"#REF!"}},{"$f":"'Pob x Genero'!#REF!","v":{"$error":"#REF!"}},{"$f":"'Pob x Genero'!#REF!","v":{"$error":"#REF!"}},"Hombre","00-04",{"$f":"'Pob x Genero'!#REF!","v":{"$error":"#REF!"}},1070]
[{"$f":"'Pob x Genero'!#REF!","v":{"$error":"#REF!"}},{"$f":"'Pob x Genero'!#REF!","v":{"$error":"#REF!"}},{"$f":"'Pob x Genero'!#REF!","v":{"$error":"#REF!"}},{"$f":"'Pob x Genero'!#REF!","v":{"$error":"#REF!"}},{"$f":"'Pob x Genero'!#REF!","v":{"$error":"#REF!"}},"Hombre","00-04",{"$f":"'Pob x Genero'!#REF!","v":{"$error":"#REF!"}},1071]
[{"$f":"'Pob x Genero'!#REF!","v":{"$error":"#REF!"}},{"$f":"'Pob x Genero'!#REF!","v":{"$error":"#REF!"}},{"$f":"'Pob x Genero'!#REF!","v":{"$error":"#REF!"}},{"$f":"'Pob x Genero'!#REF!","v":{"$error":"#REF!"}},{"$f":"'Pob x Genero'!#REF!","v":{"$error":"#REF!"}},"Hombre","00-04",{"$f":"'Pob x Genero'!#REF!","v":{"$error":"#REF!"}},1072]
[{"$f":"'Pob x Genero'!#REF!","v":{"$error":"#REF!"}},{"$f":"'Pob x Genero'!#REF!","v":{"$error":"#REF!"}},{"$f":"'Pob x Genero'!#REF!","v":{"$error":"#REF!"}},{"$f":"'Pob x Genero'!#REF!","v":{"$error":"#REF!"}},{"$f":"'Pob x Genero'!#REF!","v":{"$error":"#REF!"}},"Hombre","00-04",{"$f":"'Pob x Genero'!#REF!","v":{"$error":"#REF!"}},1073]
[{"$f":"'Pob x Genero'!#REF!","v":{"$error":"#REF!"}},{"$f":"'Pob x Genero'!#REF!","v":{"$error":"#REF!"}},{"$f":"'Pob x Genero'!#REF!","v":{"$error":"#REF!"}},{"$f":"'Pob x Genero'!#REF!","v":{"$error":"#REF!"}},{"$f":"'Pob x Genero'!#REF!","v":{"$error":"#REF!"}},"Hombre","00-04",{"$f":"'Pob x Genero'!#REF!","v":{"$error":"#REF!"}},1074]
[{"$f":"'Pob x Genero'!#REF!","v":{"$error":"#REF!"}},{"$f":"'Pob x Genero'!#REF!","v":{"$error":"#REF!"}},{"$f":"'Pob x Genero'!#REF!","v":{"$error":"#REF!"}},{"$f":"'Pob x Genero'!#REF!","v":{"$error":"#REF!"}},{"$f":"'Pob x Genero'!#REF!","v":{"$error":"#REF!"}},"Hombre","00-04",{"$f":"'Pob x Genero'!#REF!","v":{"$error":"#REF!"}},1075]
[{"$f":"'Pob x Genero'!#REF!","v":{"$error":"#REF!"}},{"$f":"'Pob x Genero'!#REF!","v":{"$error":"#REF!"}},{"$f":"'Pob x Genero'!#REF!","v":{"$error":"#REF!"}},{"$f":"'Pob x Genero'!#REF!","v":{"$error":"#REF!"}},{"$f":"'Pob x Genero'!#REF!","v":{"$error":"#REF!"}},"Hombre","00-04",{"$f":"'Pob x Genero'!#REF!","v":{"$error":"#REF!"}},1076]
[{"$f":"'Pob x Genero'!#REF!","v":{"$error":"#REF!"}},{"$f":"'Pob x Genero'!#REF!","v":{"$error":"#REF!"}},{"$f":"'Pob x Genero'!#REF!","v":{"$error":"#REF!"}},{"$f":"'Pob x Genero'!#REF!","v":{"$error":"#REF!"}},{"$f":"'Pob x Genero'!#REF!","v":{"$error":"#REF!"}},"Hombre","00-04",{"$f":"'Pob x Genero'!#REF!","v":{"$error":"#REF!"}},1077]
[{"$f":"'Pob x Genero'!#REF!","v":{"$error":"#REF!"}},{"$f":"'Pob x Genero'!#REF!","v":{"$error":"#REF!"}},{"$f":"'Pob x Genero'!#REF!","v":{"$error":"#REF!"}},{"$f":"'Pob x Genero'!#REF!","v":{"$error":"#REF!"}},{"$f":"'Pob x Genero'!#REF!","v":{"$error":"#REF!"}},"Hombre","00-04",{"$f":"'Pob x Genero'!#REF!","v":{"$error":"#REF!"}},1078]
[{"$f":"'Pob x Genero'!#REF!","v":{"$error":"#REF!"}},{"$f":"'Pob x Genero'!#REF!","v":{"$error":"#REF!"}},{"$f":"'Pob x Genero'!#REF!","v":{"$error":"#REF!"}},{"$f":"'Pob x Genero'!#REF!","v":{"$error":"#REF!"}},{"$f":"'Pob x Genero'!#REF!","v":{"$error":"#REF!"}},"Hombre","00-04",{"$f":"'Pob x Genero'!#REF!","v":{"$error":"#REF!"}},1079]
[{"$f":"'Pob x Genero'!#REF!","v":{"$error":"#REF!"}},{"$f":"'Pob x Genero'!#REF!","v":{"$error":"#REF!"}},{"$f":"'Pob x Genero'!#REF!","v":{"$error":"#REF!"}},{"$f":"'Pob x Genero'!#REF!","v":{"$error":"#REF!"}},{"$f":"'Pob x Genero'!#REF!","v":{"$error":"#REF!"}},"Hombre","00-04",{"$f":"'Pob x Genero'!#REF!","v":{"$error":"#REF!"}},1080]
[{"$f":"'Pob x Genero'!#REF!","v":{"$error":"#REF!"}},{"$f":"'Pob x Genero'!#REF!","v":{"$error":"#REF!"}},{"$f":"'Pob x Genero'!#REF!","v":{"$error":"#REF!"}},{"$f":"'Pob x Genero'!#REF!","v":{"$error":"#REF!"}},{"$f":"'Pob x Genero'!#REF!","v":{"$error":"#REF!"}},"Hombre","00-04",{"$f":"'Pob x Genero'!#REF!","v":{"$error":"#REF!"}},1081]
[{"$f":"'Pob x Genero'!#REF!","v":{"$error":"#REF!"}},{"$f":"'Pob x Genero'!#REF!","v":{"$error":"#REF!"}},{"$f":"'Pob x Genero'!#REF!","v":{"$error":"#REF!"}},{"$f":"'Pob x Genero'!#REF!","v":{"$error":"#REF!"}},{"$f":"'Pob x Genero'!#REF!","v":{"$error":"#REF!"}},"Hombre","00-04",{"$f":"'Pob x Genero'!#REF!","v":{"$error":"#REF!"}},1082]
[{"$f":"'Pob x Genero'!#REF!","v":{"$error":"#REF!"}},{"$f":"'Pob x Genero'!#REF!","v":{"$error":"#REF!"}},{"$f":"'Pob x Genero'!#REF!","v":{"$error":"#REF!"}},{"$f":"'Pob x Genero'!#REF!","v":{"$error":"#REF!"}},{"$f":"'Pob x Genero'!#REF!","v":{"$error":"#REF!"}},"Hombre","00-04",{"$f":"'Pob x Genero'!#REF!","v":{"$error":"#REF!"}},1083]
[{"$f":"'Pob x Genero'!#REF!","v":{"$error":"#REF!"}},{"$f":"'Pob x Genero'!#REF!","v":{"$error":"#REF!"}},{"$f":"'Pob x Genero'!#REF!","v":{"$error":"#REF!"}},{"$f":"'Pob x Genero'!#REF!","v":{"$error":"#REF!"}},{"$f":"'Pob x Genero'!#REF!","v":{"$error":"#REF!"}},"Hombre","00-04",{"$f":"'Pob x Genero'!#REF!","v":{"$error":"#REF!"}},1084]
[{"$f":"'Pob x Genero'!#REF!","v":{"$error":"#REF!"}},{"$f":"'Pob x Genero'!#REF!","v":{"$error":"#REF!"}},{"$f":"'Pob x Genero'!#REF!","v":{"$error":"#REF!"}},{"$f":"'Pob x Genero'!#REF!","v":{"$error":"#REF!"}},{"$f":"'Pob x Genero'!#REF!","v":{"$error":"#REF!"}},"Hombre","00-04",{"$f":"'Pob x Genero'!#REF!","v":{"$error":"#REF!"}},1085]
[{"$f":"'Pob x Genero'!#REF!","v":{"$error":"#REF!"}},{"$f":"'Pob x Genero'!#REF!","v":{"$error":"#REF!"}},{"$f":"'Pob x Genero'!#REF!","v":{"$error":"#REF!"}},{"$f":"'Pob x Genero'!#REF!","v":{"$error":"#REF!"}},{"$f":"'Pob x Genero'!#REF!","v":{"$error":"#REF!"}},"Hombre","00-04",{"$f":"'Pob x Genero'!#REF!","v":{"$error":"#REF!"}},1086]
[{"$f":"'Pob x Genero'!#REF!","v":{"$error":"#REF!"}},{"$f":"'Pob x Genero'!#REF!","v":{"$error":"#REF!"}},{"$f":"'Pob x Genero'!#REF!","v":{"$error":"#REF!"}},{"$f":"'Pob x Genero'!#REF!","v":{"$error":"#REF!"}},{"$f":"'Pob x Genero'!#REF!","v":{"$error":"#REF!"}},"Hombre","00-04",{"$f":"'Pob x Genero'!#REF!","v":{"$error":"#REF!"}},1087]
[{"$f":"'Pob x Genero'!#REF!","v":{"$error":"#REF!"}},{"$f":"'Pob x Genero'!#REF!","v":{"$error":"#REF!"}},{"$f":"'Pob x Genero'!#REF!","v":{"$error":"#REF!"}},{"$f":"'Pob x Genero'!#REF!","v":{"$error":"#REF!"}},{"$f":"'Pob x Genero'!#REF!","v":{"$error":"#REF!"}},"Hombre","00-04",{"$f":"'Pob x Genero'!#REF!","v":{"$error":"#REF!"}},1088]
[{"$f":"'Pob x Genero'!#REF!","v":{"$error":"#REF!"}},{"$f":"'Pob x Genero'!#REF!","v":{"$error":"#REF!"}},{"$f":"'Pob x Genero'!#REF!","v":{"$error":"#REF!"}},{"$f":"'Pob x Genero'!#REF!","v":{"$error":"#REF!"}},{"$f":"'Pob x Genero'!#REF!","v":{"$error":"#REF!"}},"Hombre","00-04",{"$f":"'Pob x Genero'!#REF!","v":{"$error":"#REF!"}},1089]
[{"$f":"'Pob x Genero'!#REF!","v":{"$error":"#REF!"}},{"$f":"'Pob x Genero'!#REF!","v":{"$error":"#REF!"}},{"$f":"'Pob x Genero'!#REF!","v":{"$error":"#REF!"}},{"$f":"'Pob x Genero'!#REF!","v":{"$error":"#REF!"}},{"$f":"'Pob x Genero'!#REF!","v":{"$error":"#REF!"}},{"$f":"F1090","v":"Hombre"},{"$f":"G1090","v":"00-04"},{"$f":"'Pob x Genero'!#REF!","v":{"$error":"#REF!"}},1090]
[{"$f":"'Pob x Genero'!#REF!","v":{"$error":"#REF!"}},{"$f":"'Pob x Genero'!#REF!","v":{"$error":"#REF!"}},{"$f":"'Pob x Genero'!#REF!","v":{"$error":"#REF!"}},{"$f":"'Pob x Genero'!#REF!","v":{"$error":"#REF!"}},{"$f":"'Pob x Genero'!#REF!","v":{"$error":"#REF!"}},"Hombre","00-04",{"$f":"'Pob x Genero'!#REF!","v":{"$error":"#REF!"}},1091]
[{"$f":"'Pob x Genero'!#REF!","v":{"$error":"#REF!"}},{"$f":"'Pob x Genero'!#REF!","v":{"$error":"#REF!"}},{"$f":"'Pob x Genero'!#REF!","v":{"$error":"#REF!"}},{"$f":"'Pob x Genero'!#REF!","v":{"$error":"#REF!"}},{"$f":"'Pob x Genero'!#REF!","v":{"$error":"#REF!"}},"Hombre","00-04",{"$f":"'Pob x Genero'!#REF!","v":{"$error":"#REF!"}},1092]
[{"$f":"'Pob x Genero'!#REF!","v":{"$error":"#REF!"}},{"$f":"'Pob x Genero'!#REF!","v":{"$error":"#REF!"}},{"$f":"'Pob x Genero'!#REF!","v":{"$error":"#REF!"}},{"$f":"'Pob x Genero'!#REF!","v":{"$error":"#REF!"}},{"$f":"'Pob x Genero'!#REF!","v":{"$error":"#REF!"}},"Hombre","00-04",{"$f":"'Pob x Genero'!#REF!","v":{"$error":"#REF!"}},1093]
[{"$f":"'Pob x Genero'!#REF!","v":{"$error":"#REF!"}},{"$f":"'Pob x Genero'!#REF!","v":{"$error":"#REF!"}},{"$f":"'Pob x Genero'!#REF!","v":{"$error":"#REF!"}},{"$f":"'Pob x Genero'!#REF!","v":{"$error":"#REF!"}},{"$f":"'Pob x Genero'!#REF!","v":{"$error":"#REF!"}},"Hombre","00-04",{"$f":"'Pob x Genero'!#REF!","v":{"$error":"#REF!"}},1094]
[{"$f":"'Pob x Genero'!#REF!","v":{"$error":"#REF!"}},{"$f":"'Pob x Genero'!#REF!","v":{"$error":"#REF!"}},{"$f":"'Pob x Genero'!#REF!","v":{"$error":"#REF!"}},{"$f":"'Pob x Genero'!#REF!","v":{"$error":"#REF!"}},{"$f":"'Pob x Genero'!#REF!","v":{"$error":"#REF!"}},"Hombre","00-04",{"$f":"'Pob x Genero'!#REF!","v":{"$error":"#REF!"}},1095]
[{"$f":"'Pob x Genero'!#REF!","v":{"$error":"#REF!"}},{"$f":"'Pob x Genero'!#REF!","v":{"$error":"#REF!"}},{"$f":"'Pob x Genero'!#REF!","v":{"$error":"#REF!"}},{"$f":"'Pob x Genero'!#REF!","v":{"$error":"#REF!"}},{"$f":"'Pob x Genero'!#REF!","v":{"$error":"#REF!"}},"Hombre","00-04",{"$f":"'Pob x Genero'!#REF!","v":{"$error":"#REF!"}},1096]
[{"$f":"'Pob x Genero'!#REF!","v":{"$error":"#REF!"}},{"$f":"'Pob x Genero'!#REF!","v":{"$error":"#REF!"}},{"$f":"'Pob x Genero'!#REF!","v":{"$error":"#REF!"}},{"$f":"'Pob x Genero'!#REF!","v":{"$error":"#REF!"}},{"$f":"'Pob x Genero'!#REF!","v":{"$error":"#REF!"}},"Hombre","00-04",{"$f":"'Pob x Genero'!#REF!","v":{"$error":"#REF!"}},1097]
[{"$f":"'Pob x Genero'!#REF!","v":{"$error":"#REF!"}},{"$f":"'Pob x Genero'!#REF!","v":{"$error":"#REF!"}},{"$f":"'Pob x Genero'!#REF!","v":{"$error":"#REF!"}},{"$f":"'Pob x Genero'!#REF!","v":{"$error":"#REF!"}},{"$f":"'Pob x Genero'!#REF!","v":{"$error":"#REF!"}},"Hombre","00-04",{"$f":"'Pob x Genero'!#REF!","v":{"$error":"#REF!"}},1098]
[{"$f":"'Pob x Genero'!#REF!","v":{"$error":"#REF!"}},{"$f":"'Pob x Genero'!#REF!","v":{"$error":"#REF!"}},{"$f":"'Pob x Genero'!#REF!","v":{"$error":"#REF!"}},{"$f":"'Pob x Genero'!#REF!","v":{"$error":"#REF!"}},{"$f":"'Pob x Genero'!#REF!","v":{"$error":"#REF!"}},"Hombre","00-04",{"$f":"'Pob x Genero'!#REF!","v":{"$error":"#REF!"}},1099]
[{"$f":"'Pob x Genero'!#REF!","v":{"$error":"#REF!"}},{"$f":"'Pob x Genero'!#REF!","v":{"$error":"#REF!"}},{"$f":"'Pob x Genero'!#REF!","v":{"$error":"#REF!"}},{"$f":"'Pob x Genero'!#REF!","v":{"$error":"#REF!"}},{"$f":"'Pob x Genero'!#REF!","v":{"$error":"#REF!"}},"Hombre","00-04",{"$f":"'Pob x Genero'!#REF!","v":{"$error":"#REF!"}},1100]
[{"$f":"'Pob x Genero'!#REF!","v":{"$error":"#REF!"}},{"$f":"'Pob x Genero'!#REF!","v":{"$error":"#REF!"}},{"$f":"'Pob x Genero'!#REF!","v":{"$error":"#REF!"}},{"$f":"'Pob x Genero'!#REF!","v":{"$error":"#REF!"}},{"$f":"'Pob x Genero'!#REF!","v":{"$error":"#REF!"}},"Hombre","00-04",{"$f":"'Pob x Genero'!#REF!","v":{"$error":"#REF!"}},1101]
[{"$f":"'Pob x Genero'!#REF!","v":{"$error":"#REF!"}},{"$f":"'Pob x Genero'!#REF!","v":{"$error":"#REF!"}},{"$f":"'Pob x Genero'!#REF!","v":{"$error":"#REF!"}},{"$f":"'Pob x Genero'!#REF!","v":{"$error":"#REF!"}},{"$f":"'Pob x Genero'!#REF!","v":{"$error":"#REF!"}},"Hombre","00-04",{"$f":"'Pob x Genero'!#REF!","v":{"$error":"#REF!"}},1102]
[{"$f":"'Pob x Genero'!#REF!","v":{"$error":"#REF!"}},{"$f":"'Pob x Genero'!#REF!","v":{"$error":"#REF!"}},{"$f":"'Pob x Genero'!#REF!","v":{"$error":"#REF!"}},{"$f":"'Pob x Genero'!#REF!","v":{"$error":"#REF!"}},{"$f":"'Pob x Genero'!#REF!","v":{"$error":"#REF!"}},"Hombre","00-04",{"$f":"'Pob x Genero'!#REF!","v":{"$error":"#REF!"}},1103]
[{"$f":"'Pob x Genero'!#REF!","v":{"$error":"#REF!"}},{"$f":"'Pob x Genero'!#REF!","v":{"$error":"#REF!"}},{"$f":"'Pob x Genero'!#REF!","v":{"$error":"#REF!"}},{"$f":"'Pob x Genero'!#REF!","v":{"$error":"#REF!"}},{"$f":"'Pob x Genero'!#REF!","v":{"$error":"#REF!"}},"Hombre","00-04",{"$f":"'Pob x Genero'!#REF!","v":{"$error":"#REF!"}},1104]
[{"$f":"'Pob x Genero'!#REF!","v":{"$error":"#REF!"}},{"$f":"'Pob x Genero'!#REF!","v":{"$error":"#REF!"}},{"$f":"'Pob x Genero'!#REF!","v":{"$error":"#REF!"}},{"$f":"'Pob x Genero'!#REF!","v":{"$error":"#REF!"}},{"$f":"'Pob x Genero'!#REF!","v":{"$error":"#REF!"}},"Hombre","00-04",{"$f":"'Pob x Genero'!#REF!","v":{"$error":"#REF!"}},1105]
[{"$f":"'Pob x Genero'!#REF!","v":{"$error":"#REF!"}},{"$f":"'Pob x Genero'!#REF!","v":{"$error":"#REF!"}},{"$f":"'Pob x Genero'!#REF!","v":{"$error":"#REF!"}},{"$f":"'Pob x Genero'!#REF!","v":{"$error":"#REF!"}},{"$f":"'Pob x Genero'!#REF!","v":{"$error":"#REF!"}},"Hombre","00-04",{"$f":"'Pob x Genero'!#REF!","v":{"$error":"#REF!"}},1106]
[{"$f":"'Pob x Genero'!#REF!","v":{"$error":"#REF!"}},{"$f":"'Pob x Genero'!#REF!","v":{"$error":"#REF!"}},{"$f":"'Pob x Genero'!#REF!","v":{"$error":"#REF!"}},{"$f":"'Pob x Genero'!#REF!","v":{"$error":"#REF!"}},{"$f":"'Pob x Genero'!#REF!","v":{"$error":"#REF!"}},"Hombre","00-04",{"$f":"'Pob x Genero'!#REF!","v":{"$error":"#REF!"}},1107]
[{"$f":"'Pob x Genero'!#REF!","v":{"$error":"#REF!"}},{"$f":"'Pob x Genero'!#REF!","v":{"$error":"#REF!"}},{"$f":"'Pob x Genero'!#REF!","v":{"$error":"#REF!"}},{"$f":"'Pob x Genero'!#REF!","v":{"$error":"#REF!"}},{"$f":"'Pob x Genero'!#REF!","v":{"$error":"#REF!"}},"Hombre","00-04",{"$f":"'Pob x Genero'!#REF!","v":{"$error":"#REF!"}},1108]
[{"$f":"'Pob x Genero'!#REF!","v":{"$error":"#REF!"}},{"$f":"'Pob x Genero'!#REF!","v":{"$error":"#REF!"}},{"$f":"'Pob x Genero'!#REF!","v":{"$error":"#REF!"}},{"$f":"'Pob x Genero'!#REF!","v":{"$error":"#REF!"}},{"$f":"'Pob x Genero'!#REF!","v":{"$error":"#REF!"}},"Hombre","00-04",{"$f":"'Pob x Genero'!#REF!","v":{"$error":"#REF!"}},1109]
[{"$f":"'Pob x Genero'!#REF!","v":{"$error":"#REF!"}},{"$f":"'Pob x Genero'!#REF!","v":{"$error":"#REF!"}},{"$f":"'Pob x Genero'!#REF!","v":{"$error":"#REF!"}},{"$f":"'Pob x Genero'!#REF!","v":{"$error":"#REF!"}},{"$f":"'Pob x Genero'!#REF!","v":{"$error":"#REF!"}},"Hombre","00-04",{"$f":"'Pob x Genero'!#REF!","v":{"$error":"#REF!"}},1110]
[{"$f":"'Pob x Genero'!#REF!","v":{"$error":"#REF!"}},{"$f":"'Pob x Genero'!#REF!","v":{"$error":"#REF!"}},{"$f":"'Pob x Genero'!#REF!","v":{"$error":"#REF!"}},{"$f":"'Pob x Genero'!#REF!","v":{"$error":"#REF!"}},{"$f":"'Pob x Genero'!#REF!","v":{"$error":"#REF!"}},"Hombre","00-04",{"$f":"'Pob x Genero'!#REF!","v":{"$error":"#REF!"}},1111]
[{"$f":"'Pob x Genero'!#REF!","v":{"$error":"#REF!"}},{"$f":"'Pob x Genero'!#REF!","v":{"$error":"#REF!"}},{"$f":"'Pob x Genero'!#REF!","v":{"$error":"#REF!"}},{"$f":"'Pob x Genero'!#REF!","v":{"$error":"#REF!"}},{"$f":"'Pob x Genero'!#REF!","v":{"$error":"#REF!"}},"Hombre","00-04",{"$f":"'Pob x Genero'!#REF!","v":{"$error":"#REF!"}},1112]
[{"$f":"'Pob x Genero'!#REF!","v":{"$error":"#REF!"}},{"$f":"'Pob x Genero'!#REF!","v":{"$error":"#REF!"}},{"$f":"'Pob x Genero'!#REF!","v":{"$error":"#REF!"}},{"$f":"'Pob x Genero'!#REF!","v":{"$error":"#REF!"}},{"$f":"'Pob x Genero'!#REF!","v":{"$error":"#REF!"}},"Hombre","00-04",{"$f":"'Pob x Genero'!#REF!","v":{"$error":"#REF!"}},1113]
[{"$f":"'Pob x Genero'!#REF!","v":{"$error":"#REF!"}},{"$f":"'Pob x Genero'!#REF!","v":{"$error":"#REF!"}},{"$f":"'Pob x Genero'!#REF!","v":{"$error":"#REF!"}},{"$f":"'Pob x Genero'!#REF!","v":{"$error":"#REF!"}},{"$f":"'Pob x Genero'!#REF!","v":{"$error":"#REF!"}},"Hombre","00-04",{"$f":"'Pob x Genero'!#REF!","v":{"$error":"#REF!"}},1114]
[{"$f":"'Pob x Genero'!#REF!","v":{"$error":"#REF!"}},{"$f":"'Pob x Genero'!#REF!","v":{"$error":"#REF!"}},{"$f":"'Pob x Genero'!#REF!","v":{"$error":"#REF!"}},{"$f":"'Pob x Genero'!#REF!","v":{"$error":"#REF!"}},{"$f":"'Pob x Genero'!#REF!","v":{"$error":"#REF!"}},"Hombre","00-04",{"$f":"'Pob x Genero'!#REF!","v":{"$error":"#REF!"}},1115]
[{"$f":"'Pob x Genero'!#REF!","v":{"$error":"#REF!"}},{"$f":"'Pob x Genero'!#REF!","v":{"$error":"#REF!"}},{"$f":"'Pob x Genero'!#REF!","v":{"$error":"#REF!"}},{"$f":"'Pob x Genero'!#REF!","v":{"$error":"#REF!"}},{"$f":"'Pob x Genero'!#REF!","v":{"$error":"#REF!"}},"Hombre","00-04",{"$f":"'Pob x Genero'!#REF!","v":{"$error":"#REF!"}},1116]
[{"$f":"'Pob x Genero'!#REF!","v":{"$error":"#REF!"}},{"$f":"'Pob x Genero'!#REF!","v":{"$error":"#REF!"}},{"$f":"'Pob x Genero'!#REF!","v":{"$error":"#REF!"}},{"$f":"'Pob x Genero'!#REF!","v":{"$error":"#REF!"}},{"$f":"'Pob x Genero'!#REF!","v":{"$error":"#REF!"}},"Hombre","00-04",{"$f":"'Pob x Genero'!#REF!","v":{"$error":"#REF!"}},1117]
[{"$f":"'Pob x Genero'!#REF!","v":{"$error":"#REF!"}},{"$f":"'Pob x Genero'!#REF!","v":{"$error":"#REF!"}},{"$f":"'Pob x Genero'!#REF!","v":{"$error":"#REF!"}},{"$f":"'Pob x Genero'!#REF!","v":{"$error":"#REF!"}},{"$f":"'Pob x Genero'!#REF!","v":{"$error":"#REF!"}},"Hombre","00-04",{"$f":"'Pob x Genero'!#REF!","v":{"$error":"#REF!"}},1118]
[{"$f":"'Pob x Genero'!#REF!","v":{"$error":"#REF!"}},{"$f":"'Pob x Genero'!#REF!","v":{"$error":"#REF!"}},{"$f":"'Pob x Genero'!#REF!","v":{"$error":"#REF!"}},{"$f":"'Pob x Genero'!#REF!","v":{"$error":"#REF!"}},{"$f":"'Pob x Genero'!#REF!","v":{"$error":"#REF!"}},"Hombre","00-04",{"$f":"'Pob x Genero'!#REF!","v":{"$error":"#REF!"}},1119]
[{"$f":"'Pob x Genero'!#REF!","v":{"$error":"#REF!"}},{"$f":"'Pob x Genero'!#REF!","v":{"$error":"#REF!"}},{"$f":"'Pob x Genero'!#REF!","v":{"$error":"#REF!"}},{"$f":"'Pob x Genero'!#REF!","v":{"$error":"#REF!"}},{"$f":"'Pob x Genero'!#REF!","v":{"$error":"#REF!"}},"Hombre","00-04",{"$f":"'Pob x Genero'!#REF!","v":{"$error":"#REF!"}},1120]
[{"$f":"'Pob x Genero'!#REF!","v":{"$error":"#REF!"}},{"$f":"'Pob x Genero'!#REF!","v":{"$error":"#REF!"}},{"$f":"'Pob x Genero'!#REF!","v":{"$error":"#REF!"}},{"$f":"'Pob x Genero'!#REF!","v":{"$error":"#REF!"}},{"$f":"'Pob x Genero'!#REF!","v":{"$error":"#REF!"}},"Hombre","00-04",{"$f":"'Pob x Genero'!#REF!","v":{"$error":"#REF!"}},1121]
[{"$f":"'Pob x Genero'!#REF!","v":{"$error":"#REF!"}},{"$f":"'Pob x Genero'!#REF!","v":{"$error":"#REF!"}},{"$f":"'Pob x Genero'!#REF!","v":{"$error":"#REF!"}},{"$f":"'Pob x Genero'!#REF!","v":{"$error":"#REF!"}},{"$f":"'Pob x Genero'!#REF!","v":{"$error":"#REF!"}},"Hombre","00-04",{"$f":"'Pob x Genero'!#REF!","v":{"$error":"#REF!"}},1122]
[{"$f":"'Pob x Genero'!#REF!","v":{"$error":"#REF!"}},{"$f":"'Pob x Genero'!#REF!","v":{"$error":"#REF!"}},{"$f":"'Pob x Genero'!#REF!","v":{"$error":"#REF!"}},{"$f":"'Pob x Genero'!#REF!","v":{"$error":"#REF!"}},{"$f":"'Pob x Genero'!#REF!","v":{"$error":"#REF!"}},"Hombre","00-04",{"$f":"'Pob x Genero'!#REF!","v":{"$error":"#REF!"}},1123]
[{"$f":"'Pob x Genero'!#REF!","v":{"$error":"#REF!"}},{"$f":"'Pob x Genero'!#REF!","v":{"$error":"#REF!"}},{"$f":"'Pob x Genero'!#REF!","v":{"$error":"#REF!"}},{"$f":"'Pob x Genero'!#REF!","v":{"$error":"#REF!"}},{"$f":"'Pob x Genero'!#REF!","v":{"$error":"#REF!"}},"Hombre","00-04",{"$f":"'Pob x Genero'!#REF!","v":{"$error":"#REF!"}},1124]
[{"$f":"'Pob x Genero'!#REF!","v":{"$error":"#REF!"}},{"$f":"'Pob x Genero'!#REF!","v":{"$error":"#REF!"}},{"$f":"'Pob x Genero'!#REF!","v":{"$error":"#REF!"}},{"$f":"'Pob x Genero'!#REF!","v":{"$error":"#REF!"}},{"$f":"'Pob x Genero'!#REF!","v":{"$error":"#REF!"}},"Hombre","00-04",{"$f":"'Pob x Genero'!#REF!","v":{"$error":"#REF!"}},1125]
[{"$f":"'Pob x Genero'!#REF!","v":{"$error":"#REF!"}},{"$f":"'Pob x Genero'!#REF!","v":{"$error":"#REF!"}},{"$f":"'Pob x Genero'!#REF!","v":{"$error":"#REF!"}},{"$f":"'Pob x Genero'!#REF!","v":{"$error":"#REF!"}},{"$f":"'Pob x Genero'!#REF!","v":{"$error":"#REF!"}},"Hombre","00-04",{"$f":"'Pob x Genero'!#REF!","v":{"$error":"#REF!"}},1126]
[{"$f":"'Pob x Genero'!#REF!","v":{"$error":"#REF!"}},{"$f":"'Pob x Genero'!#REF!","v":{"$error":"#REF!"}},{"$f":"'Pob x Genero'!#REF!","v":{"$error":"#REF!"}},{"$f":"'Pob x Genero'!#REF!","v":{"$error":"#REF!"}},{"$f":"'Pob x Genero'!#REF!","v":{"$error":"#REF!"}},"Hombre","00-04",{"$f":"'Pob x Genero'!#REF!","v":{"$error":"#REF!"}},1127]
[{"$f":"'Pob x Genero'!#REF!","v":{"$error":"#REF!"}},{"$f":"'Pob x Genero'!#REF!","v":{"$error":"#REF!"}},{"$f":"'Pob x Genero'!#REF!","v":{"$error":"#REF!"}},{"$f":"'Pob x Genero'!#REF!","v":{"$error":"#REF!"}},{"$f":"'Pob x Genero'!#REF!","v":{"$error":"#REF!"}},"Hombre","00-04",{"$f":"'Pob x Genero'!#REF!","v":{"$error":"#REF!"}},1128]
[{"$f":"'Pob x Genero'!#REF!","v":{"$error":"#REF!"}},{"$f":"'Pob x Genero'!#REF!","v":{"$error":"#REF!"}},{"$f":"'Pob x Genero'!#REF!","v":{"$error":"#REF!"}},{"$f":"'Pob x Genero'!#REF!","v":{"$error":"#REF!"}},{"$f":"'Pob x Genero'!#REF!","v":{"$error":"#REF!"}},"Hombre","00-04",{"$f":"'Pob x Genero'!#REF!","v":{"$error":"#REF!"}},1129]
[{"$f":"'Pob x Genero'!#REF!","v":{"$error":"#REF!"}},{"$f":"'Pob x Genero'!#REF!","v":{"$error":"#REF!"}},{"$f":"'Pob x Genero'!#REF!","v":{"$error":"#REF!"}},{"$f":"'Pob x Genero'!#REF!","v":{"$error":"#REF!"}},{"$f":"'Pob x Genero'!#REF!","v":{"$error":"#REF!"}},"Hombre","00-04",{"$f":"'Pob x Genero'!#REF!","v":{"$error":"#REF!"}},1130]
[{"$f":"'Pob x Genero'!#REF!","v":{"$error":"#REF!"}},{"$f":"'Pob x Genero'!#REF!","v":{"$error":"#REF!"}},{"$f":"'Pob x Genero'!#REF!","v":{"$error":"#REF!"}},{"$f":"'Pob x Genero'!#REF!","v":{"$error":"#REF!"}},{"$f":"'Pob x Genero'!#REF!","v":{"$error":"#REF!"}},"Hombre","00-04",{"$f":"'Pob x Genero'!#REF!","v":{"$error":"#REF!"}},1131]
[{"$f":"'Pob x Genero'!#REF!","v":{"$error":"#REF!"}},{"$f":"'Pob x Genero'!#REF!","v":{"$error":"#REF!"}},{"$f":"'Pob x Genero'!#REF!","v":{"$error":"#REF!"}},{"$f":"'Pob x Genero'!#REF!","v":{"$error":"#REF!"}},{"$f":"'Pob x Genero'!#REF!","v":{"$error":"#REF!"}},"Hombre","00-04",{"$f":"'Pob x Genero'!#REF!","v":{"$error":"#REF!"}},1132]
[{"$f":"'Pob x Genero'!#REF!","v":{"$error":"#REF!"}},{"$f":"'Pob x Genero'!#REF!","v":{"$error":"#REF!"}},{"$f":"'Pob x Genero'!#REF!","v":{"$error":"#REF!"}},{"$f":"'Pob x Genero'!#REF!","v":{"$error":"#REF!"}},{"$f":"'Pob x Genero'!#REF!","v":{"$error":"#REF!"}},"Hombre","00-04",{"$f":"'Pob x Genero'!#REF!","v":{"$error":"#REF!"}},1133]
[{"$f":"'Pob x Genero'!#REF!","v":{"$error":"#REF!"}},{"$f":"'Pob x Genero'!#REF!","v":{"$error":"#REF!"}},{"$f":"'Pob x Genero'!#REF!","v":{"$error":"#REF!"}},{"$f":"'Pob x Genero'!#REF!","v":{"$error":"#REF!"}},{"$f":"'Pob x Genero'!#REF!","v":{"$error":"#REF!"}},"Hombre","00-04",{"$f":"'Pob x Genero'!#REF!","v":{"$error":"#REF!"}},1134]
[{"$f":"'Pob x Genero'!#REF!","v":{"$error":"#REF!"}},{"$f":"'Pob x Genero'!#REF!","v":{"$error":"#REF!"}},{"$f":"'Pob x Genero'!#REF!","v":{"$error":"#REF!"}},{"$f":"'Pob x Genero'!#REF!","v":{"$error":"#REF!"}},{"$f":"'Pob x Genero'!#REF!","v":{"$error":"#REF!"}},"Hombre","00-04",{"$f":"'Pob x Genero'!#REF!","v":{"$error":"#REF!"}},1135]
[{"$f":"'Pob x Genero'!#REF!","v":{"$error":"#REF!"}},{"$f":"'Pob x Genero'!#REF!","v":{"$error":"#REF!"}},{"$f":"'Pob x Genero'!#REF!","v":{"$error":"#REF!"}},{"$f":"'Pob x Genero'!#REF!","v":{"$error":"#REF!"}},{"$f":"'Pob x Genero'!#REF!","v":{"$error":"#REF!"}},"Hombre","00-04",{"$f":"'Pob x Genero'!#REF!","v":{"$error":"#REF!"}},1136]
[{"$f":"'Pob x Genero'!#REF!","v":{"$error":"#REF!"}},{"$f":"'Pob x Genero'!#REF!","v":{"$error":"#REF!"}},{"$f":"'Pob x Genero'!#REF!","v":{"$error":"#REF!"}},{"$f":"'Pob x Genero'!#REF!","v":{"$error":"#REF!"}},{"$f":"'Pob x Genero'!#REF!","v":{"$error":"#REF!"}},"Hombre","00-04",{"$f":"'Pob x Genero'!#REF!","v":{"$error":"#REF!"}},1137]
[{"$f":"'Pob x Genero'!#REF!","v":{"$error":"#REF!"}},{"$f":"'Pob x Genero'!#REF!","v":{"$error":"#REF!"}},{"$f":"'Pob x Genero'!#REF!","v":{"$error":"#REF!"}},{"$f":"'Pob x Genero'!#REF!","v":{"$error":"#REF!"}},{"$f":"'Pob x Genero'!#REF!","v":{"$error":"#REF!"}},"Hombre","00-04",{"$f":"'Pob x Genero'!#REF!","v":{"$error":"#REF!"}},1138]
[{"$f":"'Pob x Genero'!#REF!","v":{"$error":"#REF!"}},{"$f":"'Pob x Genero'!#REF!","v":{"$error":"#REF!"}},{"$f":"'Pob x Genero'!#REF!","v":{"$error":"#REF!"}},{"$f":"'Pob x Genero'!#REF!","v":{"$error":"#REF!"}},{"$f":"'Pob x Genero'!#REF!","v":{"$error":"#REF!"}},"Hombre","00-04",{"$f":"'Pob x Genero'!#REF!","v":{"$error":"#REF!"}},1139]
[{"$f":"'Pob x Genero'!#REF!","v":{"$error":"#REF!"}},{"$f":"'Pob x Genero'!#REF!","v":{"$error":"#REF!"}},{"$f":"'Pob x Genero'!#REF!","v":{"$error":"#REF!"}},{"$f":"'Pob x Genero'!#REF!","v":{"$error":"#REF!"}},{"$f":"'Pob x Genero'!#REF!","v":{"$error":"#REF!"}},"Hombre","00-04",{"$f":"'Pob x Genero'!#REF!","v":{"$error":"#REF!"}},1140]
[{"$f":"'Pob x Genero'!#REF!","v":{"$error":"#REF!"}},{"$f":"'Pob x Genero'!#REF!","v":{"$error":"#REF!"}},{"$f":"'Pob x Genero'!#REF!","v":{"$error":"#REF!"}},{"$f":"'Pob x Genero'!#REF!","v":{"$error":"#REF!"}},{"$f":"'Pob x Genero'!#REF!","v":{"$error":"#REF!"}},"Hombre","00-04",{"$f":"'Pob x Genero'!#REF!","v":{"$error":"#REF!"}},1141]
[{"$f":"'Pob x Genero'!#REF!","v":{"$error":"#REF!"}},{"$f":"'Pob x Genero'!#REF!","v":{"$error":"#REF!"}},{"$f":"'Pob x Genero'!#REF!","v":{"$error":"#REF!"}},{"$f":"'Pob x Genero'!#REF!","v":{"$error":"#REF!"}},{"$f":"'Pob x Genero'!#REF!","v":{"$error":"#REF!"}},"Hombre","00-04",{"$f":"'Pob x Genero'!#REF!","v":{"$error":"#REF!"}},1142]
[{"$f":"'Pob x Genero'!#REF!","v":{"$error":"#REF!"}},{"$f":"'Pob x Genero'!#REF!","v":{"$error":"#REF!"}},{"$f":"'Pob x Genero'!#REF!","v":{"$error":"#REF!"}},{"$f":"'Pob x Genero'!#REF!","v":{"$error":"#REF!"}},{"$f":"'Pob x Genero'!#REF!","v":{"$error":"#REF!"}},"Hombre","00-04",{"$f":"'Pob x Genero'!#REF!","v":{"$error":"#REF!"}},1143]
[{"$f":"'Pob x Genero'!#REF!","v":{"$error":"#REF!"}},{"$f":"'Pob x Genero'!#REF!","v":{"$error":"#REF!"}},{"$f":"'Pob x Genero'!#REF!","v":{"$error":"#REF!"}},{"$f":"'Pob x Genero'!#REF!","v":{"$error":"#REF!"}},{"$f":"'Pob x Genero'!#REF!","v":{"$error":"#REF!"}},"Hombre","00-04",{"$f":"'Pob x Genero'!#REF!","v":{"$error":"#REF!"}},1144]
[{"$f":"'Pob x Genero'!#REF!","v":{"$error":"#REF!"}},{"$f":"'Pob x Genero'!#REF!","v":{"$error":"#REF!"}},{"$f":"'Pob x Genero'!#REF!","v":{"$error":"#REF!"}},{"$f":"'Pob x Genero'!#REF!","v":{"$error":"#REF!"}},{"$f":"'Pob x Genero'!#REF!","v":{"$error":"#REF!"}},"Hombre","00-04",{"$f":"'Pob x Genero'!#REF!","v":{"$error":"#REF!"}},1145]
[{"$f":"'Pob x Genero'!#REF!","v":{"$error":"#REF!"}},{"$f":"'Pob x Genero'!#REF!","v":{"$error":"#REF!"}},{"$f":"'Pob x Genero'!#REF!","v":{"$error":"#REF!"}},{"$f":"'Pob x Genero'!#REF!","v":{"$error":"#REF!"}},{"$f":"'Pob x Genero'!#REF!","v":{"$error":"#REF!"}},"Hombre","00-04",{"$f":"'Pob x Genero'!#REF!","v":{"$error":"#REF!"}},1146]
[{"$f":"'Pob x Genero'!#REF!","v":{"$error":"#REF!"}},{"$f":"'Pob x Genero'!#REF!","v":{"$error":"#REF!"}},{"$f":"'Pob x Genero'!#REF!","v":{"$error":"#REF!"}},{"$f":"'Pob x Genero'!#REF!","v":{"$error":"#REF!"}},{"$f":"'Pob x Genero'!#REF!","v":{"$error":"#REF!"}},"Hombre","00-04",{"$f":"'Pob x Genero'!#REF!","v":{"$error":"#REF!"}},1147]
[{"$f":"'Pob x Genero'!#REF!","v":{"$error":"#REF!"}},{"$f":"'Pob x Genero'!#REF!","v":{"$error":"#REF!"}},{"$f":"'Pob x Genero'!#REF!","v":{"$error":"#REF!"}},{"$f":"'Pob x Genero'!#REF!","v":{"$error":"#REF!"}},{"$f":"'Pob x Genero'!#REF!","v":{"$error":"#REF!"}},"Hombre","00-04",{"$f":"'Pob x Genero'!#REF!","v":{"$error":"#REF!"}},1148]
[{"$f":"'Pob x Genero'!#REF!","v":{"$error":"#REF!"}},{"$f":"'Pob x Genero'!#REF!","v":{"$error":"#REF!"}},{"$f":"'Pob x Genero'!#REF!","v":{"$error":"#REF!"}},{"$f":"'Pob x Genero'!#REF!","v":{"$error":"#REF!"}},{"$f":"'Pob x Genero'!#REF!","v":{"$error":"#REF!"}},"Hombre","00-04",{"$f":"'Pob x Genero'!#REF!","v":{"$error":"#REF!"}},1149]
[{"$f":"'Pob x Genero'!#REF!","v":{"$error":"#REF!"}},{"$f":"'Pob x Genero'!#REF!","v":{"$error":"#REF!"}},{"$f":"'Pob x Genero'!#REF!","v":{"$error":"#REF!"}},{"$f":"'Pob x Genero'!#REF!","v":{"$error":"#REF!"}},{"$f":"'Pob x Genero'!#REF!","v":{"$error":"#REF!"}},"Hombre","00-04",{"$f":"'Pob x Genero'!#REF!","v":{"$error":"#REF!"}},1150]
[{"$f":"'Pob x Genero'!#REF!","v":{"$error":"#REF!"}},{"$f":"'Pob x Genero'!#REF!","v":{"$error":"#REF!"}},{"$f":"'Pob x Genero'!#REF!","v":{"$error":"#REF!"}},{"$f":"'Pob x Genero'!#REF!","v":{"$error":"#REF!"}},{"$f":"'Pob x Genero'!#REF!","v":{"$error":"#REF!"}},"Hombre","00-04",{"$f":"'Pob x Genero'!#REF!","v":{"$error":"#REF!"}},1151]
[{"$f":"'Pob x Genero'!#REF!","v":{"$error":"#REF!"}},{"$f":"'Pob x Genero'!#REF!","v":{"$error":"#REF!"}},{"$f":"'Pob x Genero'!#REF!","v":{"$error":"#REF!"}},{"$f":"'Pob x Genero'!#REF!","v":{"$error":"#REF!"}},{"$f":"'Pob x Genero'!#REF!","v":{"$error":"#REF!"}},"Hombre","00-04",{"$f":"'Pob x Genero'!#REF!","v":{"$error":"#REF!"}},1152]
[{"$f":"'Pob x Genero'!#REF!","v":{"$error":"#REF!"}},{"$f":"'Pob x Genero'!#REF!","v":{"$error":"#REF!"}},{"$f":"'Pob x Genero'!#REF!","v":{"$error":"#REF!"}},{"$f":"'Pob x Genero'!#REF!","v":{"$error":"#REF!"}},{"$f":"'Pob x Genero'!#REF!","v":{"$error":"#REF!"}},"Hombre","00-04",{"$f":"'Pob x Genero'!#REF!","v":{"$error":"#REF!"}},1153]
[{"$f":"'Pob x Genero'!#REF!","v":{"$error":"#REF!"}},{"$f":"'Pob x Genero'!#REF!","v":{"$error":"#REF!"}},{"$f":"'Pob x Genero'!#REF!","v":{"$error":"#REF!"}},{"$f":"'Pob x Genero'!#REF!","v":{"$error":"#REF!"}},{"$f":"'Pob x Genero'!#REF!","v":{"$error":"#REF!"}},{"$f":"F1154","v":"Hombre"},{"$f":"G1154","v":"00-04"},{"$f":"'Pob x Genero'!#REF!","v":{"$error":"#REF!"}},1154]
[{"$f":"'Pob x Genero'!#REF!","v":{"$error":"#REF!"}},{"$f":"'Pob x Genero'!#REF!","v":{"$error":"#REF!"}},{"$f":"'Pob x Genero'!#REF!","v":{"$error":"#REF!"}},{"$f":"'Pob x Genero'!#REF!","v":{"$error":"#REF!"}},{"$f":"'Pob x Genero'!#REF!","v":{"$error":"#REF!"}},"Hombre","00-04",{"$f":"'Pob x Genero'!#REF!","v":{"$error":"#REF!"}},1155]
[{"$f":"'Pob x Genero'!#REF!","v":{"$error":"#REF!"}},{"$f":"'Pob x Genero'!#REF!","v":{"$error":"#REF!"}},{"$f":"'Pob x Genero'!#REF!","v":{"$error":"#REF!"}},{"$f":"'Pob x Genero'!#REF!","v":{"$error":"#REF!"}},{"$f":"'Pob x Genero'!#REF!","v":{"$error":"#REF!"}},"Hombre","00-04",{"$f":"'Pob x Genero'!#REF!","v":{"$error":"#REF!"}},1156]
[{"$f":"'Pob x Genero'!#REF!","v":{"$error":"#REF!"}},{"$f":"'Pob x Genero'!#REF!","v":{"$error":"#REF!"}},{"$f":"'Pob x Genero'!#REF!","v":{"$error":"#REF!"}},{"$f":"'Pob x Genero'!#REF!","v":{"$error":"#REF!"}},{"$f":"'Pob x Genero'!#REF!","v":{"$error":"#REF!"}},"Hombre","00-04",{"$f":"'Pob x Genero'!#REF!","v":{"$error":"#REF!"}},1157]
[{"$f":"'Pob x Genero'!#REF!","v":{"$error":"#REF!"}},{"$f":"'Pob x Genero'!#REF!","v":{"$error":"#REF!"}},{"$f":"'Pob x Genero'!#REF!","v":{"$error":"#REF!"}},{"$f":"'Pob x Genero'!#REF!","v":{"$error":"#REF!"}},{"$f":"'Pob x Genero'!#REF!","v":{"$error":"#REF!"}},"Hombre","00-04",{"$f":"'Pob x Genero'!#REF!","v":{"$error":"#REF!"}},1158]
[{"$f":"'Pob x Genero'!#REF!","v":{"$error":"#REF!"}},{"$f":"'Pob x Genero'!#REF!","v":{"$error":"#REF!"}},{"$f":"'Pob x Genero'!#REF!","v":{"$error":"#REF!"}},{"$f":"'Pob x Genero'!#REF!","v":{"$error":"#REF!"}},{"$f":"'Pob x Genero'!#REF!","v":{"$error":"#REF!"}},"Hombre","00-04",{"$f":"'Pob x Genero'!#REF!","v":{"$error":"#REF!"}},1159]
[{"$f":"'Pob x Genero'!#REF!","v":{"$error":"#REF!"}},{"$f":"'Pob x Genero'!#REF!","v":{"$error":"#REF!"}},{"$f":"'Pob x Genero'!#REF!","v":{"$error":"#REF!"}},{"$f":"'Pob x Genero'!#REF!","v":{"$error":"#REF!"}},{"$f":"'Pob x Genero'!#REF!","v":{"$error":"#REF!"}},"Hombre","00-04",{"$f":"'Pob x Genero'!#REF!","v":{"$error":"#REF!"}},1160]
[{"$f":"'Pob x Genero'!#REF!","v":{"$error":"#REF!"}},{"$f":"'Pob x Genero'!#REF!","v":{"$error":"#REF!"}},{"$f":"'Pob x Genero'!#REF!","v":{"$error":"#REF!"}},{"$f":"'Pob x Genero'!#REF!","v":{"$error":"#REF!"}},{"$f":"'Pob x Genero'!#REF!","v":{"$error":"#REF!"}},"Hombre","00-04",{"$f":"'Pob x Genero'!#REF!","v":{"$error":"#REF!"}},1161]
[{"$f":"'Pob x Genero'!#REF!","v":{"$error":"#REF!"}},{"$f":"'Pob x Genero'!#REF!","v":{"$error":"#REF!"}},{"$f":"'Pob x Genero'!#REF!","v":{"$error":"#REF!"}},{"$f":"'Pob x Genero'!#REF!","v":{"$error":"#REF!"}},{"$f":"'Pob x Genero'!#REF!","v":{"$error":"#REF!"}},"Hombre","00-04",{"$f":"'Pob x Genero'!#REF!","v":{"$error":"#REF!"}},1162]
[{"$f":"'Pob x Genero'!#REF!","v":{"$error":"#REF!"}},{"$f":"'Pob x Genero'!#REF!","v":{"$error":"#REF!"}},{"$f":"'Pob x Genero'!#REF!","v":{"$error":"#REF!"}},{"$f":"'Pob x Genero'!#REF!","v":{"$error":"#REF!"}},{"$f":"'Pob x Genero'!#REF!","v":{"$error":"#REF!"}},"Hombre","00-04",{"$f":"'Pob x Genero'!#REF!","v":{"$error":"#REF!"}},1163]
[{"$f":"'Pob x Genero'!#REF!","v":{"$error":"#REF!"}},{"$f":"'Pob x Genero'!#REF!","v":{"$error":"#REF!"}},{"$f":"'Pob x Genero'!#REF!","v":{"$error":"#REF!"}},{"$f":"'Pob x Genero'!#REF!","v":{"$error":"#REF!"}},{"$f":"'Pob x Genero'!#REF!","v":{"$error":"#REF!"}},"Hombre","00-04",{"$f":"'Pob x Genero'!#REF!","v":{"$error":"#REF!"}},1164]
[{"$f":"'Pob x Genero'!#REF!","v":{"$error":"#REF!"}},{"$f":"'Pob x Genero'!#REF!","v":{"$error":"#REF!"}},{"$f":"'Pob x Genero'!#REF!","v":{"$error":"#REF!"}},{"$f":"'Pob x Genero'!#REF!","v":{"$error":"#REF!"}},{"$f":"'Pob x Genero'!#REF!","v":{"$error":"#REF!"}},"Hombre","00-04",{"$f":"'Pob x Genero'!#REF!","v":{"$error":"#REF!"}},1165]
[{"$f":"'Pob x Genero'!#REF!","v":{"$error":"#REF!"}},{"$f":"'Pob x Genero'!#REF!","v":{"$error":"#REF!"}},{"$f":"'Pob x Genero'!#REF!","v":{"$error":"#REF!"}},{"$f":"'Pob x Genero'!#REF!","v":{"$error":"#REF!"}},{"$f":"'Pob x Genero'!#REF!","v":{"$error":"#REF!"}},"Hombre","00-04",{"$f":"'Pob x Genero'!#REF!","v":{"$error":"#REF!"}},1166]
[{"$f":"'Pob x Genero'!#REF!","v":{"$error":"#REF!"}},{"$f":"'Pob x Genero'!#REF!","v":{"$error":"#REF!"}},{"$f":"'Pob x Genero'!#REF!","v":{"$error":"#REF!"}},{"$f":"'Pob x Genero'!#REF!","v":{"$error":"#REF!"}},{"$f":"'Pob x Genero'!#REF!","v":{"$error":"#REF!"}},"Hombre","00-04",{"$f":"'Pob x Genero'!#REF!","v":{"$error":"#REF!"}},1167]
[{"$f":"'Pob x Genero'!#REF!","v":{"$error":"#REF!"}},{"$f":"'Pob x Genero'!#REF!","v":{"$error":"#REF!"}},{"$f":"'Pob x Genero'!#REF!","v":{"$error":"#REF!"}},{"$f":"'Pob x Genero'!#REF!","v":{"$error":"#REF!"}},{"$f":"'Pob x Genero'!#REF!","v":{"$error":"#REF!"}},"Hombre","00-04",{"$f":"'Pob x Genero'!#REF!","v":{"$error":"#REF!"}},1168]
[{"$f":"'Pob x Genero'!#REF!","v":{"$error":"#REF!"}},{"$f":"'Pob x Genero'!#REF!","v":{"$error":"#REF!"}},{"$f":"'Pob x Genero'!#REF!","v":{"$error":"#REF!"}},{"$f":"'Pob x Genero'!#REF!","v":{"$error":"#REF!"}},{"$f":"'Pob x Genero'!#REF!","v":{"$error":"#REF!"}},"Hombre","00-04",{"$f":"'Pob x Genero'!#REF!","v":{"$error":"#REF!"}},1169]
[{"$f":"'Pob x Genero'!#REF!","v":{"$error":"#REF!"}},{"$f":"'Pob x Genero'!#REF!","v":{"$error":"#REF!"}},{"$f":"'Pob x Genero'!#REF!","v":{"$error":"#REF!"}},{"$f":"'Pob x Genero'!#REF!","v":{"$error":"#REF!"}},{"$f":"'Pob x Genero'!#REF!","v":{"$error":"#REF!"}},"Hombre","00-04",{"$f":"'Pob x Genero'!#REF!","v":{"$error":"#REF!"}},1170]
[{"$f":"'Pob x Genero'!#REF!","v":{"$error":"#REF!"}},{"$f":"'Pob x Genero'!#REF!","v":{"$error":"#REF!"}},{"$f":"'Pob x Genero'!#REF!","v":{"$error":"#REF!"}},{"$f":"'Pob x Genero'!#REF!","v":{"$error":"#REF!"}},{"$f":"'Pob x Genero'!#REF!","v":{"$error":"#REF!"}},"Hombre","00-04",{"$f":"'Pob x Genero'!#REF!","v":{"$error":"#REF!"}},1171]
[{"$f":"'Pob x Genero'!#REF!","v":{"$error":"#REF!"}},{"$f":"'Pob x Genero'!#REF!","v":{"$error":"#REF!"}},{"$f":"'Pob x Genero'!#REF!","v":{"$error":"#REF!"}},{"$f":"'Pob x Genero'!#REF!","v":{"$error":"#REF!"}},{"$f":"'Pob x Genero'!#REF!","v":{"$error":"#REF!"}},"Hombre","00-04",{"$f":"'Pob x Genero'!#REF!","v":{"$error":"#REF!"}},1172]
[{"$f":"'Pob x Genero'!#REF!","v":{"$error":"#REF!"}},{"$f":"'Pob x Genero'!#REF!","v":{"$error":"#REF!"}},{"$f":"'Pob x Genero'!#REF!","v":{"$error":"#REF!"}},{"$f":"'Pob x Genero'!#REF!","v":{"$error":"#REF!"}},{"$f":"'Pob x Genero'!#REF!","v":{"$error":"#REF!"}},"Hombre","00-04",{"$f":"'Pob x Genero'!#REF!","v":{"$error":"#REF!"}},1173]
[{"$f":"'Pob x Genero'!#REF!","v":{"$error":"#REF!"}},{"$f":"'Pob x Genero'!#REF!","v":{"$error":"#REF!"}},{"$f":"'Pob x Genero'!#REF!","v":{"$error":"#REF!"}},{"$f":"'Pob x Genero'!#REF!","v":{"$error":"#REF!"}},{"$f":"'Pob x Genero'!#REF!","v":{"$error":"#REF!"}},"Hombre","00-04",{"$f":"'Pob x Genero'!#REF!","v":{"$error":"#REF!"}},1174]
[{"$f":"'Pob x Genero'!#REF!","v":{"$error":"#REF!"}},{"$f":"'Pob x Genero'!#REF!","v":{"$error":"#REF!"}},{"$f":"'Pob x Genero'!#REF!","v":{"$error":"#REF!"}},{"$f":"'Pob x Genero'!#REF!","v":{"$error":"#REF!"}},{"$f":"'Pob x Genero'!#REF!","v":{"$error":"#REF!"}},"Hombre","00-04",{"$f":"'Pob x Genero'!#REF!","v":{"$error":"#REF!"}},1175]
[{"$f":"'Pob x Genero'!#REF!","v":{"$error":"#REF!"}},{"$f":"'Pob x Genero'!#REF!","v":{"$error":"#REF!"}},{"$f":"'Pob x Genero'!#REF!","v":{"$error":"#REF!"}},{"$f":"'Pob x Genero'!#REF!","v":{"$error":"#REF!"}},{"$f":"'Pob x Genero'!#REF!","v":{"$error":"#REF!"}},"Hombre","00-04",{"$f":"'Pob x Genero'!#REF!","v":{"$error":"#REF!"}},1176]
[{"$f":"'Pob x Genero'!#REF!","v":{"$error":"#REF!"}},{"$f":"'Pob x Genero'!#REF!","v":{"$error":"#REF!"}},{"$f":"'Pob x Genero'!#REF!","v":{"$error":"#REF!"}},{"$f":"'Pob x Genero'!#REF!","v":{"$error":"#REF!"}},{"$f":"'Pob x Genero'!#REF!","v":{"$error":"#REF!"}},"Hombre","00-04",{"$f":"'Pob x Genero'!#REF!","v":{"$error":"#REF!"}},1177]
[{"$f":"'Pob x Genero'!#REF!","v":{"$error":"#REF!"}},{"$f":"'Pob x Genero'!#REF!","v":{"$error":"#REF!"}},{"$f":"'Pob x Genero'!#REF!","v":{"$error":"#REF!"}},{"$f":"'Pob x Genero'!#REF!","v":{"$error":"#REF!"}},{"$f":"'Pob x Genero'!#REF!","v":{"$error":"#REF!"}},"Hombre","00-04",{"$f":"'Pob x Genero'!#REF!","v":{"$error":"#REF!"}},1178]
[{"$f":"'Pob x Genero'!#REF!","v":{"$error":"#REF!"}},{"$f":"'Pob x Genero'!#REF!","v":{"$error":"#REF!"}},{"$f":"'Pob x Genero'!#REF!","v":{"$error":"#REF!"}},{"$f":"'Pob x Genero'!#REF!","v":{"$error":"#REF!"}},{"$f":"'Pob x Genero'!#REF!","v":{"$error":"#REF!"}},"Hombre","00-04",{"$f":"'Pob x Genero'!#REF!","v":{"$error":"#REF!"}},1179]
[{"$f":"'Pob x Genero'!#REF!","v":{"$error":"#REF!"}},{"$f":"'Pob x Genero'!#REF!","v":{"$error":"#REF!"}},{"$f":"'Pob x Genero'!#REF!","v":{"$error":"#REF!"}},{"$f":"'Pob x Genero'!#REF!","v":{"$error":"#REF!"}},{"$f":"'Pob x Genero'!#REF!","v":{"$error":"#REF!"}},"Hombre","00-04",{"$f":"'Pob x Genero'!#REF!","v":{"$error":"#REF!"}},1180]
[{"$f":"'Pob x Genero'!#REF!","v":{"$error":"#REF!"}},{"$f":"'Pob x Genero'!#REF!","v":{"$error":"#REF!"}},{"$f":"'Pob x Genero'!#REF!","v":{"$error":"#REF!"}},{"$f":"'Pob x Genero'!#REF!","v":{"$error":"#REF!"}},{"$f":"'Pob x Genero'!#REF!","v":{"$error":"#REF!"}},"Hombre","00-04",{"$f":"'Pob x Genero'!#REF!","v":{"$error":"#REF!"}},1181]
[{"$f":"'Pob x Genero'!#REF!","v":{"$error":"#REF!"}},{"$f":"'Pob x Genero'!#REF!","v":{"$error":"#REF!"}},{"$f":"'Pob x Genero'!#REF!","v":{"$error":"#REF!"}},{"$f":"'Pob x Genero'!#REF!","v":{"$error":"#REF!"}},{"$f":"'Pob x Genero'!#REF!","v":{"$error":"#REF!"}},"Hombre","00-04",{"$f":"'Pob x Genero'!#REF!","v":{"$error":"#REF!"}},1182]
[{"$f":"'Pob x Genero'!#REF!","v":{"$error":"#REF!"}},{"$f":"'Pob x Genero'!#REF!","v":{"$error":"#REF!"}},{"$f":"'Pob x Genero'!#REF!","v":{"$error":"#REF!"}},{"$f":"'Pob x Genero'!#REF!","v":{"$error":"#REF!"}},{"$f":"'Pob x Genero'!#REF!","v":{"$error":"#REF!"}},"Hombre","00-04",{"$f":"'Pob x Genero'!#REF!","v":{"$error":"#REF!"}},1183]
[{"$f":"'Pob x Genero'!#REF!","v":{"$error":"#REF!"}},{"$f":"'Pob x Genero'!#REF!","v":{"$error":"#REF!"}},{"$f":"'Pob x Genero'!#REF!","v":{"$error":"#REF!"}},{"$f":"'Pob x Genero'!#REF!","v":{"$error":"#REF!"}},{"$f":"'Pob x Genero'!#REF!","v":{"$error":"#REF!"}},"Hombre","00-04",{"$f":"'Pob x Genero'!#REF!","v":{"$error":"#REF!"}},1184]
[{"$f":"'Pob x Genero'!#REF!","v":{"$error":"#REF!"}},{"$f":"'Pob x Genero'!#REF!","v":{"$error":"#REF!"}},{"$f":"'Pob x Genero'!#REF!","v":{"$error":"#REF!"}},{"$f":"'Pob x Genero'!#REF!","v":{"$error":"#REF!"}},{"$f":"'Pob x Genero'!#REF!","v":{"$error":"#REF!"}},"Hombre","00-04",{"$f":"'Pob x Genero'!#REF!","v":{"$error":"#REF!"}},1185]
[{"$f":"'Pob x Genero'!#REF!","v":{"$error":"#REF!"}},{"$f":"'Pob x Genero'!#REF!","v":{"$error":"#REF!"}},{"$f":"'Pob x Genero'!#REF!","v":{"$error":"#REF!"}},{"$f":"'Pob x Genero'!#REF!","v":{"$error":"#REF!"}},{"$f":"'Pob x Genero'!#REF!","v":{"$error":"#REF!"}},"Hombre","00-04",{"$f":"'Pob x Genero'!#REF!","v":{"$error":"#REF!"}},1186]
[{"$f":"'Pob x Genero'!#REF!","v":{"$error":"#REF!"}},{"$f":"'Pob x Genero'!#REF!","v":{"$error":"#REF!"}},{"$f":"'Pob x Genero'!#REF!","v":{"$error":"#REF!"}},{"$f":"'Pob x Genero'!#REF!","v":{"$error":"#REF!"}},{"$f":"'Pob x Genero'!#REF!","v":{"$error":"#REF!"}},"Hombre","00-04",{"$f":"'Pob x Genero'!#REF!","v":{"$error":"#REF!"}},1187]
[{"$f":"'Pob x Genero'!#REF!","v":{"$error":"#REF!"}},{"$f":"'Pob x Genero'!#REF!","v":{"$error":"#REF!"}},{"$f":"'Pob x Genero'!#REF!","v":{"$error":"#REF!"}},{"$f":"'Pob x Genero'!#REF!","v":{"$error":"#REF!"}},{"$f":"'Pob x Genero'!#REF!","v":{"$error":"#REF!"}},"Hombre","00-04",{"$f":"'Pob x Genero'!#REF!","v":{"$error":"#REF!"}},1188]
[{"$f":"'Pob x Genero'!#REF!","v":{"$error":"#REF!"}},{"$f":"'Pob x Genero'!#REF!","v":{"$error":"#REF!"}},{"$f":"'Pob x Genero'!#REF!","v":{"$error":"#REF!"}},{"$f":"'Pob x Genero'!#REF!","v":{"$error":"#REF!"}},{"$f":"'Pob x Genero'!#REF!","v":{"$error":"#REF!"}},"Hombre","00-04",{"$f":"'Pob x Genero'!#REF!","v":{"$error":"#REF!"}},1189]
[{"$f":"'Pob x Genero'!#REF!","v":{"$error":"#REF!"}},{"$f":"'Pob x Genero'!#REF!","v":{"$error":"#REF!"}},{"$f":"'Pob x Genero'!#REF!","v":{"$error":"#REF!"}},{"$f":"'Pob x Genero'!#REF!","v":{"$error":"#REF!"}},{"$f":"'Pob x Genero'!#REF!","v":{"$error":"#REF!"}},"Hombre","00-04",{"$f":"'Pob x Genero'!#REF!","v":{"$error":"#REF!"}},1190]
[{"$f":"'Pob x Genero'!#REF!","v":{"$error":"#REF!"}},{"$f":"'Pob x Genero'!#REF!","v":{"$error":"#REF!"}},{"$f":"'Pob x Genero'!#REF!","v":{"$error":"#REF!"}},{"$f":"'Pob x Genero'!#REF!","v":{"$error":"#REF!"}},{"$f":"'Pob x Genero'!#REF!","v":{"$error":"#REF!"}},"Hombre","00-04",{"$f":"'Pob x Genero'!#REF!","v":{"$error":"#REF!"}},1191]
[{"$f":"'Pob x Genero'!#REF!","v":{"$error":"#REF!"}},{"$f":"'Pob x Genero'!#REF!","v":{"$error":"#REF!"}},{"$f":"'Pob x Genero'!#REF!","v":{"$error":"#REF!"}},{"$f":"'Pob x Genero'!#REF!","v":{"$error":"#REF!"}},{"$f":"'Pob x Genero'!#REF!","v":{"$error":"#REF!"}},"Hombre","00-04",{"$f":"'Pob x Genero'!#REF!","v":{"$error":"#REF!"}},1192]
[{"$f":"'Pob x Genero'!#REF!","v":{"$error":"#REF!"}},{"$f":"'Pob x Genero'!#REF!","v":{"$error":"#REF!"}},{"$f":"'Pob x Genero'!#REF!","v":{"$error":"#REF!"}},{"$f":"'Pob x Genero'!#REF!","v":{"$error":"#REF!"}},{"$f":"'Pob x Genero'!#REF!","v":{"$error":"#REF!"}},"Hombre","00-04",{"$f":"'Pob x Genero'!#REF!","v":{"$error":"#REF!"}},1193]
[{"$f":"'Pob x Genero'!#REF!","v":{"$error":"#REF!"}},{"$f":"'Pob x Genero'!#REF!","v":{"$error":"#REF!"}},{"$f":"'Pob x Genero'!#REF!","v":{"$error":"#REF!"}},{"$f":"'Pob x Genero'!#REF!","v":{"$error":"#REF!"}},{"$f":"'Pob x Genero'!#REF!","v":{"$error":"#REF!"}},"Hombre","00-04",{"$f":"'Pob x Genero'!#REF!","v":{"$error":"#REF!"}},1194]
[{"$f":"'Pob x Genero'!#REF!","v":{"$error":"#REF!"}},{"$f":"'Pob x Genero'!#REF!","v":{"$error":"#REF!"}},{"$f":"'Pob x Genero'!#REF!","v":{"$error":"#REF!"}},{"$f":"'Pob x Genero'!#REF!","v":{"$error":"#REF!"}},{"$f":"'Pob x Genero'!#REF!","v":{"$error":"#REF!"}},"Hombre","00-04",{"$f":"'Pob x Genero'!#REF!","v":{"$error":"#REF!"}},1195]
[{"$f":"'Pob x Genero'!#REF!","v":{"$error":"#REF!"}},{"$f":"'Pob x Genero'!#REF!","v":{"$error":"#REF!"}},{"$f":"'Pob x Genero'!#REF!","v":{"$error":"#REF!"}},{"$f":"'Pob x Genero'!#REF!","v":{"$error":"#REF!"}},{"$f":"'Pob x Genero'!#REF!","v":{"$error":"#REF!"}},"Hombre","00-04",{"$f":"'Pob x Genero'!#REF!","v":{"$error":"#REF!"}},1196]
[{"$f":"'Pob x Genero'!#REF!","v":{"$error":"#REF!"}},{"$f":"'Pob x Genero'!#REF!","v":{"$error":"#REF!"}},{"$f":"'Pob x Genero'!#REF!","v":{"$error":"#REF!"}},{"$f":"'Pob x Genero'!#REF!","v":{"$error":"#REF!"}},{"$f":"'Pob x Genero'!#REF!","v":{"$error":"#REF!"}},"Hombre","00-04",{"$f":"'Pob x Genero'!#REF!","v":{"$error":"#REF!"}},1197]
[{"$f":"'Pob x Genero'!#REF!","v":{"$error":"#REF!"}},{"$f":"'Pob x Genero'!#REF!","v":{"$error":"#REF!"}},{"$f":"'Pob x Genero'!#REF!","v":{"$error":"#REF!"}},{"$f":"'Pob x Genero'!#REF!","v":{"$error":"#REF!"}},{"$f":"'Pob x Genero'!#REF!","v":{"$error":"#REF!"}},"Hombre","00-04",{"$f":"'Pob x Genero'!#REF!","v":{"$error":"#REF!"}},1198]
[{"$f":"'Pob x Genero'!#REF!","v":{"$error":"#REF!"}},{"$f":"'Pob x Genero'!#REF!","v":{"$error":"#REF!"}},{"$f":"'Pob x Genero'!#REF!","v":{"$error":"#REF!"}},{"$f":"'Pob x Genero'!#REF!","v":{"$error":"#REF!"}},{"$f":"'Pob x Genero'!#REF!","v":{"$error":"#REF!"}},"Hombre","00-04",{"$f":"'Pob x Genero'!#REF!","v":{"$error":"#REF!"}},1199]
[{"$f":"'Pob x Genero'!#REF!","v":{"$error":"#REF!"}},{"$f":"'Pob x Genero'!#REF!","v":{"$error":"#REF!"}},{"$f":"'Pob x Genero'!#REF!","v":{"$error":"#REF!"}},{"$f":"'Pob x Genero'!#REF!","v":{"$error":"#REF!"}},{"$f":"'Pob x Genero'!#REF!","v":{"$error":"#REF!"}},"Hombre","00-04",{"$f":"'Pob x Genero'!#REF!","v":{"$error":"#REF!"}},1200]
[{"$f":"'Pob x Genero'!#REF!","v":{"$error":"#REF!"}},{"$f":"'Pob x Genero'!#REF!","v":{"$error":"#REF!"}},{"$f":"'Pob x Genero'!#REF!","v":{"$error":"#REF!"}},{"$f":"'Pob x Genero'!#REF!","v":{"$error":"#REF!"}},{"$f":"'Pob x Genero'!#REF!","v":{"$error":"#REF!"}},"Hombre","00-04",{"$f":"'Pob x Genero'!#REF!","v":{"$error":"#REF!"}},1201]
[{"$f":"'Pob x Genero'!#REF!","v":{"$error":"#REF!"}},{"$f":"'Pob x Genero'!#REF!","v":{"$error":"#REF!"}},{"$f":"'Pob x Genero'!#REF!","v":{"$error":"#REF!"}},{"$f":"'Pob x Genero'!#REF!","v":{"$error":"#REF!"}},{"$f":"'Pob x Genero'!#REF!","v":{"$error":"#REF!"}},"Hombre","00-04",{"$f":"'Pob x Genero'!#REF!","v":{"$error":"#REF!"}},1202]
[{"$f":"'Pob x Genero'!#REF!","v":{"$error":"#REF!"}},{"$f":"'Pob x Genero'!#REF!","v":{"$error":"#REF!"}},{"$f":"'Pob x Genero'!#REF!","v":{"$error":"#REF!"}},{"$f":"'Pob x Genero'!#REF!","v":{"$error":"#REF!"}},{"$f":"'Pob x Genero'!#REF!","v":{"$error":"#REF!"}},"Hombre","00-04",{"$f":"'Pob x Genero'!#REF!","v":{"$error":"#REF!"}},1203]
[{"$f":"'Pob x Genero'!#REF!","v":{"$error":"#REF!"}},{"$f":"'Pob x Genero'!#REF!","v":{"$error":"#REF!"}},{"$f":"'Pob x Genero'!#REF!","v":{"$error":"#REF!"}},{"$f":"'Pob x Genero'!#REF!","v":{"$error":"#REF!"}},{"$f":"'Pob x Genero'!#REF!","v":{"$error":"#REF!"}},"Hombre","00-04",{"$f":"'Pob x Genero'!#REF!","v":{"$error":"#REF!"}},1204]
[{"$f":"'Pob x Genero'!#REF!","v":{"$error":"#REF!"}},{"$f":"'Pob x Genero'!#REF!","v":{"$error":"#REF!"}},{"$f":"'Pob x Genero'!#REF!","v":{"$error":"#REF!"}},{"$f":"'Pob x Genero'!#REF!","v":{"$error":"#REF!"}},{"$f":"'Pob x Genero'!#REF!","v":{"$error":"#REF!"}},"Hombre","00-04",{"$f":"'Pob x Genero'!#REF!","v":{"$error":"#REF!"}},1205]
[{"$f":"'Pob x Genero'!#REF!","v":{"$error":"#REF!"}},{"$f":"'Pob x Genero'!#REF!","v":{"$error":"#REF!"}},{"$f":"'Pob x Genero'!#REF!","v":{"$error":"#REF!"}},{"$f":"'Pob x Genero'!#REF!","v":{"$error":"#REF!"}},{"$f":"'Pob x Genero'!#REF!","v":{"$error":"#REF!"}},"Hombre","00-04",{"$f":"'Pob x Genero'!#REF!","v":{"$error":"#REF!"}},1206]
[{"$f":"'Pob x Genero'!#REF!","v":{"$error":"#REF!"}},{"$f":"'Pob x Genero'!#REF!","v":{"$error":"#REF!"}},{"$f":"'Pob x Genero'!#REF!","v":{"$error":"#REF!"}},{"$f":"'Pob x Genero'!#REF!","v":{"$error":"#REF!"}},{"$f":"'Pob x Genero'!#REF!","v":{"$error":"#REF!"}},"Hombre","00-04",{"$f":"'Pob x Genero'!#REF!","v":{"$error":"#REF!"}},1207]
[{"$f":"'Pob x Genero'!#REF!","v":{"$error":"#REF!"}},{"$f":"'Pob x Genero'!#REF!","v":{"$error":"#REF!"}},{"$f":"'Pob x Genero'!#REF!","v":{"$error":"#REF!"}},{"$f":"'Pob x Genero'!#REF!","v":{"$error":"#REF!"}},{"$f":"'Pob x Genero'!#REF!","v":{"$error":"#REF!"}},"Hombre","00-04",{"$f":"'Pob x Genero'!#REF!","v":{"$error":"#REF!"}},1208]
[{"$f":"'Pob x Genero'!#REF!","v":{"$error":"#REF!"}},{"$f":"'Pob x Genero'!#REF!","v":{"$error":"#REF!"}},{"$f":"'Pob x Genero'!#REF!","v":{"$error":"#REF!"}},{"$f":"'Pob x Genero'!#REF!","v":{"$error":"#REF!"}},{"$f":"'Pob x Genero'!#REF!","v":{"$error":"#REF!"}},"Hombre","00-04",{"$f":"'Pob x Genero'!#REF!","v":{"$error":"#REF!"}},1209]
[{"$f":"'Pob x Genero'!#REF!","v":{"$error":"#REF!"}},{"$f":"'Pob x Genero'!#REF!","v":{"$error":"#REF!"}},{"$f":"'Pob x Genero'!#REF!","v":{"$error":"#REF!"}},{"$f":"'Pob x Genero'!#REF!","v":{"$error":"#REF!"}},{"$f":"'Pob x Genero'!#REF!","v":{"$error":"#REF!"}},"Hombre","00-04",{"$f":"'Pob x Genero'!#REF!","v":{"$error":"#REF!"}},1210]
[{"$f":"'Pob x Genero'!#REF!","v":{"$error":"#REF!"}},{"$f":"'Pob x Genero'!#REF!","v":{"$error":"#REF!"}},{"$f":"'Pob x Genero'!#REF!","v":{"$error":"#REF!"}},{"$f":"'Pob x Genero'!#REF!","v":{"$error":"#REF!"}},{"$f":"'Pob x Genero'!#REF!","v":{"$error":"#REF!"}},"Hombre","00-04",{"$f":"'Pob x Genero'!#REF!","v":{"$error":"#REF!"}},1211]
[{"$f":"'Pob x Genero'!#REF!","v":{"$error":"#REF!"}},{"$f":"'Pob x Genero'!#REF!","v":{"$error":"#REF!"}},{"$f":"'Pob x Genero'!#REF!","v":{"$error":"#REF!"}},{"$f":"'Pob x Genero'!#REF!","v":{"$error":"#REF!"}},{"$f":"'Pob x Genero'!#REF!","v":{"$error":"#REF!"}},"Hombre","00-04",{"$f":"'Pob x Genero'!#REF!","v":{"$error":"#REF!"}},1212]
[{"$f":"'Pob x Genero'!#REF!","v":{"$error":"#REF!"}},{"$f":"'Pob x Genero'!#REF!","v":{"$error":"#REF!"}},{"$f":"'Pob x Genero'!#REF!","v":{"$error":"#REF!"}},{"$f":"'Pob x Genero'!#REF!","v":{"$error":"#REF!"}},{"$f":"'Pob x Genero'!#REF!","v":{"$error":"#REF!"}},"Hombre","00-04",{"$f":"'Pob x Genero'!#REF!","v":{"$error":"#REF!"}},1213]
[{"$f":"'Pob x Genero'!#REF!","v":{"$error":"#REF!"}},{"$f":"'Pob x Genero'!#REF!","v":{"$error":"#REF!"}},{"$f":"'Pob x Genero'!#REF!","v":{"$error":"#REF!"}},{"$f":"'Pob x Genero'!#REF!","v":{"$error":"#REF!"}},{"$f":"'Pob x Genero'!#REF!","v":{"$error":"#REF!"}},"Hombre","00-04",{"$f":"'Pob x Genero'!#REF!","v":{"$error":"#REF!"}},1214]
[{"$f":"'Pob x Genero'!#REF!","v":{"$error":"#REF!"}},{"$f":"'Pob x Genero'!#REF!","v":{"$error":"#REF!"}},{"$f":"'Pob x Genero'!#REF!","v":{"$error":"#REF!"}},{"$f":"'Pob x Genero'!#REF!","v":{"$error":"#REF!"}},{"$f":"'Pob x Genero'!#REF!","v":{"$error":"#REF!"}},"Hombre","00-04",{"$f":"'Pob x Genero'!#REF!","v":{"$error":"#REF!"}},1215]
[{"$f":"'Pob x Genero'!#REF!","v":{"$error":"#REF!"}},{"$f":"'Pob x Genero'!#REF!","v":{"$error":"#REF!"}},{"$f":"'Pob x Genero'!#REF!","v":{"$error":"#REF!"}},{"$f":"'Pob x Genero'!#REF!","v":{"$error":"#REF!"}},{"$f":"'Pob x Genero'!#REF!","v":{"$error":"#REF!"}},"Hombre","00-04",{"$f":"'Pob x Genero'!#REF!","v":{"$error":"#REF!"}},1216]
[{"$f":"'Pob x Genero'!#REF!","v":{"$error":"#REF!"}},{"$f":"'Pob x Genero'!#REF!","v":{"$error":"#REF!"}},{"$f":"'Pob x Genero'!#REF!","v":{"$error":"#REF!"}},{"$f":"'Pob x Genero'!#REF!","v":{"$error":"#REF!"}},{"$f":"'Pob x Genero'!#REF!","v":{"$error":"#REF!"}},"Hombre","00-04",{"$f":"'Pob x Genero'!#REF!","v":{"$error":"#REF!"}},1217]
[{"$f":"'Pob x Genero'!#REF!","v":{"$error":"#REF!"}},{"$f":"'Pob x Genero'!#REF!","v":{"$error":"#REF!"}},{"$f":"'Pob x Genero'!#REF!","v":{"$error":"#REF!"}},{"$f":"'Pob x Genero'!#REF!","v":{"$error":"#REF!"}},{"$f":"'Pob x Genero'!#REF!","v":{"$error":"#REF!"}},{"$f":"F1218","v":"Hombre"},{"$f":"G1218","v":"00-04"},{"$f":"'Pob x Genero'!#REF!","v":{"$error":"#REF!"}},1218]
[{"$f":"'Pob x Genero'!#REF!","v":{"$error":"#REF!"}},{"$f":"'Pob x Genero'!#REF!","v":{"$error":"#REF!"}},{"$f":"'Pob x Genero'!#REF!","v":{"$error":"#REF!"}},{"$f":"'Pob x Genero'!#REF!","v":{"$error":"#REF!"}},{"$f":"'Pob x Genero'!#REF!","v":{"$error":"#REF!"}},"Hombre","00-04",{"$f":"'Pob x Genero'!#REF!","v":{"$error":"#REF!"}},1219]
[{"$f":"'Pob x Genero'!#REF!","v":{"$error":"#REF!"}},{"$f":"'Pob x Genero'!#REF!","v":{"$error":"#REF!"}},{"$f":"'Pob x Genero'!#REF!","v":{"$error":"#REF!"}},{"$f":"'Pob x Genero'!#REF!","v":{"$error":"#REF!"}},{"$f":"'Pob x Genero'!#REF!","v":{"$error":"#REF!"}},"Hombre","00-04",{"$f":"'Pob x Genero'!#REF!","v":{"$error":"#REF!"}},1220]
[{"$f":"'Pob x Genero'!#REF!","v":{"$error":"#REF!"}},{"$f":"'Pob x Genero'!#REF!","v":{"$error":"#REF!"}},{"$f":"'Pob x Genero'!#REF!","v":{"$error":"#REF!"}},{"$f":"'Pob x Genero'!#REF!","v":{"$error":"#REF!"}},{"$f":"'Pob x Genero'!#REF!","v":{"$error":"#REF!"}},"Hombre","00-04",{"$f":"'Pob x Genero'!#REF!","v":{"$error":"#REF!"}},1221]
[{"$f":"'Pob x Genero'!#REF!","v":{"$error":"#REF!"}},{"$f":"'Pob x Genero'!#REF!","v":{"$error":"#REF!"}},{"$f":"'Pob x Genero'!#REF!","v":{"$error":"#REF!"}},{"$f":"'Pob x Genero'!#REF!","v":{"$error":"#REF!"}},{"$f":"'Pob x Genero'!#REF!","v":{"$error":"#REF!"}},"Hombre","00-04",{"$f":"'Pob x Genero'!#REF!","v":{"$error":"#REF!"}},1222]
[{"$f":"'Pob x Genero'!#REF!","v":{"$error":"#REF!"}},{"$f":"'Pob x Genero'!#REF!","v":{"$error":"#REF!"}},{"$f":"'Pob x Genero'!#REF!","v":{"$error":"#REF!"}},{"$f":"'Pob x Genero'!#REF!","v":{"$error":"#REF!"}},{"$f":"'Pob x Genero'!#REF!","v":{"$error":"#REF!"}},"Hombre","00-04",{"$f":"'Pob x Genero'!#REF!","v":{"$error":"#REF!"}},1223]
[{"$f":"'Pob x Genero'!#REF!","v":{"$error":"#REF!"}},{"$f":"'Pob x Genero'!#REF!","v":{"$error":"#REF!"}},{"$f":"'Pob x Genero'!#REF!","v":{"$error":"#REF!"}},{"$f":"'Pob x Genero'!#REF!","v":{"$error":"#REF!"}},{"$f":"'Pob x Genero'!#REF!","v":{"$error":"#REF!"}},"Hombre","00-04",{"$f":"'Pob x Genero'!#REF!","v":{"$error":"#REF!"}},1224]
[{"$f":"'Pob x Genero'!#REF!","v":{"$error":"#REF!"}},{"$f":"'Pob x Genero'!#REF!","v":{"$error":"#REF!"}},{"$f":"'Pob x Genero'!#REF!","v":{"$error":"#REF!"}},{"$f":"'Pob x Genero'!#REF!","v":{"$error":"#REF!"}},{"$f":"'Pob x Genero'!#REF!","v":{"$error":"#REF!"}},"Hombre","00-04",{"$f":"'Pob x Genero'!#REF!","v":{"$error":"#REF!"}},1225]
[{"$f":"'Pob x Genero'!#REF!","v":{"$error":"#REF!"}},{"$f":"'Pob x Genero'!#REF!","v":{"$error":"#REF!"}},{"$f":"'Pob x Genero'!#REF!","v":{"$error":"#REF!"}},{"$f":"'Pob x Genero'!#REF!","v":{"$error":"#REF!"}},{"$f":"'Pob x Genero'!#REF!","v":{"$error":"#REF!"}},"Hombre","00-04",{"$f":"'Pob x Genero'!#REF!","v":{"$error":"#REF!"}},1226]
[{"$f":"'Pob x Genero'!#REF!","v":{"$error":"#REF!"}},{"$f":"'Pob x Genero'!#REF!","v":{"$error":"#REF!"}},{"$f":"'Pob x Genero'!#REF!","v":{"$error":"#REF!"}},{"$f":"'Pob x Genero'!#REF!","v":{"$error":"#REF!"}},{"$f":"'Pob x Genero'!#REF!","v":{"$error":"#REF!"}},"Hombre","00-04",{"$f":"'Pob x Genero'!#REF!","v":{"$error":"#REF!"}},1227]
[{"$f":"'Pob x Genero'!#REF!","v":{"$error":"#REF!"}},{"$f":"'Pob x Genero'!#REF!","v":{"$error":"#REF!"}},{"$f":"'Pob x Genero'!#REF!","v":{"$error":"#REF!"}},{"$f":"'Pob x Genero'!#REF!","v":{"$error":"#REF!"}},{"$f":"'Pob x Genero'!#REF!","v":{"$error":"#REF!"}},"Hombre","00-04",{"$f":"'Pob x Genero'!#REF!","v":{"$error":"#REF!"}},1228]
[{"$f":"'Pob x Genero'!#REF!","v":{"$error":"#REF!"}},{"$f":"'Pob x Genero'!#REF!","v":{"$error":"#REF!"}},{"$f":"'Pob x Genero'!#REF!","v":{"$error":"#REF!"}},{"$f":"'Pob x Genero'!#REF!","v":{"$error":"#REF!"}},{"$f":"'Pob x Genero'!#REF!","v":{"$error":"#REF!"}},"Hombre","00-04",{"$f":"'Pob x Genero'!#REF!","v":{"$error":"#REF!"}},1229]
[{"$f":"'Pob x Genero'!#REF!","v":{"$error":"#REF!"}},{"$f":"'Pob x Genero'!#REF!","v":{"$error":"#REF!"}},{"$f":"'Pob x Genero'!#REF!","v":{"$error":"#REF!"}},{"$f":"'Pob x Genero'!#REF!","v":{"$error":"#REF!"}},{"$f":"'Pob x Genero'!#REF!","v":{"$error":"#REF!"}},"Hombre","00-04",{"$f":"'Pob x Genero'!#REF!","v":{"$error":"#REF!"}},1230]
[{"$f":"'Pob x Genero'!#REF!","v":{"$error":"#REF!"}},{"$f":"'Pob x Genero'!#REF!","v":{"$error":"#REF!"}},{"$f":"'Pob x Genero'!#REF!","v":{"$error":"#REF!"}},{"$f":"'Pob x Genero'!#REF!","v":{"$error":"#REF!"}},{"$f":"'Pob x Genero'!#REF!","v":{"$error":"#REF!"}},"Hombre","00-04",{"$f":"'Pob x Genero'!#REF!","v":{"$error":"#REF!"}},1231]
[{"$f":"'Pob x Genero'!#REF!","v":{"$error":"#REF!"}},{"$f":"'Pob x Genero'!#REF!","v":{"$error":"#REF!"}},{"$f":"'Pob x Genero'!#REF!","v":{"$error":"#REF!"}},{"$f":"'Pob x Genero'!#REF!","v":{"$error":"#REF!"}},{"$f":"'Pob x Genero'!#REF!","v":{"$error":"#REF!"}},"Hombre","00-04",{"$f":"'Pob x Genero'!#REF!","v":{"$error":"#REF!"}},1232]
[{"$f":"'Pob x Genero'!#REF!","v":{"$error":"#REF!"}},{"$f":"'Pob x Genero'!#REF!","v":{"$error":"#REF!"}},{"$f":"'Pob x Genero'!#REF!","v":{"$error":"#REF!"}},{"$f":"'Pob x Genero'!#REF!","v":{"$error":"#REF!"}},{"$f":"'Pob x Genero'!#REF!","v":{"$error":"#REF!"}},"Hombre","00-04",{"$f":"'Pob x Genero'!#REF!","v":{"$error":"#REF!"}},1233]
[{"$f":"'Pob x Genero'!#REF!","v":{"$error":"#REF!"}},{"$f":"'Pob x Genero'!#REF!","v":{"$error":"#REF!"}},{"$f":"'Pob x Genero'!#REF!","v":{"$error":"#REF!"}},{"$f":"'Pob x Genero'!#REF!","v":{"$error":"#REF!"}},{"$f":"'Pob x Genero'!#REF!","v":{"$error":"#REF!"}},"Hombre","00-04",{"$f":"'Pob x Genero'!#REF!","v":{"$error":"#REF!"}},1234]
[{"$f":"'Pob x Genero'!#REF!","v":{"$error":"#REF!"}},{"$f":"'Pob x Genero'!#REF!","v":{"$error":"#REF!"}},{"$f":"'Pob x Genero'!#REF!","v":{"$error":"#REF!"}},{"$f":"'Pob x Genero'!#REF!","v":{"$error":"#REF!"}},{"$f":"'Pob x Genero'!#REF!","v":{"$error":"#REF!"}},"Hombre","00-04",{"$f":"'Pob x Genero'!#REF!","v":{"$error":"#REF!"}},1235]
[{"$f":"'Pob x Genero'!#REF!","v":{"$error":"#REF!"}},{"$f":"'Pob x Genero'!#REF!","v":{"$error":"#REF!"}},{"$f":"'Pob x Genero'!#REF!","v":{"$error":"#REF!"}},{"$f":"'Pob x Genero'!#REF!","v":{"$error":"#REF!"}},{"$f":"'Pob x Genero'!#REF!","v":{"$error":"#REF!"}},"Hombre","00-04",{"$f":"'Pob x Genero'!#REF!","v":{"$error":"#REF!"}},1236]
[{"$f":"'Pob x Genero'!#REF!","v":{"$error":"#REF!"}},{"$f":"'Pob x Genero'!#REF!","v":{"$error":"#REF!"}},{"$f":"'Pob x Genero'!#REF!","v":{"$error":"#REF!"}},{"$f":"'Pob x Genero'!#REF!","v":{"$error":"#REF!"}},{"$f":"'Pob x Genero'!#REF!","v":{"$error":"#REF!"}},"Hombre","00-04",{"$f":"'Pob x Genero'!#REF!","v":{"$error":"#REF!"}},1237]
[{"$f":"'Pob x Genero'!#REF!","v":{"$error":"#REF!"}},{"$f":"'Pob x Genero'!#REF!","v":{"$error":"#REF!"}},{"$f":"'Pob x Genero'!#REF!","v":{"$error":"#REF!"}},{"$f":"'Pob x Genero'!#REF!","v":{"$error":"#REF!"}},{"$f":"'Pob x Genero'!#REF!","v":{"$error":"#REF!"}},"Hombre","00-04",{"$f":"'Pob x Genero'!#REF!","v":{"$error":"#REF!"}},1238]
[{"$f":"'Pob x Genero'!#REF!","v":{"$error":"#REF!"}},{"$f":"'Pob x Genero'!#REF!","v":{"$error":"#REF!"}},{"$f":"'Pob x Genero'!#REF!","v":{"$error":"#REF!"}},{"$f":"'Pob x Genero'!#REF!","v":{"$error":"#REF!"}},{"$f":"'Pob x Genero'!#REF!","v":{"$error":"#REF!"}},"Hombre","00-04",{"$f":"'Pob x Genero'!#REF!","v":{"$error":"#REF!"}},1239]
[{"$f":"'Pob x Genero'!#REF!","v":{"$error":"#REF!"}},{"$f":"'Pob x Genero'!#REF!","v":{"$error":"#REF!"}},{"$f":"'Pob x Genero'!#REF!","v":{"$error":"#REF!"}},{"$f":"'Pob x Genero'!#REF!","v":{"$error":"#REF!"}},{"$f":"'Pob x Genero'!#REF!","v":{"$error":"#REF!"}},"Hombre","00-04",{"$f":"'Pob x Genero'!#REF!","v":{"$error":"#REF!"}},1240]
[{"$f":"'Pob x Genero'!#REF!","v":{"$error":"#REF!"}},{"$f":"'Pob x Genero'!#REF!","v":{"$error":"#REF!"}},{"$f":"'Pob x Genero'!#REF!","v":{"$error":"#REF!"}},{"$f":"'Pob x Genero'!#REF!","v":{"$error":"#REF!"}},{"$f":"'Pob x Genero'!#REF!","v":{"$error":"#REF!"}},"Hombre","00-04",{"$f":"'Pob x Genero'!#REF!","v":{"$error":"#REF!"}},1241]
[{"$f":"'Pob x Genero'!#REF!","v":{"$error":"#REF!"}},{"$f":"'Pob x Genero'!#REF!","v":{"$error":"#REF!"}},{"$f":"'Pob x Genero'!#REF!","v":{"$error":"#REF!"}},{"$f":"'Pob x Genero'!#REF!","v":{"$error":"#REF!"}},{"$f":"'Pob x Genero'!#REF!","v":{"$error":"#REF!"}},"Hombre","00-04",{"$f":"'Pob x Genero'!#REF!","v":{"$error":"#REF!"}},1242]
[{"$f":"'Pob x Genero'!#REF!","v":{"$error":"#REF!"}},{"$f":"'Pob x Genero'!#REF!","v":{"$error":"#REF!"}},{"$f":"'Pob x Genero'!#REF!","v":{"$error":"#REF!"}},{"$f":"'Pob x Genero'!#REF!","v":{"$error":"#REF!"}},{"$f":"'Pob x Genero'!#REF!","v":{"$error":"#REF!"}},"Hombre","00-04",{"$f":"'Pob x Genero'!#REF!","v":{"$error":"#REF!"}},1243]
[{"$f":"'Pob x Genero'!#REF!","v":{"$error":"#REF!"}},{"$f":"'Pob x Genero'!#REF!","v":{"$error":"#REF!"}},{"$f":"'Pob x Genero'!#REF!","v":{"$error":"#REF!"}},{"$f":"'Pob x Genero'!#REF!","v":{"$error":"#REF!"}},{"$f":"'Pob x Genero'!#REF!","v":{"$error":"#REF!"}},"Hombre","00-04",{"$f":"'Pob x Genero'!#REF!","v":{"$error":"#REF!"}},1244]
[{"$f":"'Pob x Genero'!#REF!","v":{"$error":"#REF!"}},{"$f":"'Pob x Genero'!#REF!","v":{"$error":"#REF!"}},{"$f":"'Pob x Genero'!#REF!","v":{"$error":"#REF!"}},{"$f":"'Pob x Genero'!#REF!","v":{"$error":"#REF!"}},{"$f":"'Pob x Genero'!#REF!","v":{"$error":"#REF!"}},"Hombre","00-04",{"$f":"'Pob x Genero'!#REF!","v":{"$error":"#REF!"}},1245]
[{"$f":"'Pob x Genero'!#REF!","v":{"$error":"#REF!"}},{"$f":"'Pob x Genero'!#REF!","v":{"$error":"#REF!"}},{"$f":"'Pob x Genero'!#REF!","v":{"$error":"#REF!"}},{"$f":"'Pob x Genero'!#REF!","v":{"$error":"#REF!"}},{"$f":"'Pob x Genero'!#REF!","v":{"$error":"#REF!"}},"Hombre","00-04",{"$f":"'Pob x Genero'!#REF!","v":{"$error":"#REF!"}},1246]
[{"$f":"'Pob x Genero'!#REF!","v":{"$error":"#REF!"}},{"$f":"'Pob x Genero'!#REF!","v":{"$error":"#REF!"}},{"$f":"'Pob x Genero'!#REF!","v":{"$error":"#REF!"}},{"$f":"'Pob x Genero'!#REF!","v":{"$error":"#REF!"}},{"$f":"'Pob x Genero'!#REF!","v":{"$error":"#REF!"}},"Hombre","00-04",{"$f":"'Pob x Genero'!#REF!","v":{"$error":"#REF!"}},1247]
[{"$f":"'Pob x Genero'!#REF!","v":{"$error":"#REF!"}},{"$f":"'Pob x Genero'!#REF!","v":{"$error":"#REF!"}},{"$f":"'Pob x Genero'!#REF!","v":{"$error":"#REF!"}},{"$f":"'Pob x Genero'!#REF!","v":{"$error":"#REF!"}},{"$f":"'Pob x Genero'!#REF!","v":{"$error":"#REF!"}},"Hombre","00-04",{"$f":"'Pob x Genero'!#REF!","v":{"$error":"#REF!"}},1248]
[{"$f":"'Pob x Genero'!#REF!","v":{"$error":"#REF!"}},{"$f":"'Pob x Genero'!#REF!","v":{"$error":"#REF!"}},{"$f":"'Pob x Genero'!#REF!","v":{"$error":"#REF!"}},{"$f":"'Pob x Genero'!#REF!","v":{"$error":"#REF!"}},{"$f":"'Pob x Genero'!#REF!","v":{"$error":"#REF!"}},"Hombre","00-04",{"$f":"'Pob x Genero'!#REF!","v":{"$error":"#REF!"}},1249]
[{"$f":"'Pob x Genero'!#REF!","v":{"$error":"#REF!"}},{"$f":"'Pob x Genero'!#REF!","v":{"$error":"#REF!"}},{"$f":"'Pob x Genero'!#REF!","v":{"$error":"#REF!"}},{"$f":"'Pob x Genero'!#REF!","v":{"$error":"#REF!"}},{"$f":"'Pob x Genero'!#REF!","v":{"$error":"#REF!"}},"Hombre","00-04",{"$f":"'Pob x Genero'!#REF!","v":{"$error":"#REF!"}},1250]
[{"$f":"'Pob x Genero'!#REF!","v":{"$error":"#REF!"}},{"$f":"'Pob x Genero'!#REF!","v":{"$error":"#REF!"}},{"$f":"'Pob x Genero'!#REF!","v":{"$error":"#REF!"}},{"$f":"'Pob x Genero'!#REF!","v":{"$error":"#REF!"}},{"$f":"'Pob x Genero'!#REF!","v":{"$error":"#REF!"}},"Hombre","00-04",{"$f":"'Pob x Genero'!#REF!","v":{"$error":"#REF!"}},1251]
[{"$f":"'Pob x Genero'!#REF!","v":{"$error":"#REF!"}},{"$f":"'Pob x Genero'!#REF!","v":{"$error":"#REF!"}},{"$f":"'Pob x Genero'!#REF!","v":{"$error":"#REF!"}},{"$f":"'Pob x Genero'!#REF!","v":{"$error":"#REF!"}},{"$f":"'Pob x Genero'!#REF!","v":{"$error":"#REF!"}},"Hombre","00-04",{"$f":"'Pob x Genero'!#REF!","v":{"$error":"#REF!"}},1252]
[{"$f":"'Pob x Genero'!#REF!","v":{"$error":"#REF!"}},{"$f":"'Pob x Genero'!#REF!","v":{"$error":"#REF!"}},{"$f":"'Pob x Genero'!#REF!","v":{"$error":"#REF!"}},{"$f":"'Pob x Genero'!#REF!","v":{"$error":"#REF!"}},{"$f":"'Pob x Genero'!#REF!","v":{"$error":"#REF!"}},"Hombre","00-04",{"$f":"'Pob x Genero'!#REF!","v":{"$error":"#REF!"}},1253]
[{"$f":"'Pob x Genero'!#REF!","v":{"$error":"#REF!"}},{"$f":"'Pob x Genero'!#REF!","v":{"$error":"#REF!"}},{"$f":"'Pob x Genero'!#REF!","v":{"$error":"#REF!"}},{"$f":"'Pob x Genero'!#REF!","v":{"$error":"#REF!"}},{"$f":"'Pob x Genero'!#REF!","v":{"$error":"#REF!"}},"Hombre","00-04",{"$f":"'Pob x Genero'!#REF!","v":{"$error":"#REF!"}},1254]
[{"$f":"'Pob x Genero'!#REF!","v":{"$error":"#REF!"}},{"$f":"'Pob x Genero'!#REF!","v":{"$error":"#REF!"}},{"$f":"'Pob x Genero'!#REF!","v":{"$error":"#REF!"}},{"$f":"'Pob x Genero'!#REF!","v":{"$error":"#REF!"}},{"$f":"'Pob x Genero'!#REF!","v":{"$error":"#REF!"}},"Hombre","00-04",{"$f":"'Pob x Genero'!#REF!","v":{"$error":"#REF!"}},1255]
[{"$f":"'Pob x Genero'!#REF!","v":{"$error":"#REF!"}},{"$f":"'Pob x Genero'!#REF!","v":{"$error":"#REF!"}},{"$f":"'Pob x Genero'!#REF!","v":{"$error":"#REF!"}},{"$f":"'Pob x Genero'!#REF!","v":{"$error":"#REF!"}},{"$f":"'Pob x Genero'!#REF!","v":{"$error":"#REF!"}},"Hombre","00-04",{"$f":"'Pob x Genero'!#REF!","v":{"$error":"#REF!"}},1256]
[{"$f":"'Pob x Genero'!#REF!","v":{"$error":"#REF!"}},{"$f":"'Pob x Genero'!#REF!","v":{"$error":"#REF!"}},{"$f":"'Pob x Genero'!#REF!","v":{"$error":"#REF!"}},{"$f":"'Pob x Genero'!#REF!","v":{"$error":"#REF!"}},{"$f":"'Pob x Genero'!#REF!","v":{"$error":"#REF!"}},"Hombre","00-04",{"$f":"'Pob x Genero'!#REF!","v":{"$error":"#REF!"}},1257]
[{"$f":"'Pob x Genero'!#REF!","v":{"$error":"#REF!"}},{"$f":"'Pob x Genero'!#REF!","v":{"$error":"#REF!"}},{"$f":"'Pob x Genero'!#REF!","v":{"$error":"#REF!"}},{"$f":"'Pob x Genero'!#REF!","v":{"$error":"#REF!"}},{"$f":"'Pob x Genero'!#REF!","v":{"$error":"#REF!"}},"Hombre","00-04",{"$f":"'Pob x Genero'!#REF!","v":{"$error":"#REF!"}},1258]
[{"$f":"'Pob x Genero'!#REF!","v":{"$error":"#REF!"}},{"$f":"'Pob x Genero'!#REF!","v":{"$error":"#REF!"}},{"$f":"'Pob x Genero'!#REF!","v":{"$error":"#REF!"}},{"$f":"'Pob x Genero'!#REF!","v":{"$error":"#REF!"}},{"$f":"'Pob x Genero'!#REF!","v":{"$error":"#REF!"}},"Hombre","00-04",{"$f":"'Pob x Genero'!#REF!","v":{"$error":"#REF!"}},1259]
[{"$f":"'Pob x Genero'!#REF!","v":{"$error":"#REF!"}},{"$f":"'Pob x Genero'!#REF!","v":{"$error":"#REF!"}},{"$f":"'Pob x Genero'!#REF!","v":{"$error":"#REF!"}},{"$f":"'Pob x Genero'!#REF!","v":{"$error":"#REF!"}},{"$f":"'Pob x Genero'!#REF!","v":{"$error":"#REF!"}},"Hombre","00-04",{"$f":"'Pob x Genero'!#REF!","v":{"$error":"#REF!"}},1260]
[{"$f":"'Pob x Genero'!#REF!","v":{"$error":"#REF!"}},{"$f":"'Pob x Genero'!#REF!","v":{"$error":"#REF!"}},{"$f":"'Pob x Genero'!#REF!","v":{"$error":"#REF!"}},{"$f":"'Pob x Genero'!#REF!","v":{"$error":"#REF!"}},{"$f":"'Pob x Genero'!#REF!","v":{"$error":"#REF!"}},"Hombre","00-04",{"$f":"'Pob x Genero'!#REF!","v":{"$error":"#REF!"}},1261]
[{"$f":"'Pob x Genero'!#REF!","v":{"$error":"#REF!"}},{"$f":"'Pob x Genero'!#REF!","v":{"$error":"#REF!"}},{"$f":"'Pob x Genero'!#REF!","v":{"$error":"#REF!"}},{"$f":"'Pob x Genero'!#REF!","v":{"$error":"#REF!"}},{"$f":"'Pob x Genero'!#REF!","v":{"$error":"#REF!"}},"Hombre","00-04",{"$f":"'Pob x Genero'!#REF!","v":{"$error":"#REF!"}},1262]
[{"$f":"'Pob x Genero'!#REF!","v":{"$error":"#REF!"}},{"$f":"'Pob x Genero'!#REF!","v":{"$error":"#REF!"}},{"$f":"'Pob x Genero'!#REF!","v":{"$error":"#REF!"}},{"$f":"'Pob x Genero'!#REF!","v":{"$error":"#REF!"}},{"$f":"'Pob x Genero'!#REF!","v":{"$error":"#REF!"}},"Hombre","00-04",{"$f":"'Pob x Genero'!#REF!","v":{"$error":"#REF!"}},1263]
[{"$f":"'Pob x Genero'!#REF!","v":{"$error":"#REF!"}},{"$f":"'Pob x Genero'!#REF!","v":{"$error":"#REF!"}},{"$f":"'Pob x Genero'!#REF!","v":{"$error":"#REF!"}},{"$f":"'Pob x Genero'!#REF!","v":{"$error":"#REF!"}},{"$f":"'Pob x Genero'!#REF!","v":{"$error":"#REF!"}},"Hombre","00-04",{"$f":"'Pob x Genero'!#REF!","v":{"$error":"#REF!"}},1264]
[{"$f":"'Pob x Genero'!#REF!","v":{"$error":"#REF!"}},{"$f":"'Pob x Genero'!#REF!","v":{"$error":"#REF!"}},{"$f":"'Pob x Genero'!#REF!","v":{"$error":"#REF!"}},{"$f":"'Pob x Genero'!#REF!","v":{"$error":"#REF!"}},{"$f":"'Pob x Genero'!#REF!","v":{"$error":"#REF!"}},"Hombre","00-04",{"$f":"'Pob x Genero'!#REF!","v":{"$error":"#REF!"}},1265]
[{"$f":"'Pob x Genero'!#REF!","v":{"$error":"#REF!"}},{"$f":"'Pob x Genero'!#REF!","v":{"$error":"#REF!"}},{"$f":"'Pob x Genero'!#REF!","v":{"$error":"#REF!"}},{"$f":"'Pob x Genero'!#REF!","v":{"$error":"#REF!"}},{"$f":"'Pob x Genero'!#REF!","v":{"$error":"#REF!"}},"Hombre","00-04",{"$f":"'Pob x Genero'!#REF!","v":{"$error":"#REF!"}},1266]
[{"$f":"'Pob x Genero'!#REF!","v":{"$error":"#REF!"}},{"$f":"'Pob x Genero'!#REF!","v":{"$error":"#REF!"}},{"$f":"'Pob x Genero'!#REF!","v":{"$error":"#REF!"}},{"$f":"'Pob x Genero'!#REF!","v":{"$error":"#REF!"}},{"$f":"'Pob x Genero'!#REF!","v":{"$error":"#REF!"}},"Hombre","00-04",{"$f":"'Pob x Genero'!#REF!","v":{"$error":"#REF!"}},1267]
[{"$f":"'Pob x Genero'!#REF!","v":{"$error":"#REF!"}},{"$f":"'Pob x Genero'!#REF!","v":{"$error":"#REF!"}},{"$f":"'Pob x Genero'!#REF!","v":{"$error":"#REF!"}},{"$f":"'Pob x Genero'!#REF!","v":{"$error":"#REF!"}},{"$f":"'Pob x Genero'!#REF!","v":{"$error":"#REF!"}},"Hombre","00-04",{"$f":"'Pob x Genero'!#REF!","v":{"$error":"#REF!"}},1268]
[{"$f":"'Pob x Genero'!#REF!","v":{"$error":"#REF!"}},{"$f":"'Pob x Genero'!#REF!","v":{"$error":"#REF!"}},{"$f":"'Pob x Genero'!#REF!","v":{"$error":"#REF!"}},{"$f":"'Pob x Genero'!#REF!","v":{"$error":"#REF!"}},{"$f":"'Pob x Genero'!#REF!","v":{"$error":"#REF!"}},"Hombre","00-04",{"$f":"'Pob x Genero'!#REF!","v":{"$error":"#REF!"}},1269]
[{"$f":"'Pob x Genero'!#REF!","v":{"$error":"#REF!"}},{"$f":"'Pob x Genero'!#REF!","v":{"$error":"#REF!"}},{"$f":"'Pob x Genero'!#REF!","v":{"$error":"#REF!"}},{"$f":"'Pob x Genero'!#REF!","v":{"$error":"#REF!"}},{"$f":"'Pob x Genero'!#REF!","v":{"$error":"#REF!"}},"Hombre","00-04",{"$f":"'Pob x Genero'!#REF!","v":{"$error":"#REF!"}},1270]
[{"$f":"'Pob x Genero'!#REF!","v":{"$error":"#REF!"}},{"$f":"'Pob x Genero'!#REF!","v":{"$error":"#REF!"}},{"$f":"'Pob x Genero'!#REF!","v":{"$error":"#REF!"}},{"$f":"'Pob x Genero'!#REF!","v":{"$error":"#REF!"}},{"$f":"'Pob x Genero'!#REF!","v":{"$error":"#REF!"}},"Hombre","00-04",{"$f":"'Pob x Genero'!#REF!","v":{"$error":"#REF!"}},1271]
[{"$f":"'Pob x Genero'!#REF!","v":{"$error":"#REF!"}},{"$f":"'Pob x Genero'!#REF!","v":{"$error":"#REF!"}},{"$f":"'Pob x Genero'!#REF!","v":{"$error":"#REF!"}},{"$f":"'Pob x Genero'!#REF!","v":{"$error":"#REF!"}},{"$f":"'Pob x Genero'!#REF!","v":{"$error":"#REF!"}},"Hombre","00-04",{"$f":"'Pob x Genero'!#REF!","v":{"$error":"#REF!"}},1272]
[{"$f":"'Pob x Genero'!#REF!","v":{"$error":"#REF!"}},{"$f":"'Pob x Genero'!#REF!","v":{"$error":"#REF!"}},{"$f":"'Pob x Genero'!#REF!","v":{"$error":"#REF!"}},{"$f":"'Pob x Genero'!#REF!","v":{"$error":"#REF!"}},{"$f":"'Pob x Genero'!#REF!","v":{"$error":"#REF!"}},"Hombre","00-04",{"$f":"'Pob x Genero'!#REF!","v":{"$error":"#REF!"}},1273]
[{"$f":"'Pob x Genero'!#REF!","v":{"$error":"#REF!"}},{"$f":"'Pob x Genero'!#REF!","v":{"$error":"#REF!"}},{"$f":"'Pob x Genero'!#REF!","v":{"$error":"#REF!"}},{"$f":"'Pob x Genero'!#REF!","v":{"$error":"#REF!"}},{"$f":"'Pob x Genero'!#REF!","v":{"$error":"#REF!"}},"Hombre","00-04",{"$f":"'Pob x Genero'!#REF!","v":{"$error":"#REF!"}},1274]
[{"$f":"'Pob x Genero'!#REF!","v":{"$error":"#REF!"}},{"$f":"'Pob x Genero'!#REF!","v":{"$error":"#REF!"}},{"$f":"'Pob x Genero'!#REF!","v":{"$error":"#REF!"}},{"$f":"'Pob x Genero'!#REF!","v":{"$error":"#REF!"}},{"$f":"'Pob x Genero'!#REF!","v":{"$error":"#REF!"}},"Hombre","00-04",{"$f":"'Pob x Genero'!#REF!","v":{"$error":"#REF!"}},1275]
[{"$f":"'Pob x Genero'!#REF!","v":{"$error":"#REF!"}},{"$f":"'Pob x Genero'!#REF!","v":{"$error":"#REF!"}},{"$f":"'Pob x Genero'!#REF!","v":{"$error":"#REF!"}},{"$f":"'Pob x Genero'!#REF!","v":{"$error":"#REF!"}},{"$f":"'Pob x Genero'!#REF!","v":{"$error":"#REF!"}},"Hombre","00-04",{"$f":"'Pob x Genero'!#REF!","v":{"$error":"#REF!"}},1276]
[{"$f":"'Pob x Genero'!#REF!","v":{"$error":"#REF!"}},{"$f":"'Pob x Genero'!#REF!","v":{"$error":"#REF!"}},{"$f":"'Pob x Genero'!#REF!","v":{"$error":"#REF!"}},{"$f":"'Pob x Genero'!#REF!","v":{"$error":"#REF!"}},{"$f":"'Pob x Genero'!#REF!","v":{"$error":"#REF!"}},"Hombre","00-04",{"$f":"'Pob x Genero'!#REF!","v":{"$error":"#REF!"}},1277]
[{"$f":"'Pob x Genero'!#REF!","v":{"$error":"#REF!"}},{"$f":"'Pob x Genero'!#REF!","v":{"$error":"#REF!"}},{"$f":"'Pob x Genero'!#REF!","v":{"$error":"#REF!"}},{"$f":"'Pob x Genero'!#REF!","v":{"$error":"#REF!"}},{"$f":"'Pob x Genero'!#REF!","v":{"$error":"#REF!"}},"Hombre","00-04",{"$f":"'Pob x Genero'!#REF!","v":{"$error":"#REF!"}},1278]
[{"$f":"'Pob x Genero'!#REF!","v":{"$error":"#REF!"}},{"$f":"'Pob x Genero'!#REF!","v":{"$error":"#REF!"}},{"$f":"'Pob x Genero'!#REF!","v":{"$error":"#REF!"}},{"$f":"'Pob x Genero'!#REF!","v":{"$error":"#REF!"}},{"$f":"'Pob x Genero'!#REF!","v":{"$error":"#REF!"}},"Hombre","00-04",{"$f":"'Pob x Genero'!#REF!","v":{"$error":"#REF!"}},1279]
[{"$f":"'Pob x Genero'!#REF!","v":{"$error":"#REF!"}},{"$f":"'Pob x Genero'!#REF!","v":{"$error":"#REF!"}},{"$f":"'Pob x Genero'!#REF!","v":{"$error":"#REF!"}},{"$f":"'Pob x Genero'!#REF!","v":{"$error":"#REF!"}},{"$f":"'Pob x Genero'!#REF!","v":{"$error":"#REF!"}},"Hombre","00-04",{"$f":"'Pob x Genero'!#REF!","v":{"$error":"#REF!"}},1280]
[{"$f":"'Pob x Genero'!#REF!","v":{"$error":"#REF!"}},{"$f":"'Pob x Genero'!#REF!","v":{"$error":"#REF!"}},{"$f":"'Pob x Genero'!#REF!","v":{"$error":"#REF!"}},{"$f":"'Pob x Genero'!#REF!","v":{"$error":"#REF!"}},{"$f":"'Pob x Genero'!#REF!","v":{"$error":"#REF!"}},"Hombre","00-04",{"$f":"'Pob x Genero'!#REF!","v":{"$error":"#REF!"}},1281]
[{"$f":"'Pob x Genero'!#REF!","v":{"$error":"#REF!"}},{"$f":"'Pob x Genero'!#REF!","v":{"$error":"#REF!"}},{"$f":"'Pob x Genero'!#REF!","v":{"$error":"#REF!"}},{"$f":"'Pob x Genero'!#REF!","v":{"$error":"#REF!"}},{"$f":"'Pob x Genero'!#REF!","v":{"$error":"#REF!"}},{"$f":"F1282","v":"Hombre"},{"$f":"G1282","v":"00-04"},{"$f":"'Pob x Genero'!#REF!","v":{"$error":"#REF!"}},1282]
[{"$f":"'Pob x Genero'!#REF!","v":{"$error":"#REF!"}},{"$f":"'Pob x Genero'!#REF!","v":{"$error":"#REF!"}},{"$f":"'Pob x Genero'!#REF!","v":{"$error":"#REF!"}},{"$f":"'Pob x Genero'!#REF!","v":{"$error":"#REF!"}},{"$f":"'Pob x Genero'!#REF!","v":{"$error":"#REF!"}},"Hombre","00-04",{"$f":"'Pob x Genero'!#REF!","v":{"$error":"#REF!"}},1283]
[{"$f":"'Pob x Genero'!#REF!","v":{"$error":"#REF!"}},{"$f":"'Pob x Genero'!#REF!","v":{"$error":"#REF!"}},{"$f":"'Pob x Genero'!#REF!","v":{"$error":"#REF!"}},{"$f":"'Pob x Genero'!#REF!","v":{"$error":"#REF!"}},{"$f":"'Pob x Genero'!#REF!","v":{"$error":"#REF!"}},"Hombre","00-04",{"$f":"'Pob x Genero'!#REF!","v":{"$error":"#REF!"}},1284]
[{"$f":"'Pob x Genero'!#REF!","v":{"$error":"#REF!"}},{"$f":"'Pob x Genero'!#REF!","v":{"$error":"#REF!"}},{"$f":"'Pob x Genero'!#REF!","v":{"$error":"#REF!"}},{"$f":"'Pob x Genero'!#REF!","v":{"$error":"#REF!"}},{"$f":"'Pob x Genero'!#REF!","v":{"$error":"#REF!"}},"Hombre","00-04",{"$f":"'Pob x Genero'!#REF!","v":{"$error":"#REF!"}},1285]
[{"$f":"'Pob x Genero'!#REF!","v":{"$error":"#REF!"}},{"$f":"'Pob x Genero'!#REF!","v":{"$error":"#REF!"}},{"$f":"'Pob x Genero'!#REF!","v":{"$error":"#REF!"}},{"$f":"'Pob x Genero'!#REF!","v":{"$error":"#REF!"}},{"$f":"'Pob x Genero'!#REF!","v":{"$error":"#REF!"}},"Hombre","00-04",{"$f":"'Pob x Genero'!#REF!","v":{"$error":"#REF!"}},1286]
[{"$f":"'Pob x Genero'!#REF!","v":{"$error":"#REF!"}},{"$f":"'Pob x Genero'!#REF!","v":{"$error":"#REF!"}},{"$f":"'Pob x Genero'!#REF!","v":{"$error":"#REF!"}},{"$f":"'Pob x Genero'!#REF!","v":{"$error":"#REF!"}},{"$f":"'Pob x Genero'!#REF!","v":{"$error":"#REF!"}},"Hombre","00-04",{"$f":"'Pob x Genero'!#REF!","v":{"$error":"#REF!"}},1287]
[{"$f":"'Pob x Genero'!#REF!","v":{"$error":"#REF!"}},{"$f":"'Pob x Genero'!#REF!","v":{"$error":"#REF!"}},{"$f":"'Pob x Genero'!#REF!","v":{"$error":"#REF!"}},{"$f":"'Pob x Genero'!#REF!","v":{"$error":"#REF!"}},{"$f":"'Pob x Genero'!#REF!","v":{"$error":"#REF!"}},"Hombre","00-04",{"$f":"'Pob x Genero'!#REF!","v":{"$error":"#REF!"}},1288]
[{"$f":"'Pob x Genero'!#REF!","v":{"$error":"#REF!"}},{"$f":"'Pob x Genero'!#REF!","v":{"$error":"#REF!"}},{"$f":"'Pob x Genero'!#REF!","v":{"$error":"#REF!"}},{"$f":"'Pob x Genero'!#REF!","v":{"$error":"#REF!"}},{"$f":"'Pob x Genero'!#REF!","v":{"$error":"#REF!"}},"Hombre","00-04",{"$f":"'Pob x Genero'!#REF!","v":{"$error":"#REF!"}},1289]
[{"$f":"'Pob x Genero'!#REF!","v":{"$error":"#REF!"}},{"$f":"'Pob x Genero'!#REF!","v":{"$error":"#REF!"}},{"$f":"'Pob x Genero'!#REF!","v":{"$error":"#REF!"}},{"$f":"'Pob x Genero'!#REF!","v":{"$error":"#REF!"}},{"$f":"'Pob x Genero'!#REF!","v":{"$error":"#REF!"}},"Hombre","00-04",{"$f":"'Pob x Genero'!#REF!","v":{"$error":"#REF!"}},1290]
[{"$f":"'Pob x Genero'!#REF!","v":{"$error":"#REF!"}},{"$f":"'Pob x Genero'!#REF!","v":{"$error":"#REF!"}},{"$f":"'Pob x Genero'!#REF!","v":{"$error":"#REF!"}},{"$f":"'Pob x Genero'!#REF!","v":{"$error":"#REF!"}},{"$f":"'Pob x Genero'!#REF!","v":{"$error":"#REF!"}},"Hombre","00-04",{"$f":"'Pob x Genero'!#REF!","v":{"$error":"#REF!"}},1291]
[{"$f":"'Pob x Genero'!#REF!","v":{"$error":"#REF!"}},{"$f":"'Pob x Genero'!#REF!","v":{"$error":"#REF!"}},{"$f":"'Pob x Genero'!#REF!","v":{"$error":"#REF!"}},{"$f":"'Pob x Genero'!#REF!","v":{"$error":"#REF!"}},{"$f":"'Pob x Genero'!#REF!","v":{"$error":"#REF!"}},"Hombre","00-04",{"$f":"'Pob x Genero'!#REF!","v":{"$error":"#REF!"}},1292]
[{"$f":"'Pob x Genero'!#REF!","v":{"$error":"#REF!"}},{"$f":"'Pob x Genero'!#REF!","v":{"$error":"#REF!"}},{"$f":"'Pob x Genero'!#REF!","v":{"$error":"#REF!"}},{"$f":"'Pob x Genero'!#REF!","v":{"$error":"#REF!"}},{"$f":"'Pob x Genero'!#REF!","v":{"$error":"#REF!"}},"Hombre","00-04",{"$f":"'Pob x Genero'!#REF!","v":{"$error":"#REF!"}},1293]
[{"$f":"'Pob x Genero'!#REF!","v":{"$error":"#REF!"}},{"$f":"'Pob x Genero'!#REF!","v":{"$error":"#REF!"}},{"$f":"'Pob x Genero'!#REF!","v":{"$error":"#REF!"}},{"$f":"'Pob x Genero'!#REF!","v":{"$error":"#REF!"}},{"$f":"'Pob x Genero'!#REF!","v":{"$error":"#REF!"}},"Hombre","00-04",{"$f":"'Pob x Genero'!#REF!","v":{"$error":"#REF!"}},1294]
[{"$f":"'Pob x Genero'!#REF!","v":{"$error":"#REF!"}},{"$f":"'Pob x Genero'!#REF!","v":{"$error":"#REF!"}},{"$f":"'Pob x Genero'!#REF!","v":{"$error":"#REF!"}},{"$f":"'Pob x Genero'!#REF!","v":{"$error":"#REF!"}},{"$f":"'Pob x Genero'!#REF!","v":{"$error":"#REF!"}},"Hombre","00-04",{"$f":"'Pob x Genero'!#REF!","v":{"$error":"#REF!"}},1295]
[{"$f":"'Pob x Genero'!#REF!","v":{"$error":"#REF!"}},{"$f":"'Pob x Genero'!#REF!","v":{"$error":"#REF!"}},{"$f":"'Pob x Genero'!#REF!","v":{"$error":"#REF!"}},{"$f":"'Pob x Genero'!#REF!","v":{"$error":"#REF!"}},{"$f":"'Pob x Genero'!#REF!","v":{"$error":"#REF!"}},"Hombre","00-04",{"$f":"'Pob x Genero'!#REF!","v":{"$error":"#REF!"}},1296]
[{"$f":"'Pob x Genero'!#REF!","v":{"$error":"#REF!"}},{"$f":"'Pob x Genero'!#REF!","v":{"$error":"#REF!"}},{"$f":"'Pob x Genero'!#REF!","v":{"$error":"#REF!"}},{"$f":"'Pob x Genero'!#REF!","v":{"$error":"#REF!"}},{"$f":"'Pob x Genero'!#REF!","v":{"$error":"#REF!"}},"Hombre","00-04",{"$f":"'Pob x Genero'!#REF!","v":{"$error":"#REF!"}},1297]
[{"$f":"'Pob x Genero'!#REF!","v":{"$error":"#REF!"}},{"$f":"'Pob x Genero'!#REF!","v":{"$error":"#REF!"}},{"$f":"'Pob x Genero'!#REF!","v":{"$error":"#REF!"}},{"$f":"'Pob x Genero'!#REF!","v":{"$error":"#REF!"}},{"$f":"'Pob x Genero'!#REF!","v":{"$error":"#REF!"}},"Hombre","00-04",{"$f":"'Pob x Genero'!#REF!","v":{"$error":"#REF!"}},1298]
[{"$f":"'Pob x Genero'!#REF!","v":{"$error":"#REF!"}},{"$f":"'Pob x Genero'!#REF!","v":{"$error":"#REF!"}},{"$f":"'Pob x Genero'!#REF!","v":{"$error":"#REF!"}},{"$f":"'Pob x Genero'!#REF!","v":{"$error":"#REF!"}},{"$f":"'Pob x Genero'!#REF!","v":{"$error":"#REF!"}},"Hombre","00-04",{"$f":"'Pob x Genero'!#REF!","v":{"$error":"#REF!"}},1299]
[{"$f":"'Pob x Genero'!#REF!","v":{"$error":"#REF!"}},{"$f":"'Pob x Genero'!#REF!","v":{"$error":"#REF!"}},{"$f":"'Pob x Genero'!#REF!","v":{"$error":"#REF!"}},{"$f":"'Pob x Genero'!#REF!","v":{"$error":"#REF!"}},{"$f":"'Pob x Genero'!#REF!","v":{"$error":"#REF!"}},"Hombre","00-04",{"$f":"'Pob x Genero'!#REF!","v":{"$error":"#REF!"}},1300]
[{"$f":"'Pob x Genero'!#REF!","v":{"$error":"#REF!"}},{"$f":"'Pob x Genero'!#REF!","v":{"$error":"#REF!"}},{"$f":"'Pob x Genero'!#REF!","v":{"$error":"#REF!"}},{"$f":"'Pob x Genero'!#REF!","v":{"$error":"#REF!"}},{"$f":"'Pob x Genero'!#REF!","v":{"$error":"#REF!"}},"Hombre","00-04",{"$f":"'Pob x Genero'!#REF!","v":{"$error":"#REF!"}},1301]
[{"$f":"'Pob x Genero'!#REF!","v":{"$error":"#REF!"}},{"$f":"'Pob x Genero'!#REF!","v":{"$error":"#REF!"}},{"$f":"'Pob x Genero'!#REF!","v":{"$error":"#REF!"}},{"$f":"'Pob x Genero'!#REF!","v":{"$error":"#REF!"}},{"$f":"'Pob x Genero'!#REF!","v":{"$error":"#REF!"}},"Hombre","00-04",{"$f":"'Pob x Genero'!#REF!","v":{"$error":"#REF!"}},1302]
[{"$f":"'Pob x Genero'!#REF!","v":{"$error":"#REF!"}},{"$f":"'Pob x Genero'!#REF!","v":{"$error":"#REF!"}},{"$f":"'Pob x Genero'!#REF!","v":{"$error":"#REF!"}},{"$f":"'Pob x Genero'!#REF!","v":{"$error":"#REF!"}},{"$f":"'Pob x Genero'!#REF!","v":{"$error":"#REF!"}},"Hombre","00-04",{"$f":"'Pob x Genero'!#REF!","v":{"$error":"#REF!"}},1303]
[{"$f":"'Pob x Genero'!#REF!","v":{"$error":"#REF!"}},{"$f":"'Pob x Genero'!#REF!","v":{"$error":"#REF!"}},{"$f":"'Pob x Genero'!#REF!","v":{"$error":"#REF!"}},{"$f":"'Pob x Genero'!#REF!","v":{"$error":"#REF!"}},{"$f":"'Pob x Genero'!#REF!","v":{"$error":"#REF!"}},"Hombre","00-04",{"$f":"'Pob x Genero'!#REF!","v":{"$error":"#REF!"}},1304]
[{"$f":"'Pob x Genero'!#REF!","v":{"$error":"#REF!"}},{"$f":"'Pob x Genero'!#REF!","v":{"$error":"#REF!"}},{"$f":"'Pob x Genero'!#REF!","v":{"$error":"#REF!"}},{"$f":"'Pob x Genero'!#REF!","v":{"$error":"#REF!"}},{"$f":"'Pob x Genero'!#REF!","v":{"$error":"#REF!"}},"Hombre","00-04",{"$f":"'Pob x Genero'!#REF!","v":{"$error":"#REF!"}},1305]
[{"$f":"'Pob x Genero'!#REF!","v":{"$error":"#REF!"}},{"$f":"'Pob x Genero'!#REF!","v":{"$error":"#REF!"}},{"$f":"'Pob x Genero'!#REF!","v":{"$error":"#REF!"}},{"$f":"'Pob x Genero'!#REF!","v":{"$error":"#REF!"}},{"$f":"'Pob x Genero'!#REF!","v":{"$error":"#REF!"}},"Hombre","00-04",{"$f":"'Pob x Genero'!#REF!","v":{"$error":"#REF!"}},1306]
[{"$f":"'Pob x Genero'!#REF!","v":{"$error":"#REF!"}},{"$f":"'Pob x Genero'!#REF!","v":{"$error":"#REF!"}},{"$f":"'Pob x Genero'!#REF!","v":{"$error":"#REF!"}},{"$f":"'Pob x Genero'!#REF!","v":{"$error":"#REF!"}},{"$f":"'Pob x Genero'!#REF!","v":{"$error":"#REF!"}},"Hombre","00-04",{"$f":"'Pob x Genero'!#REF!","v":{"$error":"#REF!"}},1307]
[{"$f":"'Pob x Genero'!#REF!","v":{"$error":"#REF!"}},{"$f":"'Pob x Genero'!#REF!","v":{"$error":"#REF!"}},{"$f":"'Pob x Genero'!#REF!","v":{"$error":"#REF!"}},{"$f":"'Pob x Genero'!#REF!","v":{"$error":"#REF!"}},{"$f":"'Pob x Genero'!#REF!","v":{"$error":"#REF!"}},"Hombre","00-04",{"$f":"'Pob x Genero'!#REF!","v":{"$error":"#REF!"}},1308]
[{"$f":"'Pob x Genero'!#REF!","v":{"$error":"#REF!"}},{"$f":"'Pob x Genero'!#REF!","v":{"$error":"#REF!"}},{"$f":"'Pob x Genero'!#REF!","v":{"$error":"#REF!"}},{"$f":"'Pob x Genero'!#REF!","v":{"$error":"#REF!"}},{"$f":"'Pob x Genero'!#REF!","v":{"$error":"#REF!"}},"Hombre","00-04",{"$f":"'Pob x Genero'!#REF!","v":{"$error":"#REF!"}},1309]
[{"$f":"'Pob x Genero'!#REF!","v":{"$error":"#REF!"}},{"$f":"'Pob x Genero'!#REF!","v":{"$error":"#REF!"}},{"$f":"'Pob x Genero'!#REF!","v":{"$error":"#REF!"}},{"$f":"'Pob x Genero'!#REF!","v":{"$error":"#REF!"}},{"$f":"'Pob x Genero'!#REF!","v":{"$error":"#REF!"}},"Hombre","00-04",{"$f":"'Pob x Genero'!#REF!","v":{"$error":"#REF!"}},1310]
[{"$f":"'Pob x Genero'!#REF!","v":{"$error":"#REF!"}},{"$f":"'Pob x Genero'!#REF!","v":{"$error":"#REF!"}},{"$f":"'Pob x Genero'!#REF!","v":{"$error":"#REF!"}},{"$f":"'Pob x Genero'!#REF!","v":{"$error":"#REF!"}},{"$f":"'Pob x Genero'!#REF!","v":{"$error":"#REF!"}},"Hombre","00-04",{"$f":"'Pob x Genero'!#REF!","v":{"$error":"#REF!"}},1311]
[{"$f":"'Pob x Genero'!#REF!","v":{"$error":"#REF!"}},{"$f":"'Pob x Genero'!#REF!","v":{"$error":"#REF!"}},{"$f":"'Pob x Genero'!#REF!","v":{"$error":"#REF!"}},{"$f":"'Pob x Genero'!#REF!","v":{"$error":"#REF!"}},{"$f":"'Pob x Genero'!#REF!","v":{"$error":"#REF!"}},"Hombre","00-04",{"$f":"'Pob x Genero'!#REF!","v":{"$error":"#REF!"}},1312]
[{"$f":"'Pob x Genero'!#REF!","v":{"$error":"#REF!"}},{"$f":"'Pob x Genero'!#REF!","v":{"$error":"#REF!"}},{"$f":"'Pob x Genero'!#REF!","v":{"$error":"#REF!"}},{"$f":"'Pob x Genero'!#REF!","v":{"$error":"#REF!"}},{"$f":"'Pob x Genero'!#REF!","v":{"$error":"#REF!"}},"Hombre","00-04",{"$f":"'Pob x Genero'!#REF!","v":{"$error":"#REF!"}},1313]
[{"$f":"'Pob x Genero'!#REF!","v":{"$error":"#REF!"}},{"$f":"'Pob x Genero'!#REF!","v":{"$error":"#REF!"}},{"$f":"'Pob x Genero'!#REF!","v":{"$error":"#REF!"}},{"$f":"'Pob x Genero'!#REF!","v":{"$error":"#REF!"}},{"$f":"'Pob x Genero'!#REF!","v":{"$error":"#REF!"}},"Hombre","00-04",{"$f":"'Pob x Genero'!#REF!","v":{"$error":"#REF!"}},1314]
[{"$f":"'Pob x Genero'!#REF!","v":{"$error":"#REF!"}},{"$f":"'Pob x Genero'!#REF!","v":{"$error":"#REF!"}},{"$f":"'Pob x Genero'!#REF!","v":{"$error":"#REF!"}},{"$f":"'Pob x Genero'!#REF!","v":{"$error":"#REF!"}},{"$f":"'Pob x Genero'!#REF!","v":{"$error":"#REF!"}},"Hombre","00-04",{"$f":"'Pob x Genero'!#REF!","v":{"$error":"#REF!"}},1315]
[{"$f":"'Pob x Genero'!#REF!","v":{"$error":"#REF!"}},{"$f":"'Pob x Genero'!#REF!","v":{"$error":"#REF!"}},{"$f":"'Pob x Genero'!#REF!","v":{"$error":"#REF!"}},{"$f":"'Pob x Genero'!#REF!","v":{"$error":"#REF!"}},{"$f":"'Pob x Genero'!#REF!","v":{"$error":"#REF!"}},"Hombre","00-04",{"$f":"'Pob x Genero'!#REF!","v":{"$error":"#REF!"}},1316]
[{"$f":"'Pob x Genero'!#REF!","v":{"$error":"#REF!"}},{"$f":"'Pob x Genero'!#REF!","v":{"$error":"#REF!"}},{"$f":"'Pob x Genero'!#REF!","v":{"$error":"#REF!"}},{"$f":"'Pob x Genero'!#REF!","v":{"$error":"#REF!"}},{"$f":"'Pob x Genero'!#REF!","v":{"$error":"#REF!"}},"Hombre","00-04",{"$f":"'Pob x Genero'!#REF!","v":{"$error":"#REF!"}},1317]
[{"$f":"'Pob x Genero'!#REF!","v":{"$error":"#REF!"}},{"$f":"'Pob x Genero'!#REF!","v":{"$error":"#REF!"}},{"$f":"'Pob x Genero'!#REF!","v":{"$error":"#REF!"}},{"$f":"'Pob x Genero'!#REF!","v":{"$error":"#REF!"}},{"$f":"'Pob x Genero'!#REF!","v":{"$error":"#REF!"}},"Hombre","00-04",{"$f":"'Pob x Genero'!#REF!","v":{"$error":"#REF!"}},1318]
[{"$f":"'Pob x Genero'!#REF!","v":{"$error":"#REF!"}},{"$f":"'Pob x Genero'!#REF!","v":{"$error":"#REF!"}},{"$f":"'Pob x Genero'!#REF!","v":{"$error":"#REF!"}},{"$f":"'Pob x Genero'!#REF!","v":{"$error":"#REF!"}},{"$f":"'Pob x Genero'!#REF!","v":{"$error":"#REF!"}},"Hombre","00-04",{"$f":"'Pob x Genero'!#REF!","v":{"$error":"#REF!"}},1319]
[{"$f":"'Pob x Genero'!#REF!","v":{"$error":"#REF!"}},{"$f":"'Pob x Genero'!#REF!","v":{"$error":"#REF!"}},{"$f":"'Pob x Genero'!#REF!","v":{"$error":"#REF!"}},{"$f":"'Pob x Genero'!#REF!","v":{"$error":"#REF!"}},{"$f":"'Pob x Genero'!#REF!","v":{"$error":"#REF!"}},"Hombre","00-04",{"$f":"'Pob x Genero'!#REF!","v":{"$error":"#REF!"}},1320]
[{"$f":"'Pob x Genero'!#REF!","v":{"$error":"#REF!"}},{"$f":"'Pob x Genero'!#REF!","v":{"$error":"#REF!"}},{"$f":"'Pob x Genero'!#REF!","v":{"$error":"#REF!"}},{"$f":"'Pob x Genero'!#REF!","v":{"$error":"#REF!"}},{"$f":"'Pob x Genero'!#REF!","v":{"$error":"#REF!"}},"Hombre","00-04",{"$f":"'Pob x Genero'!#REF!","v":{"$error":"#REF!"}},1321]
[{"$f":"'Pob x Genero'!#REF!","v":{"$error":"#REF!"}},{"$f":"'Pob x Genero'!#REF!","v":{"$error":"#REF!"}},{"$f":"'Pob x Genero'!#REF!","v":{"$error":"#REF!"}},{"$f":"'Pob x Genero'!#REF!","v":{"$error":"#REF!"}},{"$f":"'Pob x Genero'!#REF!","v":{"$error":"#REF!"}},"Hombre","00-04",{"$f":"'Pob x Genero'!#REF!","v":{"$error":"#REF!"}},1322]
[{"$f":"'Pob x Genero'!#REF!","v":{"$error":"#REF!"}},{"$f":"'Pob x Genero'!#REF!","v":{"$error":"#REF!"}},{"$f":"'Pob x Genero'!#REF!","v":{"$error":"#REF!"}},{"$f":"'Pob x Genero'!#REF!","v":{"$error":"#REF!"}},{"$f":"'Pob x Genero'!#REF!","v":{"$error":"#REF!"}},"Hombre","00-04",{"$f":"'Pob x Genero'!#REF!","v":{"$error":"#REF!"}},1323]
[{"$f":"'Pob x Genero'!#REF!","v":{"$error":"#REF!"}},{"$f":"'Pob x Genero'!#REF!","v":{"$error":"#REF!"}},{"$f":"'Pob x Genero'!#REF!","v":{"$error":"#REF!"}},{"$f":"'Pob x Genero'!#REF!","v":{"$error":"#REF!"}},{"$f":"'Pob x Genero'!#REF!","v":{"$error":"#REF!"}},"Hombre","00-04",{"$f":"'Pob x Genero'!#REF!","v":{"$error":"#REF!"}},1324]
[{"$f":"'Pob x Genero'!#REF!","v":{"$error":"#REF!"}},{"$f":"'Pob x Genero'!#REF!","v":{"$error":"#REF!"}},{"$f":"'Pob x Genero'!#REF!","v":{"$error":"#REF!"}},{"$f":"'Pob x Genero'!#REF!","v":{"$error":"#REF!"}},{"$f":"'Pob x Genero'!#REF!","v":{"$error":"#REF!"}},"Hombre","00-04",{"$f":"'Pob x Genero'!#REF!","v":{"$error":"#REF!"}},1325]
[{"$f":"'Pob x Genero'!#REF!","v":{"$error":"#REF!"}},{"$f":"'Pob x Genero'!#REF!","v":{"$error":"#REF!"}},{"$f":"'Pob x Genero'!#REF!","v":{"$error":"#REF!"}},{"$f":"'Pob x Genero'!#REF!","v":{"$error":"#REF!"}},{"$f":"'Pob x Genero'!#REF!","v":{"$error":"#REF!"}},"Hombre","00-04",{"$f":"'Pob x Genero'!#REF!","v":{"$error":"#REF!"}},1326]
[{"$f":"'Pob x Genero'!#REF!","v":{"$error":"#REF!"}},{"$f":"'Pob x Genero'!#REF!","v":{"$error":"#REF!"}},{"$f":"'Pob x Genero'!#REF!","v":{"$error":"#REF!"}},{"$f":"'Pob x Genero'!#REF!","v":{"$error":"#REF!"}},{"$f":"'Pob x Genero'!#REF!","v":{"$error":"#REF!"}},"Hombre","00-04",{"$f":"'Pob x Genero'!#REF!","v":{"$error":"#REF!"}},1327]
[{"$f":"'Pob x Genero'!#REF!","v":{"$error":"#REF!"}},{"$f":"'Pob x Genero'!#REF!","v":{"$error":"#REF!"}},{"$f":"'Pob x Genero'!#REF!","v":{"$error":"#REF!"}},{"$f":"'Pob x Genero'!#REF!","v":{"$error":"#REF!"}},{"$f":"'Pob x Genero'!#REF!","v":{"$error":"#REF!"}},"Hombre","00-04",{"$f":"'Pob x Genero'!#REF!","v":{"$error":"#REF!"}},1328]
[{"$f":"'Pob x Genero'!#REF!","v":{"$error":"#REF!"}},{"$f":"'Pob x Genero'!#REF!","v":{"$error":"#REF!"}},{"$f":"'Pob x Genero'!#REF!","v":{"$error":"#REF!"}},{"$f":"'Pob x Genero'!#REF!","v":{"$error":"#REF!"}},{"$f":"'Pob x Genero'!#REF!","v":{"$error":"#REF!"}},"Hombre","00-04",{"$f":"'Pob x Genero'!#REF!","v":{"$error":"#REF!"}},1329]
[{"$f":"'Pob x Genero'!#REF!","v":{"$error":"#REF!"}},{"$f":"'Pob x Genero'!#REF!","v":{"$error":"#REF!"}},{"$f":"'Pob x Genero'!#REF!","v":{"$error":"#REF!"}},{"$f":"'Pob x Genero'!#REF!","v":{"$error":"#REF!"}},{"$f":"'Pob x Genero'!#REF!","v":{"$error":"#REF!"}},"Hombre","00-04",{"$f":"'Pob x Genero'!#REF!","v":{"$error":"#REF!"}},1330]
[{"$f":"'Pob x Genero'!#REF!","v":{"$error":"#REF!"}},{"$f":"'Pob x Genero'!#REF!","v":{"$error":"#REF!"}},{"$f":"'Pob x Genero'!#REF!","v":{"$error":"#REF!"}},{"$f":"'Pob x Genero'!#REF!","v":{"$error":"#REF!"}},{"$f":"'Pob x Genero'!#REF!","v":{"$error":"#REF!"}},"Hombre","00-04",{"$f":"'Pob x Genero'!#REF!","v":{"$error":"#REF!"}},1331]
[{"$f":"'Pob x Genero'!#REF!","v":{"$error":"#REF!"}},{"$f":"'Pob x Genero'!#REF!","v":{"$error":"#REF!"}},{"$f":"'Pob x Genero'!#REF!","v":{"$error":"#REF!"}},{"$f":"'Pob x Genero'!#REF!","v":{"$error":"#REF!"}},{"$f":"'Pob x Genero'!#REF!","v":{"$error":"#REF!"}},"Hombre","00-04",{"$f":"'Pob x Genero'!#REF!","v":{"$error":"#REF!"}},1332]
[{"$f":"'Pob x Genero'!#REF!","v":{"$error":"#REF!"}},{"$f":"'Pob x Genero'!#REF!","v":{"$error":"#REF!"}},{"$f":"'Pob x Genero'!#REF!","v":{"$error":"#REF!"}},{"$f":"'Pob x Genero'!#REF!","v":{"$error":"#REF!"}},{"$f":"'Pob x Genero'!#REF!","v":{"$error":"#REF!"}},"Hombre","00-04",{"$f":"'Pob x Genero'!#REF!","v":{"$error":"#REF!"}},1333]
[{"$f":"'Pob x Genero'!#REF!","v":{"$error":"#REF!"}},{"$f":"'Pob x Genero'!#REF!","v":{"$error":"#REF!"}},{"$f":"'Pob x Genero'!#REF!","v":{"$error":"#REF!"}},{"$f":"'Pob x Genero'!#REF!","v":{"$error":"#REF!"}},{"$f":"'Pob x Genero'!#REF!","v":{"$error":"#REF!"}},"Hombre","00-04",{"$f":"'Pob x Genero'!#REF!","v":{"$error":"#REF!"}},1334]
[{"$f":"'Pob x Genero'!#REF!","v":{"$error":"#REF!"}},{"$f":"'Pob x Genero'!#REF!","v":{"$error":"#REF!"}},{"$f":"'Pob x Genero'!#REF!","v":{"$error":"#REF!"}},{"$f":"'Pob x Genero'!#REF!","v":{"$error":"#REF!"}},{"$f":"'Pob x Genero'!#REF!","v":{"$error":"#REF!"}},"Hombre","00-04",{"$f":"'Pob x Genero'!#REF!","v":{"$error":"#REF!"}},1335]
[{"$f":"'Pob x Genero'!#REF!","v":{"$error":"#REF!"}},{"$f":"'Pob x Genero'!#REF!","v":{"$error":"#REF!"}},{"$f":"'Pob x Genero'!#REF!","v":{"$error":"#REF!"}},{"$f":"'Pob x Genero'!#REF!","v":{"$error":"#REF!"}},{"$f":"'Pob x Genero'!#REF!","v":{"$error":"#REF!"}},"Hombre","00-04",{"$f":"'Pob x Genero'!#REF!","v":{"$error":"#REF!"}},1336]
[{"$f":"'Pob x Genero'!#REF!","v":{"$error":"#REF!"}},{"$f":"'Pob x Genero'!#REF!","v":{"$error":"#REF!"}},{"$f":"'Pob x Genero'!#REF!","v":{"$error":"#REF!"}},{"$f":"'Pob x Genero'!#REF!","v":{"$error":"#REF!"}},{"$f":"'Pob x Genero'!#REF!","v":{"$error":"#REF!"}},"Hombre","00-04",{"$f":"'Pob x Genero'!#REF!","v":{"$error":"#REF!"}},1337]
[{"$f":"'Pob x Genero'!#REF!","v":{"$error":"#REF!"}},{"$f":"'Pob x Genero'!#REF!","v":{"$error":"#REF!"}},{"$f":"'Pob x Genero'!#REF!","v":{"$error":"#REF!"}},{"$f":"'Pob x Genero'!#REF!","v":{"$error":"#REF!"}},{"$f":"'Pob x Genero'!#REF!","v":{"$error":"#REF!"}},"Hombre","00-04",{"$f":"'Pob x Genero'!#REF!","v":{"$error":"#REF!"}},1338]
[{"$f":"'Pob x Genero'!#REF!","v":{"$error":"#REF!"}},{"$f":"'Pob x Genero'!#REF!","v":{"$error":"#REF!"}},{"$f":"'Pob x Genero'!#REF!","v":{"$error":"#REF!"}},{"$f":"'Pob x Genero'!#REF!","v":{"$error":"#REF!"}},{"$f":"'Pob x Genero'!#REF!","v":{"$error":"#REF!"}},"Hombre","00-04",{"$f":"'Pob x Genero'!#REF!","v":{"$error":"#REF!"}},1339]
[{"$f":"'Pob x Genero'!#REF!","v":{"$error":"#REF!"}},{"$f":"'Pob x Genero'!#REF!","v":{"$error":"#REF!"}},{"$f":"'Pob x Genero'!#REF!","v":{"$error":"#REF!"}},{"$f":"'Pob x Genero'!#REF!","v":{"$error":"#REF!"}},{"$f":"'Pob x Genero'!#REF!","v":{"$error":"#REF!"}},"Hombre","00-04",{"$f":"'Pob x Genero'!#REF!","v":{"$error":"#REF!"}},1340]
[{"$f":"'Pob x Genero'!#REF!","v":{"$error":"#REF!"}},{"$f":"'Pob x Genero'!#REF!","v":{"$error":"#REF!"}},{"$f":"'Pob x Genero'!#REF!","v":{"$error":"#REF!"}},{"$f":"'Pob x Genero'!#REF!","v":{"$error":"#REF!"}},{"$f":"'Pob x Genero'!#REF!","v":{"$error":"#REF!"}},"Hombre","00-04",{"$f":"'Pob x Genero'!#REF!","v":{"$error":"#REF!"}},1341]
[{"$f":"'Pob x Genero'!#REF!","v":{"$error":"#REF!"}},{"$f":"'Pob x Genero'!#REF!","v":{"$error":"#REF!"}},{"$f":"'Pob x Genero'!#REF!","v":{"$error":"#REF!"}},{"$f":"'Pob x Genero'!#REF!","v":{"$error":"#REF!"}},{"$f":"'Pob x Genero'!#REF!","v":{"$error":"#REF!"}},"Hombre","00-04",{"$f":"'Pob x Genero'!#REF!","v":{"$error":"#REF!"}},1342]
[{"$f":"'Pob x Genero'!#REF!","v":{"$error":"#REF!"}},{"$f":"'Pob x Genero'!#REF!","v":{"$error":"#REF!"}},{"$f":"'Pob x Genero'!#REF!","v":{"$error":"#REF!"}},{"$f":"'Pob x Genero'!#REF!","v":{"$error":"#REF!"}},{"$f":"'Pob x Genero'!#REF!","v":{"$error":"#REF!"}},"Hombre","00-04",{"$f":"'Pob x Genero'!#REF!","v":{"$error":"#REF!"}},1343]
[{"$f":"'Pob x Genero'!#REF!","v":{"$error":"#REF!"}},{"$f":"'Pob x Genero'!#REF!","v":{"$error":"#REF!"}},{"$f":"'Pob x Genero'!#REF!","v":{"$error":"#REF!"}},{"$f":"'Pob x Genero'!#REF!","v":{"$error":"#REF!"}},{"$f":"'Pob x Genero'!#REF!","v":{"$error":"#REF!"}},"Hombre","00-04",{"$f":"'Pob x Genero'!#REF!","v":{"$error":"#REF!"}},1344]
[{"$f":"'Pob x Genero'!#REF!","v":{"$error":"#REF!"}},{"$f":"'Pob x Genero'!#REF!","v":{"$error":"#REF!"}},{"$f":"'Pob x Genero'!#REF!","v":{"$error":"#REF!"}},{"$f":"'Pob x Genero'!#REF!","v":{"$error":"#REF!"}},{"$f":"'Pob x Genero'!#REF!","v":{"$error":"#REF!"}},"Hombre","00-04",{"$f":"'Pob x Genero'!#REF!","v":{"$error":"#REF!"}},1345]
[{"$f":"'Pob x Genero'!#REF!","v":{"$error":"#REF!"}},{"$f":"'Pob x Genero'!#REF!","v":{"$error":"#REF!"}},{"$f":"'Pob x Genero'!#REF!","v":{"$error":"#REF!"}},{"$f":"'Pob x Genero'!#REF!","v":{"$error":"#REF!"}},{"$f":"'Pob x Genero'!#REF!","v":{"$error":"#REF!"}},{"$f":"F1346","v":"Hombre"},{"$f":"G1346","v":"00-04"},{"$f":"'Pob x Genero'!#REF!","v":{"$error":"#REF!"}},1346]
[{"$f":"'Pob x Genero'!#REF!","v":{"$error":"#REF!"}},{"$f":"'Pob x Genero'!#REF!","v":{"$error":"#REF!"}},{"$f":"'Pob x Genero'!#REF!","v":{"$error":"#REF!"}},{"$f":"'Pob x Genero'!#REF!","v":{"$error":"#REF!"}},{"$f":"'Pob x Genero'!#REF!","v":{"$error":"#REF!"}},"Hombre","00-04",{"$f":"'Pob x Genero'!#REF!","v":{"$error":"#REF!"}},1347]
[{"$f":"'Pob x Genero'!#REF!","v":{"$error":"#REF!"}},{"$f":"'Pob x Genero'!#REF!","v":{"$error":"#REF!"}},{"$f":"'Pob x Genero'!#REF!","v":{"$error":"#REF!"}},{"$f":"'Pob x Genero'!#REF!","v":{"$error":"#REF!"}},{"$f":"'Pob x Genero'!#REF!","v":{"$error":"#REF!"}},"Hombre","00-04",{"$f":"'Pob x Genero'!#REF!","v":{"$error":"#REF!"}},1348]
[{"$f":"'Pob x Genero'!#REF!","v":{"$error":"#REF!"}},{"$f":"'Pob x Genero'!#REF!","v":{"$error":"#REF!"}},{"$f":"'Pob x Genero'!#REF!","v":{"$error":"#REF!"}},{"$f":"'Pob x Genero'!#REF!","v":{"$error":"#REF!"}},{"$f":"'Pob x Genero'!#REF!","v":{"$error":"#REF!"}},"Hombre","00-04",{"$f":"'Pob x Genero'!#REF!","v":{"$error":"#REF!"}},1349]
[{"$f":"'Pob x Genero'!#REF!","v":{"$error":"#REF!"}},{"$f":"'Pob x Genero'!#REF!","v":{"$error":"#REF!"}},{"$f":"'Pob x Genero'!#REF!","v":{"$error":"#REF!"}},{"$f":"'Pob x Genero'!#REF!","v":{"$error":"#REF!"}},{"$f":"'Pob x Genero'!#REF!","v":{"$error":"#REF!"}},"Hombre","00-04",{"$f":"'Pob x Genero'!#REF!","v":{"$error":"#REF!"}},1350]
[{"$f":"'Pob x Genero'!#REF!","v":{"$error":"#REF!"}},{"$f":"'Pob x Genero'!#REF!","v":{"$error":"#REF!"}},{"$f":"'Pob x Genero'!#REF!","v":{"$error":"#REF!"}},{"$f":"'Pob x Genero'!#REF!","v":{"$error":"#REF!"}},{"$f":"'Pob x Genero'!#REF!","v":{"$error":"#REF!"}},"Hombre","00-04",{"$f":"'Pob x Genero'!#REF!","v":{"$error":"#REF!"}},1351]
[{"$f":"'Pob x Genero'!#REF!","v":{"$error":"#REF!"}},{"$f":"'Pob x Genero'!#REF!","v":{"$error":"#REF!"}},{"$f":"'Pob x Genero'!#REF!","v":{"$error":"#REF!"}},{"$f":"'Pob x Genero'!#REF!","v":{"$error":"#REF!"}},{"$f":"'Pob x Genero'!#REF!","v":{"$error":"#REF!"}},"Hombre","00-04",{"$f":"'Pob x Genero'!#REF!","v":{"$error":"#REF!"}},1352]
[{"$f":"'Pob x Genero'!#REF!","v":{"$error":"#REF!"}},{"$f":"'Pob x Genero'!#REF!","v":{"$error":"#REF!"}},{"$f":"'Pob x Genero'!#REF!","v":{"$error":"#REF!"}},{"$f":"'Pob x Genero'!#REF!","v":{"$error":"#REF!"}},{"$f":"'Pob x Genero'!#REF!","v":{"$error":"#REF!"}},"Hombre","00-04",{"$f":"'Pob x Genero'!#REF!","v":{"$error":"#REF!"}},1353]
[{"$f":"'Pob x Genero'!#REF!","v":{"$error":"#REF!"}},{"$f":"'Pob x Genero'!#REF!","v":{"$error":"#REF!"}},{"$f":"'Pob x Genero'!#REF!","v":{"$error":"#REF!"}},{"$f":"'Pob x Genero'!#REF!","v":{"$error":"#REF!"}},{"$f":"'Pob x Genero'!#REF!","v":{"$error":"#REF!"}},"Hombre","00-04",{"$f":"'Pob x Genero'!#REF!","v":{"$error":"#REF!"}},1354]
[{"$f":"'Pob x Genero'!#REF!","v":{"$error":"#REF!"}},{"$f":"'Pob x Genero'!#REF!","v":{"$error":"#REF!"}},{"$f":"'Pob x Genero'!#REF!","v":{"$error":"#REF!"}},{"$f":"'Pob x Genero'!#REF!","v":{"$error":"#REF!"}},{"$f":"'Pob x Genero'!#REF!","v":{"$error":"#REF!"}},"Hombre","00-04",{"$f":"'Pob x Genero'!#REF!","v":{"$error":"#REF!"}},1355]
[{"$f":"'Pob x Genero'!#REF!","v":{"$error":"#REF!"}},{"$f":"'Pob x Genero'!#REF!","v":{"$error":"#REF!"}},{"$f":"'Pob x Genero'!#REF!","v":{"$error":"#REF!"}},{"$f":"'Pob x Genero'!#REF!","v":{"$error":"#REF!"}},{"$f":"'Pob x Genero'!#REF!","v":{"$error":"#REF!"}},"Hombre","00-04",{"$f":"'Pob x Genero'!#REF!","v":{"$error":"#REF!"}},1356]
[{"$f":"'Pob x Genero'!#REF!","v":{"$error":"#REF!"}},{"$f":"'Pob x Genero'!#REF!","v":{"$error":"#REF!"}},{"$f":"'Pob x Genero'!#REF!","v":{"$error":"#REF!"}},{"$f":"'Pob x Genero'!#REF!","v":{"$error":"#REF!"}},{"$f":"'Pob x Genero'!#REF!","v":{"$error":"#REF!"}},"Hombre","00-04",{"$f":"'Pob x Genero'!#REF!","v":{"$error":"#REF!"}},1357]
[{"$f":"'Pob x Genero'!#REF!","v":{"$error":"#REF!"}},{"$f":"'Pob x Genero'!#REF!","v":{"$error":"#REF!"}},{"$f":"'Pob x Genero'!#REF!","v":{"$error":"#REF!"}},{"$f":"'Pob x Genero'!#REF!","v":{"$error":"#REF!"}},{"$f":"'Pob x Genero'!#REF!","v":{"$error":"#REF!"}},"Hombre","00-04",{"$f":"'Pob x Genero'!#REF!","v":{"$error":"#REF!"}},1358]
[{"$f":"'Pob x Genero'!#REF!","v":{"$error":"#REF!"}},{"$f":"'Pob x Genero'!#REF!","v":{"$error":"#REF!"}},{"$f":"'Pob x Genero'!#REF!","v":{"$error":"#REF!"}},{"$f":"'Pob x Genero'!#REF!","v":{"$error":"#REF!"}},{"$f":"'Pob x Genero'!#REF!","v":{"$error":"#REF!"}},"Hombre","00-04",{"$f":"'Pob x Genero'!#REF!","v":{"$error":"#REF!"}},1359]
[{"$f":"'Pob x Genero'!#REF!","v":{"$error":"#REF!"}},{"$f":"'Pob x Genero'!#REF!","v":{"$error":"#REF!"}},{"$f":"'Pob x Genero'!#REF!","v":{"$error":"#REF!"}},{"$f":"'Pob x Genero'!#REF!","v":{"$error":"#REF!"}},{"$f":"'Pob x Genero'!#REF!","v":{"$error":"#REF!"}},"Hombre","00-04",{"$f":"'Pob x Genero'!#REF!","v":{"$error":"#REF!"}},1360]
[{"$f":"'Pob x Genero'!#REF!","v":{"$error":"#REF!"}},{"$f":"'Pob x Genero'!#REF!","v":{"$error":"#REF!"}},{"$f":"'Pob x Genero'!#REF!","v":{"$error":"#REF!"}},{"$f":"'Pob x Genero'!#REF!","v":{"$error":"#REF!"}},{"$f":"'Pob x Genero'!#REF!","v":{"$error":"#REF!"}},"Hombre","00-04",{"$f":"'Pob x Genero'!#REF!","v":{"$error":"#REF!"}},1361]
[{"$f":"'Pob x Genero'!#REF!","v":{"$error":"#REF!"}},{"$f":"'Pob x Genero'!#REF!","v":{"$error":"#REF!"}},{"$f":"'Pob x Genero'!#REF!","v":{"$error":"#REF!"}},{"$f":"'Pob x Genero'!#REF!","v":{"$error":"#REF!"}},{"$f":"'Pob x Genero'!#REF!","v":{"$error":"#REF!"}},"Hombre","00-04",{"$f":"'Pob x Genero'!#REF!","v":{"$error":"#REF!"}},1362]
[{"$f":"'Pob x Genero'!#REF!","v":{"$error":"#REF!"}},{"$f":"'Pob x Genero'!#REF!","v":{"$error":"#REF!"}},{"$f":"'Pob x Genero'!#REF!","v":{"$error":"#REF!"}},{"$f":"'Pob x Genero'!#REF!","v":{"$error":"#REF!"}},{"$f":"'Pob x Genero'!#REF!","v":{"$error":"#REF!"}},"Hombre","00-04",{"$f":"'Pob x Genero'!#REF!","v":{"$error":"#REF!"}},1363]
[{"$f":"'Pob x Genero'!#REF!","v":{"$error":"#REF!"}},{"$f":"'Pob x Genero'!#REF!","v":{"$error":"#REF!"}},{"$f":"'Pob x Genero'!#REF!","v":{"$error":"#REF!"}},{"$f":"'Pob x Genero'!#REF!","v":{"$error":"#REF!"}},{"$f":"'Pob x Genero'!#REF!","v":{"$error":"#REF!"}},"Hombre","00-04",{"$f":"'Pob x Genero'!#REF!","v":{"$error":"#REF!"}},1364]
[{"$f":"'Pob x Genero'!#REF!","v":{"$error":"#REF!"}},{"$f":"'Pob x Genero'!#REF!","v":{"$error":"#REF!"}},{"$f":"'Pob x Genero'!#REF!","v":{"$error":"#REF!"}},{"$f":"'Pob x Genero'!#REF!","v":{"$error":"#REF!"}},{"$f":"'Pob x Genero'!#REF!","v":{"$error":"#REF!"}},"Hombre","00-04",{"$f":"'Pob x Genero'!#REF!","v":{"$error":"#REF!"}},1365]
[{"$f":"'Pob x Genero'!#REF!","v":{"$error":"#REF!"}},{"$f":"'Pob x Genero'!#REF!","v":{"$error":"#REF!"}},{"$f":"'Pob x Genero'!#REF!","v":{"$error":"#REF!"}},{"$f":"'Pob x Genero'!#REF!","v":{"$error":"#REF!"}},{"$f":"'Pob x Genero'!#REF!","v":{"$error":"#REF!"}},"Hombre","00-04",{"$f":"'Pob x Genero'!#REF!","v":{"$error":"#REF!"}},1366]
[{"$f":"'Pob x Genero'!#REF!","v":{"$error":"#REF!"}},{"$f":"'Pob x Genero'!#REF!","v":{"$error":"#REF!"}},{"$f":"'Pob x Genero'!#REF!","v":{"$error":"#REF!"}},{"$f":"'Pob x Genero'!#REF!","v":{"$error":"#REF!"}},{"$f":"'Pob x Genero'!#REF!","v":{"$error":"#REF!"}},"Hombre","00-04",{"$f":"'Pob x Genero'!#REF!","v":{"$error":"#REF!"}},1367]
[{"$f":"'Pob x Genero'!#REF!","v":{"$error":"#REF!"}},{"$f":"'Pob x Genero'!#REF!","v":{"$error":"#REF!"}},{"$f":"'Pob x Genero'!#REF!","v":{"$error":"#REF!"}},{"$f":"'Pob x Genero'!#REF!","v":{"$error":"#REF!"}},{"$f":"'Pob x Genero'!#REF!","v":{"$error":"#REF!"}},"Hombre","00-04",{"$f":"'Pob x Genero'!#REF!","v":{"$error":"#REF!"}},1368]
[{"$f":"'Pob x Genero'!#REF!","v":{"$error":"#REF!"}},{"$f":"'Pob x Genero'!#REF!","v":{"$error":"#REF!"}},{"$f":"'Pob x Genero'!#REF!","v":{"$error":"#REF!"}},{"$f":"'Pob x Genero'!#REF!","v":{"$error":"#REF!"}},{"$f":"'Pob x Genero'!#REF!","v":{"$error":"#REF!"}},"Hombre","00-04",{"$f":"'Pob x Genero'!#REF!","v":{"$error":"#REF!"}},1369]
[{"$f":"'Pob x Genero'!#REF!","v":{"$error":"#REF!"}},{"$f":"'Pob x Genero'!#REF!","v":{"$error":"#REF!"}},{"$f":"'Pob x Genero'!#REF!","v":{"$error":"#REF!"}},{"$f":"'Pob x Genero'!#REF!","v":{"$error":"#REF!"}},{"$f":"'Pob x Genero'!#REF!","v":{"$error":"#REF!"}},"Hombre","00-04",{"$f":"'Pob x Genero'!#REF!","v":{"$error":"#REF!"}},1370]
[{"$f":"'Pob x Genero'!#REF!","v":{"$error":"#REF!"}},{"$f":"'Pob x Genero'!#REF!","v":{"$error":"#REF!"}},{"$f":"'Pob x Genero'!#REF!","v":{"$error":"#REF!"}},{"$f":"'Pob x Genero'!#REF!","v":{"$error":"#REF!"}},{"$f":"'Pob x Genero'!#REF!","v":{"$error":"#REF!"}},"Hombre","00-04",{"$f":"'Pob x Genero'!#REF!","v":{"$error":"#REF!"}},1371]
[{"$f":"'Pob x Genero'!#REF!","v":{"$error":"#REF!"}},{"$f":"'Pob x Genero'!#REF!","v":{"$error":"#REF!"}},{"$f":"'Pob x Genero'!#REF!","v":{"$error":"#REF!"}},{"$f":"'Pob x Genero'!#REF!","v":{"$error":"#REF!"}},{"$f":"'Pob x Genero'!#REF!","v":{"$error":"#REF!"}},"Hombre","00-04",{"$f":"'Pob x Genero'!#REF!","v":{"$error":"#REF!"}},1372]
[{"$f":"'Pob x Genero'!#REF!","v":{"$error":"#REF!"}},{"$f":"'Pob x Genero'!#REF!","v":{"$error":"#REF!"}},{"$f":"'Pob x Genero'!#REF!","v":{"$error":"#REF!"}},{"$f":"'Pob x Genero'!#REF!","v":{"$error":"#REF!"}},{"$f":"'Pob x Genero'!#REF!","v":{"$error":"#REF!"}},"Hombre","00-04",{"$f":"'Pob x Genero'!#REF!","v":{"$error":"#REF!"}},1373]
[{"$f":"'Pob x Genero'!#REF!","v":{"$error":"#REF!"}},{"$f":"'Pob x Genero'!#REF!","v":{"$error":"#REF!"}},{"$f":"'Pob x Genero'!#REF!","v":{"$error":"#REF!"}},{"$f":"'Pob x Genero'!#REF!","v":{"$error":"#REF!"}},{"$f":"'Pob x Genero'!#REF!","v":{"$error":"#REF!"}},"Hombre","00-04",{"$f":"'Pob x Genero'!#REF!","v":{"$error":"#REF!"}},1374]
[{"$f":"'Pob x Genero'!#REF!","v":{"$error":"#REF!"}},{"$f":"'Pob x Genero'!#REF!","v":{"$error":"#REF!"}},{"$f":"'Pob x Genero'!#REF!","v":{"$error":"#REF!"}},{"$f":"'Pob x Genero'!#REF!","v":{"$error":"#REF!"}},{"$f":"'Pob x Genero'!#REF!","v":{"$error":"#REF!"}},"Hombre","00-04",{"$f":"'Pob x Genero'!#REF!","v":{"$error":"#REF!"}},1375]
[{"$f":"'Pob x Genero'!#REF!","v":{"$error":"#REF!"}},{"$f":"'Pob x Genero'!#REF!","v":{"$error":"#REF!"}},{"$f":"'Pob x Genero'!#REF!","v":{"$error":"#REF!"}},{"$f":"'Pob x Genero'!#REF!","v":{"$error":"#REF!"}},{"$f":"'Pob x Genero'!#REF!","v":{"$error":"#REF!"}},"Hombre","00-04",{"$f":"'Pob x Genero'!#REF!","v":{"$error":"#REF!"}},1376]
[{"$f":"'Pob x Genero'!#REF!","v":{"$error":"#REF!"}},{"$f":"'Pob x Genero'!#REF!","v":{"$error":"#REF!"}},{"$f":"'Pob x Genero'!#REF!","v":{"$error":"#REF!"}},{"$f":"'Pob x Genero'!#REF!","v":{"$error":"#REF!"}},{"$f":"'Pob x Genero'!#REF!","v":{"$error":"#REF!"}},"Hombre","00-04",{"$f":"'Pob x Genero'!#REF!","v":{"$error":"#REF!"}},1377]
[{"$f":"'Pob x Genero'!#REF!","v":{"$error":"#REF!"}},{"$f":"'Pob x Genero'!#REF!","v":{"$error":"#REF!"}},{"$f":"'Pob x Genero'!#REF!","v":{"$error":"#REF!"}},{"$f":"'Pob x Genero'!#REF!","v":{"$error":"#REF!"}},{"$f":"'Pob x Genero'!#REF!","v":{"$error":"#REF!"}},"Hombre","00-04",{"$f":"'Pob x Genero'!#REF!","v":{"$error":"#REF!"}},1378]
[{"$f":"'Pob x Genero'!#REF!","v":{"$error":"#REF!"}},{"$f":"'Pob x Genero'!#REF!","v":{"$error":"#REF!"}},{"$f":"'Pob x Genero'!#REF!","v":{"$error":"#REF!"}},{"$f":"'Pob x Genero'!#REF!","v":{"$error":"#REF!"}},{"$f":"'Pob x Genero'!#REF!","v":{"$error":"#REF!"}},"Hombre","00-04",{"$f":"'Pob x Genero'!#REF!","v":{"$error":"#REF!"}},1379]
[{"$f":"'Pob x Genero'!#REF!","v":{"$error":"#REF!"}},{"$f":"'Pob x Genero'!#REF!","v":{"$error":"#REF!"}},{"$f":"'Pob x Genero'!#REF!","v":{"$error":"#REF!"}},{"$f":"'Pob x Genero'!#REF!","v":{"$error":"#REF!"}},{"$f":"'Pob x Genero'!#REF!","v":{"$error":"#REF!"}},"Hombre","00-04",{"$f":"'Pob x Genero'!#REF!","v":{"$error":"#REF!"}},1380]
[{"$f":"'Pob x Genero'!#REF!","v":{"$error":"#REF!"}},{"$f":"'Pob x Genero'!#REF!","v":{"$error":"#REF!"}},{"$f":"'Pob x Genero'!#REF!","v":{"$error":"#REF!"}},{"$f":"'Pob x Genero'!#REF!","v":{"$error":"#REF!"}},{"$f":"'Pob x Genero'!#REF!","v":{"$error":"#REF!"}},"Hombre","00-04",{"$f":"'Pob x Genero'!#REF!","v":{"$error":"#REF!"}},1381]
[{"$f":"'Pob x Genero'!#REF!","v":{"$error":"#REF!"}},{"$f":"'Pob x Genero'!#REF!","v":{"$error":"#REF!"}},{"$f":"'Pob x Genero'!#REF!","v":{"$error":"#REF!"}},{"$f":"'Pob x Genero'!#REF!","v":{"$error":"#REF!"}},{"$f":"'Pob x Genero'!#REF!","v":{"$error":"#REF!"}},"Hombre","00-04",{"$f":"'Pob x Genero'!#REF!","v":{"$error":"#REF!"}},1382]
[{"$f":"'Pob x Genero'!#REF!","v":{"$error":"#REF!"}},{"$f":"'Pob x Genero'!#REF!","v":{"$error":"#REF!"}},{"$f":"'Pob x Genero'!#REF!","v":{"$error":"#REF!"}},{"$f":"'Pob x Genero'!#REF!","v":{"$error":"#REF!"}},{"$f":"'Pob x Genero'!#REF!","v":{"$error":"#REF!"}},"Hombre","00-04",{"$f":"'Pob x Genero'!#REF!","v":{"$error":"#REF!"}},1383]
[{"$f":"'Pob x Genero'!#REF!","v":{"$error":"#REF!"}},{"$f":"'Pob x Genero'!#REF!","v":{"$error":"#REF!"}},{"$f":"'Pob x Genero'!#REF!","v":{"$error":"#REF!"}},{"$f":"'Pob x Genero'!#REF!","v":{"$error":"#REF!"}},{"$f":"'Pob x Genero'!#REF!","v":{"$error":"#REF!"}},"Hombre","00-04",{"$f":"'Pob x Genero'!#REF!","v":{"$error":"#REF!"}},1384]
[{"$f":"'Pob x Genero'!#REF!","v":{"$error":"#REF!"}},{"$f":"'Pob x Genero'!#REF!","v":{"$error":"#REF!"}},{"$f":"'Pob x Genero'!#REF!","v":{"$error":"#REF!"}},{"$f":"'Pob x Genero'!#REF!","v":{"$error":"#REF!"}},{"$f":"'Pob x Genero'!#REF!","v":{"$error":"#REF!"}},"Hombre","00-04",{"$f":"'Pob x Genero'!#REF!","v":{"$error":"#REF!"}},1385]
[{"$f":"'Pob x Genero'!#REF!","v":{"$error":"#REF!"}},{"$f":"'Pob x Genero'!#REF!","v":{"$error":"#REF!"}},{"$f":"'Pob x Genero'!#REF!","v":{"$error":"#REF!"}},{"$f":"'Pob x Genero'!#REF!","v":{"$error":"#REF!"}},{"$f":"'Pob x Genero'!#REF!","v":{"$error":"#REF!"}},"Hombre","00-04",{"$f":"'Pob x Genero'!#REF!","v":{"$error":"#REF!"}},1386]
[{"$f":"'Pob x Genero'!#REF!","v":{"$error":"#REF!"}},{"$f":"'Pob x Genero'!#REF!","v":{"$error":"#REF!"}},{"$f":"'Pob x Genero'!#REF!","v":{"$error":"#REF!"}},{"$f":"'Pob x Genero'!#REF!","v":{"$error":"#REF!"}},{"$f":"'Pob x Genero'!#REF!","v":{"$error":"#REF!"}},"Hombre","00-04",{"$f":"'Pob x Genero'!#REF!","v":{"$error":"#REF!"}},1387]
[{"$f":"'Pob x Genero'!#REF!","v":{"$error":"#REF!"}},{"$f":"'Pob x Genero'!#REF!","v":{"$error":"#REF!"}},{"$f":"'Pob x Genero'!#REF!","v":{"$error":"#REF!"}},{"$f":"'Pob x Genero'!#REF!","v":{"$error":"#REF!"}},{"$f":"'Pob x Genero'!#REF!","v":{"$error":"#REF!"}},"Hombre","00-04",{"$f":"'Pob x Genero'!#REF!","v":{"$error":"#REF!"}},1388]
[{"$f":"'Pob x Genero'!#REF!","v":{"$error":"#REF!"}},{"$f":"'Pob x Genero'!#REF!","v":{"$error":"#REF!"}},{"$f":"'Pob x Genero'!#REF!","v":{"$error":"#REF!"}},{"$f":"'Pob x Genero'!#REF!","v":{"$error":"#REF!"}},{"$f":"'Pob x Genero'!#REF!","v":{"$error":"#REF!"}},"Hombre","00-04",{"$f":"'Pob x Genero'!#REF!","v":{"$error":"#REF!"}},1389]
[{"$f":"'Pob x Genero'!#REF!","v":{"$error":"#REF!"}},{"$f":"'Pob x Genero'!#REF!","v":{"$error":"#REF!"}},{"$f":"'Pob x Genero'!#REF!","v":{"$error":"#REF!"}},{"$f":"'Pob x Genero'!#REF!","v":{"$error":"#REF!"}},{"$f":"'Pob x Genero'!#REF!","v":{"$error":"#REF!"}},"Hombre","00-04",{"$f":"'Pob x Genero'!#REF!","v":{"$error":"#REF!"}},1390]
[{"$f":"'Pob x Genero'!#REF!","v":{"$error":"#REF!"}},{"$f":"'Pob x Genero'!#REF!","v":{"$error":"#REF!"}},{"$f":"'Pob x Genero'!#REF!","v":{"$error":"#REF!"}},{"$f":"'Pob x Genero'!#REF!","v":{"$error":"#REF!"}},{"$f":"'Pob x Genero'!#REF!","v":{"$error":"#REF!"}},"Hombre","00-04",{"$f":"'Pob x Genero'!#REF!","v":{"$error":"#REF!"}},1391]
[{"$f":"'Pob x Genero'!#REF!","v":{"$error":"#REF!"}},{"$f":"'Pob x Genero'!#REF!","v":{"$error":"#REF!"}},{"$f":"'Pob x Genero'!#REF!","v":{"$error":"#REF!"}},{"$f":"'Pob x Genero'!#REF!","v":{"$error":"#REF!"}},{"$f":"'Pob x Genero'!#REF!","v":{"$error":"#REF!"}},"Hombre","00-04",{"$f":"'Pob x Genero'!#REF!","v":{"$error":"#REF!"}},1392]
[{"$f":"'Pob x Genero'!#REF!","v":{"$error":"#REF!"}},{"$f":"'Pob x Genero'!#REF!","v":{"$error":"#REF!"}},{"$f":"'Pob x Genero'!#REF!","v":{"$error":"#REF!"}},{"$f":"'Pob x Genero'!#REF!","v":{"$error":"#REF!"}},{"$f":"'Pob x Genero'!#REF!","v":{"$error":"#REF!"}},"Hombre","00-04",{"$f":"'Pob x Genero'!#REF!","v":{"$error":"#REF!"}},1393]
[{"$f":"'Pob x Genero'!#REF!","v":{"$error":"#REF!"}},{"$f":"'Pob x Genero'!#REF!","v":{"$error":"#REF!"}},{"$f":"'Pob x Genero'!#REF!","v":{"$error":"#REF!"}},{"$f":"'Pob x Genero'!#REF!","v":{"$error":"#REF!"}},{"$f":"'Pob x Genero'!#REF!","v":{"$error":"#REF!"}},"Hombre","00-04",{"$f":"'Pob x Genero'!#REF!","v":{"$error":"#REF!"}},1394]
[{"$f":"'Pob x Genero'!#REF!","v":{"$error":"#REF!"}},{"$f":"'Pob x Genero'!#REF!","v":{"$error":"#REF!"}},{"$f":"'Pob x Genero'!#REF!","v":{"$error":"#REF!"}},{"$f":"'Pob x Genero'!#REF!","v":{"$error":"#REF!"}},{"$f":"'Pob x Genero'!#REF!","v":{"$error":"#REF!"}},"Hombre","00-04",{"$f":"'Pob x Genero'!#REF!","v":{"$error":"#REF!"}},1395]
[{"$f":"'Pob x Genero'!#REF!","v":{"$error":"#REF!"}},{"$f":"'Pob x Genero'!#REF!","v":{"$error":"#REF!"}},{"$f":"'Pob x Genero'!#REF!","v":{"$error":"#REF!"}},{"$f":"'Pob x Genero'!#REF!","v":{"$error":"#REF!"}},{"$f":"'Pob x Genero'!#REF!","v":{"$error":"#REF!"}},"Hombre","00-04",{"$f":"'Pob x Genero'!#REF!","v":{"$error":"#REF!"}},1396]
[{"$f":"'Pob x Genero'!#REF!","v":{"$error":"#REF!"}},{"$f":"'Pob x Genero'!#REF!","v":{"$error":"#REF!"}},{"$f":"'Pob x Genero'!#REF!","v":{"$error":"#REF!"}},{"$f":"'Pob x Genero'!#REF!","v":{"$error":"#REF!"}},{"$f":"'Pob x Genero'!#REF!","v":{"$error":"#REF!"}},"Hombre","00-04",{"$f":"'Pob x Genero'!#REF!","v":{"$error":"#REF!"}},1397]
[{"$f":"'Pob x Genero'!#REF!","v":{"$error":"#REF!"}},{"$f":"'Pob x Genero'!#REF!","v":{"$error":"#REF!"}},{"$f":"'Pob x Genero'!#REF!","v":{"$error":"#REF!"}},{"$f":"'Pob x Genero'!#REF!","v":{"$error":"#REF!"}},{"$f":"'Pob x Genero'!#REF!","v":{"$error":"#REF!"}},"Hombre","00-04",{"$f":"'Pob x Genero'!#REF!","v":{"$error":"#REF!"}},1398]
[{"$f":"'Pob x Genero'!#REF!","v":{"$error":"#REF!"}},{"$f":"'Pob x Genero'!#REF!","v":{"$error":"#REF!"}},{"$f":"'Pob x Genero'!#REF!","v":{"$error":"#REF!"}},{"$f":"'Pob x Genero'!#REF!","v":{"$error":"#REF!"}},{"$f":"'Pob x Genero'!#REF!","v":{"$error":"#REF!"}},"Hombre","00-04",{"$f":"'Pob x Genero'!#REF!","v":{"$error":"#REF!"}},1399]
[{"$f":"'Pob x Genero'!#REF!","v":{"$error":"#REF!"}},{"$f":"'Pob x Genero'!#REF!","v":{"$error":"#REF!"}},{"$f":"'Pob x Genero'!#REF!","v":{"$error":"#REF!"}},{"$f":"'Pob x Genero'!#REF!","v":{"$error":"#REF!"}},{"$f":"'Pob x Genero'!#REF!","v":{"$error":"#REF!"}},"Hombre","00-04",{"$f":"'Pob x Genero'!#REF!","v":{"$error":"#REF!"}},1400]
[{"$f":"'Pob x Genero'!#REF!","v":{"$error":"#REF!"}},{"$f":"'Pob x Genero'!#REF!","v":{"$error":"#REF!"}},{"$f":"'Pob x Genero'!#REF!","v":{"$error":"#REF!"}},{"$f":"'Pob x Genero'!#REF!","v":{"$error":"#REF!"}},{"$f":"'Pob x Genero'!#REF!","v":{"$error":"#REF!"}},"Hombre","00-04",{"$f":"'Pob x Genero'!#REF!","v":{"$error":"#REF!"}},1401]
[{"$f":"'Pob x Genero'!#REF!","v":{"$error":"#REF!"}},{"$f":"'Pob x Genero'!#REF!","v":{"$error":"#REF!"}},{"$f":"'Pob x Genero'!#REF!","v":{"$error":"#REF!"}},{"$f":"'Pob x Genero'!#REF!","v":{"$error":"#REF!"}},{"$f":"'Pob x Genero'!#REF!","v":{"$error":"#REF!"}},"Hombre","00-04",{"$f":"'Pob x Genero'!#REF!","v":{"$error":"#REF!"}},1402]
[{"$f":"'Pob x Genero'!#REF!","v":{"$error":"#REF!"}},{"$f":"'Pob x Genero'!#REF!","v":{"$error":"#REF!"}},{"$f":"'Pob x Genero'!#REF!","v":{"$error":"#REF!"}},{"$f":"'Pob x Genero'!#REF!","v":{"$error":"#REF!"}},{"$f":"'Pob x Genero'!#REF!","v":{"$error":"#REF!"}},"Hombre","00-04",{"$f":"'Pob x Genero'!#REF!","v":{"$error":"#REF!"}},1403]
[{"$f":"'Pob x Genero'!#REF!","v":{"$error":"#REF!"}},{"$f":"'Pob x Genero'!#REF!","v":{"$error":"#REF!"}},{"$f":"'Pob x Genero'!#REF!","v":{"$error":"#REF!"}},{"$f":"'Pob x Genero'!#REF!","v":{"$error":"#REF!"}},{"$f":"'Pob x Genero'!#REF!","v":{"$error":"#REF!"}},"Hombre","00-04",{"$f":"'Pob x Genero'!#REF!","v":{"$error":"#REF!"}},1404]
[{"$f":"'Pob x Genero'!#REF!","v":{"$error":"#REF!"}},{"$f":"'Pob x Genero'!#REF!","v":{"$error":"#REF!"}},{"$f":"'Pob x Genero'!#REF!","v":{"$error":"#REF!"}},{"$f":"'Pob x Genero'!#REF!","v":{"$error":"#REF!"}},{"$f":"'Pob x Genero'!#REF!","v":{"$error":"#REF!"}},"Hombre","00-04",{"$f":"'Pob x Genero'!#REF!","v":{"$error":"#REF!"}},1405]
[{"$f":"'Pob x Genero'!#REF!","v":{"$error":"#REF!"}},{"$f":"'Pob x Genero'!#REF!","v":{"$error":"#REF!"}},{"$f":"'Pob x Genero'!#REF!","v":{"$error":"#REF!"}},{"$f":"'Pob x Genero'!#REF!","v":{"$error":"#REF!"}},{"$f":"'Pob x Genero'!#REF!","v":{"$error":"#REF!"}},"Hombre","00-04",{"$f":"'Pob x Genero'!#REF!","v":{"$error":"#REF!"}},1406]
[{"$f":"'Pob x Genero'!#REF!","v":{"$error":"#REF!"}},{"$f":"'Pob x Genero'!#REF!","v":{"$error":"#REF!"}},{"$f":"'Pob x Genero'!#REF!","v":{"$error":"#REF!"}},{"$f":"'Pob x Genero'!#REF!","v":{"$error":"#REF!"}},{"$f":"'Pob x Genero'!#REF!","v":{"$error":"#REF!"}},"Hombre","00-04",{"$f":"'Pob x Genero'!#REF!","v":{"$error":"#REF!"}},1407]
[{"$f":"'Pob x Genero'!#REF!","v":{"$error":"#REF!"}},{"$f":"'Pob x Genero'!#REF!","v":{"$error":"#REF!"}},{"$f":"'Pob x Genero'!#REF!","v":{"$error":"#REF!"}},{"$f":"'Pob x Genero'!#REF!","v":{"$error":"#REF!"}},{"$f":"'Pob x Genero'!#REF!","v":{"$error":"#REF!"}},"Hombre","00-04",{"$f":"'Pob x Genero'!#REF!","v":{"$error":"#REF!"}},1408]
[{"$f":"'Pob x Genero'!#REF!","v":{"$error":"#REF!"}},{"$f":"'Pob x Genero'!#REF!","v":{"$error":"#REF!"}},{"$f":"'Pob x Genero'!#REF!","v":{"$error":"#REF!"}},{"$f":"'Pob x Genero'!#REF!","v":{"$error":"#REF!"}},{"$f":"'Pob x Genero'!#REF!","v":{"$error":"#REF!"}},"Hombre","00-04",{"$f":"'Pob x Genero'!#REF!","v":{"$error":"#REF!"}},1409]
[{"$f":"'Pob x Genero'!#REF!","v":{"$error":"#REF!"}},{"$f":"'Pob x Genero'!#REF!","v":{"$error":"#REF!"}},{"$f":"'Pob x Genero'!#REF!","v":{"$error":"#REF!"}},{"$f":"'Pob x Genero'!#REF!","v":{"$error":"#REF!"}},{"$f":"'Pob x Genero'!#REF!","v":{"$error":"#REF!"}},{"$f":"F1410","v":"Hombre"},{"$f":"G1410","v":"00-04"},{"$f":"'Pob x Genero'!#REF!","v":{"$error":"#REF!"}},1410]
[{"$f":"'Pob x Genero'!#REF!","v":{"$error":"#REF!"}},{"$f":"'Pob x Genero'!#REF!","v":{"$error":"#REF!"}},{"$f":"'Pob x Genero'!#REF!","v":{"$error":"#REF!"}},{"$f":"'Pob x Genero'!#REF!","v":{"$error":"#REF!"}},{"$f":"'Pob x Genero'!#REF!","v":{"$error":"#REF!"}},"Hombre","00-04",{"$f":"'Pob x Genero'!#REF!","v":{"$error":"#REF!"}},1411]
[{"$f":"'Pob x Genero'!#REF!","v":{"$error":"#REF!"}},{"$f":"'Pob x Genero'!#REF!","v":{"$error":"#REF!"}},{"$f":"'Pob x Genero'!#REF!","v":{"$error":"#REF!"}},{"$f":"'Pob x Genero'!#REF!","v":{"$error":"#REF!"}},{"$f":"'Pob x Genero'!#REF!","v":{"$error":"#REF!"}},"Hombre","00-04",{"$f":"'Pob x Genero'!#REF!","v":{"$error":"#REF!"}},1412]
[{"$f":"'Pob x Genero'!#REF!","v":{"$error":"#REF!"}},{"$f":"'Pob x Genero'!#REF!","v":{"$error":"#REF!"}},{"$f":"'Pob x Genero'!#REF!","v":{"$error":"#REF!"}},{"$f":"'Pob x Genero'!#REF!","v":{"$error":"#REF!"}},{"$f":"'Pob x Genero'!#REF!","v":{"$error":"#REF!"}},"Hombre","00-04",{"$f":"'Pob x Genero'!#REF!","v":{"$error":"#REF!"}},1413]
[{"$f":"'Pob x Genero'!#REF!","v":{"$error":"#REF!"}},{"$f":"'Pob x Genero'!#REF!","v":{"$error":"#REF!"}},{"$f":"'Pob x Genero'!#REF!","v":{"$error":"#REF!"}},{"$f":"'Pob x Genero'!#REF!","v":{"$error":"#REF!"}},{"$f":"'Pob x Genero'!#REF!","v":{"$error":"#REF!"}},"Hombre","00-04",{"$f":"'Pob x Genero'!#REF!","v":{"$error":"#REF!"}},1414]
[{"$f":"'Pob x Genero'!#REF!","v":{"$error":"#REF!"}},{"$f":"'Pob x Genero'!#REF!","v":{"$error":"#REF!"}},{"$f":"'Pob x Genero'!#REF!","v":{"$error":"#REF!"}},{"$f":"'Pob x Genero'!#REF!","v":{"$error":"#REF!"}},{"$f":"'Pob x Genero'!#REF!","v":{"$error":"#REF!"}},"Hombre","00-04",{"$f":"'Pob x Genero'!#REF!","v":{"$error":"#REF!"}},1415]
[{"$f":"'Pob x Genero'!#REF!","v":{"$error":"#REF!"}},{"$f":"'Pob x Genero'!#REF!","v":{"$error":"#REF!"}},{"$f":"'Pob x Genero'!#REF!","v":{"$error":"#REF!"}},{"$f":"'Pob x Genero'!#REF!","v":{"$error":"#REF!"}},{"$f":"'Pob x Genero'!#REF!","v":{"$error":"#REF!"}},"Hombre","00-04",{"$f":"'Pob x Genero'!#REF!","v":{"$error":"#REF!"}},1416]
[{"$f":"'Pob x Genero'!#REF!","v":{"$error":"#REF!"}},{"$f":"'Pob x Genero'!#REF!","v":{"$error":"#REF!"}},{"$f":"'Pob x Genero'!#REF!","v":{"$error":"#REF!"}},{"$f":"'Pob x Genero'!#REF!","v":{"$error":"#REF!"}},{"$f":"'Pob x Genero'!#REF!","v":{"$error":"#REF!"}},"Hombre","00-04",{"$f":"'Pob x Genero'!#REF!","v":{"$error":"#REF!"}},1417]
[{"$f":"'Pob x Genero'!#REF!","v":{"$error":"#REF!"}},{"$f":"'Pob x Genero'!#REF!","v":{"$error":"#REF!"}},{"$f":"'Pob x Genero'!#REF!","v":{"$error":"#REF!"}},{"$f":"'Pob x Genero'!#REF!","v":{"$error":"#REF!"}},{"$f":"'Pob x Genero'!#REF!","v":{"$error":"#REF!"}},"Hombre","00-04",{"$f":"'Pob x Genero'!#REF!","v":{"$error":"#REF!"}},1418]
[{"$f":"'Pob x Genero'!#REF!","v":{"$error":"#REF!"}},{"$f":"'Pob x Genero'!#REF!","v":{"$error":"#REF!"}},{"$f":"'Pob x Genero'!#REF!","v":{"$error":"#REF!"}},{"$f":"'Pob x Genero'!#REF!","v":{"$error":"#REF!"}},{"$f":"'Pob x Genero'!#REF!","v":{"$error":"#REF!"}},"Hombre","00-04",{"$f":"'Pob x Genero'!#REF!","v":{"$error":"#REF!"}},1419]
[{"$f":"'Pob x Genero'!#REF!","v":{"$error":"#REF!"}},{"$f":"'Pob x Genero'!#REF!","v":{"$error":"#REF!"}},{"$f":"'Pob x Genero'!#REF!","v":{"$error":"#REF!"}},{"$f":"'Pob x Genero'!#REF!","v":{"$error":"#REF!"}},{"$f":"'Pob x Genero'!#REF!","v":{"$error":"#REF!"}},"Hombre","00-04",{"$f":"'Pob x Genero'!#REF!","v":{"$error":"#REF!"}},1420]
[{"$f":"'Pob x Genero'!#REF!","v":{"$error":"#REF!"}},{"$f":"'Pob x Genero'!#REF!","v":{"$error":"#REF!"}},{"$f":"'Pob x Genero'!#REF!","v":{"$error":"#REF!"}},{"$f":"'Pob x Genero'!#REF!","v":{"$error":"#REF!"}},{"$f":"'Pob x Genero'!#REF!","v":{"$error":"#REF!"}},"Hombre","00-04",{"$f":"'Pob x Genero'!#REF!","v":{"$error":"#REF!"}},1421]
[{"$f":"'Pob x Genero'!#REF!","v":{"$error":"#REF!"}},{"$f":"'Pob x Genero'!#REF!","v":{"$error":"#REF!"}},{"$f":"'Pob x Genero'!#REF!","v":{"$error":"#REF!"}},{"$f":"'Pob x Genero'!#REF!","v":{"$error":"#REF!"}},{"$f":"'Pob x Genero'!#REF!","v":{"$error":"#REF!"}},"Hombre","00-04",{"$f":"'Pob x Genero'!#REF!","v":{"$error":"#REF!"}},1422]
[{"$f":"'Pob x Genero'!#REF!","v":{"$error":"#REF!"}},{"$f":"'Pob x Genero'!#REF!","v":{"$error":"#REF!"}},{"$f":"'Pob x Genero'!#REF!","v":{"$error":"#REF!"}},{"$f":"'Pob x Genero'!#REF!","v":{"$error":"#REF!"}},{"$f":"'Pob x Genero'!#REF!","v":{"$error":"#REF!"}},"Hombre","00-04",{"$f":"'Pob x Genero'!#REF!","v":{"$error":"#REF!"}},1423]
[{"$f":"'Pob x Genero'!#REF!","v":{"$error":"#REF!"}},{"$f":"'Pob x Genero'!#REF!","v":{"$error":"#REF!"}},{"$f":"'Pob x Genero'!#REF!","v":{"$error":"#REF!"}},{"$f":"'Pob x Genero'!#REF!","v":{"$error":"#REF!"}},{"$f":"'Pob x Genero'!#REF!","v":{"$error":"#REF!"}},"Hombre","00-04",{"$f":"'Pob x Genero'!#REF!","v":{"$error":"#REF!"}},1424]
[{"$f":"'Pob x Genero'!#REF!","v":{"$error":"#REF!"}},{"$f":"'Pob x Genero'!#REF!","v":{"$error":"#REF!"}},{"$f":"'Pob x Genero'!#REF!","v":{"$error":"#REF!"}},{"$f":"'Pob x Genero'!#REF!","v":{"$error":"#REF!"}},{"$f":"'Pob x Genero'!#REF!","v":{"$error":"#REF!"}},"Hombre","00-04",{"$f":"'Pob x Genero'!#REF!","v":{"$error":"#REF!"}},1425]
[{"$f":"'Pob x Genero'!#REF!","v":{"$error":"#REF!"}},{"$f":"'Pob x Genero'!#REF!","v":{"$error":"#REF!"}},{"$f":"'Pob x Genero'!#REF!","v":{"$error":"#REF!"}},{"$f":"'Pob x Genero'!#REF!","v":{"$error":"#REF!"}},{"$f":"'Pob x Genero'!#REF!","v":{"$error":"#REF!"}},"Hombre","00-04",{"$f":"'Pob x Genero'!#REF!","v":{"$error":"#REF!"}},1426]
[{"$f":"'Pob x Genero'!#REF!","v":{"$error":"#REF!"}},{"$f":"'Pob x Genero'!#REF!","v":{"$error":"#REF!"}},{"$f":"'Pob x Genero'!#REF!","v":{"$error":"#REF!"}},{"$f":"'Pob x Genero'!#REF!","v":{"$error":"#REF!"}},{"$f":"'Pob x Genero'!#REF!","v":{"$error":"#REF!"}},"Hombre","00-04",{"$f":"'Pob x Genero'!#REF!","v":{"$error":"#REF!"}},1427]
[{"$f":"'Pob x Genero'!#REF!","v":{"$error":"#REF!"}},{"$f":"'Pob x Genero'!#REF!","v":{"$error":"#REF!"}},{"$f":"'Pob x Genero'!#REF!","v":{"$error":"#REF!"}},{"$f":"'Pob x Genero'!#REF!","v":{"$error":"#REF!"}},{"$f":"'Pob x Genero'!#REF!","v":{"$error":"#REF!"}},"Hombre","00-04",{"$f":"'Pob x Genero'!#REF!","v":{"$error":"#REF!"}},1428]
[{"$f":"'Pob x Genero'!#REF!","v":{"$error":"#REF!"}},{"$f":"'Pob x Genero'!#REF!","v":{"$error":"#REF!"}},{"$f":"'Pob x Genero'!#REF!","v":{"$error":"#REF!"}},{"$f":"'Pob x Genero'!#REF!","v":{"$error":"#REF!"}},{"$f":"'Pob x Genero'!#REF!","v":{"$error":"#REF!"}},"Hombre","00-04",{"$f":"'Pob x Genero'!#REF!","v":{"$error":"#REF!"}},1429]
[{"$f":"'Pob x Genero'!#REF!","v":{"$error":"#REF!"}},{"$f":"'Pob x Genero'!#REF!","v":{"$error":"#REF!"}},{"$f":"'Pob x Genero'!#REF!","v":{"$error":"#REF!"}},{"$f":"'Pob x Genero'!#REF!","v":{"$error":"#REF!"}},{"$f":"'Pob x Genero'!#REF!","v":{"$error":"#REF!"}},"Hombre","00-04",{"$f":"'Pob x Genero'!#REF!","v":{"$error":"#REF!"}},1430]
[{"$f":"'Pob x Genero'!#REF!","v":{"$error":"#REF!"}},{"$f":"'Pob x Genero'!#REF!","v":{"$error":"#REF!"}},{"$f":"'Pob x Genero'!#REF!","v":{"$error":"#REF!"}},{"$f":"'Pob x Genero'!#REF!","v":{"$error":"#REF!"}},{"$f":"'Pob x Genero'!#REF!","v":{"$error":"#REF!"}},"Hombre","00-04",{"$f":"'Pob x Genero'!#REF!","v":{"$error":"#REF!"}},1431]
[{"$f":"'Pob x Genero'!#REF!","v":{"$error":"#REF!"}},{"$f":"'Pob x Genero'!#REF!","v":{"$error":"#REF!"}},{"$f":"'Pob x Genero'!#REF!","v":{"$error":"#REF!"}},{"$f":"'Pob x Genero'!#REF!","v":{"$error":"#REF!"}},{"$f":"'Pob x Genero'!#REF!","v":{"$error":"#REF!"}},"Hombre","00-04",{"$f":"'Pob x Genero'!#REF!","v":{"$error":"#REF!"}},1432]
[{"$f":"'Pob x Genero'!#REF!","v":{"$error":"#REF!"}},{"$f":"'Pob x Genero'!#REF!","v":{"$error":"#REF!"}},{"$f":"'Pob x Genero'!#REF!","v":{"$error":"#REF!"}},{"$f":"'Pob x Genero'!#REF!","v":{"$error":"#REF!"}},{"$f":"'Pob x Genero'!#REF!","v":{"$error":"#REF!"}},"Hombre","00-04",{"$f":"'Pob x Genero'!#REF!","v":{"$error":"#REF!"}},1433]
[{"$f":"'Pob x Genero'!#REF!","v":{"$error":"#REF!"}},{"$f":"'Pob x Genero'!#REF!","v":{"$error":"#REF!"}},{"$f":"'Pob x Genero'!#REF!","v":{"$error":"#REF!"}},{"$f":"'Pob x Genero'!#REF!","v":{"$error":"#REF!"}},{"$f":"'Pob x Genero'!#REF!","v":{"$error":"#REF!"}},"Hombre","00-04",{"$f":"'Pob x Genero'!#REF!","v":{"$error":"#REF!"}},1434]
[{"$f":"'Pob x Genero'!#REF!","v":{"$error":"#REF!"}},{"$f":"'Pob x Genero'!#REF!","v":{"$error":"#REF!"}},{"$f":"'Pob x Genero'!#REF!","v":{"$error":"#REF!"}},{"$f":"'Pob x Genero'!#REF!","v":{"$error":"#REF!"}},{"$f":"'Pob x Genero'!#REF!","v":{"$error":"#REF!"}},"Hombre","00-04",{"$f":"'Pob x Genero'!#REF!","v":{"$error":"#REF!"}},1435]
[{"$f":"'Pob x Genero'!#REF!","v":{"$error":"#REF!"}},{"$f":"'Pob x Genero'!#REF!","v":{"$error":"#REF!"}},{"$f":"'Pob x Genero'!#REF!","v":{"$error":"#REF!"}},{"$f":"'Pob x Genero'!#REF!","v":{"$error":"#REF!"}},{"$f":"'Pob x Genero'!#REF!","v":{"$error":"#REF!"}},"Hombre","00-04",{"$f":"'Pob x Genero'!#REF!","v":{"$error":"#REF!"}},1436]
[{"$f":"'Pob x Genero'!#REF!","v":{"$error":"#REF!"}},{"$f":"'Pob x Genero'!#REF!","v":{"$error":"#REF!"}},{"$f":"'Pob x Genero'!#REF!","v":{"$error":"#REF!"}},{"$f":"'Pob x Genero'!#REF!","v":{"$error":"#REF!"}},{"$f":"'Pob x Genero'!#REF!","v":{"$error":"#REF!"}},"Hombre","00-04",{"$f":"'Pob x Genero'!#REF!","v":{"$error":"#REF!"}},1437]
[{"$f":"'Pob x Genero'!#REF!","v":{"$error":"#REF!"}},{"$f":"'Pob x Genero'!#REF!","v":{"$error":"#REF!"}},{"$f":"'Pob x Genero'!#REF!","v":{"$error":"#REF!"}},{"$f":"'Pob x Genero'!#REF!","v":{"$error":"#REF!"}},{"$f":"'Pob x Genero'!#REF!","v":{"$error":"#REF!"}},"Hombre","00-04",{"$f":"'Pob x Genero'!#REF!","v":{"$error":"#REF!"}},1438]
[{"$f":"'Pob x Genero'!#REF!","v":{"$error":"#REF!"}},{"$f":"'Pob x Genero'!#REF!","v":{"$error":"#REF!"}},{"$f":"'Pob x Genero'!#REF!","v":{"$error":"#REF!"}},{"$f":"'Pob x Genero'!#REF!","v":{"$error":"#REF!"}},{"$f":"'Pob x Genero'!#REF!","v":{"$error":"#REF!"}},"Hombre","00-04",{"$f":"'Pob x Genero'!#REF!","v":{"$error":"#REF!"}},1439]
[{"$f":"'Pob x Genero'!#REF!","v":{"$error":"#REF!"}},{"$f":"'Pob x Genero'!#REF!","v":{"$error":"#REF!"}},{"$f":"'Pob x Genero'!#REF!","v":{"$error":"#REF!"}},{"$f":"'Pob x Genero'!#REF!","v":{"$error":"#REF!"}},{"$f":"'Pob x Genero'!#REF!","v":{"$error":"#REF!"}},"Hombre","00-04",{"$f":"'Pob x Genero'!#REF!","v":{"$error":"#REF!"}},1440]
[{"$f":"'Pob x Genero'!#REF!","v":{"$error":"#REF!"}},{"$f":"'Pob x Genero'!#REF!","v":{"$error":"#REF!"}},{"$f":"'Pob x Genero'!#REF!","v":{"$error":"#REF!"}},{"$f":"'Pob x Genero'!#REF!","v":{"$error":"#REF!"}},{"$f":"'Pob x Genero'!#REF!","v":{"$error":"#REF!"}},"Hombre","00-04",{"$f":"'Pob x Genero'!#REF!","v":{"$error":"#REF!"}},1441]
[{"$f":"'Pob x Genero'!#REF!","v":{"$error":"#REF!"}},{"$f":"'Pob x Genero'!#REF!","v":{"$error":"#REF!"}},{"$f":"'Pob x Genero'!#REF!","v":{"$error":"#REF!"}},{"$f":"'Pob x Genero'!#REF!","v":{"$error":"#REF!"}},{"$f":"'Pob x Genero'!#REF!","v":{"$error":"#REF!"}},"Hombre","00-04",{"$f":"'Pob x Genero'!#REF!","v":{"$error":"#REF!"}},1442]
[{"$f":"'Pob x Genero'!#REF!","v":{"$error":"#REF!"}},{"$f":"'Pob x Genero'!#REF!","v":{"$error":"#REF!"}},{"$f":"'Pob x Genero'!#REF!","v":{"$error":"#REF!"}},{"$f":"'Pob x Genero'!#REF!","v":{"$error":"#REF!"}},{"$f":"'Pob x Genero'!#REF!","v":{"$error":"#REF!"}},"Hombre","00-04",{"$f":"'Pob x Genero'!#REF!","v":{"$error":"#REF!"}},1443]
[{"$f":"'Pob x Genero'!#REF!","v":{"$error":"#REF!"}},{"$f":"'Pob x Genero'!#REF!","v":{"$error":"#REF!"}},{"$f":"'Pob x Genero'!#REF!","v":{"$error":"#REF!"}},{"$f":"'Pob x Genero'!#REF!","v":{"$error":"#REF!"}},{"$f":"'Pob x Genero'!#REF!","v":{"$error":"#REF!"}},"Hombre","00-04",{"$f":"'Pob x Genero'!#REF!","v":{"$error":"#REF!"}},1444]
[{"$f":"'Pob x Genero'!#REF!","v":{"$error":"#REF!"}},{"$f":"'Pob x Genero'!#REF!","v":{"$error":"#REF!"}},{"$f":"'Pob x Genero'!#REF!","v":{"$error":"#REF!"}},{"$f":"'Pob x Genero'!#REF!","v":{"$error":"#REF!"}},{"$f":"'Pob x Genero'!#REF!","v":{"$error":"#REF!"}},"Hombre","00-04",{"$f":"'Pob x Genero'!#REF!","v":{"$error":"#REF!"}},1445]
[{"$f":"'Pob x Genero'!#REF!","v":{"$error":"#REF!"}},{"$f":"'Pob x Genero'!#REF!","v":{"$error":"#REF!"}},{"$f":"'Pob x Genero'!#REF!","v":{"$error":"#REF!"}},{"$f":"'Pob x Genero'!#REF!","v":{"$error":"#REF!"}},{"$f":"'Pob x Genero'!#REF!","v":{"$error":"#REF!"}},"Hombre","00-04",{"$f":"'Pob x Genero'!#REF!","v":{"$error":"#REF!"}},1446]
[{"$f":"'Pob x Genero'!#REF!","v":{"$error":"#REF!"}},{"$f":"'Pob x Genero'!#REF!","v":{"$error":"#REF!"}},{"$f":"'Pob x Genero'!#REF!","v":{"$error":"#REF!"}},{"$f":"'Pob x Genero'!#REF!","v":{"$error":"#REF!"}},{"$f":"'Pob x Genero'!#REF!","v":{"$error":"#REF!"}},"Hombre","00-04",{"$f":"'Pob x Genero'!#REF!","v":{"$error":"#REF!"}},1447]
[{"$f":"'Pob x Genero'!#REF!","v":{"$error":"#REF!"}},{"$f":"'Pob x Genero'!#REF!","v":{"$error":"#REF!"}},{"$f":"'Pob x Genero'!#REF!","v":{"$error":"#REF!"}},{"$f":"'Pob x Genero'!#REF!","v":{"$error":"#REF!"}},{"$f":"'Pob x Genero'!#REF!","v":{"$error":"#REF!"}},"Hombre","00-04",{"$f":"'Pob x Genero'!#REF!","v":{"$error":"#REF!"}},1448]
[{"$f":"'Pob x Genero'!#REF!","v":{"$error":"#REF!"}},{"$f":"'Pob x Genero'!#REF!","v":{"$error":"#REF!"}},{"$f":"'Pob x Genero'!#REF!","v":{"$error":"#REF!"}},{"$f":"'Pob x Genero'!#REF!","v":{"$error":"#REF!"}},{"$f":"'Pob x Genero'!#REF!","v":{"$error":"#REF!"}},"Hombre","00-04",{"$f":"'Pob x Genero'!#REF!","v":{"$error":"#REF!"}},1449]
[{"$f":"'Pob x Genero'!#REF!","v":{"$error":"#REF!"}},{"$f":"'Pob x Genero'!#REF!","v":{"$error":"#REF!"}},{"$f":"'Pob x Genero'!#REF!","v":{"$error":"#REF!"}},{"$f":"'Pob x Genero'!#REF!","v":{"$error":"#REF!"}},{"$f":"'Pob x Genero'!#REF!","v":{"$error":"#REF!"}},"Hombre","00-04",{"$f":"'Pob x Genero'!#REF!","v":{"$error":"#REF!"}},1450]
[{"$f":"'Pob x Genero'!#REF!","v":{"$error":"#REF!"}},{"$f":"'Pob x Genero'!#REF!","v":{"$error":"#REF!"}},{"$f":"'Pob x Genero'!#REF!","v":{"$error":"#REF!"}},{"$f":"'Pob x Genero'!#REF!","v":{"$error":"#REF!"}},{"$f":"'Pob x Genero'!#REF!","v":{"$error":"#REF!"}},"Hombre","00-04",{"$f":"'Pob x Genero'!#REF!","v":{"$error":"#REF!"}},1451]
[{"$f":"'Pob x Genero'!#REF!","v":{"$error":"#REF!"}},{"$f":"'Pob x Genero'!#REF!","v":{"$error":"#REF!"}},{"$f":"'Pob x Genero'!#REF!","v":{"$error":"#REF!"}},{"$f":"'Pob x Genero'!#REF!","v":{"$error":"#REF!"}},{"$f":"'Pob x Genero'!#REF!","v":{"$error":"#REF!"}},"Hombre","00-04",{"$f":"'Pob x Genero'!#REF!","v":{"$error":"#REF!"}},1452]
[{"$f":"'Pob x Genero'!#REF!","v":{"$error":"#REF!"}},{"$f":"'Pob x Genero'!#REF!","v":{"$error":"#REF!"}},{"$f":"'Pob x Genero'!#REF!","v":{"$error":"#REF!"}},{"$f":"'Pob x Genero'!#REF!","v":{"$error":"#REF!"}},{"$f":"'Pob x Genero'!#REF!","v":{"$error":"#REF!"}},"Hombre","00-04",{"$f":"'Pob x Genero'!#REF!","v":{"$error":"#REF!"}},1453]
[{"$f":"'Pob x Genero'!#REF!","v":{"$error":"#REF!"}},{"$f":"'Pob x Genero'!#REF!","v":{"$error":"#REF!"}},{"$f":"'Pob x Genero'!#REF!","v":{"$error":"#REF!"}},{"$f":"'Pob x Genero'!#REF!","v":{"$error":"#REF!"}},{"$f":"'Pob x Genero'!#REF!","v":{"$error":"#REF!"}},"Hombre","00-04",{"$f":"'Pob x Genero'!#REF!","v":{"$error":"#REF!"}},1454]
[{"$f":"'Pob x Genero'!#REF!","v":{"$error":"#REF!"}},{"$f":"'Pob x Genero'!#REF!","v":{"$error":"#REF!"}},{"$f":"'Pob x Genero'!#REF!","v":{"$error":"#REF!"}},{"$f":"'Pob x Genero'!#REF!","v":{"$error":"#REF!"}},{"$f":"'Pob x Genero'!#REF!","v":{"$error":"#REF!"}},"Hombre","00-04",{"$f":"'Pob x Genero'!#REF!","v":{"$error":"#REF!"}},1455]
[{"$f":"'Pob x Genero'!#REF!","v":{"$error":"#REF!"}},{"$f":"'Pob x Genero'!#REF!","v":{"$error":"#REF!"}},{"$f":"'Pob x Genero'!#REF!","v":{"$error":"#REF!"}},{"$f":"'Pob x Genero'!#REF!","v":{"$error":"#REF!"}},{"$f":"'Pob x Genero'!#REF!","v":{"$error":"#REF!"}},"Hombre","00-04",{"$f":"'Pob x Genero'!#REF!","v":{"$error":"#REF!"}},1456]
[{"$f":"'Pob x Genero'!#REF!","v":{"$error":"#REF!"}},{"$f":"'Pob x Genero'!#REF!","v":{"$error":"#REF!"}},{"$f":"'Pob x Genero'!#REF!","v":{"$error":"#REF!"}},{"$f":"'Pob x Genero'!#REF!","v":{"$error":"#REF!"}},{"$f":"'Pob x Genero'!#REF!","v":{"$error":"#REF!"}},"Hombre","00-04",{"$f":"'Pob x Genero'!#REF!","v":{"$error":"#REF!"}},1457]
[{"$f":"'Pob x Genero'!#REF!","v":{"$error":"#REF!"}},{"$f":"'Pob x Genero'!#REF!","v":{"$error":"#REF!"}},{"$f":"'Pob x Genero'!#REF!","v":{"$error":"#REF!"}},{"$f":"'Pob x Genero'!#REF!","v":{"$error":"#REF!"}},{"$f":"'Pob x Genero'!#REF!","v":{"$error":"#REF!"}},"Hombre","00-04",{"$f":"'Pob x Genero'!#REF!","v":{"$error":"#REF!"}},1458]
[{"$f":"'Pob x Genero'!#REF!","v":{"$error":"#REF!"}},{"$f":"'Pob x Genero'!#REF!","v":{"$error":"#REF!"}},{"$f":"'Pob x Genero'!#REF!","v":{"$error":"#REF!"}},{"$f":"'Pob x Genero'!#REF!","v":{"$error":"#REF!"}},{"$f":"'Pob x Genero'!#REF!","v":{"$error":"#REF!"}},"Hombre","00-04",{"$f":"'Pob x Genero'!#REF!","v":{"$error":"#REF!"}},1459]
[{"$f":"'Pob x Genero'!#REF!","v":{"$error":"#REF!"}},{"$f":"'Pob x Genero'!#REF!","v":{"$error":"#REF!"}},{"$f":"'Pob x Genero'!#REF!","v":{"$error":"#REF!"}},{"$f":"'Pob x Genero'!#REF!","v":{"$error":"#REF!"}},{"$f":"'Pob x Genero'!#REF!","v":{"$error":"#REF!"}},"Hombre","00-04",{"$f":"'Pob x Genero'!#REF!","v":{"$error":"#REF!"}},1460]
[{"$f":"'Pob x Genero'!#REF!","v":{"$error":"#REF!"}},{"$f":"'Pob x Genero'!#REF!","v":{"$error":"#REF!"}},{"$f":"'Pob x Genero'!#REF!","v":{"$error":"#REF!"}},{"$f":"'Pob x Genero'!#REF!","v":{"$error":"#REF!"}},{"$f":"'Pob x Genero'!#REF!","v":{"$error":"#REF!"}},"Hombre","00-04",{"$f":"'Pob x Genero'!#REF!","v":{"$error":"#REF!"}},1461]
[{"$f":"'Pob x Genero'!#REF!","v":{"$error":"#REF!"}},{"$f":"'Pob x Genero'!#REF!","v":{"$error":"#REF!"}},{"$f":"'Pob x Genero'!#REF!","v":{"$error":"#REF!"}},{"$f":"'Pob x Genero'!#REF!","v":{"$error":"#REF!"}},{"$f":"'Pob x Genero'!#REF!","v":{"$error":"#REF!"}},"Hombre","00-04",{"$f":"'Pob x Genero'!#REF!","v":{"$error":"#REF!"}},1462]
[{"$f":"'Pob x Genero'!#REF!","v":{"$error":"#REF!"}},{"$f":"'Pob x Genero'!#REF!","v":{"$error":"#REF!"}},{"$f":"'Pob x Genero'!#REF!","v":{"$error":"#REF!"}},{"$f":"'Pob x Genero'!#REF!","v":{"$error":"#REF!"}},{"$f":"'Pob x Genero'!#REF!","v":{"$error":"#REF!"}},"Hombre","00-04",{"$f":"'Pob x Genero'!#REF!","v":{"$error":"#REF!"}},1463]
[{"$f":"'Pob x Genero'!#REF!","v":{"$error":"#REF!"}},{"$f":"'Pob x Genero'!#REF!","v":{"$error":"#REF!"}},{"$f":"'Pob x Genero'!#REF!","v":{"$error":"#REF!"}},{"$f":"'Pob x Genero'!#REF!","v":{"$error":"#REF!"}},{"$f":"'Pob x Genero'!#REF!","v":{"$error":"#REF!"}},"Hombre","00-04",{"$f":"'Pob x Genero'!#REF!","v":{"$error":"#REF!"}},1464]
[{"$f":"'Pob x Genero'!#REF!","v":{"$error":"#REF!"}},{"$f":"'Pob x Genero'!#REF!","v":{"$error":"#REF!"}},{"$f":"'Pob x Genero'!#REF!","v":{"$error":"#REF!"}},{"$f":"'Pob x Genero'!#REF!","v":{"$error":"#REF!"}},{"$f":"'Pob x Genero'!#REF!","v":{"$error":"#REF!"}},"Hombre","00-04",{"$f":"'Pob x Genero'!#REF!","v":{"$error":"#REF!"}},1465]
[{"$f":"'Pob x Genero'!#REF!","v":{"$error":"#REF!"}},{"$f":"'Pob x Genero'!#REF!","v":{"$error":"#REF!"}},{"$f":"'Pob x Genero'!#REF!","v":{"$error":"#REF!"}},{"$f":"'Pob x Genero'!#REF!","v":{"$error":"#REF!"}},{"$f":"'Pob x Genero'!#REF!","v":{"$error":"#REF!"}},"Hombre","00-04",{"$f":"'Pob x Genero'!#REF!","v":{"$error":"#REF!"}},1466]
[{"$f":"'Pob x Genero'!#REF!","v":{"$error":"#REF!"}},{"$f":"'Pob x Genero'!#REF!","v":{"$error":"#REF!"}},{"$f":"'Pob x Genero'!#REF!","v":{"$error":"#REF!"}},{"$f":"'Pob x Genero'!#REF!","v":{"$error":"#REF!"}},{"$f":"'Pob x Genero'!#REF!","v":{"$error":"#REF!"}},"Hombre","00-04",{"$f":"'Pob x Genero'!#REF!","v":{"$error":"#REF!"}},1467]
[{"$f":"'Pob x Genero'!#REF!","v":{"$error":"#REF!"}},{"$f":"'Pob x Genero'!#REF!","v":{"$error":"#REF!"}},{"$f":"'Pob x Genero'!#REF!","v":{"$error":"#REF!"}},{"$f":"'Pob x Genero'!#REF!","v":{"$error":"#REF!"}},{"$f":"'Pob x Genero'!#REF!","v":{"$error":"#REF!"}},"Hombre","00-04",{"$f":"'Pob x Genero'!#REF!","v":{"$error":"#REF!"}},1468]
[{"$f":"'Pob x Genero'!#REF!","v":{"$error":"#REF!"}},{"$f":"'Pob x Genero'!#REF!","v":{"$error":"#REF!"}},{"$f":"'Pob x Genero'!#REF!","v":{"$error":"#REF!"}},{"$f":"'Pob x Genero'!#REF!","v":{"$error":"#REF!"}},{"$f":"'Pob x Genero'!#REF!","v":{"$error":"#REF!"}},"Hombre","00-04",{"$f":"'Pob x Genero'!#REF!","v":{"$error":"#REF!"}},1469]
[{"$f":"'Pob x Genero'!#REF!","v":{"$error":"#REF!"}},{"$f":"'Pob x Genero'!#REF!","v":{"$error":"#REF!"}},{"$f":"'Pob x Genero'!#REF!","v":{"$error":"#REF!"}},{"$f":"'Pob x Genero'!#REF!","v":{"$error":"#REF!"}},{"$f":"'Pob x Genero'!#REF!","v":{"$error":"#REF!"}},"Hombre","00-04",{"$f":"'Pob x Genero'!#REF!","v":{"$error":"#REF!"}},1470]
[{"$f":"'Pob x Genero'!#REF!","v":{"$error":"#REF!"}},{"$f":"'Pob x Genero'!#REF!","v":{"$error":"#REF!"}},{"$f":"'Pob x Genero'!#REF!","v":{"$error":"#REF!"}},{"$f":"'Pob x Genero'!#REF!","v":{"$error":"#REF!"}},{"$f":"'Pob x Genero'!#REF!","v":{"$error":"#REF!"}},"Hombre","00-04",{"$f":"'Pob x Genero'!#REF!","v":{"$error":"#REF!"}},1471]
[{"$f":"'Pob x Genero'!#REF!","v":{"$error":"#REF!"}},{"$f":"'Pob x Genero'!#REF!","v":{"$error":"#REF!"}},{"$f":"'Pob x Genero'!#REF!","v":{"$error":"#REF!"}},{"$f":"'Pob x Genero'!#REF!","v":{"$error":"#REF!"}},{"$f":"'Pob x Genero'!#REF!","v":{"$error":"#REF!"}},"Hombre","00-04",{"$f":"'Pob x Genero'!#REF!","v":{"$error":"#REF!"}},1472]
[{"$f":"'Pob x Genero'!#REF!","v":{"$error":"#REF!"}},{"$f":"'Pob x Genero'!#REF!","v":{"$error":"#REF!"}},{"$f":"'Pob x Genero'!#REF!","v":{"$error":"#REF!"}},{"$f":"'Pob x Genero'!#REF!","v":{"$error":"#REF!"}},{"$f":"'Pob x Genero'!#REF!","v":{"$error":"#REF!"}},"Hombre","00-04",{"$f":"'Pob x Genero'!#REF!","v":{"$error":"#REF!"}},1473]
[{"$f":"'Pob x Genero'!#REF!","v":{"$error":"#REF!"}},{"$f":"'Pob x Genero'!#REF!","v":{"$error":"#REF!"}},{"$f":"'Pob x Genero'!#REF!","v":{"$error":"#REF!"}},{"$f":"'Pob x Genero'!#REF!","v":{"$error":"#REF!"}},{"$f":"'Pob x Genero'!#REF!","v":{"$error":"#REF!"}},{"$f":"F1474","v":"Hombre"},{"$f":"G1474","v":"00-04"},{"$f":"'Pob x Genero'!#REF!","v":{"$error":"#REF!"}},1474]
[{"$f":"'Pob x Genero'!#REF!","v":{"$error":"#REF!"}},{"$f":"'Pob x Genero'!#REF!","v":{"$error":"#REF!"}},{"$f":"'Pob x Genero'!#REF!","v":{"$error":"#REF!"}},{"$f":"'Pob x Genero'!#REF!","v":{"$error":"#REF!"}},{"$f":"'Pob x Genero'!#REF!","v":{"$error":"#REF!"}},"Hombre","00-04",{"$f":"'Pob x Genero'!#REF!","v":{"$error":"#REF!"}},1475]
[{"$f":"'Pob x Genero'!#REF!","v":{"$error":"#REF!"}},{"$f":"'Pob x Genero'!#REF!","v":{"$error":"#REF!"}},{"$f":"'Pob x Genero'!#REF!","v":{"$error":"#REF!"}},{"$f":"'Pob x Genero'!#REF!","v":{"$error":"#REF!"}},{"$f":"'Pob x Genero'!#REF!","v":{"$error":"#REF!"}},"Hombre","00-04",{"$f":"'Pob x Genero'!#REF!","v":{"$error":"#REF!"}},1476]
[{"$f":"'Pob x Genero'!#REF!","v":{"$error":"#REF!"}},{"$f":"'Pob x Genero'!#REF!","v":{"$error":"#REF!"}},{"$f":"'Pob x Genero'!#REF!","v":{"$error":"#REF!"}},{"$f":"'Pob x Genero'!#REF!","v":{"$error":"#REF!"}},{"$f":"'Pob x Genero'!#REF!","v":{"$error":"#REF!"}},"Hombre","00-04",{"$f":"'Pob x Genero'!#REF!","v":{"$error":"#REF!"}},1477]
[{"$f":"'Pob x Genero'!#REF!","v":{"$error":"#REF!"}},{"$f":"'Pob x Genero'!#REF!","v":{"$error":"#REF!"}},{"$f":"'Pob x Genero'!#REF!","v":{"$error":"#REF!"}},{"$f":"'Pob x Genero'!#REF!","v":{"$error":"#REF!"}},{"$f":"'Pob x Genero'!#REF!","v":{"$error":"#REF!"}},"Hombre","00-04",{"$f":"'Pob x Genero'!#REF!","v":{"$error":"#REF!"}},1478]
[{"$f":"'Pob x Genero'!#REF!","v":{"$error":"#REF!"}},{"$f":"'Pob x Genero'!#REF!","v":{"$error":"#REF!"}},{"$f":"'Pob x Genero'!#REF!","v":{"$error":"#REF!"}},{"$f":"'Pob x Genero'!#REF!","v":{"$error":"#REF!"}},{"$f":"'Pob x Genero'!#REF!","v":{"$error":"#REF!"}},"Hombre","00-04",{"$f":"'Pob x Genero'!#REF!","v":{"$error":"#REF!"}},1479]
[{"$f":"'Pob x Genero'!#REF!","v":{"$error":"#REF!"}},{"$f":"'Pob x Genero'!#REF!","v":{"$error":"#REF!"}},{"$f":"'Pob x Genero'!#REF!","v":{"$error":"#REF!"}},{"$f":"'Pob x Genero'!#REF!","v":{"$error":"#REF!"}},{"$f":"'Pob x Genero'!#REF!","v":{"$error":"#REF!"}},"Hombre","00-04",{"$f":"'Pob x Genero'!#REF!","v":{"$error":"#REF!"}},1480]
[{"$f":"'Pob x Genero'!#REF!","v":{"$error":"#REF!"}},{"$f":"'Pob x Genero'!#REF!","v":{"$error":"#REF!"}},{"$f":"'Pob x Genero'!#REF!","v":{"$error":"#REF!"}},{"$f":"'Pob x Genero'!#REF!","v":{"$error":"#REF!"}},{"$f":"'Pob x Genero'!#REF!","v":{"$error":"#REF!"}},"Hombre","00-04",{"$f":"'Pob x Genero'!#REF!","v":{"$error":"#REF!"}},1481]
[{"$f":"'Pob x Genero'!#REF!","v":{"$error":"#REF!"}},{"$f":"'Pob x Genero'!#REF!","v":{"$error":"#REF!"}},{"$f":"'Pob x Genero'!#REF!","v":{"$error":"#REF!"}},{"$f":"'Pob x Genero'!#REF!","v":{"$error":"#REF!"}},{"$f":"'Pob x Genero'!#REF!","v":{"$error":"#REF!"}},"Hombre","00-04",{"$f":"'Pob x Genero'!#REF!","v":{"$error":"#REF!"}},1482]
[{"$f":"'Pob x Genero'!#REF!","v":{"$error":"#REF!"}},{"$f":"'Pob x Genero'!#REF!","v":{"$error":"#REF!"}},{"$f":"'Pob x Genero'!#REF!","v":{"$error":"#REF!"}},{"$f":"'Pob x Genero'!#REF!","v":{"$error":"#REF!"}},{"$f":"'Pob x Genero'!#REF!","v":{"$error":"#REF!"}},"Hombre","00-04",{"$f":"'Pob x Genero'!#REF!","v":{"$error":"#REF!"}},1483]
[{"$f":"'Pob x Genero'!#REF!","v":{"$error":"#REF!"}},{"$f":"'Pob x Genero'!#REF!","v":{"$error":"#REF!"}},{"$f":"'Pob x Genero'!#REF!","v":{"$error":"#REF!"}},{"$f":"'Pob x Genero'!#REF!","v":{"$error":"#REF!"}},{"$f":"'Pob x Genero'!#REF!","v":{"$error":"#REF!"}},"Hombre","00-04",{"$f":"'Pob x Genero'!#REF!","v":{"$error":"#REF!"}},1484]
[{"$f":"'Pob x Genero'!#REF!","v":{"$error":"#REF!"}},{"$f":"'Pob x Genero'!#REF!","v":{"$error":"#REF!"}},{"$f":"'Pob x Genero'!#REF!","v":{"$error":"#REF!"}},{"$f":"'Pob x Genero'!#REF!","v":{"$error":"#REF!"}},{"$f":"'Pob x Genero'!#REF!","v":{"$error":"#REF!"}},"Hombre","00-04",{"$f":"'Pob x Genero'!#REF!","v":{"$error":"#REF!"}},1485]
[{"$f":"'Pob x Genero'!#REF!","v":{"$error":"#REF!"}},{"$f":"'Pob x Genero'!#REF!","v":{"$error":"#REF!"}},{"$f":"'Pob x Genero'!#REF!","v":{"$error":"#REF!"}},{"$f":"'Pob x Genero'!#REF!","v":{"$error":"#REF!"}},{"$f":"'Pob x Genero'!#REF!","v":{"$error":"#REF!"}},"Hombre","00-04",{"$f":"'Pob x Genero'!#REF!","v":{"$error":"#REF!"}},1486]
[{"$f":"'Pob x Genero'!#REF!","v":{"$error":"#REF!"}},{"$f":"'Pob x Genero'!#REF!","v":{"$error":"#REF!"}},{"$f":"'Pob x Genero'!#REF!","v":{"$error":"#REF!"}},{"$f":"'Pob x Genero'!#REF!","v":{"$error":"#REF!"}},{"$f":"'Pob x Genero'!#REF!","v":{"$error":"#REF!"}},"Hombre","00-04",{"$f":"'Pob x Genero'!#REF!","v":{"$error":"#REF!"}},1487]
[{"$f":"'Pob x Genero'!#REF!","v":{"$error":"#REF!"}},{"$f":"'Pob x Genero'!#REF!","v":{"$error":"#REF!"}},{"$f":"'Pob x Genero'!#REF!","v":{"$error":"#REF!"}},{"$f":"'Pob x Genero'!#REF!","v":{"$error":"#REF!"}},{"$f":"'Pob x Genero'!#REF!","v":{"$error":"#REF!"}},"Hombre","00-04",{"$f":"'Pob x Genero'!#REF!","v":{"$error":"#REF!"}},1488]
[{"$f":"'Pob x Genero'!#REF!","v":{"$error":"#REF!"}},{"$f":"'Pob x Genero'!#REF!","v":{"$error":"#REF!"}},{"$f":"'Pob x Genero'!#REF!","v":{"$error":"#REF!"}},{"$f":"'Pob x Genero'!#REF!","v":{"$error":"#REF!"}},{"$f":"'Pob x Genero'!#REF!","v":{"$error":"#REF!"}},"Hombre","00-04",{"$f":"'Pob x Genero'!#REF!","v":{"$error":"#REF!"}},1489]
[{"$f":"'Pob x Genero'!#REF!","v":{"$error":"#REF!"}},{"$f":"'Pob x Genero'!#REF!","v":{"$error":"#REF!"}},{"$f":"'Pob x Genero'!#REF!","v":{"$error":"#REF!"}},{"$f":"'Pob x Genero'!#REF!","v":{"$error":"#REF!"}},{"$f":"'Pob x Genero'!#REF!","v":{"$error":"#REF!"}},"Hombre","00-04",{"$f":"'Pob x Genero'!#REF!","v":{"$error":"#REF!"}},1490]
[{"$f":"'Pob x Genero'!#REF!","v":{"$error":"#REF!"}},{"$f":"'Pob x Genero'!#REF!","v":{"$error":"#REF!"}},{"$f":"'Pob x Genero'!#REF!","v":{"$error":"#REF!"}},{"$f":"'Pob x Genero'!#REF!","v":{"$error":"#REF!"}},{"$f":"'Pob x Genero'!#REF!","v":{"$error":"#REF!"}},"Hombre","00-04",{"$f":"'Pob x Genero'!#REF!","v":{"$error":"#REF!"}},1491]
[{"$f":"'Pob x Genero'!#REF!","v":{"$error":"#REF!"}},{"$f":"'Pob x Genero'!#REF!","v":{"$error":"#REF!"}},{"$f":"'Pob x Genero'!#REF!","v":{"$error":"#REF!"}},{"$f":"'Pob x Genero'!#REF!","v":{"$error":"#REF!"}},{"$f":"'Pob x Genero'!#REF!","v":{"$error":"#REF!"}},"Hombre","00-04",{"$f":"'Pob x Genero'!#REF!","v":{"$error":"#REF!"}},1492]
[{"$f":"'Pob x Genero'!#REF!","v":{"$error":"#REF!"}},{"$f":"'Pob x Genero'!#REF!","v":{"$error":"#REF!"}},{"$f":"'Pob x Genero'!#REF!","v":{"$error":"#REF!"}},{"$f":"'Pob x Genero'!#REF!","v":{"$error":"#REF!"}},{"$f":"'Pob x Genero'!#REF!","v":{"$error":"#REF!"}},"Hombre","00-04",{"$f":"'Pob x Genero'!#REF!","v":{"$error":"#REF!"}},1493]
[{"$f":"'Pob x Genero'!#REF!","v":{"$error":"#REF!"}},{"$f":"'Pob x Genero'!#REF!","v":{"$error":"#REF!"}},{"$f":"'Pob x Genero'!#REF!","v":{"$error":"#REF!"}},{"$f":"'Pob x Genero'!#REF!","v":{"$error":"#REF!"}},{"$f":"'Pob x Genero'!#REF!","v":{"$error":"#REF!"}},"Hombre","00-04",{"$f":"'Pob x Genero'!#REF!","v":{"$error":"#REF!"}},1494]
[{"$f":"'Pob x Genero'!#REF!","v":{"$error":"#REF!"}},{"$f":"'Pob x Genero'!#REF!","v":{"$error":"#REF!"}},{"$f":"'Pob x Genero'!#REF!","v":{"$error":"#REF!"}},{"$f":"'Pob x Genero'!#REF!","v":{"$error":"#REF!"}},{"$f":"'Pob x Genero'!#REF!","v":{"$error":"#REF!"}},"Hombre","00-04",{"$f":"'Pob x Genero'!#REF!","v":{"$error":"#REF!"}},1495]
[{"$f":"'Pob x Genero'!#REF!","v":{"$error":"#REF!"}},{"$f":"'Pob x Genero'!#REF!","v":{"$error":"#REF!"}},{"$f":"'Pob x Genero'!#REF!","v":{"$error":"#REF!"}},{"$f":"'Pob x Genero'!#REF!","v":{"$error":"#REF!"}},{"$f":"'Pob x Genero'!#REF!","v":{"$error":"#REF!"}},"Hombre","00-04",{"$f":"'Pob x Genero'!#REF!","v":{"$error":"#REF!"}},1496]
[{"$f":"'Pob x Genero'!#REF!","v":{"$error":"#REF!"}},{"$f":"'Pob x Genero'!#REF!","v":{"$error":"#REF!"}},{"$f":"'Pob x Genero'!#REF!","v":{"$error":"#REF!"}},{"$f":"'Pob x Genero'!#REF!","v":{"$error":"#REF!"}},{"$f":"'Pob x Genero'!#REF!","v":{"$error":"#REF!"}},"Hombre","00-04",{"$f":"'Pob x Genero'!#REF!","v":{"$error":"#REF!"}},1497]
[{"$f":"'Pob x Genero'!#REF!","v":{"$error":"#REF!"}},{"$f":"'Pob x Genero'!#REF!","v":{"$error":"#REF!"}},{"$f":"'Pob x Genero'!#REF!","v":{"$error":"#REF!"}},{"$f":"'Pob x Genero'!#REF!","v":{"$error":"#REF!"}},{"$f":"'Pob x Genero'!#REF!","v":{"$error":"#REF!"}},"Hombre","00-04",{"$f":"'Pob x Genero'!#REF!","v":{"$error":"#REF!"}},1498]
[{"$f":"'Pob x Genero'!#REF!","v":{"$error":"#REF!"}},{"$f":"'Pob x Genero'!#REF!","v":{"$error":"#REF!"}},{"$f":"'Pob x Genero'!#REF!","v":{"$error":"#REF!"}},{"$f":"'Pob x Genero'!#REF!","v":{"$error":"#REF!"}},{"$f":"'Pob x Genero'!#REF!","v":{"$error":"#REF!"}},"Hombre","00-04",{"$f":"'Pob x Genero'!#REF!","v":{"$error":"#REF!"}},1499]
[{"$f":"'Pob x Genero'!#REF!","v":{"$error":"#REF!"}},{"$f":"'Pob x Genero'!#REF!","v":{"$error":"#REF!"}},{"$f":"'Pob x Genero'!#REF!","v":{"$error":"#REF!"}},{"$f":"'Pob x Genero'!#REF!","v":{"$error":"#REF!"}},{"$f":"'Pob x Genero'!#REF!","v":{"$error":"#REF!"}},"Hombre","00-04",{"$f":"'Pob x Genero'!#REF!","v":{"$error":"#REF!"}},1500]
[{"$f":"'Pob x Genero'!#REF!","v":{"$error":"#REF!"}},{"$f":"'Pob x Genero'!#REF!","v":{"$error":"#REF!"}},{"$f":"'Pob x Genero'!#REF!","v":{"$error":"#REF!"}},{"$f":"'Pob x Genero'!#REF!","v":{"$error":"#REF!"}},{"$f":"'Pob x Genero'!#REF!","v":{"$error":"#REF!"}},"Hombre","00-04",{"$f":"'Pob x Genero'!#REF!","v":{"$error":"#REF!"}},1501]
[{"$f":"'Pob x Genero'!#REF!","v":{"$error":"#REF!"}},{"$f":"'Pob x Genero'!#REF!","v":{"$error":"#REF!"}},{"$f":"'Pob x Genero'!#REF!","v":{"$error":"#REF!"}},{"$f":"'Pob x Genero'!#REF!","v":{"$error":"#REF!"}},{"$f":"'Pob x Genero'!#REF!","v":{"$error":"#REF!"}},"Hombre","00-04",{"$f":"'Pob x Genero'!#REF!","v":{"$error":"#REF!"}},1502]
[{"$f":"'Pob x Genero'!#REF!","v":{"$error":"#REF!"}},{"$f":"'Pob x Genero'!#REF!","v":{"$error":"#REF!"}},{"$f":"'Pob x Genero'!#REF!","v":{"$error":"#REF!"}},{"$f":"'Pob x Genero'!#REF!","v":{"$error":"#REF!"}},{"$f":"'Pob x Genero'!#REF!","v":{"$error":"#REF!"}},"Hombre","00-04",{"$f":"'Pob x Genero'!#REF!","v":{"$error":"#REF!"}},1503]
[{"$f":"'Pob x Genero'!#REF!","v":{"$error":"#REF!"}},{"$f":"'Pob x Genero'!#REF!","v":{"$error":"#REF!"}},{"$f":"'Pob x Genero'!#REF!","v":{"$error":"#REF!"}},{"$f":"'Pob x Genero'!#REF!","v":{"$error":"#REF!"}},{"$f":"'Pob x Genero'!#REF!","v":{"$error":"#REF!"}},"Hombre","00-04",{"$f":"'Pob x Genero'!#REF!","v":{"$error":"#REF!"}},1504]
[{"$f":"'Pob x Genero'!#REF!","v":{"$error":"#REF!"}},{"$f":"'Pob x Genero'!#REF!","v":{"$error":"#REF!"}},{"$f":"'Pob x Genero'!#REF!","v":{"$error":"#REF!"}},{"$f":"'Pob x Genero'!#REF!","v":{"$error":"#REF!"}},{"$f":"'Pob x Genero'!#REF!","v":{"$error":"#REF!"}},"Hombre","00-04",{"$f":"'Pob x Genero'!#REF!","v":{"$error":"#REF!"}},1505]
[{"$f":"'Pob x Genero'!#REF!","v":{"$error":"#REF!"}},{"$f":"'Pob x Genero'!#REF!","v":{"$error":"#REF!"}},{"$f":"'Pob x Genero'!#REF!","v":{"$error":"#REF!"}},{"$f":"'Pob x Genero'!#REF!","v":{"$error":"#REF!"}},{"$f":"'Pob x Genero'!#REF!","v":{"$error":"#REF!"}},"Hombre","00-04",{"$f":"'Pob x Genero'!#REF!","v":{"$error":"#REF!"}},1506]
[{"$f":"'Pob x Genero'!#REF!","v":{"$error":"#REF!"}},{"$f":"'Pob x Genero'!#REF!","v":{"$error":"#REF!"}},{"$f":"'Pob x Genero'!#REF!","v":{"$error":"#REF!"}},{"$f":"'Pob x Genero'!#REF!","v":{"$error":"#REF!"}},{"$f":"'Pob x Genero'!#REF!","v":{"$error":"#REF!"}},"Hombre","00-04",{"$f":"'Pob x Genero'!#REF!","v":{"$error":"#REF!"}},1507]
[{"$f":"'Pob x Genero'!#REF!","v":{"$error":"#REF!"}},{"$f":"'Pob x Genero'!#REF!","v":{"$error":"#REF!"}},{"$f":"'Pob x Genero'!#REF!","v":{"$error":"#REF!"}},{"$f":"'Pob x Genero'!#REF!","v":{"$error":"#REF!"}},{"$f":"'Pob x Genero'!#REF!","v":{"$error":"#REF!"}},"Hombre","00-04",{"$f":"'Pob x Genero'!#REF!","v":{"$error":"#REF!"}},1508]
[{"$f":"'Pob x Genero'!#REF!","v":{"$error":"#REF!"}},{"$f":"'Pob x Genero'!#REF!","v":{"$error":"#REF!"}},{"$f":"'Pob x Genero'!#REF!","v":{"$error":"#REF!"}},{"$f":"'Pob x Genero'!#REF!","v":{"$error":"#REF!"}},{"$f":"'Pob x Genero'!#REF!","v":{"$error":"#REF!"}},"Hombre","00-04",{"$f":"'Pob x Genero'!#REF!","v":{"$error":"#REF!"}},1509]
[{"$f":"'Pob x Genero'!#REF!","v":{"$error":"#REF!"}},{"$f":"'Pob x Genero'!#REF!","v":{"$error":"#REF!"}},{"$f":"'Pob x Genero'!#REF!","v":{"$error":"#REF!"}},{"$f":"'Pob x Genero'!#REF!","v":{"$error":"#REF!"}},{"$f":"'Pob x Genero'!#REF!","v":{"$error":"#REF!"}},"Hombre","00-04",{"$f":"'Pob x Genero'!#REF!","v":{"$error":"#REF!"}},1510]
[{"$f":"'Pob x Genero'!#REF!","v":{"$error":"#REF!"}},{"$f":"'Pob x Genero'!#REF!","v":{"$error":"#REF!"}},{"$f":"'Pob x Genero'!#REF!","v":{"$error":"#REF!"}},{"$f":"'Pob x Genero'!#REF!","v":{"$error":"#REF!"}},{"$f":"'Pob x Genero'!#REF!","v":{"$error":"#REF!"}},"Hombre","00-04",{"$f":"'Pob x Genero'!#REF!","v":{"$error":"#REF!"}},1511]
[{"$f":"'Pob x Genero'!#REF!","v":{"$error":"#REF!"}},{"$f":"'Pob x Genero'!#REF!","v":{"$error":"#REF!"}},{"$f":"'Pob x Genero'!#REF!","v":{"$error":"#REF!"}},{"$f":"'Pob x Genero'!#REF!","v":{"$error":"#REF!"}},{"$f":"'Pob x Genero'!#REF!","v":{"$error":"#REF!"}},"Hombre","00-04",{"$f":"'Pob x Genero'!#REF!","v":{"$error":"#REF!"}},1512]
[{"$f":"'Pob x Genero'!#REF!","v":{"$error":"#REF!"}},{"$f":"'Pob x Genero'!#REF!","v":{"$error":"#REF!"}},{"$f":"'Pob x Genero'!#REF!","v":{"$error":"#REF!"}},{"$f":"'Pob x Genero'!#REF!","v":{"$error":"#REF!"}},{"$f":"'Pob x Genero'!#REF!","v":{"$error":"#REF!"}},"Hombre","00-04",{"$f":"'Pob x Genero'!#REF!","v":{"$error":"#REF!"}},1513]
[{"$f":"'Pob x Genero'!#REF!","v":{"$error":"#REF!"}},{"$f":"'Pob x Genero'!#REF!","v":{"$error":"#REF!"}},{"$f":"'Pob x Genero'!#REF!","v":{"$error":"#REF!"}},{"$f":"'Pob x Genero'!#REF!","v":{"$error":"#REF!"}},{"$f":"'Pob x Genero'!#REF!","v":{"$error":"#REF!"}},"Hombre","00-04",{"$f":"'Pob x Genero'!#REF!","v":{"$error":"#REF!"}},1514]
[{"$f":"'Pob x Genero'!#REF!","v":{"$error":"#REF!"}},{"$f":"'Pob x Genero'!#REF!","v":{"$error":"#REF!"}},{"$f":"'Pob x Genero'!#REF!","v":{"$error":"#REF!"}},{"$f":"'Pob x Genero'!#REF!","v":{"$error":"#REF!"}},{"$f":"'Pob x Genero'!#REF!","v":{"$error":"#REF!"}},"Hombre","00-04",{"$f":"'Pob x Genero'!#REF!","v":{"$error":"#REF!"}},1515]
[{"$f":"'Pob x Genero'!#REF!","v":{"$error":"#REF!"}},{"$f":"'Pob x Genero'!#REF!","v":{"$error":"#REF!"}},{"$f":"'Pob x Genero'!#REF!","v":{"$error":"#REF!"}},{"$f":"'Pob x Genero'!#REF!","v":{"$error":"#REF!"}},{"$f":"'Pob x Genero'!#REF!","v":{"$error":"#REF!"}},"Hombre","00-04",{"$f":"'Pob x Genero'!#REF!","v":{"$error":"#REF!"}},1516]
[{"$f":"'Pob x Genero'!#REF!","v":{"$error":"#REF!"}},{"$f":"'Pob x Genero'!#REF!","v":{"$error":"#REF!"}},{"$f":"'Pob x Genero'!#REF!","v":{"$error":"#REF!"}},{"$f":"'Pob x Genero'!#REF!","v":{"$error":"#REF!"}},{"$f":"'Pob x Genero'!#REF!","v":{"$error":"#REF!"}},"Hombre","00-04",{"$f":"'Pob x Genero'!#REF!","v":{"$error":"#REF!"}},1517]
[{"$f":"'Pob x Genero'!#REF!","v":{"$error":"#REF!"}},{"$f":"'Pob x Genero'!#REF!","v":{"$error":"#REF!"}},{"$f":"'Pob x Genero'!#REF!","v":{"$error":"#REF!"}},{"$f":"'Pob x Genero'!#REF!","v":{"$error":"#REF!"}},{"$f":"'Pob x Genero'!#REF!","v":{"$error":"#REF!"}},"Hombre","00-04",{"$f":"'Pob x Genero'!#REF!","v":{"$error":"#REF!"}},1518]
[{"$f":"'Pob x Genero'!#REF!","v":{"$error":"#REF!"}},{"$f":"'Pob x Genero'!#REF!","v":{"$error":"#REF!"}},{"$f":"'Pob x Genero'!#REF!","v":{"$error":"#REF!"}},{"$f":"'Pob x Genero'!#REF!","v":{"$error":"#REF!"}},{"$f":"'Pob x Genero'!#REF!","v":{"$error":"#REF!"}},"Hombre","00-04",{"$f":"'Pob x Genero'!#REF!","v":{"$error":"#REF!"}},1519]
[{"$f":"'Pob x Genero'!#REF!","v":{"$error":"#REF!"}},{"$f":"'Pob x Genero'!#REF!","v":{"$error":"#REF!"}},{"$f":"'Pob x Genero'!#REF!","v":{"$error":"#REF!"}},{"$f":"'Pob x Genero'!#REF!","v":{"$error":"#REF!"}},{"$f":"'Pob x Genero'!#REF!","v":{"$error":"#REF!"}},"Hombre","00-04",{"$f":"'Pob x Genero'!#REF!","v":{"$error":"#REF!"}},1520]
[{"$f":"'Pob x Genero'!#REF!","v":{"$error":"#REF!"}},{"$f":"'Pob x Genero'!#REF!","v":{"$error":"#REF!"}},{"$f":"'Pob x Genero'!#REF!","v":{"$error":"#REF!"}},{"$f":"'Pob x Genero'!#REF!","v":{"$error":"#REF!"}},{"$f":"'Pob x Genero'!#REF!","v":{"$error":"#REF!"}},"Hombre","00-04",{"$f":"'Pob x Genero'!#REF!","v":{"$error":"#REF!"}},1521]
[{"$f":"'Pob x Genero'!#REF!","v":{"$error":"#REF!"}},{"$f":"'Pob x Genero'!#REF!","v":{"$error":"#REF!"}},{"$f":"'Pob x Genero'!#REF!","v":{"$error":"#REF!"}},{"$f":"'Pob x Genero'!#REF!","v":{"$error":"#REF!"}},{"$f":"'Pob x Genero'!#REF!","v":{"$error":"#REF!"}},"Hombre","00-04",{"$f":"'Pob x Genero'!#REF!","v":{"$error":"#REF!"}},1522]
[{"$f":"'Pob x Genero'!#REF!","v":{"$error":"#REF!"}},{"$f":"'Pob x Genero'!#REF!","v":{"$error":"#REF!"}},{"$f":"'Pob x Genero'!#REF!","v":{"$error":"#REF!"}},{"$f":"'Pob x Genero'!#REF!","v":{"$error":"#REF!"}},{"$f":"'Pob x Genero'!#REF!","v":{"$error":"#REF!"}},"Hombre","00-04",{"$f":"'Pob x Genero'!#REF!","v":{"$error":"#REF!"}},1523]
[{"$f":"'Pob x Genero'!#REF!","v":{"$error":"#REF!"}},{"$f":"'Pob x Genero'!#REF!","v":{"$error":"#REF!"}},{"$f":"'Pob x Genero'!#REF!","v":{"$error":"#REF!"}},{"$f":"'Pob x Genero'!#REF!","v":{"$error":"#REF!"}},{"$f":"'Pob x Genero'!#REF!","v":{"$error":"#REF!"}},"Hombre","00-04",{"$f":"'Pob x Genero'!#REF!","v":{"$error":"#REF!"}},1524]
[{"$f":"'Pob x Genero'!#REF!","v":{"$error":"#REF!"}},{"$f":"'Pob x Genero'!#REF!","v":{"$error":"#REF!"}},{"$f":"'Pob x Genero'!#REF!","v":{"$error":"#REF!"}},{"$f":"'Pob x Genero'!#REF!","v":{"$error":"#REF!"}},{"$f":"'Pob x Genero'!#REF!","v":{"$error":"#REF!"}},"Hombre","00-04",{"$f":"'Pob x Genero'!#REF!","v":{"$error":"#REF!"}},1525]
[{"$f":"'Pob x Genero'!#REF!","v":{"$error":"#REF!"}},{"$f":"'Pob x Genero'!#REF!","v":{"$error":"#REF!"}},{"$f":"'Pob x Genero'!#REF!","v":{"$error":"#REF!"}},{"$f":"'Pob x Genero'!#REF!","v":{"$error":"#REF!"}},{"$f":"'Pob x Genero'!#REF!","v":{"$error":"#REF!"}},"Hombre","00-04",{"$f":"'Pob x Genero'!#REF!","v":{"$error":"#REF!"}},1526]
[{"$f":"'Pob x Genero'!#REF!","v":{"$error":"#REF!"}},{"$f":"'Pob x Genero'!#REF!","v":{"$error":"#REF!"}},{"$f":"'Pob x Genero'!#REF!","v":{"$error":"#REF!"}},{"$f":"'Pob x Genero'!#REF!","v":{"$error":"#REF!"}},{"$f":"'Pob x Genero'!#REF!","v":{"$error":"#REF!"}},"Hombre","00-04",{"$f":"'Pob x Genero'!#REF!","v":{"$error":"#REF!"}},1527]
[{"$f":"'Pob x Genero'!#REF!","v":{"$error":"#REF!"}},{"$f":"'Pob x Genero'!#REF!","v":{"$error":"#REF!"}},{"$f":"'Pob x Genero'!#REF!","v":{"$error":"#REF!"}},{"$f":"'Pob x Genero'!#REF!","v":{"$error":"#REF!"}},{"$f":"'Pob x Genero'!#REF!","v":{"$error":"#REF!"}},"Hombre","00-04",{"$f":"'Pob x Genero'!#REF!","v":{"$error":"#REF!"}},1528]
[{"$f":"'Pob x Genero'!#REF!","v":{"$error":"#REF!"}},{"$f":"'Pob x Genero'!#REF!","v":{"$error":"#REF!"}},{"$f":"'Pob x Genero'!#REF!","v":{"$error":"#REF!"}},{"$f":"'Pob x Genero'!#REF!","v":{"$error":"#REF!"}},{"$f":"'Pob x Genero'!#REF!","v":{"$error":"#REF!"}},"Hombre","00-04",{"$f":"'Pob x Genero'!#REF!","v":{"$error":"#REF!"}},1529]
[{"$f":"'Pob x Genero'!#REF!","v":{"$error":"#REF!"}},{"$f":"'Pob x Genero'!#REF!","v":{"$error":"#REF!"}},{"$f":"'Pob x Genero'!#REF!","v":{"$error":"#REF!"}},{"$f":"'Pob x Genero'!#REF!","v":{"$error":"#REF!"}},{"$f":"'Pob x Genero'!#REF!","v":{"$error":"#REF!"}},"Hombre","00-04",{"$f":"'Pob x Genero'!#REF!","v":{"$error":"#REF!"}},1530]
[{"$f":"'Pob x Genero'!#REF!","v":{"$error":"#REF!"}},{"$f":"'Pob x Genero'!#REF!","v":{"$error":"#REF!"}},{"$f":"'Pob x Genero'!#REF!","v":{"$error":"#REF!"}},{"$f":"'Pob x Genero'!#REF!","v":{"$error":"#REF!"}},{"$f":"'Pob x Genero'!#REF!","v":{"$error":"#REF!"}},"Hombre","00-04",{"$f":"'Pob x Genero'!#REF!","v":{"$error":"#REF!"}},1531]
[{"$f":"'Pob x Genero'!#REF!","v":{"$error":"#REF!"}},{"$f":"'Pob x Genero'!#REF!","v":{"$error":"#REF!"}},{"$f":"'Pob x Genero'!#REF!","v":{"$error":"#REF!"}},{"$f":"'Pob x Genero'!#REF!","v":{"$error":"#REF!"}},{"$f":"'Pob x Genero'!#REF!","v":{"$error":"#REF!"}},"Hombre","00-04",{"$f":"'Pob x Genero'!#REF!","v":{"$error":"#REF!"}},1532]
[{"$f":"'Pob x Genero'!#REF!","v":{"$error":"#REF!"}},{"$f":"'Pob x Genero'!#REF!","v":{"$error":"#REF!"}},{"$f":"'Pob x Genero'!#REF!","v":{"$error":"#REF!"}},{"$f":"'Pob x Genero'!#REF!","v":{"$error":"#REF!"}},{"$f":"'Pob x Genero'!#REF!","v":{"$error":"#REF!"}},"Hombre","00-04",{"$f":"'Pob x Genero'!#REF!","v":{"$error":"#REF!"}},1533]
[{"$f":"'Pob x Genero'!#REF!","v":{"$error":"#REF!"}},{"$f":"'Pob x Genero'!#REF!","v":{"$error":"#REF!"}},{"$f":"'Pob x Genero'!#REF!","v":{"$error":"#REF!"}},{"$f":"'Pob x Genero'!#REF!","v":{"$error":"#REF!"}},{"$f":"'Pob x Genero'!#REF!","v":{"$error":"#REF!"}},"Hombre","00-04",{"$f":"'Pob x Genero'!#REF!","v":{"$error":"#REF!"}},1534]
[{"$f":"'Pob x Genero'!#REF!","v":{"$error":"#REF!"}},{"$f":"'Pob x Genero'!#REF!","v":{"$error":"#REF!"}},{"$f":"'Pob x Genero'!#REF!","v":{"$error":"#REF!"}},{"$f":"'Pob x Genero'!#REF!","v":{"$error":"#REF!"}},{"$f":"'Pob x Genero'!#REF!","v":{"$error":"#REF!"}},"Hombre","00-04",{"$f":"'Pob x Genero'!#REF!","v":{"$error":"#REF!"}},1535]
[{"$f":"'Pob x Genero'!#REF!","v":{"$error":"#REF!"}},{"$f":"'Pob x Genero'!#REF!","v":{"$error":"#REF!"}},{"$f":"'Pob x Genero'!#REF!","v":{"$error":"#REF!"}},{"$f":"'Pob x Genero'!#REF!","v":{"$error":"#REF!"}},{"$f":"'Pob x Genero'!#REF!","v":{"$error":"#REF!"}},"Hombre","00-04",{"$f":"'Pob x Genero'!#REF!","v":{"$error":"#REF!"}},1536]
[{"$f":"'Pob x Genero'!#REF!","v":{"$error":"#REF!"}},{"$f":"'Pob x Genero'!#REF!","v":{"$error":"#REF!"}},{"$f":"'Pob x Genero'!#REF!","v":{"$error":"#REF!"}},{"$f":"'Pob x Genero'!#REF!","v":{"$error":"#REF!"}},{"$f":"'Pob x Genero'!#REF!","v":{"$error":"#REF!"}},"Hombre","00-04",{"$f":"'Pob x Genero'!#REF!","v":{"$error":"#REF!"}},1537]
[{"$f":"'Pob x Genero'!#REF!","v":{"$error":"#REF!"}},{"$f":"'Pob x Genero'!#REF!","v":{"$error":"#REF!"}},{"$f":"'Pob x Genero'!#REF!","v":{"$error":"#REF!"}},{"$f":"'Pob x Genero'!#REF!","v":{"$error":"#REF!"}},{"$f":"'Pob x Genero'!#REF!","v":{"$error":"#REF!"}},{"$f":"F1538","v":"Hombre"},{"$f":"G1538","v":"00-04"},{"$f":"'Pob x Genero'!#REF!","v":{"$error":"#REF!"}},1538]
[{"$f":"'Pob x Genero'!#REF!","v":{"$error":"#REF!"}},{"$f":"'Pob x Genero'!#REF!","v":{"$error":"#REF!"}},{"$f":"'Pob x Genero'!#REF!","v":{"$error":"#REF!"}},{"$f":"'Pob x Genero'!#REF!","v":{"$error":"#REF!"}},{"$f":"'Pob x Genero'!#REF!","v":{"$error":"#REF!"}},"Hombre","00-04",{"$f":"'Pob x Genero'!#REF!","v":{"$error":"#REF!"}},1539]
[{"$f":"'Pob x Genero'!#REF!","v":{"$error":"#REF!"}},{"$f":"'Pob x Genero'!#REF!","v":{"$error":"#REF!"}},{"$f":"'Pob x Genero'!#REF!","v":{"$error":"#REF!"}},{"$f":"'Pob x Genero'!#REF!","v":{"$error":"#REF!"}},{"$f":"'Pob x Genero'!#REF!","v":{"$error":"#REF!"}},"Hombre","00-04",{"$f":"'Pob x Genero'!#REF!","v":{"$error":"#REF!"}},1540]
[{"$f":"'Pob x Genero'!#REF!","v":{"$error":"#REF!"}},{"$f":"'Pob x Genero'!#REF!","v":{"$error":"#REF!"}},{"$f":"'Pob x Genero'!#REF!","v":{"$error":"#REF!"}},{"$f":"'Pob x Genero'!#REF!","v":{"$error":"#REF!"}},{"$f":"'Pob x Genero'!#REF!","v":{"$error":"#REF!"}},"Hombre","00-04",{"$f":"'Pob x Genero'!#REF!","v":{"$error":"#REF!"}},1541]
[{"$f":"'Pob x Genero'!#REF!","v":{"$error":"#REF!"}},{"$f":"'Pob x Genero'!#REF!","v":{"$error":"#REF!"}},{"$f":"'Pob x Genero'!#REF!","v":{"$error":"#REF!"}},{"$f":"'Pob x Genero'!#REF!","v":{"$error":"#REF!"}},{"$f":"'Pob x Genero'!#REF!","v":{"$error":"#REF!"}},"Hombre","00-04",{"$f":"'Pob x Genero'!#REF!","v":{"$error":"#REF!"}},1542]
[{"$f":"'Pob x Genero'!#REF!","v":{"$error":"#REF!"}},{"$f":"'Pob x Genero'!#REF!","v":{"$error":"#REF!"}},{"$f":"'Pob x Genero'!#REF!","v":{"$error":"#REF!"}},{"$f":"'Pob x Genero'!#REF!","v":{"$error":"#REF!"}},{"$f":"'Pob x Genero'!#REF!","v":{"$error":"#REF!"}},"Hombre","00-04",{"$f":"'Pob x Genero'!#REF!","v":{"$error":"#REF!"}},1543]
[{"$f":"'Pob x Genero'!#REF!","v":{"$error":"#REF!"}},{"$f":"'Pob x Genero'!#REF!","v":{"$error":"#REF!"}},{"$f":"'Pob x Genero'!#REF!","v":{"$error":"#REF!"}},{"$f":"'Pob x Genero'!#REF!","v":{"$error":"#REF!"}},{"$f":"'Pob x Genero'!#REF!","v":{"$error":"#REF!"}},"Hombre","00-04",{"$f":"'Pob x Genero'!#REF!","v":{"$error":"#REF!"}},1544]
[{"$f":"'Pob x Genero'!#REF!","v":{"$error":"#REF!"}},{"$f":"'Pob x Genero'!#REF!","v":{"$error":"#REF!"}},{"$f":"'Pob x Genero'!#REF!","v":{"$error":"#REF!"}},{"$f":"'Pob x Genero'!#REF!","v":{"$error":"#REF!"}},{"$f":"'Pob x Genero'!#REF!","v":{"$error":"#REF!"}},"Hombre","00-04",{"$f":"'Pob x Genero'!#REF!","v":{"$error":"#REF!"}},1545]
[{"$f":"'Pob x Genero'!#REF!","v":{"$error":"#REF!"}},{"$f":"'Pob x Genero'!#REF!","v":{"$error":"#REF!"}},{"$f":"'Pob x Genero'!#REF!","v":{"$error":"#REF!"}},{"$f":"'Pob x Genero'!#REF!","v":{"$error":"#REF!"}},{"$f":"'Pob x Genero'!#REF!","v":{"$error":"#REF!"}},"Hombre","00-04",{"$f":"'Pob x Genero'!#REF!","v":{"$error":"#REF!"}},1546]
[{"$f":"'Pob x Genero'!#REF!","v":{"$error":"#REF!"}},{"$f":"'Pob x Genero'!#REF!","v":{"$error":"#REF!"}},{"$f":"'Pob x Genero'!#REF!","v":{"$error":"#REF!"}},{"$f":"'Pob x Genero'!#REF!","v":{"$error":"#REF!"}},{"$f":"'Pob x Genero'!#REF!","v":{"$error":"#REF!"}},"Hombre","00-04",{"$f":"'Pob x Genero'!#REF!","v":{"$error":"#REF!"}},1547]
[{"$f":"'Pob x Genero'!#REF!","v":{"$error":"#REF!"}},{"$f":"'Pob x Genero'!#REF!","v":{"$error":"#REF!"}},{"$f":"'Pob x Genero'!#REF!","v":{"$error":"#REF!"}},{"$f":"'Pob x Genero'!#REF!","v":{"$error":"#REF!"}},{"$f":"'Pob x Genero'!#REF!","v":{"$error":"#REF!"}},"Hombre","00-04",{"$f":"'Pob x Genero'!#REF!","v":{"$error":"#REF!"}},1548]
[{"$f":"'Pob x Genero'!#REF!","v":{"$error":"#REF!"}},{"$f":"'Pob x Genero'!#REF!","v":{"$error":"#REF!"}},{"$f":"'Pob x Genero'!#REF!","v":{"$error":"#REF!"}},{"$f":"'Pob x Genero'!#REF!","v":{"$error":"#REF!"}},{"$f":"'Pob x Genero'!#REF!","v":{"$error":"#REF!"}},"Hombre","00-04",{"$f":"'Pob x Genero'!#REF!","v":{"$error":"#REF!"}},1549]
[{"$f":"'Pob x Genero'!#REF!","v":{"$error":"#REF!"}},{"$f":"'Pob x Genero'!#REF!","v":{"$error":"#REF!"}},{"$f":"'Pob x Genero'!#REF!","v":{"$error":"#REF!"}},{"$f":"'Pob x Genero'!#REF!","v":{"$error":"#REF!"}},{"$f":"'Pob x Genero'!#REF!","v":{"$error":"#REF!"}},"Hombre","00-04",{"$f":"'Pob x Genero'!#REF!","v":{"$error":"#REF!"}},1550]
[{"$f":"'Pob x Genero'!#REF!","v":{"$error":"#REF!"}},{"$f":"'Pob x Genero'!#REF!","v":{"$error":"#REF!"}},{"$f":"'Pob x Genero'!#REF!","v":{"$error":"#REF!"}},{"$f":"'Pob x Genero'!#REF!","v":{"$error":"#REF!"}},{"$f":"'Pob x Genero'!#REF!","v":{"$error":"#REF!"}},"Hombre","00-04",{"$f":"'Pob x Genero'!#REF!","v":{"$error":"#REF!"}},1551]
[{"$f":"'Pob x Genero'!#REF!","v":{"$error":"#REF!"}},{"$f":"'Pob x Genero'!#REF!","v":{"$error":"#REF!"}},{"$f":"'Pob x Genero'!#REF!","v":{"$error":"#REF!"}},{"$f":"'Pob x Genero'!#REF!","v":{"$error":"#REF!"}},{"$f":"'Pob x Genero'!#REF!","v":{"$error":"#REF!"}},"Hombre","00-04",{"$f":"'Pob x Genero'!#REF!","v":{"$error":"#REF!"}},1552]
[{"$f":"'Pob x Genero'!#REF!","v":{"$error":"#REF!"}},{"$f":"'Pob x Genero'!#REF!","v":{"$error":"#REF!"}},{"$f":"'Pob x Genero'!#REF!","v":{"$error":"#REF!"}},{"$f":"'Pob x Genero'!#REF!","v":{"$error":"#REF!"}},{"$f":"'Pob x Genero'!#REF!","v":{"$error":"#REF!"}},"Hombre","00-04",{"$f":"'Pob x Genero'!#REF!","v":{"$error":"#REF!"}},1553]
[{"$f":"'Pob x Genero'!#REF!","v":{"$error":"#REF!"}},{"$f":"'Pob x Genero'!#REF!","v":{"$error":"#REF!"}},{"$f":"'Pob x Genero'!#REF!","v":{"$error":"#REF!"}},{"$f":"'Pob x Genero'!#REF!","v":{"$error":"#REF!"}},{"$f":"'Pob x Genero'!#REF!","v":{"$error":"#REF!"}},"Hombre","00-04",{"$f":"'Pob x Genero'!#REF!","v":{"$error":"#REF!"}},1554]
[{"$f":"'Pob x Genero'!#REF!","v":{"$error":"#REF!"}},{"$f":"'Pob x Genero'!#REF!","v":{"$error":"#REF!"}},{"$f":"'Pob x Genero'!#REF!","v":{"$error":"#REF!"}},{"$f":"'Pob x Genero'!#REF!","v":{"$error":"#REF!"}},{"$f":"'Pob x Genero'!#REF!","v":{"$error":"#REF!"}},"Hombre","00-04",{"$f":"'Pob x Genero'!#REF!","v":{"$error":"#REF!"}},1555]
[{"$f":"'Pob x Genero'!#REF!","v":{"$error":"#REF!"}},{"$f":"'Pob x Genero'!#REF!","v":{"$error":"#REF!"}},{"$f":"'Pob x Genero'!#REF!","v":{"$error":"#REF!"}},{"$f":"'Pob x Genero'!#REF!","v":{"$error":"#REF!"}},{"$f":"'Pob x Genero'!#REF!","v":{"$error":"#REF!"}},"Hombre","00-04",{"$f":"'Pob x Genero'!#REF!","v":{"$error":"#REF!"}},1556]
[{"$f":"'Pob x Genero'!#REF!","v":{"$error":"#REF!"}},{"$f":"'Pob x Genero'!#REF!","v":{"$error":"#REF!"}},{"$f":"'Pob x Genero'!#REF!","v":{"$error":"#REF!"}},{"$f":"'Pob x Genero'!#REF!","v":{"$error":"#REF!"}},{"$f":"'Pob x Genero'!#REF!","v":{"$error":"#REF!"}},"Hombre","00-04",{"$f":"'Pob x Genero'!#REF!","v":{"$error":"#REF!"}},1557]
[{"$f":"'Pob x Genero'!#REF!","v":{"$error":"#REF!"}},{"$f":"'Pob x Genero'!#REF!","v":{"$error":"#REF!"}},{"$f":"'Pob x Genero'!#REF!","v":{"$error":"#REF!"}},{"$f":"'Pob x Genero'!#REF!","v":{"$error":"#REF!"}},{"$f":"'Pob x Genero'!#REF!","v":{"$error":"#REF!"}},"Hombre","00-04",{"$f":"'Pob x Genero'!#REF!","v":{"$error":"#REF!"}},1558]
[{"$f":"'Pob x Genero'!#REF!","v":{"$error":"#REF!"}},{"$f":"'Pob x Genero'!#REF!","v":{"$error":"#REF!"}},{"$f":"'Pob x Genero'!#REF!","v":{"$error":"#REF!"}},{"$f":"'Pob x Genero'!#REF!","v":{"$error":"#REF!"}},{"$f":"'Pob x Genero'!#REF!","v":{"$error":"#REF!"}},"Hombre","00-04",{"$f":"'Pob x Genero'!#REF!","v":{"$error":"#REF!"}},1559]
[{"$f":"'Pob x Genero'!#REF!","v":{"$error":"#REF!"}},{"$f":"'Pob x Genero'!#REF!","v":{"$error":"#REF!"}},{"$f":"'Pob x Genero'!#REF!","v":{"$error":"#REF!"}},{"$f":"'Pob x Genero'!#REF!","v":{"$error":"#REF!"}},{"$f":"'Pob x Genero'!#REF!","v":{"$error":"#REF!"}},"Hombre","00-04",{"$f":"'Pob x Genero'!#REF!","v":{"$error":"#REF!"}},1560]
[{"$f":"'Pob x Genero'!#REF!","v":{"$error":"#REF!"}},{"$f":"'Pob x Genero'!#REF!","v":{"$error":"#REF!"}},{"$f":"'Pob x Genero'!#REF!","v":{"$error":"#REF!"}},{"$f":"'Pob x Genero'!#REF!","v":{"$error":"#REF!"}},{"$f":"'Pob x Genero'!#REF!","v":{"$error":"#REF!"}},"Hombre","00-04",{"$f":"'Pob x Genero'!#REF!","v":{"$error":"#REF!"}},1561]
[{"$f":"'Pob x Genero'!#REF!","v":{"$error":"#REF!"}},{"$f":"'Pob x Genero'!#REF!","v":{"$error":"#REF!"}},{"$f":"'Pob x Genero'!#REF!","v":{"$error":"#REF!"}},{"$f":"'Pob x Genero'!#REF!","v":{"$error":"#REF!"}},{"$f":"'Pob x Genero'!#REF!","v":{"$error":"#REF!"}},"Hombre","00-04",{"$f":"'Pob x Genero'!#REF!","v":{"$error":"#REF!"}},1562]
[{"$f":"'Pob x Genero'!#REF!","v":{"$error":"#REF!"}},{"$f":"'Pob x Genero'!#REF!","v":{"$error":"#REF!"}},{"$f":"'Pob x Genero'!#REF!","v":{"$error":"#REF!"}},{"$f":"'Pob x Genero'!#REF!","v":{"$error":"#REF!"}},{"$f":"'Pob x Genero'!#REF!","v":{"$error":"#REF!"}},"Hombre","00-04",{"$f":"'Pob x Genero'!#REF!","v":{"$error":"#REF!"}},1563]
[{"$f":"'Pob x Genero'!#REF!","v":{"$error":"#REF!"}},{"$f":"'Pob x Genero'!#REF!","v":{"$error":"#REF!"}},{"$f":"'Pob x Genero'!#REF!","v":{"$error":"#REF!"}},{"$f":"'Pob x Genero'!#REF!","v":{"$error":"#REF!"}},{"$f":"'Pob x Genero'!#REF!","v":{"$error":"#REF!"}},"Hombre","00-04",{"$f":"'Pob x Genero'!#REF!","v":{"$error":"#REF!"}},1564]
[{"$f":"'Pob x Genero'!#REF!","v":{"$error":"#REF!"}},{"$f":"'Pob x Genero'!#REF!","v":{"$error":"#REF!"}},{"$f":"'Pob x Genero'!#REF!","v":{"$error":"#REF!"}},{"$f":"'Pob x Genero'!#REF!","v":{"$error":"#REF!"}},{"$f":"'Pob x Genero'!#REF!","v":{"$error":"#REF!"}},"Hombre","00-04",{"$f":"'Pob x Genero'!#REF!","v":{"$error":"#REF!"}},1565]
[{"$f":"'Pob x Genero'!#REF!","v":{"$error":"#REF!"}},{"$f":"'Pob x Genero'!#REF!","v":{"$error":"#REF!"}},{"$f":"'Pob x Genero'!#REF!","v":{"$error":"#REF!"}},{"$f":"'Pob x Genero'!#REF!","v":{"$error":"#REF!"}},{"$f":"'Pob x Genero'!#REF!","v":{"$error":"#REF!"}},"Hombre","00-04",{"$f":"'Pob x Genero'!#REF!","v":{"$error":"#REF!"}},1566]
[{"$f":"'Pob x Genero'!#REF!","v":{"$error":"#REF!"}},{"$f":"'Pob x Genero'!#REF!","v":{"$error":"#REF!"}},{"$f":"'Pob x Genero'!#REF!","v":{"$error":"#REF!"}},{"$f":"'Pob x Genero'!#REF!","v":{"$error":"#REF!"}},{"$f":"'Pob x Genero'!#REF!","v":{"$error":"#REF!"}},"Hombre","00-04",{"$f":"'Pob x Genero'!#REF!","v":{"$error":"#REF!"}},1567]
[{"$f":"'Pob x Genero'!#REF!","v":{"$error":"#REF!"}},{"$f":"'Pob x Genero'!#REF!","v":{"$error":"#REF!"}},{"$f":"'Pob x Genero'!#REF!","v":{"$error":"#REF!"}},{"$f":"'Pob x Genero'!#REF!","v":{"$error":"#REF!"}},{"$f":"'Pob x Genero'!#REF!","v":{"$error":"#REF!"}},"Hombre","00-04",{"$f":"'Pob x Genero'!#REF!","v":{"$error":"#REF!"}},1568]
[{"$f":"'Pob x Genero'!#REF!","v":{"$error":"#REF!"}},{"$f":"'Pob x Genero'!#REF!","v":{"$error":"#REF!"}},{"$f":"'Pob x Genero'!#REF!","v":{"$error":"#REF!"}},{"$f":"'Pob x Genero'!#REF!","v":{"$error":"#REF!"}},{"$f":"'Pob x Genero'!#REF!","v":{"$error":"#REF!"}},"Hombre","00-04",{"$f":"'Pob x Genero'!#REF!","v":{"$error":"#REF!"}},1569]
[{"$f":"'Pob x Genero'!#REF!","v":{"$error":"#REF!"}},{"$f":"'Pob x Genero'!#REF!","v":{"$error":"#REF!"}},{"$f":"'Pob x Genero'!#REF!","v":{"$error":"#REF!"}},{"$f":"'Pob x Genero'!#REF!","v":{"$error":"#REF!"}},{"$f":"'Pob x Genero'!#REF!","v":{"$error":"#REF!"}},"Hombre","00-04",{"$f":"'Pob x Genero'!#REF!","v":{"$error":"#REF!"}},1570]
[{"$f":"'Pob x Genero'!#REF!","v":{"$error":"#REF!"}},{"$f":"'Pob x Genero'!#REF!","v":{"$error":"#REF!"}},{"$f":"'Pob x Genero'!#REF!","v":{"$error":"#REF!"}},{"$f":"'Pob x Genero'!#REF!","v":{"$error":"#REF!"}},{"$f":"'Pob x Genero'!#REF!","v":{"$error":"#REF!"}},"Hombre","00-04",{"$f":"'Pob x Genero'!#REF!","v":{"$error":"#REF!"}},1571]
[{"$f":"'Pob x Genero'!#REF!","v":{"$error":"#REF!"}},{"$f":"'Pob x Genero'!#REF!","v":{"$error":"#REF!"}},{"$f":"'Pob x Genero'!#REF!","v":{"$error":"#REF!"}},{"$f":"'Pob x Genero'!#REF!","v":{"$error":"#REF!"}},{"$f":"'Pob x Genero'!#REF!","v":{"$error":"#REF!"}},"Hombre","00-04",{"$f":"'Pob x Genero'!#REF!","v":{"$error":"#REF!"}},1572]
[{"$f":"'Pob x Genero'!#REF!","v":{"$error":"#REF!"}},{"$f":"'Pob x Genero'!#REF!","v":{"$error":"#REF!"}},{"$f":"'Pob x Genero'!#REF!","v":{"$error":"#REF!"}},{"$f":"'Pob x Genero'!#REF!","v":{"$error":"#REF!"}},{"$f":"'Pob x Genero'!#REF!","v":{"$error":"#REF!"}},"Hombre","00-04",{"$f":"'Pob x Genero'!#REF!","v":{"$error":"#REF!"}},1573]
[{"$f":"'Pob x Genero'!#REF!","v":{"$error":"#REF!"}},{"$f":"'Pob x Genero'!#REF!","v":{"$error":"#REF!"}},{"$f":"'Pob x Genero'!#REF!","v":{"$error":"#REF!"}},{"$f":"'Pob x Genero'!#REF!","v":{"$error":"#REF!"}},{"$f":"'Pob x Genero'!#REF!","v":{"$error":"#REF!"}},"Hombre","00-04",{"$f":"'Pob x Genero'!#REF!","v":{"$error":"#REF!"}},1574]
[{"$f":"'Pob x Genero'!#REF!","v":{"$error":"#REF!"}},{"$f":"'Pob x Genero'!#REF!","v":{"$error":"#REF!"}},{"$f":"'Pob x Genero'!#REF!","v":{"$error":"#REF!"}},{"$f":"'Pob x Genero'!#REF!","v":{"$error":"#REF!"}},{"$f":"'Pob x Genero'!#REF!","v":{"$error":"#REF!"}},"Hombre","00-04",{"$f":"'Pob x Genero'!#REF!","v":{"$error":"#REF!"}},1575]
[{"$f":"'Pob x Genero'!#REF!","v":{"$error":"#REF!"}},{"$f":"'Pob x Genero'!#REF!","v":{"$error":"#REF!"}},{"$f":"'Pob x Genero'!#REF!","v":{"$error":"#REF!"}},{"$f":"'Pob x Genero'!#REF!","v":{"$error":"#REF!"}},{"$f":"'Pob x Genero'!#REF!","v":{"$error":"#REF!"}},"Hombre","00-04",{"$f":"'Pob x Genero'!#REF!","v":{"$error":"#REF!"}},1576]
[{"$f":"'Pob x Genero'!#REF!","v":{"$error":"#REF!"}},{"$f":"'Pob x Genero'!#REF!","v":{"$error":"#REF!"}},{"$f":"'Pob x Genero'!#REF!","v":{"$error":"#REF!"}},{"$f":"'Pob x Genero'!#REF!","v":{"$error":"#REF!"}},{"$f":"'Pob x Genero'!#REF!","v":{"$error":"#REF!"}},"Hombre","00-04",{"$f":"'Pob x Genero'!#REF!","v":{"$error":"#REF!"}},1577]
[{"$f":"'Pob x Genero'!#REF!","v":{"$error":"#REF!"}},{"$f":"'Pob x Genero'!#REF!","v":{"$error":"#REF!"}},{"$f":"'Pob x Genero'!#REF!","v":{"$error":"#REF!"}},{"$f":"'Pob x Genero'!#REF!","v":{"$error":"#REF!"}},{"$f":"'Pob x Genero'!#REF!","v":{"$error":"#REF!"}},"Hombre","00-04",{"$f":"'Pob x Genero'!#REF!","v":{"$error":"#REF!"}},1578]
[{"$f":"'Pob x Genero'!#REF!","v":{"$error":"#REF!"}},{"$f":"'Pob x Genero'!#REF!","v":{"$error":"#REF!"}},{"$f":"'Pob x Genero'!#REF!","v":{"$error":"#REF!"}},{"$f":"'Pob x Genero'!#REF!","v":{"$error":"#REF!"}},{"$f":"'Pob x Genero'!#REF!","v":{"$error":"#REF!"}},"Hombre","00-04",{"$f":"'Pob x Genero'!#REF!","v":{"$error":"#REF!"}},1579]
[{"$f":"'Pob x Genero'!#REF!","v":{"$error":"#REF!"}},{"$f":"'Pob x Genero'!#REF!","v":{"$error":"#REF!"}},{"$f":"'Pob x Genero'!#REF!","v":{"$error":"#REF!"}},{"$f":"'Pob x Genero'!#REF!","v":{"$error":"#REF!"}},{"$f":"'Pob x Genero'!#REF!","v":{"$error":"#REF!"}},"Hombre","00-04",{"$f":"'Pob x Genero'!#REF!","v":{"$error":"#REF!"}},1580]
[{"$f":"'Pob x Genero'!#REF!","v":{"$error":"#REF!"}},{"$f":"'Pob x Genero'!#REF!","v":{"$error":"#REF!"}},{"$f":"'Pob x Genero'!#REF!","v":{"$error":"#REF!"}},{"$f":"'Pob x Genero'!#REF!","v":{"$error":"#REF!"}},{"$f":"'Pob x Genero'!#REF!","v":{"$error":"#REF!"}},"Hombre","00-04",{"$f":"'Pob x Genero'!#REF!","v":{"$error":"#REF!"}},1581]
[{"$f":"'Pob x Genero'!#REF!","v":{"$error":"#REF!"}},{"$f":"'Pob x Genero'!#REF!","v":{"$error":"#REF!"}},{"$f":"'Pob x Genero'!#REF!","v":{"$error":"#REF!"}},{"$f":"'Pob x Genero'!#REF!","v":{"$error":"#REF!"}},{"$f":"'Pob x Genero'!#REF!","v":{"$error":"#REF!"}},"Hombre","00-04",{"$f":"'Pob x Genero'!#REF!","v":{"$error":"#REF!"}},1582]
[{"$f":"'Pob x Genero'!#REF!","v":{"$error":"#REF!"}},{"$f":"'Pob x Genero'!#REF!","v":{"$error":"#REF!"}},{"$f":"'Pob x Genero'!#REF!","v":{"$error":"#REF!"}},{"$f":"'Pob x Genero'!#REF!","v":{"$error":"#REF!"}},{"$f":"'Pob x Genero'!#REF!","v":{"$error":"#REF!"}},"Hombre","00-04",{"$f":"'Pob x Genero'!#REF!","v":{"$error":"#REF!"}},1583]
[{"$f":"'Pob x Genero'!#REF!","v":{"$error":"#REF!"}},{"$f":"'Pob x Genero'!#REF!","v":{"$error":"#REF!"}},{"$f":"'Pob x Genero'!#REF!","v":{"$error":"#REF!"}},{"$f":"'Pob x Genero'!#REF!","v":{"$error":"#REF!"}},{"$f":"'Pob x Genero'!#REF!","v":{"$error":"#REF!"}},"Hombre","00-04",{"$f":"'Pob x Genero'!#REF!","v":{"$error":"#REF!"}},1584]
[{"$f":"'Pob x Genero'!#REF!","v":{"$error":"#REF!"}},{"$f":"'Pob x Genero'!#REF!","v":{"$error":"#REF!"}},{"$f":"'Pob x Genero'!#REF!","v":{"$error":"#REF!"}},{"$f":"'Pob x Genero'!#REF!","v":{"$error":"#REF!"}},{"$f":"'Pob x Genero'!#REF!","v":{"$error":"#REF!"}},"Hombre","00-04",{"$f":"'Pob x Genero'!#REF!","v":{"$error":"#REF!"}},1585]
[{"$f":"'Pob x Genero'!#REF!","v":{"$error":"#REF!"}},{"$f":"'Pob x Genero'!#REF!","v":{"$error":"#REF!"}},{"$f":"'Pob x Genero'!#REF!","v":{"$error":"#REF!"}},{"$f":"'Pob x Genero'!#REF!","v":{"$error":"#REF!"}},{"$f":"'Pob x Genero'!#REF!","v":{"$error":"#REF!"}},"Hombre","00-04",{"$f":"'Pob x Genero'!#REF!","v":{"$error":"#REF!"}},1586]
[{"$f":"'Pob x Genero'!#REF!","v":{"$error":"#REF!"}},{"$f":"'Pob x Genero'!#REF!","v":{"$error":"#REF!"}},{"$f":"'Pob x Genero'!#REF!","v":{"$error":"#REF!"}},{"$f":"'Pob x Genero'!#REF!","v":{"$error":"#REF!"}},{"$f":"'Pob x Genero'!#REF!","v":{"$error":"#REF!"}},"Hombre","00-04",{"$f":"'Pob x Genero'!#REF!","v":{"$error":"#REF!"}},1587]
[{"$f":"'Pob x Genero'!#REF!","v":{"$error":"#REF!"}},{"$f":"'Pob x Genero'!#REF!","v":{"$error":"#REF!"}},{"$f":"'Pob x Genero'!#REF!","v":{"$error":"#REF!"}},{"$f":"'Pob x Genero'!#REF!","v":{"$error":"#REF!"}},{"$f":"'Pob x Genero'!#REF!","v":{"$error":"#REF!"}},"Hombre","00-04",{"$f":"'Pob x Genero'!#REF!","v":{"$error":"#REF!"}},1588]
[{"$f":"'Pob x Genero'!#REF!","v":{"$error":"#REF!"}},{"$f":"'Pob x Genero'!#REF!","v":{"$error":"#REF!"}},{"$f":"'Pob x Genero'!#REF!","v":{"$error":"#REF!"}},{"$f":"'Pob x Genero'!#REF!","v":{"$error":"#REF!"}},{"$f":"'Pob x Genero'!#REF!","v":{"$error":"#REF!"}},"Hombre","00-04",{"$f":"'Pob x Genero'!#REF!","v":{"$error":"#REF!"}},1589]
[{"$f":"'Pob x Genero'!#REF!","v":{"$error":"#REF!"}},{"$f":"'Pob x Genero'!#REF!","v":{"$error":"#REF!"}},{"$f":"'Pob x Genero'!#REF!","v":{"$error":"#REF!"}},{"$f":"'Pob x Genero'!#REF!","v":{"$error":"#REF!"}},{"$f":"'Pob x Genero'!#REF!","v":{"$error":"#REF!"}},"Hombre","00-04",{"$f":"'Pob x Genero'!#REF!","v":{"$error":"#REF!"}},1590]
[{"$f":"'Pob x Genero'!#REF!","v":{"$error":"#REF!"}},{"$f":"'Pob x Genero'!#REF!","v":{"$error":"#REF!"}},{"$f":"'Pob x Genero'!#REF!","v":{"$error":"#REF!"}},{"$f":"'Pob x Genero'!#REF!","v":{"$error":"#REF!"}},{"$f":"'Pob x Genero'!#REF!","v":{"$error":"#REF!"}},"Hombre","00-04",{"$f":"'Pob x Genero'!#REF!","v":{"$error":"#REF!"}},1591]
[{"$f":"'Pob x Genero'!#REF!","v":{"$error":"#REF!"}},{"$f":"'Pob x Genero'!#REF!","v":{"$error":"#REF!"}},{"$f":"'Pob x Genero'!#REF!","v":{"$error":"#REF!"}},{"$f":"'Pob x Genero'!#REF!","v":{"$error":"#REF!"}},{"$f":"'Pob x Genero'!#REF!","v":{"$error":"#REF!"}},"Hombre","00-04",{"$f":"'Pob x Genero'!#REF!","v":{"$error":"#REF!"}},1592]
[{"$f":"'Pob x Genero'!#REF!","v":{"$error":"#REF!"}},{"$f":"'Pob x Genero'!#REF!","v":{"$error":"#REF!"}},{"$f":"'Pob x Genero'!#REF!","v":{"$error":"#REF!"}},{"$f":"'Pob x Genero'!#REF!","v":{"$error":"#REF!"}},{"$f":"'Pob x Genero'!#REF!","v":{"$error":"#REF!"}},"Hombre","00-04",{"$f":"'Pob x Genero'!#REF!","v":{"$error":"#REF!"}},1593]
[{"$f":"'Pob x Genero'!#REF!","v":{"$error":"#REF!"}},{"$f":"'Pob x Genero'!#REF!","v":{"$error":"#REF!"}},{"$f":"'Pob x Genero'!#REF!","v":{"$error":"#REF!"}},{"$f":"'Pob x Genero'!#REF!","v":{"$error":"#REF!"}},{"$f":"'Pob x Genero'!#REF!","v":{"$error":"#REF!"}},"Hombre","00-04",{"$f":"'Pob x Genero'!#REF!","v":{"$error":"#REF!"}},1594]
[{"$f":"'Pob x Genero'!#REF!","v":{"$error":"#REF!"}},{"$f":"'Pob x Genero'!#REF!","v":{"$error":"#REF!"}},{"$f":"'Pob x Genero'!#REF!","v":{"$error":"#REF!"}},{"$f":"'Pob x Genero'!#REF!","v":{"$error":"#REF!"}},{"$f":"'Pob x Genero'!#REF!","v":{"$error":"#REF!"}},"Hombre","00-04",{"$f":"'Pob x Genero'!#REF!","v":{"$error":"#REF!"}},1595]
[{"$f":"'Pob x Genero'!#REF!","v":{"$error":"#REF!"}},{"$f":"'Pob x Genero'!#REF!","v":{"$error":"#REF!"}},{"$f":"'Pob x Genero'!#REF!","v":{"$error":"#REF!"}},{"$f":"'Pob x Genero'!#REF!","v":{"$error":"#REF!"}},{"$f":"'Pob x Genero'!#REF!","v":{"$error":"#REF!"}},"Hombre","00-04",{"$f":"'Pob x Genero'!#REF!","v":{"$error":"#REF!"}},1596]
[{"$f":"'Pob x Genero'!#REF!","v":{"$error":"#REF!"}},{"$f":"'Pob x Genero'!#REF!","v":{"$error":"#REF!"}},{"$f":"'Pob x Genero'!#REF!","v":{"$error":"#REF!"}},{"$f":"'Pob x Genero'!#REF!","v":{"$error":"#REF!"}},{"$f":"'Pob x Genero'!#REF!","v":{"$error":"#REF!"}},"Hombre","00-04",{"$f":"'Pob x Genero'!#REF!","v":{"$error":"#REF!"}},1597]
[{"$f":"'Pob x Genero'!#REF!","v":{"$error":"#REF!"}},{"$f":"'Pob x Genero'!#REF!","v":{"$error":"#REF!"}},{"$f":"'Pob x Genero'!#REF!","v":{"$error":"#REF!"}},{"$f":"'Pob x Genero'!#REF!","v":{"$error":"#REF!"}},{"$f":"'Pob x Genero'!#REF!","v":{"$error":"#REF!"}},"Hombre","00-04",{"$f":"'Pob x Genero'!#REF!","v":{"$error":"#REF!"}},1598]
[{"$f":"'Pob x Genero'!#REF!","v":{"$error":"#REF!"}},{"$f":"'Pob x Genero'!#REF!","v":{"$error":"#REF!"}},{"$f":"'Pob x Genero'!#REF!","v":{"$error":"#REF!"}},{"$f":"'Pob x Genero'!#REF!","v":{"$error":"#REF!"}},{"$f":"'Pob x Genero'!#REF!","v":{"$error":"#REF!"}},"Hombre","00-04",{"$f":"'Pob x Genero'!#REF!","v":{"$error":"#REF!"}},1599]
[{"$f":"'Pob x Genero'!#REF!","v":{"$error":"#REF!"}},{"$f":"'Pob x Genero'!#REF!","v":{"$error":"#REF!"}},{"$f":"'Pob x Genero'!#REF!","v":{"$error":"#REF!"}},{"$f":"'Pob x Genero'!#REF!","v":{"$error":"#REF!"}},{"$f":"'Pob x Genero'!#REF!","v":{"$error":"#REF!"}},"Hombre","00-04",{"$f":"'Pob x Genero'!#REF!","v":{"$error":"#REF!"}},1600]
[{"$f":"'Pob x Genero'!#REF!","v":{"$error":"#REF!"}},{"$f":"'Pob x Genero'!#REF!","v":{"$error":"#REF!"}},{"$f":"'Pob x Genero'!#REF!","v":{"$error":"#REF!"}},{"$f":"'Pob x Genero'!#REF!","v":{"$error":"#REF!"}},{"$f":"'Pob x Genero'!#REF!","v":{"$error":"#REF!"}},"Hombre","00-04",{"$f":"'Pob x Genero'!#REF!","v":{"$error":"#REF!"}},1601]
[{"$f":"'Pob x Genero'!#REF!","v":{"$error":"#REF!"}},{"$f":"'Pob x Genero'!#REF!","v":{"$error":"#REF!"}},{"$f":"'Pob x Genero'!#REF!","v":{"$error":"#REF!"}},{"$f":"'Pob x Genero'!#REF!","v":{"$error":"#REF!"}},{"$f":"'Pob x Genero'!#REF!","v":{"$error":"#REF!"}},{"$f":"F1602","v":"Hombre"},{"$f":"G1602","v":"00-04"},{"$f":"'Pob x Genero'!#REF!","v":{"$error":"#REF!"}},1602]
[{"$f":"'Pob x Genero'!#REF!","v":{"$error":"#REF!"}},{"$f":"'Pob x Genero'!#REF!","v":{"$error":"#REF!"}},{"$f":"'Pob x Genero'!#REF!","v":{"$error":"#REF!"}},{"$f":"'Pob x Genero'!#REF!","v":{"$error":"#REF!"}},{"$f":"'Pob x Genero'!#REF!","v":{"$error":"#REF!"}},"Hombre","00-04",{"$f":"'Pob x Genero'!#REF!","v":{"$error":"#REF!"}},1603]
[{"$f":"'Pob x Genero'!#REF!","v":{"$error":"#REF!"}},{"$f":"'Pob x Genero'!#REF!","v":{"$error":"#REF!"}},{"$f":"'Pob x Genero'!#REF!","v":{"$error":"#REF!"}},{"$f":"'Pob x Genero'!#REF!","v":{"$error":"#REF!"}},{"$f":"'Pob x Genero'!#REF!","v":{"$error":"#REF!"}},"Hombre","00-04",{"$f":"'Pob x Genero'!#REF!","v":{"$error":"#REF!"}},1604]
[{"$f":"'Pob x Genero'!#REF!","v":{"$error":"#REF!"}},{"$f":"'Pob x Genero'!#REF!","v":{"$error":"#REF!"}},{"$f":"'Pob x Genero'!#REF!","v":{"$error":"#REF!"}},{"$f":"'Pob x Genero'!#REF!","v":{"$error":"#REF!"}},{"$f":"'Pob x Genero'!#REF!","v":{"$error":"#REF!"}},"Hombre","00-04",{"$f":"'Pob x Genero'!#REF!","v":{"$error":"#REF!"}},1605]
[{"$f":"'Pob x Genero'!#REF!","v":{"$error":"#REF!"}},{"$f":"'Pob x Genero'!#REF!","v":{"$error":"#REF!"}},{"$f":"'Pob x Genero'!#REF!","v":{"$error":"#REF!"}},{"$f":"'Pob x Genero'!#REF!","v":{"$error":"#REF!"}},{"$f":"'Pob x Genero'!#REF!","v":{"$error":"#REF!"}},"Hombre","00-04",{"$f":"'Pob x Genero'!#REF!","v":{"$error":"#REF!"}},1606]
[{"$f":"'Pob x Genero'!#REF!","v":{"$error":"#REF!"}},{"$f":"'Pob x Genero'!#REF!","v":{"$error":"#REF!"}},{"$f":"'Pob x Genero'!#REF!","v":{"$error":"#REF!"}},{"$f":"'Pob x Genero'!#REF!","v":{"$error":"#REF!"}},{"$f":"'Pob x Genero'!#REF!","v":{"$error":"#REF!"}},"Hombre","00-04",{"$f":"'Pob x Genero'!#REF!","v":{"$error":"#REF!"}},1607]
[{"$f":"'Pob x Genero'!#REF!","v":{"$error":"#REF!"}},{"$f":"'Pob x Genero'!#REF!","v":{"$error":"#REF!"}},{"$f":"'Pob x Genero'!#REF!","v":{"$error":"#REF!"}},{"$f":"'Pob x Genero'!#REF!","v":{"$error":"#REF!"}},{"$f":"'Pob x Genero'!#REF!","v":{"$error":"#REF!"}},"Hombre","00-04",{"$f":"'Pob x Genero'!#REF!","v":{"$error":"#REF!"}},1608]
[{"$f":"'Pob x Genero'!#REF!","v":{"$error":"#REF!"}},{"$f":"'Pob x Genero'!#REF!","v":{"$error":"#REF!"}},{"$f":"'Pob x Genero'!#REF!","v":{"$error":"#REF!"}},{"$f":"'Pob x Genero'!#REF!","v":{"$error":"#REF!"}},{"$f":"'Pob x Genero'!#REF!","v":{"$error":"#REF!"}},"Hombre","00-04",{"$f":"'Pob x Genero'!#REF!","v":{"$error":"#REF!"}},1609]
[{"$f":"'Pob x Genero'!#REF!","v":{"$error":"#REF!"}},{"$f":"'Pob x Genero'!#REF!","v":{"$error":"#REF!"}},{"$f":"'Pob x Genero'!#REF!","v":{"$error":"#REF!"}},{"$f":"'Pob x Genero'!#REF!","v":{"$error":"#REF!"}},{"$f":"'Pob x Genero'!#REF!","v":{"$error":"#REF!"}},"Hombre","00-04",{"$f":"'Pob x Genero'!#REF!","v":{"$error":"#REF!"}},1610]
[{"$f":"'Pob x Genero'!#REF!","v":{"$error":"#REF!"}},{"$f":"'Pob x Genero'!#REF!","v":{"$error":"#REF!"}},{"$f":"'Pob x Genero'!#REF!","v":{"$error":"#REF!"}},{"$f":"'Pob x Genero'!#REF!","v":{"$error":"#REF!"}},{"$f":"'Pob x Genero'!#REF!","v":{"$error":"#REF!"}},"Hombre","00-04",{"$f":"'Pob x Genero'!#REF!","v":{"$error":"#REF!"}},1611]
[{"$f":"'Pob x Genero'!#REF!","v":{"$error":"#REF!"}},{"$f":"'Pob x Genero'!#REF!","v":{"$error":"#REF!"}},{"$f":"'Pob x Genero'!#REF!","v":{"$error":"#REF!"}},{"$f":"'Pob x Genero'!#REF!","v":{"$error":"#REF!"}},{"$f":"'Pob x Genero'!#REF!","v":{"$error":"#REF!"}},"Hombre","00-04",{"$f":"'Pob x Genero'!#REF!","v":{"$error":"#REF!"}},1612]
[{"$f":"'Pob x Genero'!#REF!","v":{"$error":"#REF!"}},{"$f":"'Pob x Genero'!#REF!","v":{"$error":"#REF!"}},{"$f":"'Pob x Genero'!#REF!","v":{"$error":"#REF!"}},{"$f":"'Pob x Genero'!#REF!","v":{"$error":"#REF!"}},{"$f":"'Pob x Genero'!#REF!","v":{"$error":"#REF!"}},"Hombre","00-04",{"$f":"'Pob x Genero'!#REF!","v":{"$error":"#REF!"}},1613]
[{"$f":"'Pob x Genero'!#REF!","v":{"$error":"#REF!"}},{"$f":"'Pob x Genero'!#REF!","v":{"$error":"#REF!"}},{"$f":"'Pob x Genero'!#REF!","v":{"$error":"#REF!"}},{"$f":"'Pob x Genero'!#REF!","v":{"$error":"#REF!"}},{"$f":"'Pob x Genero'!#REF!","v":{"$error":"#REF!"}},"Hombre","00-04",{"$f":"'Pob x Genero'!#REF!","v":{"$error":"#REF!"}},1614]
[{"$f":"'Pob x Genero'!#REF!","v":{"$error":"#REF!"}},{"$f":"'Pob x Genero'!#REF!","v":{"$error":"#REF!"}},{"$f":"'Pob x Genero'!#REF!","v":{"$error":"#REF!"}},{"$f":"'Pob x Genero'!#REF!","v":{"$error":"#REF!"}},{"$f":"'Pob x Genero'!#REF!","v":{"$error":"#REF!"}},"Hombre","00-04",{"$f":"'Pob x Genero'!#REF!","v":{"$error":"#REF!"}},1615]
[{"$f":"'Pob x Genero'!#REF!","v":{"$error":"#REF!"}},{"$f":"'Pob x Genero'!#REF!","v":{"$error":"#REF!"}},{"$f":"'Pob x Genero'!#REF!","v":{"$error":"#REF!"}},{"$f":"'Pob x Genero'!#REF!","v":{"$error":"#REF!"}},{"$f":"'Pob x Genero'!#REF!","v":{"$error":"#REF!"}},"Hombre","00-04",{"$f":"'Pob x Genero'!#REF!","v":{"$error":"#REF!"}},1616]
[{"$f":"'Pob x Genero'!#REF!","v":{"$error":"#REF!"}},{"$f":"'Pob x Genero'!#REF!","v":{"$error":"#REF!"}},{"$f":"'Pob x Genero'!#REF!","v":{"$error":"#REF!"}},{"$f":"'Pob x Genero'!#REF!","v":{"$error":"#REF!"}},{"$f":"'Pob x Genero'!#REF!","v":{"$error":"#REF!"}},"Hombre","00-04",{"$f":"'Pob x Genero'!#REF!","v":{"$error":"#REF!"}},1617]
[{"$f":"'Pob x Genero'!#REF!","v":{"$error":"#REF!"}},{"$f":"'Pob x Genero'!#REF!","v":{"$error":"#REF!"}},{"$f":"'Pob x Genero'!#REF!","v":{"$error":"#REF!"}},{"$f":"'Pob x Genero'!#REF!","v":{"$error":"#REF!"}},{"$f":"'Pob x Genero'!#REF!","v":{"$error":"#REF!"}},"Hombre","00-04",{"$f":"'Pob x Genero'!#REF!","v":{"$error":"#REF!"}},1618]
[{"$f":"'Pob x Genero'!#REF!","v":{"$error":"#REF!"}},{"$f":"'Pob x Genero'!#REF!","v":{"$error":"#REF!"}},{"$f":"'Pob x Genero'!#REF!","v":{"$error":"#REF!"}},{"$f":"'Pob x Genero'!#REF!","v":{"$error":"#REF!"}},{"$f":"'Pob x Genero'!#REF!","v":{"$error":"#REF!"}},"Hombre","00-04",{"$f":"'Pob x Genero'!#REF!","v":{"$error":"#REF!"}},1619]
[{"$f":"'Pob x Genero'!#REF!","v":{"$error":"#REF!"}},{"$f":"'Pob x Genero'!#REF!","v":{"$error":"#REF!"}},{"$f":"'Pob x Genero'!#REF!","v":{"$error":"#REF!"}},{"$f":"'Pob x Genero'!#REF!","v":{"$error":"#REF!"}},{"$f":"'Pob x Genero'!#REF!","v":{"$error":"#REF!"}},"Hombre","00-04",{"$f":"'Pob x Genero'!#REF!","v":{"$error":"#REF!"}},1620]
[{"$f":"'Pob x Genero'!#REF!","v":{"$error":"#REF!"}},{"$f":"'Pob x Genero'!#REF!","v":{"$error":"#REF!"}},{"$f":"'Pob x Genero'!#REF!","v":{"$error":"#REF!"}},{"$f":"'Pob x Genero'!#REF!","v":{"$error":"#REF!"}},{"$f":"'Pob x Genero'!#REF!","v":{"$error":"#REF!"}},"Hombre","00-04",{"$f":"'Pob x Genero'!#REF!","v":{"$error":"#REF!"}},1621]
[{"$f":"'Pob x Genero'!#REF!","v":{"$error":"#REF!"}},{"$f":"'Pob x Genero'!#REF!","v":{"$error":"#REF!"}},{"$f":"'Pob x Genero'!#REF!","v":{"$error":"#REF!"}},{"$f":"'Pob x Genero'!#REF!","v":{"$error":"#REF!"}},{"$f":"'Pob x Genero'!#REF!","v":{"$error":"#REF!"}},"Hombre","00-04",{"$f":"'Pob x Genero'!#REF!","v":{"$error":"#REF!"}},1622]
[{"$f":"'Pob x Genero'!#REF!","v":{"$error":"#REF!"}},{"$f":"'Pob x Genero'!#REF!","v":{"$error":"#REF!"}},{"$f":"'Pob x Genero'!#REF!","v":{"$error":"#REF!"}},{"$f":"'Pob x Genero'!#REF!","v":{"$error":"#REF!"}},{"$f":"'Pob x Genero'!#REF!","v":{"$error":"#REF!"}},"Hombre","00-04",{"$f":"'Pob x Genero'!#REF!","v":{"$error":"#REF!"}},1623]
[{"$f":"'Pob x Genero'!#REF!","v":{"$error":"#REF!"}},{"$f":"'Pob x Genero'!#REF!","v":{"$error":"#REF!"}},{"$f":"'Pob x Genero'!#REF!","v":{"$error":"#REF!"}},{"$f":"'Pob x Genero'!#REF!","v":{"$error":"#REF!"}},{"$f":"'Pob x Genero'!#REF!","v":{"$error":"#REF!"}},"Hombre","00-04",{"$f":"'Pob x Genero'!#REF!","v":{"$error":"#REF!"}},1624]
[{"$f":"'Pob x Genero'!#REF!","v":{"$error":"#REF!"}},{"$f":"'Pob x Genero'!#REF!","v":{"$error":"#REF!"}},{"$f":"'Pob x Genero'!#REF!","v":{"$error":"#REF!"}},{"$f":"'Pob x Genero'!#REF!","v":{"$error":"#REF!"}},{"$f":"'Pob x Genero'!#REF!","v":{"$error":"#REF!"}},"Hombre","00-04",{"$f":"'Pob x Genero'!#REF!","v":{"$error":"#REF!"}},1625]
[{"$f":"'Pob x Genero'!#REF!","v":{"$error":"#REF!"}},{"$f":"'Pob x Genero'!#REF!","v":{"$error":"#REF!"}},{"$f":"'Pob x Genero'!#REF!","v":{"$error":"#REF!"}},{"$f":"'Pob x Genero'!#REF!","v":{"$error":"#REF!"}},{"$f":"'Pob x Genero'!#REF!","v":{"$error":"#REF!"}},"Hombre","00-04",{"$f":"'Pob x Genero'!#REF!","v":{"$error":"#REF!"}},1626]
[{"$f":"'Pob x Genero'!#REF!","v":{"$error":"#REF!"}},{"$f":"'Pob x Genero'!#REF!","v":{"$error":"#REF!"}},{"$f":"'Pob x Genero'!#REF!","v":{"$error":"#REF!"}},{"$f":"'Pob x Genero'!#REF!","v":{"$error":"#REF!"}},{"$f":"'Pob x Genero'!#REF!","v":{"$error":"#REF!"}},"Hombre","00-04",{"$f":"'Pob x Genero'!#REF!","v":{"$error":"#REF!"}},1627]
[{"$f":"'Pob x Genero'!#REF!","v":{"$error":"#REF!"}},{"$f":"'Pob x Genero'!#REF!","v":{"$error":"#REF!"}},{"$f":"'Pob x Genero'!#REF!","v":{"$error":"#REF!"}},{"$f":"'Pob x Genero'!#REF!","v":{"$error":"#REF!"}},{"$f":"'Pob x Genero'!#REF!","v":{"$error":"#REF!"}},"Hombre","00-04",{"$f":"'Pob x Genero'!#REF!","v":{"$error":"#REF!"}},1628]
[{"$f":"'Pob x Genero'!#REF!","v":{"$error":"#REF!"}},{"$f":"'Pob x Genero'!#REF!","v":{"$error":"#REF!"}},{"$f":"'Pob x Genero'!#REF!","v":{"$error":"#REF!"}},{"$f":"'Pob x Genero'!#REF!","v":{"$error":"#REF!"}},{"$f":"'Pob x Genero'!#REF!","v":{"$error":"#REF!"}},"Hombre","00-04",{"$f":"'Pob x Genero'!#REF!","v":{"$error":"#REF!"}},1629]
[{"$f":"'Pob x Genero'!#REF!","v":{"$error":"#REF!"}},{"$f":"'Pob x Genero'!#REF!","v":{"$error":"#REF!"}},{"$f":"'Pob x Genero'!#REF!","v":{"$error":"#REF!"}},{"$f":"'Pob x Genero'!#REF!","v":{"$error":"#REF!"}},{"$f":"'Pob x Genero'!#REF!","v":{"$error":"#REF!"}},"Hombre","00-04",{"$f":"'Pob x Genero'!#REF!","v":{"$error":"#REF!"}},1630]
[{"$f":"'Pob x Genero'!#REF!","v":{"$error":"#REF!"}},{"$f":"'Pob x Genero'!#REF!","v":{"$error":"#REF!"}},{"$f":"'Pob x Genero'!#REF!","v":{"$error":"#REF!"}},{"$f":"'Pob x Genero'!#REF!","v":{"$error":"#REF!"}},{"$f":"'Pob x Genero'!#REF!","v":{"$error":"#REF!"}},"Hombre","00-04",{"$f":"'Pob x Genero'!#REF!","v":{"$error":"#REF!"}},1631]
[{"$f":"'Pob x Genero'!#REF!","v":{"$error":"#REF!"}},{"$f":"'Pob x Genero'!#REF!","v":{"$error":"#REF!"}},{"$f":"'Pob x Genero'!#REF!","v":{"$error":"#REF!"}},{"$f":"'Pob x Genero'!#REF!","v":{"$error":"#REF!"}},{"$f":"'Pob x Genero'!#REF!","v":{"$error":"#REF!"}},"Hombre","00-04",{"$f":"'Pob x Genero'!#REF!","v":{"$error":"#REF!"}},1632]
[{"$f":"'Pob x Genero'!#REF!","v":{"$error":"#REF!"}},{"$f":"'Pob x Genero'!#REF!","v":{"$error":"#REF!"}},{"$f":"'Pob x Genero'!#REF!","v":{"$error":"#REF!"}},{"$f":"'Pob x Genero'!#REF!","v":{"$error":"#REF!"}},{"$f":"'Pob x Genero'!#REF!","v":{"$error":"#REF!"}},"Hombre","00-04",{"$f":"'Pob x Genero'!#REF!","v":{"$error":"#REF!"}},1633]
[{"$f":"'Pob x Genero'!#REF!","v":{"$error":"#REF!"}},{"$f":"'Pob x Genero'!#REF!","v":{"$error":"#REF!"}},{"$f":"'Pob x Genero'!#REF!","v":{"$error":"#REF!"}},{"$f":"'Pob x Genero'!#REF!","v":{"$error":"#REF!"}},{"$f":"'Pob x Genero'!#REF!","v":{"$error":"#REF!"}},"Hombre","00-04",{"$f":"'Pob x Genero'!#REF!","v":{"$error":"#REF!"}},1634]
[{"$f":"'Pob x Genero'!#REF!","v":{"$error":"#REF!"}},{"$f":"'Pob x Genero'!#REF!","v":{"$error":"#REF!"}},{"$f":"'Pob x Genero'!#REF!","v":{"$error":"#REF!"}},{"$f":"'Pob x Genero'!#REF!","v":{"$error":"#REF!"}},{"$f":"'Pob x Genero'!#REF!","v":{"$error":"#REF!"}},"Hombre","00-04",{"$f":"'Pob x Genero'!#REF!","v":{"$error":"#REF!"}},1635]
[{"$f":"'Pob x Genero'!#REF!","v":{"$error":"#REF!"}},{"$f":"'Pob x Genero'!#REF!","v":{"$error":"#REF!"}},{"$f":"'Pob x Genero'!#REF!","v":{"$error":"#REF!"}},{"$f":"'Pob x Genero'!#REF!","v":{"$error":"#REF!"}},{"$f":"'Pob x Genero'!#REF!","v":{"$error":"#REF!"}},"Hombre","00-04",{"$f":"'Pob x Genero'!#REF!","v":{"$error":"#REF!"}},1636]
[{"$f":"'Pob x Genero'!#REF!","v":{"$error":"#REF!"}},{"$f":"'Pob x Genero'!#REF!","v":{"$error":"#REF!"}},{"$f":"'Pob x Genero'!#REF!","v":{"$error":"#REF!"}},{"$f":"'Pob x Genero'!#REF!","v":{"$error":"#REF!"}},{"$f":"'Pob x Genero'!#REF!","v":{"$error":"#REF!"}},"Hombre","00-04",{"$f":"'Pob x Genero'!#REF!","v":{"$error":"#REF!"}},1637]
[{"$f":"'Pob x Genero'!#REF!","v":{"$error":"#REF!"}},{"$f":"'Pob x Genero'!#REF!","v":{"$error":"#REF!"}},{"$f":"'Pob x Genero'!#REF!","v":{"$error":"#REF!"}},{"$f":"'Pob x Genero'!#REF!","v":{"$error":"#REF!"}},{"$f":"'Pob x Genero'!#REF!","v":{"$error":"#REF!"}},"Hombre","00-04",{"$f":"'Pob x Genero'!#REF!","v":{"$error":"#REF!"}},1638]
[{"$f":"'Pob x Genero'!#REF!","v":{"$error":"#REF!"}},{"$f":"'Pob x Genero'!#REF!","v":{"$error":"#REF!"}},{"$f":"'Pob x Genero'!#REF!","v":{"$error":"#REF!"}},{"$f":"'Pob x Genero'!#REF!","v":{"$error":"#REF!"}},{"$f":"'Pob x Genero'!#REF!","v":{"$error":"#REF!"}},"Hombre","00-04",{"$f":"'Pob x Genero'!#REF!","v":{"$error":"#REF!"}},1639]
[{"$f":"'Pob x Genero'!#REF!","v":{"$error":"#REF!"}},{"$f":"'Pob x Genero'!#REF!","v":{"$error":"#REF!"}},{"$f":"'Pob x Genero'!#REF!","v":{"$error":"#REF!"}},{"$f":"'Pob x Genero'!#REF!","v":{"$error":"#REF!"}},{"$f":"'Pob x Genero'!#REF!","v":{"$error":"#REF!"}},"Hombre","00-04",{"$f":"'Pob x Genero'!#REF!","v":{"$error":"#REF!"}},1640]
[{"$f":"'Pob x Genero'!#REF!","v":{"$error":"#REF!"}},{"$f":"'Pob x Genero'!#REF!","v":{"$error":"#REF!"}},{"$f":"'Pob x Genero'!#REF!","v":{"$error":"#REF!"}},{"$f":"'Pob x Genero'!#REF!","v":{"$error":"#REF!"}},{"$f":"'Pob x Genero'!#REF!","v":{"$error":"#REF!"}},"Hombre","00-04",{"$f":"'Pob x Genero'!#REF!","v":{"$error":"#REF!"}},1641]
[{"$f":"'Pob x Genero'!#REF!","v":{"$error":"#REF!"}},{"$f":"'Pob x Genero'!#REF!","v":{"$error":"#REF!"}},{"$f":"'Pob x Genero'!#REF!","v":{"$error":"#REF!"}},{"$f":"'Pob x Genero'!#REF!","v":{"$error":"#REF!"}},{"$f":"'Pob x Genero'!#REF!","v":{"$error":"#REF!"}},"Hombre","00-04",{"$f":"'Pob x Genero'!#REF!","v":{"$error":"#REF!"}},1642]
[{"$f":"'Pob x Genero'!#REF!","v":{"$error":"#REF!"}},{"$f":"'Pob x Genero'!#REF!","v":{"$error":"#REF!"}},{"$f":"'Pob x Genero'!#REF!","v":{"$error":"#REF!"}},{"$f":"'Pob x Genero'!#REF!","v":{"$error":"#REF!"}},{"$f":"'Pob x Genero'!#REF!","v":{"$error":"#REF!"}},"Hombre","00-04",{"$f":"'Pob x Genero'!#REF!","v":{"$error":"#REF!"}},1643]
[{"$f":"'Pob x Genero'!#REF!","v":{"$error":"#REF!"}},{"$f":"'Pob x Genero'!#REF!","v":{"$error":"#REF!"}},{"$f":"'Pob x Genero'!#REF!","v":{"$error":"#REF!"}},{"$f":"'Pob x Genero'!#REF!","v":{"$error":"#REF!"}},{"$f":"'Pob x Genero'!#REF!","v":{"$error":"#REF!"}},"Hombre","00-04",{"$f":"'Pob x Genero'!#REF!","v":{"$error":"#REF!"}},1644]
[{"$f":"'Pob x Genero'!#REF!","v":{"$error":"#REF!"}},{"$f":"'Pob x Genero'!#REF!","v":{"$error":"#REF!"}},{"$f":"'Pob x Genero'!#REF!","v":{"$error":"#REF!"}},{"$f":"'Pob x Genero'!#REF!","v":{"$error":"#REF!"}},{"$f":"'Pob x Genero'!#REF!","v":{"$error":"#REF!"}},"Hombre","00-04",{"$f":"'Pob x Genero'!#REF!","v":{"$error":"#REF!"}},1645]
[{"$f":"'Pob x Genero'!#REF!","v":{"$error":"#REF!"}},{"$f":"'Pob x Genero'!#REF!","v":{"$error":"#REF!"}},{"$f":"'Pob x Genero'!#REF!","v":{"$error":"#REF!"}},{"$f":"'Pob x Genero'!#REF!","v":{"$error":"#REF!"}},{"$f":"'Pob x Genero'!#REF!","v":{"$error":"#REF!"}},"Hombre","00-04",{"$f":"'Pob x Genero'!#REF!","v":{"$error":"#REF!"}},1646]
[{"$f":"'Pob x Genero'!#REF!","v":{"$error":"#REF!"}},{"$f":"'Pob x Genero'!#REF!","v":{"$error":"#REF!"}},{"$f":"'Pob x Genero'!#REF!","v":{"$error":"#REF!"}},{"$f":"'Pob x Genero'!#REF!","v":{"$error":"#REF!"}},{"$f":"'Pob x Genero'!#REF!","v":{"$error":"#REF!"}},"Hombre","00-04",{"$f":"'Pob x Genero'!#REF!","v":{"$error":"#REF!"}},1647]
[{"$f":"'Pob x Genero'!#REF!","v":{"$error":"#REF!"}},{"$f":"'Pob x Genero'!#REF!","v":{"$error":"#REF!"}},{"$f":"'Pob x Genero'!#REF!","v":{"$error":"#REF!"}},{"$f":"'Pob x Genero'!#REF!","v":{"$error":"#REF!"}},{"$f":"'Pob x Genero'!#REF!","v":{"$error":"#REF!"}},"Hombre","00-04",{"$f":"'Pob x Genero'!#REF!","v":{"$error":"#REF!"}},1648]
[{"$f":"'Pob x Genero'!#REF!","v":{"$error":"#REF!"}},{"$f":"'Pob x Genero'!#REF!","v":{"$error":"#REF!"}},{"$f":"'Pob x Genero'!#REF!","v":{"$error":"#REF!"}},{"$f":"'Pob x Genero'!#REF!","v":{"$error":"#REF!"}},{"$f":"'Pob x Genero'!#REF!","v":{"$error":"#REF!"}},"Hombre","00-04",{"$f":"'Pob x Genero'!#REF!","v":{"$error":"#REF!"}},1649]
[{"$f":"'Pob x Genero'!#REF!","v":{"$error":"#REF!"}},{"$f":"'Pob x Genero'!#REF!","v":{"$error":"#REF!"}},{"$f":"'Pob x Genero'!#REF!","v":{"$error":"#REF!"}},{"$f":"'Pob x Genero'!#REF!","v":{"$error":"#REF!"}},{"$f":"'Pob x Genero'!#REF!","v":{"$error":"#REF!"}},"Hombre","00-04",{"$f":"'Pob x Genero'!#REF!","v":{"$error":"#REF!"}},1650]
[{"$f":"'Pob x Genero'!#REF!","v":{"$error":"#REF!"}},{"$f":"'Pob x Genero'!#REF!","v":{"$error":"#REF!"}},{"$f":"'Pob x Genero'!#REF!","v":{"$error":"#REF!"}},{"$f":"'Pob x Genero'!#REF!","v":{"$error":"#REF!"}},{"$f":"'Pob x Genero'!#REF!","v":{"$error":"#REF!"}},"Hombre","00-04",{"$f":"'Pob x Genero'!#REF!","v":{"$error":"#REF!"}},1651]
[{"$f":"'Pob x Genero'!#REF!","v":{"$error":"#REF!"}},{"$f":"'Pob x Genero'!#REF!","v":{"$error":"#REF!"}},{"$f":"'Pob x Genero'!#REF!","v":{"$error":"#REF!"}},{"$f":"'Pob x Genero'!#REF!","v":{"$error":"#REF!"}},{"$f":"'Pob x Genero'!#REF!","v":{"$error":"#REF!"}},"Hombre","00-04",{"$f":"'Pob x Genero'!#REF!","v":{"$error":"#REF!"}},1652]
[{"$f":"'Pob x Genero'!#REF!","v":{"$error":"#REF!"}},{"$f":"'Pob x Genero'!#REF!","v":{"$error":"#REF!"}},{"$f":"'Pob x Genero'!#REF!","v":{"$error":"#REF!"}},{"$f":"'Pob x Genero'!#REF!","v":{"$error":"#REF!"}},{"$f":"'Pob x Genero'!#REF!","v":{"$error":"#REF!"}},"Hombre","00-04",{"$f":"'Pob x Genero'!#REF!","v":{"$error":"#REF!"}},1653]
[{"$f":"'Pob x Genero'!#REF!","v":{"$error":"#REF!"}},{"$f":"'Pob x Genero'!#REF!","v":{"$error":"#REF!"}},{"$f":"'Pob x Genero'!#REF!","v":{"$error":"#REF!"}},{"$f":"'Pob x Genero'!#REF!","v":{"$error":"#REF!"}},{"$f":"'Pob x Genero'!#REF!","v":{"$error":"#REF!"}},"Hombre","00-04",{"$f":"'Pob x Genero'!#REF!","v":{"$error":"#REF!"}},1654]
[{"$f":"'Pob x Genero'!#REF!","v":{"$error":"#REF!"}},{"$f":"'Pob x Genero'!#REF!","v":{"$error":"#REF!"}},{"$f":"'Pob x Genero'!#REF!","v":{"$error":"#REF!"}},{"$f":"'Pob x Genero'!#REF!","v":{"$error":"#REF!"}},{"$f":"'Pob x Genero'!#REF!","v":{"$error":"#REF!"}},"Hombre","00-04",{"$f":"'Pob x Genero'!#REF!","v":{"$error":"#REF!"}},1655]
[{"$f":"'Pob x Genero'!#REF!","v":{"$error":"#REF!"}},{"$f":"'Pob x Genero'!#REF!","v":{"$error":"#REF!"}},{"$f":"'Pob x Genero'!#REF!","v":{"$error":"#REF!"}},{"$f":"'Pob x Genero'!#REF!","v":{"$error":"#REF!"}},{"$f":"'Pob x Genero'!#REF!","v":{"$error":"#REF!"}},"Hombre","00-04",{"$f":"'Pob x Genero'!#REF!","v":{"$error":"#REF!"}},1656]
[{"$f":"'Pob x Genero'!#REF!","v":{"$error":"#REF!"}},{"$f":"'Pob x Genero'!#REF!","v":{"$error":"#REF!"}},{"$f":"'Pob x Genero'!#REF!","v":{"$error":"#REF!"}},{"$f":"'Pob x Genero'!#REF!","v":{"$error":"#REF!"}},{"$f":"'Pob x Genero'!#REF!","v":{"$error":"#REF!"}},"Hombre","00-04",{"$f":"'Pob x Genero'!#REF!","v":{"$error":"#REF!"}},1657]
[{"$f":"'Pob x Genero'!#REF!","v":{"$error":"#REF!"}},{"$f":"'Pob x Genero'!#REF!","v":{"$error":"#REF!"}},{"$f":"'Pob x Genero'!#REF!","v":{"$error":"#REF!"}},{"$f":"'Pob x Genero'!#REF!","v":{"$error":"#REF!"}},{"$f":"'Pob x Genero'!#REF!","v":{"$error":"#REF!"}},"Hombre","00-04",{"$f":"'Pob x Genero'!#REF!","v":{"$error":"#REF!"}},1658]
[{"$f":"'Pob x Genero'!#REF!","v":{"$error":"#REF!"}},{"$f":"'Pob x Genero'!#REF!","v":{"$error":"#REF!"}},{"$f":"'Pob x Genero'!#REF!","v":{"$error":"#REF!"}},{"$f":"'Pob x Genero'!#REF!","v":{"$error":"#REF!"}},{"$f":"'Pob x Genero'!#REF!","v":{"$error":"#REF!"}},"Hombre","00-04",{"$f":"'Pob x Genero'!#REF!","v":{"$error":"#REF!"}},1659]
[{"$f":"'Pob x Genero'!#REF!","v":{"$error":"#REF!"}},{"$f":"'Pob x Genero'!#REF!","v":{"$error":"#REF!"}},{"$f":"'Pob x Genero'!#REF!","v":{"$error":"#REF!"}},{"$f":"'Pob x Genero'!#REF!","v":{"$error":"#REF!"}},{"$f":"'Pob x Genero'!#REF!","v":{"$error":"#REF!"}},"Hombre","00-04",{"$f":"'Pob x Genero'!#REF!","v":{"$error":"#REF!"}},1660]
[{"$f":"'Pob x Genero'!#REF!","v":{"$error":"#REF!"}},{"$f":"'Pob x Genero'!#REF!","v":{"$error":"#REF!"}},{"$f":"'Pob x Genero'!#REF!","v":{"$error":"#REF!"}},{"$f":"'Pob x Genero'!#REF!","v":{"$error":"#REF!"}},{"$f":"'Pob x Genero'!#REF!","v":{"$error":"#REF!"}},"Hombre","00-04",{"$f":"'Pob x Genero'!#REF!","v":{"$error":"#REF!"}},1661]
[{"$f":"'Pob x Genero'!#REF!","v":{"$error":"#REF!"}},{"$f":"'Pob x Genero'!#REF!","v":{"$error":"#REF!"}},{"$f":"'Pob x Genero'!#REF!","v":{"$error":"#REF!"}},{"$f":"'Pob x Genero'!#REF!","v":{"$error":"#REF!"}},{"$f":"'Pob x Genero'!#REF!","v":{"$error":"#REF!"}},"Hombre","00-04",{"$f":"'Pob x Genero'!#REF!","v":{"$error":"#REF!"}},1662]
[{"$f":"'Pob x Genero'!#REF!","v":{"$error":"#REF!"}},{"$f":"'Pob x Genero'!#REF!","v":{"$error":"#REF!"}},{"$f":"'Pob x Genero'!#REF!","v":{"$error":"#REF!"}},{"$f":"'Pob x Genero'!#REF!","v":{"$error":"#REF!"}},{"$f":"'Pob x Genero'!#REF!","v":{"$error":"#REF!"}},"Hombre","00-04",{"$f":"'Pob x Genero'!#REF!","v":{"$error":"#REF!"}},1663]
[{"$f":"'Pob x Genero'!#REF!","v":{"$error":"#REF!"}},{"$f":"'Pob x Genero'!#REF!","v":{"$error":"#REF!"}},{"$f":"'Pob x Genero'!#REF!","v":{"$error":"#REF!"}},{"$f":"'Pob x Genero'!#REF!","v":{"$error":"#REF!"}},{"$f":"'Pob x Genero'!#REF!","v":{"$error":"#REF!"}},"Hombre","00-04",{"$f":"'Pob x Genero'!#REF!","v":{"$error":"#REF!"}},1664]
[{"$f":"'Pob x Genero'!#REF!","v":{"$error":"#REF!"}},{"$f":"'Pob x Genero'!#REF!","v":{"$error":"#REF!"}},{"$f":"'Pob x Genero'!#REF!","v":{"$error":"#REF!"}},{"$f":"'Pob x Genero'!#REF!","v":{"$error":"#REF!"}},{"$f":"'Pob x Genero'!#REF!","v":{"$error":"#REF!"}},"Hombre","00-04",{"$f":"'Pob x Genero'!#REF!","v":{"$error":"#REF!"}},1665]
[{"$f":"'Pob x Genero'!#REF!","v":{"$error":"#REF!"}},{"$f":"'Pob x Genero'!#REF!","v":{"$error":"#REF!"}},{"$f":"'Pob x Genero'!#REF!","v":{"$error":"#REF!"}},{"$f":"'Pob x Genero'!#REF!","v":{"$error":"#REF!"}},{"$f":"'Pob x Genero'!#REF!","v":{"$error":"#REF!"}},{"$f":"F1666","v":"Hombre"},{"$f":"G1666","v":"00-04"},{"$f":"'Pob x Genero'!#REF!","v":{"$error":"#REF!"}},1666]
[{"$f":"'Pob x Genero'!#REF!","v":{"$error":"#REF!"}},{"$f":"'Pob x Genero'!#REF!","v":{"$error":"#REF!"}},{"$f":"'Pob x Genero'!#REF!","v":{"$error":"#REF!"}},{"$f":"'Pob x Genero'!#REF!","v":{"$error":"#REF!"}},{"$f":"'Pob x Genero'!#REF!","v":{"$error":"#REF!"}},"Hombre","00-04",{"$f":"'Pob x Genero'!#REF!","v":{"$error":"#REF!"}},1667]
[{"$f":"'Pob x Genero'!#REF!","v":{"$error":"#REF!"}},{"$f":"'Pob x Genero'!#REF!","v":{"$error":"#REF!"}},{"$f":"'Pob x Genero'!#REF!","v":{"$error":"#REF!"}},{"$f":"'Pob x Genero'!#REF!","v":{"$error":"#REF!"}},{"$f":"'Pob x Genero'!#REF!","v":{"$error":"#REF!"}},"Hombre","00-04",{"$f":"'Pob x Genero'!#REF!","v":{"$error":"#REF!"}},1668]
[{"$f":"'Pob x Genero'!#REF!","v":{"$error":"#REF!"}},{"$f":"'Pob x Genero'!#REF!","v":{"$error":"#REF!"}},{"$f":"'Pob x Genero'!#REF!","v":{"$error":"#REF!"}},{"$f":"'Pob x Genero'!#REF!","v":{"$error":"#REF!"}},{"$f":"'Pob x Genero'!#REF!","v":{"$error":"#REF!"}},"Hombre","00-04",{"$f":"'Pob x Genero'!#REF!","v":{"$error":"#REF!"}},1669]
[{"$f":"'Pob x Genero'!#REF!","v":{"$error":"#REF!"}},{"$f":"'Pob x Genero'!#REF!","v":{"$error":"#REF!"}},{"$f":"'Pob x Genero'!#REF!","v":{"$error":"#REF!"}},{"$f":"'Pob x Genero'!#REF!","v":{"$error":"#REF!"}},{"$f":"'Pob x Genero'!#REF!","v":{"$error":"#REF!"}},"Hombre","00-04",{"$f":"'Pob x Genero'!#REF!","v":{"$error":"#REF!"}},1670]
[{"$f":"'Pob x Genero'!#REF!","v":{"$error":"#REF!"}},{"$f":"'Pob x Genero'!#REF!","v":{"$error":"#REF!"}},{"$f":"'Pob x Genero'!#REF!","v":{"$error":"#REF!"}},{"$f":"'Pob x Genero'!#REF!","v":{"$error":"#REF!"}},{"$f":"'Pob x Genero'!#REF!","v":{"$error":"#REF!"}},"Hombre","00-04",{"$f":"'Pob x Genero'!#REF!","v":{"$error":"#REF!"}},1671]
[{"$f":"'Pob x Genero'!#REF!","v":{"$error":"#REF!"}},{"$f":"'Pob x Genero'!#REF!","v":{"$error":"#REF!"}},{"$f":"'Pob x Genero'!#REF!","v":{"$error":"#REF!"}},{"$f":"'Pob x Genero'!#REF!","v":{"$error":"#REF!"}},{"$f":"'Pob x Genero'!#REF!","v":{"$error":"#REF!"}},"Hombre","00-04",{"$f":"'Pob x Genero'!#REF!","v":{"$error":"#REF!"}},1672]
[{"$f":"'Pob x Genero'!#REF!","v":{"$error":"#REF!"}},{"$f":"'Pob x Genero'!#REF!","v":{"$error":"#REF!"}},{"$f":"'Pob x Genero'!#REF!","v":{"$error":"#REF!"}},{"$f":"'Pob x Genero'!#REF!","v":{"$error":"#REF!"}},{"$f":"'Pob x Genero'!#REF!","v":{"$error":"#REF!"}},"Hombre","00-04",{"$f":"'Pob x Genero'!#REF!","v":{"$error":"#REF!"}},1673]
[{"$f":"'Pob x Genero'!#REF!","v":{"$error":"#REF!"}},{"$f":"'Pob x Genero'!#REF!","v":{"$error":"#REF!"}},{"$f":"'Pob x Genero'!#REF!","v":{"$error":"#REF!"}},{"$f":"'Pob x Genero'!#REF!","v":{"$error":"#REF!"}},{"$f":"'Pob x Genero'!#REF!","v":{"$error":"#REF!"}},"Hombre","00-04",{"$f":"'Pob x Genero'!#REF!","v":{"$error":"#REF!"}},1674]
[{"$f":"'Pob x Genero'!#REF!","v":{"$error":"#REF!"}},{"$f":"'Pob x Genero'!#REF!","v":{"$error":"#REF!"}},{"$f":"'Pob x Genero'!#REF!","v":{"$error":"#REF!"}},{"$f":"'Pob x Genero'!#REF!","v":{"$error":"#REF!"}},{"$f":"'Pob x Genero'!#REF!","v":{"$error":"#REF!"}},"Hombre","00-04",{"$f":"'Pob x Genero'!#REF!","v":{"$error":"#REF!"}},1675]
[{"$f":"'Pob x Genero'!#REF!","v":{"$error":"#REF!"}},{"$f":"'Pob x Genero'!#REF!","v":{"$error":"#REF!"}},{"$f":"'Pob x Genero'!#REF!","v":{"$error":"#REF!"}},{"$f":"'Pob x Genero'!#REF!","v":{"$error":"#REF!"}},{"$f":"'Pob x Genero'!#REF!","v":{"$error":"#REF!"}},"Hombre","00-04",{"$f":"'Pob x Genero'!#REF!","v":{"$error":"#REF!"}},1676]
[{"$f":"'Pob x Genero'!#REF!","v":{"$error":"#REF!"}},{"$f":"'Pob x Genero'!#REF!","v":{"$error":"#REF!"}},{"$f":"'Pob x Genero'!#REF!","v":{"$error":"#REF!"}},{"$f":"'Pob x Genero'!#REF!","v":{"$error":"#REF!"}},{"$f":"'Pob x Genero'!#REF!","v":{"$error":"#REF!"}},"Hombre","00-04",{"$f":"'Pob x Genero'!#REF!","v":{"$error":"#REF!"}},1677]
[{"$f":"'Pob x Genero'!#REF!","v":{"$error":"#REF!"}},{"$f":"'Pob x Genero'!#REF!","v":{"$error":"#REF!"}},{"$f":"'Pob x Genero'!#REF!","v":{"$error":"#REF!"}},{"$f":"'Pob x Genero'!#REF!","v":{"$error":"#REF!"}},{"$f":"'Pob x Genero'!#REF!","v":{"$error":"#REF!"}},"Hombre","00-04",{"$f":"'Pob x Genero'!#REF!","v":{"$error":"#REF!"}},1678]
[{"$f":"'Pob x Genero'!#REF!","v":{"$error":"#REF!"}},{"$f":"'Pob x Genero'!#REF!","v":{"$error":"#REF!"}},{"$f":"'Pob x Genero'!#REF!","v":{"$error":"#REF!"}},{"$f":"'Pob x Genero'!#REF!","v":{"$error":"#REF!"}},{"$f":"'Pob x Genero'!#REF!","v":{"$error":"#REF!"}},"Hombre","00-04",{"$f":"'Pob x Genero'!#REF!","v":{"$error":"#REF!"}},1679]
[{"$f":"'Pob x Genero'!#REF!","v":{"$error":"#REF!"}},{"$f":"'Pob x Genero'!#REF!","v":{"$error":"#REF!"}},{"$f":"'Pob x Genero'!#REF!","v":{"$error":"#REF!"}},{"$f":"'Pob x Genero'!#REF!","v":{"$error":"#REF!"}},{"$f":"'Pob x Genero'!#REF!","v":{"$error":"#REF!"}},"Hombre","00-04",{"$f":"'Pob x Genero'!#REF!","v":{"$error":"#REF!"}},1680]
[{"$f":"'Pob x Genero'!#REF!","v":{"$error":"#REF!"}},{"$f":"'Pob x Genero'!#REF!","v":{"$error":"#REF!"}},{"$f":"'Pob x Genero'!#REF!","v":{"$error":"#REF!"}},{"$f":"'Pob x Genero'!#REF!","v":{"$error":"#REF!"}},{"$f":"'Pob x Genero'!#REF!","v":{"$error":"#REF!"}},"Hombre","00-04",{"$f":"'Pob x Genero'!#REF!","v":{"$error":"#REF!"}},1681]
[{"$f":"'Pob x Genero'!#REF!","v":{"$error":"#REF!"}},{"$f":"'Pob x Genero'!#REF!","v":{"$error":"#REF!"}},{"$f":"'Pob x Genero'!#REF!","v":{"$error":"#REF!"}},{"$f":"'Pob x Genero'!#REF!","v":{"$error":"#REF!"}},{"$f":"'Pob x Genero'!#REF!","v":{"$error":"#REF!"}},"Hombre","00-04",{"$f":"'Pob x Genero'!#REF!","v":{"$error":"#REF!"}},1682]
[{"$f":"'Pob x Genero'!#REF!","v":{"$error":"#REF!"}},{"$f":"'Pob x Genero'!#REF!","v":{"$error":"#REF!"}},{"$f":"'Pob x Genero'!#REF!","v":{"$error":"#REF!"}},{"$f":"'Pob x Genero'!#REF!","v":{"$error":"#REF!"}},{"$f":"'Pob x Genero'!#REF!","v":{"$error":"#REF!"}},"Hombre","00-04",{"$f":"'Pob x Genero'!#REF!","v":{"$error":"#REF!"}},1683]
[{"$f":"'Pob x Genero'!#REF!","v":{"$error":"#REF!"}},{"$f":"'Pob x Genero'!#REF!","v":{"$error":"#REF!"}},{"$f":"'Pob x Genero'!#REF!","v":{"$error":"#REF!"}},{"$f":"'Pob x Genero'!#REF!","v":{"$error":"#REF!"}},{"$f":"'Pob x Genero'!#REF!","v":{"$error":"#REF!"}},"Hombre","00-04",{"$f":"'Pob x Genero'!#REF!","v":{"$error":"#REF!"}},1684]
[{"$f":"'Pob x Genero'!#REF!","v":{"$error":"#REF!"}},{"$f":"'Pob x Genero'!#REF!","v":{"$error":"#REF!"}},{"$f":"'Pob x Genero'!#REF!","v":{"$error":"#REF!"}},{"$f":"'Pob x Genero'!#REF!","v":{"$error":"#REF!"}},{"$f":"'Pob x Genero'!#REF!","v":{"$error":"#REF!"}},"Hombre","00-04",{"$f":"'Pob x Genero'!#REF!","v":{"$error":"#REF!"}},1685]
[{"$f":"'Pob x Genero'!#REF!","v":{"$error":"#REF!"}},{"$f":"'Pob x Genero'!#REF!","v":{"$error":"#REF!"}},{"$f":"'Pob x Genero'!#REF!","v":{"$error":"#REF!"}},{"$f":"'Pob x Genero'!#REF!","v":{"$error":"#REF!"}},{"$f":"'Pob x Genero'!#REF!","v":{"$error":"#REF!"}},"Hombre","00-04",{"$f":"'Pob x Genero'!#REF!","v":{"$error":"#REF!"}},1686]
[{"$f":"'Pob x Genero'!#REF!","v":{"$error":"#REF!"}},{"$f":"'Pob x Genero'!#REF!","v":{"$error":"#REF!"}},{"$f":"'Pob x Genero'!#REF!","v":{"$error":"#REF!"}},{"$f":"'Pob x Genero'!#REF!","v":{"$error":"#REF!"}},{"$f":"'Pob x Genero'!#REF!","v":{"$error":"#REF!"}},"Hombre","00-04",{"$f":"'Pob x Genero'!#REF!","v":{"$error":"#REF!"}},1687]
[{"$f":"'Pob x Genero'!#REF!","v":{"$error":"#REF!"}},{"$f":"'Pob x Genero'!#REF!","v":{"$error":"#REF!"}},{"$f":"'Pob x Genero'!#REF!","v":{"$error":"#REF!"}},{"$f":"'Pob x Genero'!#REF!","v":{"$error":"#REF!"}},{"$f":"'Pob x Genero'!#REF!","v":{"$error":"#REF!"}},"Hombre","00-04",{"$f":"'Pob x Genero'!#REF!","v":{"$error":"#REF!"}},1688]
[{"$f":"'Pob x Genero'!#REF!","v":{"$error":"#REF!"}},{"$f":"'Pob x Genero'!#REF!","v":{"$error":"#REF!"}},{"$f":"'Pob x Genero'!#REF!","v":{"$error":"#REF!"}},{"$f":"'Pob x Genero'!#REF!","v":{"$error":"#REF!"}},{"$f":"'Pob x Genero'!#REF!","v":{"$error":"#REF!"}},"Hombre","00-04",{"$f":"'Pob x Genero'!#REF!","v":{"$error":"#REF!"}},1689]
[{"$f":"'Pob x Genero'!#REF!","v":{"$error":"#REF!"}},{"$f":"'Pob x Genero'!#REF!","v":{"$error":"#REF!"}},{"$f":"'Pob x Genero'!#REF!","v":{"$error":"#REF!"}},{"$f":"'Pob x Genero'!#REF!","v":{"$error":"#REF!"}},{"$f":"'Pob x Genero'!#REF!","v":{"$error":"#REF!"}},"Hombre","00-04",{"$f":"'Pob x Genero'!#REF!","v":{"$error":"#REF!"}},1690]
[{"$f":"'Pob x Genero'!#REF!","v":{"$error":"#REF!"}},{"$f":"'Pob x Genero'!#REF!","v":{"$error":"#REF!"}},{"$f":"'Pob x Genero'!#REF!","v":{"$error":"#REF!"}},{"$f":"'Pob x Genero'!#REF!","v":{"$error":"#REF!"}},{"$f":"'Pob x Genero'!#REF!","v":{"$error":"#REF!"}},"Hombre","00-04",{"$f":"'Pob x Genero'!#REF!","v":{"$error":"#REF!"}},1691]
[{"$f":"'Pob x Genero'!#REF!","v":{"$error":"#REF!"}},{"$f":"'Pob x Genero'!#REF!","v":{"$error":"#REF!"}},{"$f":"'Pob x Genero'!#REF!","v":{"$error":"#REF!"}},{"$f":"'Pob x Genero'!#REF!","v":{"$error":"#REF!"}},{"$f":"'Pob x Genero'!#REF!","v":{"$error":"#REF!"}},"Hombre","00-04",{"$f":"'Pob x Genero'!#REF!","v":{"$error":"#REF!"}},1692]
[{"$f":"'Pob x Genero'!#REF!","v":{"$error":"#REF!"}},{"$f":"'Pob x Genero'!#REF!","v":{"$error":"#REF!"}},{"$f":"'Pob x Genero'!#REF!","v":{"$error":"#REF!"}},{"$f":"'Pob x Genero'!#REF!","v":{"$error":"#REF!"}},{"$f":"'Pob x Genero'!#REF!","v":{"$error":"#REF!"}},"Hombre","00-04",{"$f":"'Pob x Genero'!#REF!","v":{"$error":"#REF!"}},1693]
[{"$f":"'Pob x Genero'!#REF!","v":{"$error":"#REF!"}},{"$f":"'Pob x Genero'!#REF!","v":{"$error":"#REF!"}},{"$f":"'Pob x Genero'!#REF!","v":{"$error":"#REF!"}},{"$f":"'Pob x Genero'!#REF!","v":{"$error":"#REF!"}},{"$f":"'Pob x Genero'!#REF!","v":{"$error":"#REF!"}},"Hombre","00-04",{"$f":"'Pob x Genero'!#REF!","v":{"$error":"#REF!"}},1694]
[{"$f":"'Pob x Genero'!#REF!","v":{"$error":"#REF!"}},{"$f":"'Pob x Genero'!#REF!","v":{"$error":"#REF!"}},{"$f":"'Pob x Genero'!#REF!","v":{"$error":"#REF!"}},{"$f":"'Pob x Genero'!#REF!","v":{"$error":"#REF!"}},{"$f":"'Pob x Genero'!#REF!","v":{"$error":"#REF!"}},"Hombre","00-04",{"$f":"'Pob x Genero'!#REF!","v":{"$error":"#REF!"}},1695]
[{"$f":"'Pob x Genero'!#REF!","v":{"$error":"#REF!"}},{"$f":"'Pob x Genero'!#REF!","v":{"$error":"#REF!"}},{"$f":"'Pob x Genero'!#REF!","v":{"$error":"#REF!"}},{"$f":"'Pob x Genero'!#REF!","v":{"$error":"#REF!"}},{"$f":"'Pob x Genero'!#REF!","v":{"$error":"#REF!"}},"Hombre","00-04",{"$f":"'Pob x Genero'!#REF!","v":{"$error":"#REF!"}},1696]
[{"$f":"'Pob x Genero'!#REF!","v":{"$error":"#REF!"}},{"$f":"'Pob x Genero'!#REF!","v":{"$error":"#REF!"}},{"$f":"'Pob x Genero'!#REF!","v":{"$error":"#REF!"}},{"$f":"'Pob x Genero'!#REF!","v":{"$error":"#REF!"}},{"$f":"'Pob x Genero'!#REF!","v":{"$error":"#REF!"}},"Hombre","00-04",{"$f":"'Pob x Genero'!#REF!","v":{"$error":"#REF!"}},1697]
[{"$f":"'Pob x Genero'!#REF!","v":{"$error":"#REF!"}},{"$f":"'Pob x Genero'!#REF!","v":{"$error":"#REF!"}},{"$f":"'Pob x Genero'!#REF!","v":{"$error":"#REF!"}},{"$f":"'Pob x Genero'!#REF!","v":{"$error":"#REF!"}},{"$f":"'Pob x Genero'!#REF!","v":{"$error":"#REF!"}},"Hombre","00-04",{"$f":"'Pob x Genero'!#REF!","v":{"$error":"#REF!"}},1698]
[{"$f":"'Pob x Genero'!#REF!","v":{"$error":"#REF!"}},{"$f":"'Pob x Genero'!#REF!","v":{"$error":"#REF!"}},{"$f":"'Pob x Genero'!#REF!","v":{"$error":"#REF!"}},{"$f":"'Pob x Genero'!#REF!","v":{"$error":"#REF!"}},{"$f":"'Pob x Genero'!#REF!","v":{"$error":"#REF!"}},"Hombre","00-04",{"$f":"'Pob x Genero'!#REF!","v":{"$error":"#REF!"}},1699]
[{"$f":"'Pob x Genero'!#REF!","v":{"$error":"#REF!"}},{"$f":"'Pob x Genero'!#REF!","v":{"$error":"#REF!"}},{"$f":"'Pob x Genero'!#REF!","v":{"$error":"#REF!"}},{"$f":"'Pob x Genero'!#REF!","v":{"$error":"#REF!"}},{"$f":"'Pob x Genero'!#REF!","v":{"$error":"#REF!"}},"Hombre","00-04",{"$f":"'Pob x Genero'!#REF!","v":{"$error":"#REF!"}},1700]
[{"$f":"'Pob x Genero'!#REF!","v":{"$error":"#REF!"}},{"$f":"'Pob x Genero'!#REF!","v":{"$error":"#REF!"}},{"$f":"'Pob x Genero'!#REF!","v":{"$error":"#REF!"}},{"$f":"'Pob x Genero'!#REF!","v":{"$error":"#REF!"}},{"$f":"'Pob x Genero'!#REF!","v":{"$error":"#REF!"}},"Hombre","00-04",{"$f":"'Pob x Genero'!#REF!","v":{"$error":"#REF!"}},1701]
[{"$f":"'Pob x Genero'!#REF!","v":{"$error":"#REF!"}},{"$f":"'Pob x Genero'!#REF!","v":{"$error":"#REF!"}},{"$f":"'Pob x Genero'!#REF!","v":{"$error":"#REF!"}},{"$f":"'Pob x Genero'!#REF!","v":{"$error":"#REF!"}},{"$f":"'Pob x Genero'!#REF!","v":{"$error":"#REF!"}},"Hombre","00-04",{"$f":"'Pob x Genero'!#REF!","v":{"$error":"#REF!"}},1702]
[{"$f":"'Pob x Genero'!#REF!","v":{"$error":"#REF!"}},{"$f":"'Pob x Genero'!#REF!","v":{"$error":"#REF!"}},{"$f":"'Pob x Genero'!#REF!","v":{"$error":"#REF!"}},{"$f":"'Pob x Genero'!#REF!","v":{"$error":"#REF!"}},{"$f":"'Pob x Genero'!#REF!","v":{"$error":"#REF!"}},"Hombre","00-04",{"$f":"'Pob x Genero'!#REF!","v":{"$error":"#REF!"}},1703]
[{"$f":"'Pob x Genero'!#REF!","v":{"$error":"#REF!"}},{"$f":"'Pob x Genero'!#REF!","v":{"$error":"#REF!"}},{"$f":"'Pob x Genero'!#REF!","v":{"$error":"#REF!"}},{"$f":"'Pob x Genero'!#REF!","v":{"$error":"#REF!"}},{"$f":"'Pob x Genero'!#REF!","v":{"$error":"#REF!"}},"Hombre","00-04",{"$f":"'Pob x Genero'!#REF!","v":{"$error":"#REF!"}},1704]
[{"$f":"'Pob x Genero'!#REF!","v":{"$error":"#REF!"}},{"$f":"'Pob x Genero'!#REF!","v":{"$error":"#REF!"}},{"$f":"'Pob x Genero'!#REF!","v":{"$error":"#REF!"}},{"$f":"'Pob x Genero'!#REF!","v":{"$error":"#REF!"}},{"$f":"'Pob x Genero'!#REF!","v":{"$error":"#REF!"}},"Hombre","00-04",{"$f":"'Pob x Genero'!#REF!","v":{"$error":"#REF!"}},1705]
[{"$f":"'Pob x Genero'!#REF!","v":{"$error":"#REF!"}},{"$f":"'Pob x Genero'!#REF!","v":{"$error":"#REF!"}},{"$f":"'Pob x Genero'!#REF!","v":{"$error":"#REF!"}},{"$f":"'Pob x Genero'!#REF!","v":{"$error":"#REF!"}},{"$f":"'Pob x Genero'!#REF!","v":{"$error":"#REF!"}},"Hombre","00-04",{"$f":"'Pob x Genero'!#REF!","v":{"$error":"#REF!"}},1706]
[{"$f":"'Pob x Genero'!#REF!","v":{"$error":"#REF!"}},{"$f":"'Pob x Genero'!#REF!","v":{"$error":"#REF!"}},{"$f":"'Pob x Genero'!#REF!","v":{"$error":"#REF!"}},{"$f":"'Pob x Genero'!#REF!","v":{"$error":"#REF!"}},{"$f":"'Pob x Genero'!#REF!","v":{"$error":"#REF!"}},"Hombre","00-04",{"$f":"'Pob x Genero'!#REF!","v":{"$error":"#REF!"}},1707]
[{"$f":"'Pob x Genero'!#REF!","v":{"$error":"#REF!"}},{"$f":"'Pob x Genero'!#REF!","v":{"$error":"#REF!"}},{"$f":"'Pob x Genero'!#REF!","v":{"$error":"#REF!"}},{"$f":"'Pob x Genero'!#REF!","v":{"$error":"#REF!"}},{"$f":"'Pob x Genero'!#REF!","v":{"$error":"#REF!"}},"Hombre","00-04",{"$f":"'Pob x Genero'!#REF!","v":{"$error":"#REF!"}},1708]
[{"$f":"'Pob x Genero'!#REF!","v":{"$error":"#REF!"}},{"$f":"'Pob x Genero'!#REF!","v":{"$error":"#REF!"}},{"$f":"'Pob x Genero'!#REF!","v":{"$error":"#REF!"}},{"$f":"'Pob x Genero'!#REF!","v":{"$error":"#REF!"}},{"$f":"'Pob x Genero'!#REF!","v":{"$error":"#REF!"}},"Hombre","00-04",{"$f":"'Pob x Genero'!#REF!","v":{"$error":"#REF!"}},1709]
[{"$f":"'Pob x Genero'!#REF!","v":{"$error":"#REF!"}},{"$f":"'Pob x Genero'!#REF!","v":{"$error":"#REF!"}},{"$f":"'Pob x Genero'!#REF!","v":{"$error":"#REF!"}},{"$f":"'Pob x Genero'!#REF!","v":{"$error":"#REF!"}},{"$f":"'Pob x Genero'!#REF!","v":{"$error":"#REF!"}},"Hombre","00-04",{"$f":"'Pob x Genero'!#REF!","v":{"$error":"#REF!"}},1710]
[{"$f":"'Pob x Genero'!#REF!","v":{"$error":"#REF!"}},{"$f":"'Pob x Genero'!#REF!","v":{"$error":"#REF!"}},{"$f":"'Pob x Genero'!#REF!","v":{"$error":"#REF!"}},{"$f":"'Pob x Genero'!#REF!","v":{"$error":"#REF!"}},{"$f":"'Pob x Genero'!#REF!","v":{"$error":"#REF!"}},"Hombre","00-04",{"$f":"'Pob x Genero'!#REF!","v":{"$error":"#REF!"}},1711]
[{"$f":"'Pob x Genero'!#REF!","v":{"$error":"#REF!"}},{"$f":"'Pob x Genero'!#REF!","v":{"$error":"#REF!"}},{"$f":"'Pob x Genero'!#REF!","v":{"$error":"#REF!"}},{"$f":"'Pob x Genero'!#REF!","v":{"$error":"#REF!"}},{"$f":"'Pob x Genero'!#REF!","v":{"$error":"#REF!"}},"Hombre","00-04",{"$f":"'Pob x Genero'!#REF!","v":{"$error":"#REF!"}},1712]
[{"$f":"'Pob x Genero'!#REF!","v":{"$error":"#REF!"}},{"$f":"'Pob x Genero'!#REF!","v":{"$error":"#REF!"}},{"$f":"'Pob x Genero'!#REF!","v":{"$error":"#REF!"}},{"$f":"'Pob x Genero'!#REF!","v":{"$error":"#REF!"}},{"$f":"'Pob x Genero'!#REF!","v":{"$error":"#REF!"}},"Hombre","00-04",{"$f":"'Pob x Genero'!#REF!","v":{"$error":"#REF!"}},1713]
[{"$f":"'Pob x Genero'!#REF!","v":{"$error":"#REF!"}},{"$f":"'Pob x Genero'!#REF!","v":{"$error":"#REF!"}},{"$f":"'Pob x Genero'!#REF!","v":{"$error":"#REF!"}},{"$f":"'Pob x Genero'!#REF!","v":{"$error":"#REF!"}},{"$f":"'Pob x Genero'!#REF!","v":{"$error":"#REF!"}},"Hombre","00-04",{"$f":"'Pob x Genero'!#REF!","v":{"$error":"#REF!"}},1714]
[{"$f":"'Pob x Genero'!#REF!","v":{"$error":"#REF!"}},{"$f":"'Pob x Genero'!#REF!","v":{"$error":"#REF!"}},{"$f":"'Pob x Genero'!#REF!","v":{"$error":"#REF!"}},{"$f":"'Pob x Genero'!#REF!","v":{"$error":"#REF!"}},{"$f":"'Pob x Genero'!#REF!","v":{"$error":"#REF!"}},"Hombre","00-04",{"$f":"'Pob x Genero'!#REF!","v":{"$error":"#REF!"}},1715]
[{"$f":"'Pob x Genero'!#REF!","v":{"$error":"#REF!"}},{"$f":"'Pob x Genero'!#REF!","v":{"$error":"#REF!"}},{"$f":"'Pob x Genero'!#REF!","v":{"$error":"#REF!"}},{"$f":"'Pob x Genero'!#REF!","v":{"$error":"#REF!"}},{"$f":"'Pob x Genero'!#REF!","v":{"$error":"#REF!"}},"Hombre","00-04",{"$f":"'Pob x Genero'!#REF!","v":{"$error":"#REF!"}},1716]
[{"$f":"'Pob x Genero'!#REF!","v":{"$error":"#REF!"}},{"$f":"'Pob x Genero'!#REF!","v":{"$error":"#REF!"}},{"$f":"'Pob x Genero'!#REF!","v":{"$error":"#REF!"}},{"$f":"'Pob x Genero'!#REF!","v":{"$error":"#REF!"}},{"$f":"'Pob x Genero'!#REF!","v":{"$error":"#REF!"}},"Hombre","00-04",{"$f":"'Pob x Genero'!#REF!","v":{"$error":"#REF!"}},1717]
[{"$f":"'Pob x Genero'!#REF!","v":{"$error":"#REF!"}},{"$f":"'Pob x Genero'!#REF!","v":{"$error":"#REF!"}},{"$f":"'Pob x Genero'!#REF!","v":{"$error":"#REF!"}},{"$f":"'Pob x Genero'!#REF!","v":{"$error":"#REF!"}},{"$f":"'Pob x Genero'!#REF!","v":{"$error":"#REF!"}},"Hombre","00-04",{"$f":"'Pob x Genero'!#REF!","v":{"$error":"#REF!"}},1718]
[{"$f":"'Pob x Genero'!#REF!","v":{"$error":"#REF!"}},{"$f":"'Pob x Genero'!#REF!","v":{"$error":"#REF!"}},{"$f":"'Pob x Genero'!#REF!","v":{"$error":"#REF!"}},{"$f":"'Pob x Genero'!#REF!","v":{"$error":"#REF!"}},{"$f":"'Pob x Genero'!#REF!","v":{"$error":"#REF!"}},"Hombre","00-04",{"$f":"'Pob x Genero'!#REF!","v":{"$error":"#REF!"}},1719]
[{"$f":"'Pob x Genero'!#REF!","v":{"$error":"#REF!"}},{"$f":"'Pob x Genero'!#REF!","v":{"$error":"#REF!"}},{"$f":"'Pob x Genero'!#REF!","v":{"$error":"#REF!"}},{"$f":"'Pob x Genero'!#REF!","v":{"$error":"#REF!"}},{"$f":"'Pob x Genero'!#REF!","v":{"$error":"#REF!"}},"Hombre","00-04",{"$f":"'Pob x Genero'!#REF!","v":{"$error":"#REF!"}},1720]
[{"$f":"'Pob x Genero'!#REF!","v":{"$error":"#REF!"}},{"$f":"'Pob x Genero'!#REF!","v":{"$error":"#REF!"}},{"$f":"'Pob x Genero'!#REF!","v":{"$error":"#REF!"}},{"$f":"'Pob x Genero'!#REF!","v":{"$error":"#REF!"}},{"$f":"'Pob x Genero'!#REF!","v":{"$error":"#REF!"}},"Hombre","00-04",{"$f":"'Pob x Genero'!#REF!","v":{"$error":"#REF!"}},1721]
[{"$f":"'Pob x Genero'!#REF!","v":{"$error":"#REF!"}},{"$f":"'Pob x Genero'!#REF!","v":{"$error":"#REF!"}},{"$f":"'Pob x Genero'!#REF!","v":{"$error":"#REF!"}},{"$f":"'Pob x Genero'!#REF!","v":{"$error":"#REF!"}},{"$f":"'Pob x Genero'!#REF!","v":{"$error":"#REF!"}},"Hombre","00-04",{"$f":"'Pob x Genero'!#REF!","v":{"$error":"#REF!"}},1722]
[{"$f":"'Pob x Genero'!#REF!","v":{"$error":"#REF!"}},{"$f":"'Pob x Genero'!#REF!","v":{"$error":"#REF!"}},{"$f":"'Pob x Genero'!#REF!","v":{"$error":"#REF!"}},{"$f":"'Pob x Genero'!#REF!","v":{"$error":"#REF!"}},{"$f":"'Pob x Genero'!#REF!","v":{"$error":"#REF!"}},"Hombre","00-04",{"$f":"'Pob x Genero'!#REF!","v":{"$error":"#REF!"}},1723]
[{"$f":"'Pob x Genero'!#REF!","v":{"$error":"#REF!"}},{"$f":"'Pob x Genero'!#REF!","v":{"$error":"#REF!"}},{"$f":"'Pob x Genero'!#REF!","v":{"$error":"#REF!"}},{"$f":"'Pob x Genero'!#REF!","v":{"$error":"#REF!"}},{"$f":"'Pob x Genero'!#REF!","v":{"$error":"#REF!"}},"Hombre","00-04",{"$f":"'Pob x Genero'!#REF!","v":{"$error":"#REF!"}},1724]
[{"$f":"'Pob x Genero'!#REF!","v":{"$error":"#REF!"}},{"$f":"'Pob x Genero'!#REF!","v":{"$error":"#REF!"}},{"$f":"'Pob x Genero'!#REF!","v":{"$error":"#REF!"}},{"$f":"'Pob x Genero'!#REF!","v":{"$error":"#REF!"}},{"$f":"'Pob x Genero'!#REF!","v":{"$error":"#REF!"}},"Hombre","00-04",{"$f":"'Pob x Genero'!#REF!","v":{"$error":"#REF!"}},1725]
[{"$f":"'Pob x Genero'!#REF!","v":{"$error":"#REF!"}},{"$f":"'Pob x Genero'!#REF!","v":{"$error":"#REF!"}},{"$f":"'Pob x Genero'!#REF!","v":{"$error":"#REF!"}},{"$f":"'Pob x Genero'!#REF!","v":{"$error":"#REF!"}},{"$f":"'Pob x Genero'!#REF!","v":{"$error":"#REF!"}},"Hombre","00-04",{"$f":"'Pob x Genero'!#REF!","v":{"$error":"#REF!"}},1726]
[{"$f":"'Pob x Genero'!#REF!","v":{"$error":"#REF!"}},{"$f":"'Pob x Genero'!#REF!","v":{"$error":"#REF!"}},{"$f":"'Pob x Genero'!#REF!","v":{"$error":"#REF!"}},{"$f":"'Pob x Genero'!#REF!","v":{"$error":"#REF!"}},{"$f":"'Pob x Genero'!#REF!","v":{"$error":"#REF!"}},"Hombre","00-04",{"$f":"'Pob x Genero'!#REF!","v":{"$error":"#REF!"}},1727]
[{"$f":"'Pob x Genero'!#REF!","v":{"$error":"#REF!"}},{"$f":"'Pob x Genero'!#REF!","v":{"$error":"#REF!"}},{"$f":"'Pob x Genero'!#REF!","v":{"$error":"#REF!"}},{"$f":"'Pob x Genero'!#REF!","v":{"$error":"#REF!"}},{"$f":"'Pob x Genero'!#REF!","v":{"$error":"#REF!"}},"Hombre","00-04",{"$f":"'Pob x Genero'!#REF!","v":{"$error":"#REF!"}},1728]
[{"$f":"'Pob x Genero'!#REF!","v":{"$error":"#REF!"}},{"$f":"'Pob x Genero'!#REF!","v":{"$error":"#REF!"}},{"$f":"'Pob x Genero'!#REF!","v":{"$error":"#REF!"}},{"$f":"'Pob x Genero'!#REF!","v":{"$error":"#REF!"}},{"$f":"'Pob x Genero'!#REF!","v":{"$error":"#REF!"}},"Hombre","00-04",{"$f":"'Pob x Genero'!#REF!","v":{"$error":"#REF!"}},1729]
[{"$f":"'Pob x Genero'!#REF!","v":{"$error":"#REF!"}},{"$f":"'Pob x Genero'!#REF!","v":{"$error":"#REF!"}},{"$f":"'Pob x Genero'!#REF!","v":{"$error":"#REF!"}},{"$f":"'Pob x Genero'!#REF!","v":{"$error":"#REF!"}},{"$f":"'Pob x Genero'!#REF!","v":{"$error":"#REF!"}},{"$f":"F1730","v":"Hombre"},{"$f":"G1730","v":"00-04"},{"$f":"'Pob x Genero'!#REF!","v":{"$error":"#REF!"}},1730]
[{"$f":"'Pob x Genero'!#REF!","v":{"$error":"#REF!"}},{"$f":"'Pob x Genero'!#REF!","v":{"$error":"#REF!"}},{"$f":"'Pob x Genero'!#REF!","v":{"$error":"#REF!"}},{"$f":"'Pob x Genero'!#REF!","v":{"$error":"#REF!"}},{"$f":"'Pob x Genero'!#REF!","v":{"$error":"#REF!"}},"Hombre","00-04",{"$f":"'Pob x Genero'!#REF!","v":{"$error":"#REF!"}},1731]
[{"$f":"'Pob x Genero'!#REF!","v":{"$error":"#REF!"}},{"$f":"'Pob x Genero'!#REF!","v":{"$error":"#REF!"}},{"$f":"'Pob x Genero'!#REF!","v":{"$error":"#REF!"}},{"$f":"'Pob x Genero'!#REF!","v":{"$error":"#REF!"}},{"$f":"'Pob x Genero'!#REF!","v":{"$error":"#REF!"}},"Hombre","00-04",{"$f":"'Pob x Genero'!#REF!","v":{"$error":"#REF!"}},1732]
[{"$f":"'Pob x Genero'!#REF!","v":{"$error":"#REF!"}},{"$f":"'Pob x Genero'!#REF!","v":{"$error":"#REF!"}},{"$f":"'Pob x Genero'!#REF!","v":{"$error":"#REF!"}},{"$f":"'Pob x Genero'!#REF!","v":{"$error":"#REF!"}},{"$f":"'Pob x Genero'!#REF!","v":{"$error":"#REF!"}},"Hombre","00-04",{"$f":"'Pob x Genero'!#REF!","v":{"$error":"#REF!"}},1733]
[{"$f":"'Pob x Genero'!#REF!","v":{"$error":"#REF!"}},{"$f":"'Pob x Genero'!#REF!","v":{"$error":"#REF!"}},{"$f":"'Pob x Genero'!#REF!","v":{"$error":"#REF!"}},{"$f":"'Pob x Genero'!#REF!","v":{"$error":"#REF!"}},{"$f":"'Pob x Genero'!#REF!","v":{"$error":"#REF!"}},"Hombre","00-04",{"$f":"'Pob x Genero'!#REF!","v":{"$error":"#REF!"}},1734]
[{"$f":"'Pob x Genero'!#REF!","v":{"$error":"#REF!"}},{"$f":"'Pob x Genero'!#REF!","v":{"$error":"#REF!"}},{"$f":"'Pob x Genero'!#REF!","v":{"$error":"#REF!"}},{"$f":"'Pob x Genero'!#REF!","v":{"$error":"#REF!"}},{"$f":"'Pob x Genero'!#REF!","v":{"$error":"#REF!"}},"Hombre","00-04",{"$f":"'Pob x Genero'!#REF!","v":{"$error":"#REF!"}},1735]
[{"$f":"'Pob x Genero'!#REF!","v":{"$error":"#REF!"}},{"$f":"'Pob x Genero'!#REF!","v":{"$error":"#REF!"}},{"$f":"'Pob x Genero'!#REF!","v":{"$error":"#REF!"}},{"$f":"'Pob x Genero'!#REF!","v":{"$error":"#REF!"}},{"$f":"'Pob x Genero'!#REF!","v":{"$error":"#REF!"}},"Hombre","00-04",{"$f":"'Pob x Genero'!#REF!","v":{"$error":"#REF!"}},1736]
[{"$f":"'Pob x Genero'!#REF!","v":{"$error":"#REF!"}},{"$f":"'Pob x Genero'!#REF!","v":{"$error":"#REF!"}},{"$f":"'Pob x Genero'!#REF!","v":{"$error":"#REF!"}},{"$f":"'Pob x Genero'!#REF!","v":{"$error":"#REF!"}},{"$f":"'Pob x Genero'!#REF!","v":{"$error":"#REF!"}},"Hombre","00-04",{"$f":"'Pob x Genero'!#REF!","v":{"$error":"#REF!"}},1737]
[{"$f":"'Pob x Genero'!#REF!","v":{"$error":"#REF!"}},{"$f":"'Pob x Genero'!#REF!","v":{"$error":"#REF!"}},{"$f":"'Pob x Genero'!#REF!","v":{"$error":"#REF!"}},{"$f":"'Pob x Genero'!#REF!","v":{"$error":"#REF!"}},{"$f":"'Pob x Genero'!#REF!","v":{"$error":"#REF!"}},"Hombre","00-04",{"$f":"'Pob x Genero'!#REF!","v":{"$error":"#REF!"}},1738]
[{"$f":"'Pob x Genero'!#REF!","v":{"$error":"#REF!"}},{"$f":"'Pob x Genero'!#REF!","v":{"$error":"#REF!"}},{"$f":"'Pob x Genero'!#REF!","v":{"$error":"#REF!"}},{"$f":"'Pob x Genero'!#REF!","v":{"$error":"#REF!"}},{"$f":"'Pob x Genero'!#REF!","v":{"$error":"#REF!"}},"Hombre","00-04",{"$f":"'Pob x Genero'!#REF!","v":{"$error":"#REF!"}},1739]
[{"$f":"'Pob x Genero'!#REF!","v":{"$error":"#REF!"}},{"$f":"'Pob x Genero'!#REF!","v":{"$error":"#REF!"}},{"$f":"'Pob x Genero'!#REF!","v":{"$error":"#REF!"}},{"$f":"'Pob x Genero'!#REF!","v":{"$error":"#REF!"}},{"$f":"'Pob x Genero'!#REF!","v":{"$error":"#REF!"}},"Hombre","00-04",{"$f":"'Pob x Genero'!#REF!","v":{"$error":"#REF!"}},1740]
[{"$f":"'Pob x Genero'!#REF!","v":{"$error":"#REF!"}},{"$f":"'Pob x Genero'!#REF!","v":{"$error":"#REF!"}},{"$f":"'Pob x Genero'!#REF!","v":{"$error":"#REF!"}},{"$f":"'Pob x Genero'!#REF!","v":{"$error":"#REF!"}},{"$f":"'Pob x Genero'!#REF!","v":{"$error":"#REF!"}},"Hombre","00-04",{"$f":"'Pob x Genero'!#REF!","v":{"$error":"#REF!"}},1741]
[{"$f":"'Pob x Genero'!#REF!","v":{"$error":"#REF!"}},{"$f":"'Pob x Genero'!#REF!","v":{"$error":"#REF!"}},{"$f":"'Pob x Genero'!#REF!","v":{"$error":"#REF!"}},{"$f":"'Pob x Genero'!#REF!","v":{"$error":"#REF!"}},{"$f":"'Pob x Genero'!#REF!","v":{"$error":"#REF!"}},"Hombre","00-04",{"$f":"'Pob x Genero'!#REF!","v":{"$error":"#REF!"}},1742]
[{"$f":"'Pob x Genero'!#REF!","v":{"$error":"#REF!"}},{"$f":"'Pob x Genero'!#REF!","v":{"$error":"#REF!"}},{"$f":"'Pob x Genero'!#REF!","v":{"$error":"#REF!"}},{"$f":"'Pob x Genero'!#REF!","v":{"$error":"#REF!"}},{"$f":"'Pob x Genero'!#REF!","v":{"$error":"#REF!"}},"Hombre","00-04",{"$f":"'Pob x Genero'!#REF!","v":{"$error":"#REF!"}},1743]
[{"$f":"'Pob x Genero'!#REF!","v":{"$error":"#REF!"}},{"$f":"'Pob x Genero'!#REF!","v":{"$error":"#REF!"}},{"$f":"'Pob x Genero'!#REF!","v":{"$error":"#REF!"}},{"$f":"'Pob x Genero'!#REF!","v":{"$error":"#REF!"}},{"$f":"'Pob x Genero'!#REF!","v":{"$error":"#REF!"}},"Hombre","00-04",{"$f":"'Pob x Genero'!#REF!","v":{"$error":"#REF!"}},1744]
[{"$f":"'Pob x Genero'!#REF!","v":{"$error":"#REF!"}},{"$f":"'Pob x Genero'!#REF!","v":{"$error":"#REF!"}},{"$f":"'Pob x Genero'!#REF!","v":{"$error":"#REF!"}},{"$f":"'Pob x Genero'!#REF!","v":{"$error":"#REF!"}},{"$f":"'Pob x Genero'!#REF!","v":{"$error":"#REF!"}},"Hombre","00-04",{"$f":"'Pob x Genero'!#REF!","v":{"$error":"#REF!"}},1745]
[{"$f":"'Pob x Genero'!#REF!","v":{"$error":"#REF!"}},{"$f":"'Pob x Genero'!#REF!","v":{"$error":"#REF!"}},{"$f":"'Pob x Genero'!#REF!","v":{"$error":"#REF!"}},{"$f":"'Pob x Genero'!#REF!","v":{"$error":"#REF!"}},{"$f":"'Pob x Genero'!#REF!","v":{"$error":"#REF!"}},"Hombre","00-04",{"$f":"'Pob x Genero'!#REF!","v":{"$error":"#REF!"}},1746]
[{"$f":"'Pob x Genero'!#REF!","v":{"$error":"#REF!"}},{"$f":"'Pob x Genero'!#REF!","v":{"$error":"#REF!"}},{"$f":"'Pob x Genero'!#REF!","v":{"$error":"#REF!"}},{"$f":"'Pob x Genero'!#REF!","v":{"$error":"#REF!"}},{"$f":"'Pob x Genero'!#REF!","v":{"$error":"#REF!"}},"Hombre","00-04",{"$f":"'Pob x Genero'!#REF!","v":{"$error":"#REF!"}},1747]
[{"$f":"'Pob x Genero'!#REF!","v":{"$error":"#REF!"}},{"$f":"'Pob x Genero'!#REF!","v":{"$error":"#REF!"}},{"$f":"'Pob x Genero'!#REF!","v":{"$error":"#REF!"}},{"$f":"'Pob x Genero'!#REF!","v":{"$error":"#REF!"}},{"$f":"'Pob x Genero'!#REF!","v":{"$error":"#REF!"}},"Hombre","00-04",{"$f":"'Pob x Genero'!#REF!","v":{"$error":"#REF!"}},1748]
[{"$f":"'Pob x Genero'!#REF!","v":{"$error":"#REF!"}},{"$f":"'Pob x Genero'!#REF!","v":{"$error":"#REF!"}},{"$f":"'Pob x Genero'!#REF!","v":{"$error":"#REF!"}},{"$f":"'Pob x Genero'!#REF!","v":{"$error":"#REF!"}},{"$f":"'Pob x Genero'!#REF!","v":{"$error":"#REF!"}},"Hombre","00-04",{"$f":"'Pob x Genero'!#REF!","v":{"$error":"#REF!"}},1749]
[{"$f":"'Pob x Genero'!#REF!","v":{"$error":"#REF!"}},{"$f":"'Pob x Genero'!#REF!","v":{"$error":"#REF!"}},{"$f":"'Pob x Genero'!#REF!","v":{"$error":"#REF!"}},{"$f":"'Pob x Genero'!#REF!","v":{"$error":"#REF!"}},{"$f":"'Pob x Genero'!#REF!","v":{"$error":"#REF!"}},"Hombre","00-04",{"$f":"'Pob x Genero'!#REF!","v":{"$error":"#REF!"}},1750]
[{"$f":"'Pob x Genero'!#REF!","v":{"$error":"#REF!"}},{"$f":"'Pob x Genero'!#REF!","v":{"$error":"#REF!"}},{"$f":"'Pob x Genero'!#REF!","v":{"$error":"#REF!"}},{"$f":"'Pob x Genero'!#REF!","v":{"$error":"#REF!"}},{"$f":"'Pob x Genero'!#REF!","v":{"$error":"#REF!"}},"Hombre","00-04",{"$f":"'Pob x Genero'!#REF!","v":{"$error":"#REF!"}},1751]
[{"$f":"'Pob x Genero'!#REF!","v":{"$error":"#REF!"}},{"$f":"'Pob x Genero'!#REF!","v":{"$error":"#REF!"}},{"$f":"'Pob x Genero'!#REF!","v":{"$error":"#REF!"}},{"$f":"'Pob x Genero'!#REF!","v":{"$error":"#REF!"}},{"$f":"'Pob x Genero'!#REF!","v":{"$error":"#REF!"}},"Hombre","00-04",{"$f":"'Pob x Genero'!#REF!","v":{"$error":"#REF!"}},1752]
[{"$f":"'Pob x Genero'!#REF!","v":{"$error":"#REF!"}},{"$f":"'Pob x Genero'!#REF!","v":{"$error":"#REF!"}},{"$f":"'Pob x Genero'!#REF!","v":{"$error":"#REF!"}},{"$f":"'Pob x Genero'!#REF!","v":{"$error":"#REF!"}},{"$f":"'Pob x Genero'!#REF!","v":{"$error":"#REF!"}},"Hombre","00-04",{"$f":"'Pob x Genero'!#REF!","v":{"$error":"#REF!"}},1753]
[{"$f":"'Pob x Genero'!#REF!","v":{"$error":"#REF!"}},{"$f":"'Pob x Genero'!#REF!","v":{"$error":"#REF!"}},{"$f":"'Pob x Genero'!#REF!","v":{"$error":"#REF!"}},{"$f":"'Pob x Genero'!#REF!","v":{"$error":"#REF!"}},{"$f":"'Pob x Genero'!#REF!","v":{"$error":"#REF!"}},"Hombre","00-04",{"$f":"'Pob x Genero'!#REF!","v":{"$error":"#REF!"}},1754]
[{"$f":"'Pob x Genero'!#REF!","v":{"$error":"#REF!"}},{"$f":"'Pob x Genero'!#REF!","v":{"$error":"#REF!"}},{"$f":"'Pob x Genero'!#REF!","v":{"$error":"#REF!"}},{"$f":"'Pob x Genero'!#REF!","v":{"$error":"#REF!"}},{"$f":"'Pob x Genero'!#REF!","v":{"$error":"#REF!"}},"Hombre","00-04",{"$f":"'Pob x Genero'!#REF!","v":{"$error":"#REF!"}},1755]
[{"$f":"'Pob x Genero'!#REF!","v":{"$error":"#REF!"}},{"$f":"'Pob x Genero'!#REF!","v":{"$error":"#REF!"}},{"$f":"'Pob x Genero'!#REF!","v":{"$error":"#REF!"}},{"$f":"'Pob x Genero'!#REF!","v":{"$error":"#REF!"}},{"$f":"'Pob x Genero'!#REF!","v":{"$error":"#REF!"}},"Hombre","00-04",{"$f":"'Pob x Genero'!#REF!","v":{"$error":"#REF!"}},1756]
[{"$f":"'Pob x Genero'!#REF!","v":{"$error":"#REF!"}},{"$f":"'Pob x Genero'!#REF!","v":{"$error":"#REF!"}},{"$f":"'Pob x Genero'!#REF!","v":{"$error":"#REF!"}},{"$f":"'Pob x Genero'!#REF!","v":{"$error":"#REF!"}},{"$f":"'Pob x Genero'!#REF!","v":{"$error":"#REF!"}},"Hombre","00-04",{"$f":"'Pob x Genero'!#REF!","v":{"$error":"#REF!"}},1757]
[{"$f":"'Pob x Genero'!#REF!","v":{"$error":"#REF!"}},{"$f":"'Pob x Genero'!#REF!","v":{"$error":"#REF!"}},{"$f":"'Pob x Genero'!#REF!","v":{"$error":"#REF!"}},{"$f":"'Pob x Genero'!#REF!","v":{"$error":"#REF!"}},{"$f":"'Pob x Genero'!#REF!","v":{"$error":"#REF!"}},"Hombre","00-04",{"$f":"'Pob x Genero'!#REF!","v":{"$error":"#REF!"}},1758]
[{"$f":"'Pob x Genero'!#REF!","v":{"$error":"#REF!"}},{"$f":"'Pob x Genero'!#REF!","v":{"$error":"#REF!"}},{"$f":"'Pob x Genero'!#REF!","v":{"$error":"#REF!"}},{"$f":"'Pob x Genero'!#REF!","v":{"$error":"#REF!"}},{"$f":"'Pob x Genero'!#REF!","v":{"$error":"#REF!"}},"Hombre","00-04",{"$f":"'Pob x Genero'!#REF!","v":{"$error":"#REF!"}},1759]
[{"$f":"'Pob x Genero'!#REF!","v":{"$error":"#REF!"}},{"$f":"'Pob x Genero'!#REF!","v":{"$error":"#REF!"}},{"$f":"'Pob x Genero'!#REF!","v":{"$error":"#REF!"}},{"$f":"'Pob x Genero'!#REF!","v":{"$error":"#REF!"}},{"$f":"'Pob x Genero'!#REF!","v":{"$error":"#REF!"}},"Hombre","00-04",{"$f":"'Pob x Genero'!#REF!","v":{"$error":"#REF!"}},1760]
[{"$f":"'Pob x Genero'!#REF!","v":{"$error":"#REF!"}},{"$f":"'Pob x Genero'!#REF!","v":{"$error":"#REF!"}},{"$f":"'Pob x Genero'!#REF!","v":{"$error":"#REF!"}},{"$f":"'Pob x Genero'!#REF!","v":{"$error":"#REF!"}},{"$f":"'Pob x Genero'!#REF!","v":{"$error":"#REF!"}},"Hombre","00-04",{"$f":"'Pob x Genero'!#REF!","v":{"$error":"#REF!"}},1761]
[{"$f":"'Pob x Genero'!#REF!","v":{"$error":"#REF!"}},{"$f":"'Pob x Genero'!#REF!","v":{"$error":"#REF!"}},{"$f":"'Pob x Genero'!#REF!","v":{"$error":"#REF!"}},{"$f":"'Pob x Genero'!#REF!","v":{"$error":"#REF!"}},{"$f":"'Pob x Genero'!#REF!","v":{"$error":"#REF!"}},"Hombre","00-04",{"$f":"'Pob x Genero'!#REF!","v":{"$error":"#REF!"}},1762]
[{"$f":"'Pob x Genero'!#REF!","v":{"$error":"#REF!"}},{"$f":"'Pob x Genero'!#REF!","v":{"$error":"#REF!"}},{"$f":"'Pob x Genero'!#REF!","v":{"$error":"#REF!"}},{"$f":"'Pob x Genero'!#REF!","v":{"$error":"#REF!"}},{"$f":"'Pob x Genero'!#REF!","v":{"$error":"#REF!"}},"Hombre","00-04",{"$f":"'Pob x Genero'!#REF!","v":{"$error":"#REF!"}},1763]
[{"$f":"'Pob x Genero'!#REF!","v":{"$error":"#REF!"}},{"$f":"'Pob x Genero'!#REF!","v":{"$error":"#REF!"}},{"$f":"'Pob x Genero'!#REF!","v":{"$error":"#REF!"}},{"$f":"'Pob x Genero'!#REF!","v":{"$error":"#REF!"}},{"$f":"'Pob x Genero'!#REF!","v":{"$error":"#REF!"}},"Hombre","00-04",{"$f":"'Pob x Genero'!#REF!","v":{"$error":"#REF!"}},1764]
[{"$f":"'Pob x Genero'!#REF!","v":{"$error":"#REF!"}},{"$f":"'Pob x Genero'!#REF!","v":{"$error":"#REF!"}},{"$f":"'Pob x Genero'!#REF!","v":{"$error":"#REF!"}},{"$f":"'Pob x Genero'!#REF!","v":{"$error":"#REF!"}},{"$f":"'Pob x Genero'!#REF!","v":{"$error":"#REF!"}},"Hombre","00-04",{"$f":"'Pob x Genero'!#REF!","v":{"$error":"#REF!"}},1765]
[{"$f":"'Pob x Genero'!#REF!","v":{"$error":"#REF!"}},{"$f":"'Pob x Genero'!#REF!","v":{"$error":"#REF!"}},{"$f":"'Pob x Genero'!#REF!","v":{"$error":"#REF!"}},{"$f":"'Pob x Genero'!#REF!","v":{"$error":"#REF!"}},{"$f":"'Pob x Genero'!#REF!","v":{"$error":"#REF!"}},"Hombre","00-04",{"$f":"'Pob x Genero'!#REF!","v":{"$error":"#REF!"}},1766]
[{"$f":"'Pob x Genero'!#REF!","v":{"$error":"#REF!"}},{"$f":"'Pob x Genero'!#REF!","v":{"$error":"#REF!"}},{"$f":"'Pob x Genero'!#REF!","v":{"$error":"#REF!"}},{"$f":"'Pob x Genero'!#REF!","v":{"$error":"#REF!"}},{"$f":"'Pob x Genero'!#REF!","v":{"$error":"#REF!"}},"Hombre","00-04",{"$f":"'Pob x Genero'!#REF!","v":{"$error":"#REF!"}},1767]
[{"$f":"'Pob x Genero'!#REF!","v":{"$error":"#REF!"}},{"$f":"'Pob x Genero'!#REF!","v":{"$error":"#REF!"}},{"$f":"'Pob x Genero'!#REF!","v":{"$error":"#REF!"}},{"$f":"'Pob x Genero'!#REF!","v":{"$error":"#REF!"}},{"$f":"'Pob x Genero'!#REF!","v":{"$error":"#REF!"}},"Hombre","00-04",{"$f":"'Pob x Genero'!#REF!","v":{"$error":"#REF!"}},1768]
[{"$f":"'Pob x Genero'!#REF!","v":{"$error":"#REF!"}},{"$f":"'Pob x Genero'!#REF!","v":{"$error":"#REF!"}},{"$f":"'Pob x Genero'!#REF!","v":{"$error":"#REF!"}},{"$f":"'Pob x Genero'!#REF!","v":{"$error":"#REF!"}},{"$f":"'Pob x Genero'!#REF!","v":{"$error":"#REF!"}},"Hombre","00-04",{"$f":"'Pob x Genero'!#REF!","v":{"$error":"#REF!"}},1769]
[{"$f":"'Pob x Genero'!#REF!","v":{"$error":"#REF!"}},{"$f":"'Pob x Genero'!#REF!","v":{"$error":"#REF!"}},{"$f":"'Pob x Genero'!#REF!","v":{"$error":"#REF!"}},{"$f":"'Pob x Genero'!#REF!","v":{"$error":"#REF!"}},{"$f":"'Pob x Genero'!#REF!","v":{"$error":"#REF!"}},"Hombre","00-04",{"$f":"'Pob x Genero'!#REF!","v":{"$error":"#REF!"}},1770]
[{"$f":"'Pob x Genero'!#REF!","v":{"$error":"#REF!"}},{"$f":"'Pob x Genero'!#REF!","v":{"$error":"#REF!"}},{"$f":"'Pob x Genero'!#REF!","v":{"$error":"#REF!"}},{"$f":"'Pob x Genero'!#REF!","v":{"$error":"#REF!"}},{"$f":"'Pob x Genero'!#REF!","v":{"$error":"#REF!"}},"Hombre","00-04",{"$f":"'Pob x Genero'!#REF!","v":{"$error":"#REF!"}},1771]
[{"$f":"'Pob x Genero'!#REF!","v":{"$error":"#REF!"}},{"$f":"'Pob x Genero'!#REF!","v":{"$error":"#REF!"}},{"$f":"'Pob x Genero'!#REF!","v":{"$error":"#REF!"}},{"$f":"'Pob x Genero'!#REF!","v":{"$error":"#REF!"}},{"$f":"'Pob x Genero'!#REF!","v":{"$error":"#REF!"}},"Hombre","00-04",{"$f":"'Pob x Genero'!#REF!","v":{"$error":"#REF!"}},1772]
[{"$f":"'Pob x Genero'!#REF!","v":{"$error":"#REF!"}},{"$f":"'Pob x Genero'!#REF!","v":{"$error":"#REF!"}},{"$f":"'Pob x Genero'!#REF!","v":{"$error":"#REF!"}},{"$f":"'Pob x Genero'!#REF!","v":{"$error":"#REF!"}},{"$f":"'Pob x Genero'!#REF!","v":{"$error":"#REF!"}},"Hombre","00-04",{"$f":"'Pob x Genero'!#REF!","v":{"$error":"#REF!"}},1773]
[{"$f":"'Pob x Genero'!#REF!","v":{"$error":"#REF!"}},{"$f":"'Pob x Genero'!#REF!","v":{"$error":"#REF!"}},{"$f":"'Pob x Genero'!#REF!","v":{"$error":"#REF!"}},{"$f":"'Pob x Genero'!#REF!","v":{"$error":"#REF!"}},{"$f":"'Pob x Genero'!#REF!","v":{"$error":"#REF!"}},"Hombre","00-04",{"$f":"'Pob x Genero'!#REF!","v":{"$error":"#REF!"}},1774]
[{"$f":"'Pob x Genero'!#REF!","v":{"$error":"#REF!"}},{"$f":"'Pob x Genero'!#REF!","v":{"$error":"#REF!"}},{"$f":"'Pob x Genero'!#REF!","v":{"$error":"#REF!"}},{"$f":"'Pob x Genero'!#REF!","v":{"$error":"#REF!"}},{"$f":"'Pob x Genero'!#REF!","v":{"$error":"#REF!"}},"Hombre","00-04",{"$f":"'Pob x Genero'!#REF!","v":{"$error":"#REF!"}},1775]
[{"$f":"'Pob x Genero'!#REF!","v":{"$error":"#REF!"}},{"$f":"'Pob x Genero'!#REF!","v":{"$error":"#REF!"}},{"$f":"'Pob x Genero'!#REF!","v":{"$error":"#REF!"}},{"$f":"'Pob x Genero'!#REF!","v":{"$error":"#REF!"}},{"$f":"'Pob x Genero'!#REF!","v":{"$error":"#REF!"}},"Hombre","00-04",{"$f":"'Pob x Genero'!#REF!","v":{"$error":"#REF!"}},1776]
[{"$f":"'Pob x Genero'!#REF!","v":{"$error":"#REF!"}},{"$f":"'Pob x Genero'!#REF!","v":{"$error":"#REF!"}},{"$f":"'Pob x Genero'!#REF!","v":{"$error":"#REF!"}},{"$f":"'Pob x Genero'!#REF!","v":{"$error":"#REF!"}},{"$f":"'Pob x Genero'!#REF!","v":{"$error":"#REF!"}},"Hombre","00-04",{"$f":"'Pob x Genero'!#REF!","v":{"$error":"#REF!"}},1777]
[{"$f":"'Pob x Genero'!#REF!","v":{"$error":"#REF!"}},{"$f":"'Pob x Genero'!#REF!","v":{"$error":"#REF!"}},{"$f":"'Pob x Genero'!#REF!","v":{"$error":"#REF!"}},{"$f":"'Pob x Genero'!#REF!","v":{"$error":"#REF!"}},{"$f":"'Pob x Genero'!#REF!","v":{"$error":"#REF!"}},"Hombre","00-04",{"$f":"'Pob x Genero'!#REF!","v":{"$error":"#REF!"}},1778]
[{"$f":"'Pob x Genero'!#REF!","v":{"$error":"#REF!"}},{"$f":"'Pob x Genero'!#REF!","v":{"$error":"#REF!"}},{"$f":"'Pob x Genero'!#REF!","v":{"$error":"#REF!"}},{"$f":"'Pob x Genero'!#REF!","v":{"$error":"#REF!"}},{"$f":"'Pob x Genero'!#REF!","v":{"$error":"#REF!"}},"Hombre","00-04",{"$f":"'Pob x Genero'!#REF!","v":{"$error":"#REF!"}},1779]
[{"$f":"'Pob x Genero'!#REF!","v":{"$error":"#REF!"}},{"$f":"'Pob x Genero'!#REF!","v":{"$error":"#REF!"}},{"$f":"'Pob x Genero'!#REF!","v":{"$error":"#REF!"}},{"$f":"'Pob x Genero'!#REF!","v":{"$error":"#REF!"}},{"$f":"'Pob x Genero'!#REF!","v":{"$error":"#REF!"}},"Hombre","00-04",{"$f":"'Pob x Genero'!#REF!","v":{"$error":"#REF!"}},1780]
[{"$f":"'Pob x Genero'!#REF!","v":{"$error":"#REF!"}},{"$f":"'Pob x Genero'!#REF!","v":{"$error":"#REF!"}},{"$f":"'Pob x Genero'!#REF!","v":{"$error":"#REF!"}},{"$f":"'Pob x Genero'!#REF!","v":{"$error":"#REF!"}},{"$f":"'Pob x Genero'!#REF!","v":{"$error":"#REF!"}},"Hombre","00-04",{"$f":"'Pob x Genero'!#REF!","v":{"$error":"#REF!"}},1781]
[{"$f":"'Pob x Genero'!#REF!","v":{"$error":"#REF!"}},{"$f":"'Pob x Genero'!#REF!","v":{"$error":"#REF!"}},{"$f":"'Pob x Genero'!#REF!","v":{"$error":"#REF!"}},{"$f":"'Pob x Genero'!#REF!","v":{"$error":"#REF!"}},{"$f":"'Pob x Genero'!#REF!","v":{"$error":"#REF!"}},"Hombre","00-04",{"$f":"'Pob x Genero'!#REF!","v":{"$error":"#REF!"}},1782]
[{"$f":"'Pob x Genero'!#REF!","v":{"$error":"#REF!"}},{"$f":"'Pob x Genero'!#REF!","v":{"$error":"#REF!"}},{"$f":"'Pob x Genero'!#REF!","v":{"$error":"#REF!"}},{"$f":"'Pob x Genero'!#REF!","v":{"$error":"#REF!"}},{"$f":"'Pob x Genero'!#REF!","v":{"$error":"#REF!"}},"Hombre","00-04",{"$f":"'Pob x Genero'!#REF!","v":{"$error":"#REF!"}},1783]
[{"$f":"'Pob x Genero'!#REF!","v":{"$error":"#REF!"}},{"$f":"'Pob x Genero'!#REF!","v":{"$error":"#REF!"}},{"$f":"'Pob x Genero'!#REF!","v":{"$error":"#REF!"}},{"$f":"'Pob x Genero'!#REF!","v":{"$error":"#REF!"}},{"$f":"'Pob x Genero'!#REF!","v":{"$error":"#REF!"}},"Hombre","00-04",{"$f":"'Pob x Genero'!#REF!","v":{"$error":"#REF!"}},1784]
[{"$f":"'Pob x Genero'!#REF!","v":{"$error":"#REF!"}},{"$f":"'Pob x Genero'!#REF!","v":{"$error":"#REF!"}},{"$f":"'Pob x Genero'!#REF!","v":{"$error":"#REF!"}},{"$f":"'Pob x Genero'!#REF!","v":{"$error":"#REF!"}},{"$f":"'Pob x Genero'!#REF!","v":{"$error":"#REF!"}},"Hombre","00-04",{"$f":"'Pob x Genero'!#REF!","v":{"$error":"#REF!"}},1785]
[{"$f":"'Pob x Genero'!#REF!","v":{"$error":"#REF!"}},{"$f":"'Pob x Genero'!#REF!","v":{"$error":"#REF!"}},{"$f":"'Pob x Genero'!#REF!","v":{"$error":"#REF!"}},{"$f":"'Pob x Genero'!#REF!","v":{"$error":"#REF!"}},{"$f":"'Pob x Genero'!#REF!","v":{"$error":"#REF!"}},"Hombre","00-04",{"$f":"'Pob x Genero'!#REF!","v":{"$error":"#REF!"}},1786]
[{"$f":"'Pob x Genero'!#REF!","v":{"$error":"#REF!"}},{"$f":"'Pob x Genero'!#REF!","v":{"$error":"#REF!"}},{"$f":"'Pob x Genero'!#REF!","v":{"$error":"#REF!"}},{"$f":"'Pob x Genero'!#REF!","v":{"$error":"#REF!"}},{"$f":"'Pob x Genero'!#REF!","v":{"$error":"#REF!"}},"Hombre","00-04",{"$f":"'Pob x Genero'!#REF!","v":{"$error":"#REF!"}},1787]
[{"$f":"'Pob x Genero'!#REF!","v":{"$error":"#REF!"}},{"$f":"'Pob x Genero'!#REF!","v":{"$error":"#REF!"}},{"$f":"'Pob x Genero'!#REF!","v":{"$error":"#REF!"}},{"$f":"'Pob x Genero'!#REF!","v":{"$error":"#REF!"}},{"$f":"'Pob x Genero'!#REF!","v":{"$error":"#REF!"}},"Hombre","00-04",{"$f":"'Pob x Genero'!#REF!","v":{"$error":"#REF!"}},1788]
[{"$f":"'Pob x Genero'!#REF!","v":{"$error":"#REF!"}},{"$f":"'Pob x Genero'!#REF!","v":{"$error":"#REF!"}},{"$f":"'Pob x Genero'!#REF!","v":{"$error":"#REF!"}},{"$f":"'Pob x Genero'!#REF!","v":{"$error":"#REF!"}},{"$f":"'Pob x Genero'!#REF!","v":{"$error":"#REF!"}},"Hombre","00-04",{"$f":"'Pob x Genero'!#REF!","v":{"$error":"#REF!"}},1789]
[{"$f":"'Pob x Genero'!#REF!","v":{"$error":"#REF!"}},{"$f":"'Pob x Genero'!#REF!","v":{"$error":"#REF!"}},{"$f":"'Pob x Genero'!#REF!","v":{"$error":"#REF!"}},{"$f":"'Pob x Genero'!#REF!","v":{"$error":"#REF!"}},{"$f":"'Pob x Genero'!#REF!","v":{"$error":"#REF!"}},"Hombre","00-04",{"$f":"'Pob x Genero'!#REF!","v":{"$error":"#REF!"}},1790]
[{"$f":"'Pob x Genero'!#REF!","v":{"$error":"#REF!"}},{"$f":"'Pob x Genero'!#REF!","v":{"$error":"#REF!"}},{"$f":"'Pob x Genero'!#REF!","v":{"$error":"#REF!"}},{"$f":"'Pob x Genero'!#REF!","v":{"$error":"#REF!"}},{"$f":"'Pob x Genero'!#REF!","v":{"$error":"#REF!"}},"Hombre","00-04",{"$f":"'Pob x Genero'!#REF!","v":{"$error":"#REF!"}},1791]
[{"$f":"'Pob x Genero'!#REF!","v":{"$error":"#REF!"}},{"$f":"'Pob x Genero'!#REF!","v":{"$error":"#REF!"}},{"$f":"'Pob x Genero'!#REF!","v":{"$error":"#REF!"}},{"$f":"'Pob x Genero'!#REF!","v":{"$error":"#REF!"}},{"$f":"'Pob x Genero'!#REF!","v":{"$error":"#REF!"}},"Hombre","00-04",{"$f":"'Pob x Genero'!#REF!","v":{"$error":"#REF!"}},1792]
[{"$f":"'Pob x Genero'!#REF!","v":{"$error":"#REF!"}},{"$f":"'Pob x Genero'!#REF!","v":{"$error":"#REF!"}},{"$f":"'Pob x Genero'!#REF!","v":{"$error":"#REF!"}},{"$f":"'Pob x Genero'!#REF!","v":{"$error":"#REF!"}},{"$f":"'Pob x Genero'!#REF!","v":{"$error":"#REF!"}},"Hombre","00-04",{"$f":"'Pob x Genero'!#REF!","v":{"$error":"#REF!"}},1793]
[{"$f":"'Pob x Genero'!#REF!","v":{"$error":"#REF!"}},{"$f":"'Pob x Genero'!#REF!","v":{"$error":"#REF!"}},{"$f":"'Pob x Genero'!#REF!","v":{"$error":"#REF!"}},{"$f":"'Pob x Genero'!#REF!","v":{"$error":"#REF!"}},{"$f":"'Pob x Genero'!#REF!","v":{"$error":"#REF!"}},{"$f":"F1794","v":"Hombre"},{"$f":"G1794","v":"00-04"},{"$f":"'Pob x Genero'!#REF!","v":{"$error":"#REF!"}},1794]
[{"$f":"'Pob x Genero'!#REF!","v":{"$error":"#REF!"}},{"$f":"'Pob x Genero'!#REF!","v":{"$error":"#REF!"}},{"$f":"'Pob x Genero'!#REF!","v":{"$error":"#REF!"}},{"$f":"'Pob x Genero'!#REF!","v":{"$error":"#REF!"}},{"$f":"'Pob x Genero'!#REF!","v":{"$error":"#REF!"}},"Hombre","00-04",{"$f":"'Pob x Genero'!#REF!","v":{"$error":"#REF!"}},1795]
[{"$f":"'Pob x Genero'!#REF!","v":{"$error":"#REF!"}},{"$f":"'Pob x Genero'!#REF!","v":{"$error":"#REF!"}},{"$f":"'Pob x Genero'!#REF!","v":{"$error":"#REF!"}},{"$f":"'Pob x Genero'!#REF!","v":{"$error":"#REF!"}},{"$f":"'Pob x Genero'!#REF!","v":{"$error":"#REF!"}},"Hombre","00-04",{"$f":"'Pob x Genero'!#REF!","v":{"$error":"#REF!"}},1796]
[{"$f":"'Pob x Genero'!#REF!","v":{"$error":"#REF!"}},{"$f":"'Pob x Genero'!#REF!","v":{"$error":"#REF!"}},{"$f":"'Pob x Genero'!#REF!","v":{"$error":"#REF!"}},{"$f":"'Pob x Genero'!#REF!","v":{"$error":"#REF!"}},{"$f":"'Pob x Genero'!#REF!","v":{"$error":"#REF!"}},"Hombre","00-04",{"$f":"'Pob x Genero'!#REF!","v":{"$error":"#REF!"}},1797]
[{"$f":"'Pob x Genero'!#REF!","v":{"$error":"#REF!"}},{"$f":"'Pob x Genero'!#REF!","v":{"$error":"#REF!"}},{"$f":"'Pob x Genero'!#REF!","v":{"$error":"#REF!"}},{"$f":"'Pob x Genero'!#REF!","v":{"$error":"#REF!"}},{"$f":"'Pob x Genero'!#REF!","v":{"$error":"#REF!"}},"Hombre","00-04",{"$f":"'Pob x Genero'!#REF!","v":{"$error":"#REF!"}},1798]
[{"$f":"'Pob x Genero'!#REF!","v":{"$error":"#REF!"}},{"$f":"'Pob x Genero'!#REF!","v":{"$error":"#REF!"}},{"$f":"'Pob x Genero'!#REF!","v":{"$error":"#REF!"}},{"$f":"'Pob x Genero'!#REF!","v":{"$error":"#REF!"}},{"$f":"'Pob x Genero'!#REF!","v":{"$error":"#REF!"}},"Hombre","00-04",{"$f":"'Pob x Genero'!#REF!","v":{"$error":"#REF!"}},1799]
[{"$f":"'Pob x Genero'!#REF!","v":{"$error":"#REF!"}},{"$f":"'Pob x Genero'!#REF!","v":{"$error":"#REF!"}},{"$f":"'Pob x Genero'!#REF!","v":{"$error":"#REF!"}},{"$f":"'Pob x Genero'!#REF!","v":{"$error":"#REF!"}},{"$f":"'Pob x Genero'!#REF!","v":{"$error":"#REF!"}},"Hombre","00-04",{"$f":"'Pob x Genero'!#REF!","v":{"$error":"#REF!"}},1800]
[{"$f":"'Pob x Genero'!#REF!","v":{"$error":"#REF!"}},{"$f":"'Pob x Genero'!#REF!","v":{"$error":"#REF!"}},{"$f":"'Pob x Genero'!#REF!","v":{"$error":"#REF!"}},{"$f":"'Pob x Genero'!#REF!","v":{"$error":"#REF!"}},{"$f":"'Pob x Genero'!#REF!","v":{"$error":"#REF!"}},"Hombre","00-04",{"$f":"'Pob x Genero'!#REF!","v":{"$error":"#REF!"}},1801]
[{"$f":"'Pob x Genero'!#REF!","v":{"$error":"#REF!"}},{"$f":"'Pob x Genero'!#REF!","v":{"$error":"#REF!"}},{"$f":"'Pob x Genero'!#REF!","v":{"$error":"#REF!"}},{"$f":"'Pob x Genero'!#REF!","v":{"$error":"#REF!"}},{"$f":"'Pob x Genero'!#REF!","v":{"$error":"#REF!"}},"Hombre","00-04",{"$f":"'Pob x Genero'!#REF!","v":{"$error":"#REF!"}},1802]
[{"$f":"'Pob x Genero'!#REF!","v":{"$error":"#REF!"}},{"$f":"'Pob x Genero'!#REF!","v":{"$error":"#REF!"}},{"$f":"'Pob x Genero'!#REF!","v":{"$error":"#REF!"}},{"$f":"'Pob x Genero'!#REF!","v":{"$error":"#REF!"}},{"$f":"'Pob x Genero'!#REF!","v":{"$error":"#REF!"}},"Hombre","00-04",{"$f":"'Pob x Genero'!#REF!","v":{"$error":"#REF!"}},1803]
[{"$f":"'Pob x Genero'!#REF!","v":{"$error":"#REF!"}},{"$f":"'Pob x Genero'!#REF!","v":{"$error":"#REF!"}},{"$f":"'Pob x Genero'!#REF!","v":{"$error":"#REF!"}},{"$f":"'Pob x Genero'!#REF!","v":{"$error":"#REF!"}},{"$f":"'Pob x Genero'!#REF!","v":{"$error":"#REF!"}},"Hombre","00-04",{"$f":"'Pob x Genero'!#REF!","v":{"$error":"#REF!"}},1804]
[{"$f":"'Pob x Genero'!#REF!","v":{"$error":"#REF!"}},{"$f":"'Pob x Genero'!#REF!","v":{"$error":"#REF!"}},{"$f":"'Pob x Genero'!#REF!","v":{"$error":"#REF!"}},{"$f":"'Pob x Genero'!#REF!","v":{"$error":"#REF!"}},{"$f":"'Pob x Genero'!#REF!","v":{"$error":"#REF!"}},"Hombre","00-04",{"$f":"'Pob x Genero'!#REF!","v":{"$error":"#REF!"}},1805]
[{"$f":"'Pob x Genero'!#REF!","v":{"$error":"#REF!"}},{"$f":"'Pob x Genero'!#REF!","v":{"$error":"#REF!"}},{"$f":"'Pob x Genero'!#REF!","v":{"$error":"#REF!"}},{"$f":"'Pob x Genero'!#REF!","v":{"$error":"#REF!"}},{"$f":"'Pob x Genero'!#REF!","v":{"$error":"#REF!"}},"Hombre","00-04",{"$f":"'Pob x Genero'!#REF!","v":{"$error":"#REF!"}},1806]
[{"$f":"'Pob x Genero'!#REF!","v":{"$error":"#REF!"}},{"$f":"'Pob x Genero'!#REF!","v":{"$error":"#REF!"}},{"$f":"'Pob x Genero'!#REF!","v":{"$error":"#REF!"}},{"$f":"'Pob x Genero'!#REF!","v":{"$error":"#REF!"}},{"$f":"'Pob x Genero'!#REF!","v":{"$error":"#REF!"}},"Hombre","00-04",{"$f":"'Pob x Genero'!#REF!","v":{"$error":"#REF!"}},1807]
[{"$f":"'Pob x Genero'!#REF!","v":{"$error":"#REF!"}},{"$f":"'Pob x Genero'!#REF!","v":{"$error":"#REF!"}},{"$f":"'Pob x Genero'!#REF!","v":{"$error":"#REF!"}},{"$f":"'Pob x Genero'!#REF!","v":{"$error":"#REF!"}},{"$f":"'Pob x Genero'!#REF!","v":{"$error":"#REF!"}},"Hombre","00-04",{"$f":"'Pob x Genero'!#REF!","v":{"$error":"#REF!"}},1808]
[{"$f":"'Pob x Genero'!#REF!","v":{"$error":"#REF!"}},{"$f":"'Pob x Genero'!#REF!","v":{"$error":"#REF!"}},{"$f":"'Pob x Genero'!#REF!","v":{"$error":"#REF!"}},{"$f":"'Pob x Genero'!#REF!","v":{"$error":"#REF!"}},{"$f":"'Pob x Genero'!#REF!","v":{"$error":"#REF!"}},"Hombre","00-04",{"$f":"'Pob x Genero'!#REF!","v":{"$error":"#REF!"}},1809]
[{"$f":"'Pob x Genero'!#REF!","v":{"$error":"#REF!"}},{"$f":"'Pob x Genero'!#REF!","v":{"$error":"#REF!"}},{"$f":"'Pob x Genero'!#REF!","v":{"$error":"#REF!"}},{"$f":"'Pob x Genero'!#REF!","v":{"$error":"#REF!"}},{"$f":"'Pob x Genero'!#REF!","v":{"$error":"#REF!"}},"Hombre","00-04",{"$f":"'Pob x Genero'!#REF!","v":{"$error":"#REF!"}},1810]
[{"$f":"'Pob x Genero'!#REF!","v":{"$error":"#REF!"}},{"$f":"'Pob x Genero'!#REF!","v":{"$error":"#REF!"}},{"$f":"'Pob x Genero'!#REF!","v":{"$error":"#REF!"}},{"$f":"'Pob x Genero'!#REF!","v":{"$error":"#REF!"}},{"$f":"'Pob x Genero'!#REF!","v":{"$error":"#REF!"}},"Hombre","00-04",{"$f":"'Pob x Genero'!#REF!","v":{"$error":"#REF!"}},1811]
[{"$f":"'Pob x Genero'!#REF!","v":{"$error":"#REF!"}},{"$f":"'Pob x Genero'!#REF!","v":{"$error":"#REF!"}},{"$f":"'Pob x Genero'!#REF!","v":{"$error":"#REF!"}},{"$f":"'Pob x Genero'!#REF!","v":{"$error":"#REF!"}},{"$f":"'Pob x Genero'!#REF!","v":{"$error":"#REF!"}},"Hombre","00-04",{"$f":"'Pob x Genero'!#REF!","v":{"$error":"#REF!"}},1812]
[{"$f":"'Pob x Genero'!#REF!","v":{"$error":"#REF!"}},{"$f":"'Pob x Genero'!#REF!","v":{"$error":"#REF!"}},{"$f":"'Pob x Genero'!#REF!","v":{"$error":"#REF!"}},{"$f":"'Pob x Genero'!#REF!","v":{"$error":"#REF!"}},{"$f":"'Pob x Genero'!#REF!","v":{"$error":"#REF!"}},"Hombre","00-04",{"$f":"'Pob x Genero'!#REF!","v":{"$error":"#REF!"}},1813]
[{"$f":"'Pob x Genero'!#REF!","v":{"$error":"#REF!"}},{"$f":"'Pob x Genero'!#REF!","v":{"$error":"#REF!"}},{"$f":"'Pob x Genero'!#REF!","v":{"$error":"#REF!"}},{"$f":"'Pob x Genero'!#REF!","v":{"$error":"#REF!"}},{"$f":"'Pob x Genero'!#REF!","v":{"$error":"#REF!"}},"Hombre","00-04",{"$f":"'Pob x Genero'!#REF!","v":{"$error":"#REF!"}},1814]
[{"$f":"'Pob x Genero'!#REF!","v":{"$error":"#REF!"}},{"$f":"'Pob x Genero'!#REF!","v":{"$error":"#REF!"}},{"$f":"'Pob x Genero'!#REF!","v":{"$error":"#REF!"}},{"$f":"'Pob x Genero'!#REF!","v":{"$error":"#REF!"}},{"$f":"'Pob x Genero'!#REF!","v":{"$error":"#REF!"}},"Hombre","00-04",{"$f":"'Pob x Genero'!#REF!","v":{"$error":"#REF!"}},1815]
[{"$f":"'Pob x Genero'!#REF!","v":{"$error":"#REF!"}},{"$f":"'Pob x Genero'!#REF!","v":{"$error":"#REF!"}},{"$f":"'Pob x Genero'!#REF!","v":{"$error":"#REF!"}},{"$f":"'Pob x Genero'!#REF!","v":{"$error":"#REF!"}},{"$f":"'Pob x Genero'!#REF!","v":{"$error":"#REF!"}},"Hombre","00-04",{"$f":"'Pob x Genero'!#REF!","v":{"$error":"#REF!"}},1816]
[{"$f":"'Pob x Genero'!#REF!","v":{"$error":"#REF!"}},{"$f":"'Pob x Genero'!#REF!","v":{"$error":"#REF!"}},{"$f":"'Pob x Genero'!#REF!","v":{"$error":"#REF!"}},{"$f":"'Pob x Genero'!#REF!","v":{"$error":"#REF!"}},{"$f":"'Pob x Genero'!#REF!","v":{"$error":"#REF!"}},"Hombre","00-04",{"$f":"'Pob x Genero'!#REF!","v":{"$error":"#REF!"}},1817]
[{"$f":"'Pob x Genero'!#REF!","v":{"$error":"#REF!"}},{"$f":"'Pob x Genero'!#REF!","v":{"$error":"#REF!"}},{"$f":"'Pob x Genero'!#REF!","v":{"$error":"#REF!"}},{"$f":"'Pob x Genero'!#REF!","v":{"$error":"#REF!"}},{"$f":"'Pob x Genero'!#REF!","v":{"$error":"#REF!"}},"Hombre","00-04",{"$f":"'Pob x Genero'!#REF!","v":{"$error":"#REF!"}},1818]
[{"$f":"'Pob x Genero'!#REF!","v":{"$error":"#REF!"}},{"$f":"'Pob x Genero'!#REF!","v":{"$error":"#REF!"}},{"$f":"'Pob x Genero'!#REF!","v":{"$error":"#REF!"}},{"$f":"'Pob x Genero'!#REF!","v":{"$error":"#REF!"}},{"$f":"'Pob x Genero'!#REF!","v":{"$error":"#REF!"}},"Hombre","00-04",{"$f":"'Pob x Genero'!#REF!","v":{"$error":"#REF!"}},1819]
[{"$f":"'Pob x Genero'!#REF!","v":{"$error":"#REF!"}},{"$f":"'Pob x Genero'!#REF!","v":{"$error":"#REF!"}},{"$f":"'Pob x Genero'!#REF!","v":{"$error":"#REF!"}},{"$f":"'Pob x Genero'!#REF!","v":{"$error":"#REF!"}},{"$f":"'Pob x Genero'!#REF!","v":{"$error":"#REF!"}},"Hombre","00-04",{"$f":"'Pob x Genero'!#REF!","v":{"$error":"#REF!"}},1820]
[{"$f":"'Pob x Genero'!#REF!","v":{"$error":"#REF!"}},{"$f":"'Pob x Genero'!#REF!","v":{"$error":"#REF!"}},{"$f":"'Pob x Genero'!#REF!","v":{"$error":"#REF!"}},{"$f":"'Pob x Genero'!#REF!","v":{"$error":"#REF!"}},{"$f":"'Pob x Genero'!#REF!","v":{"$error":"#REF!"}},"Hombre","00-04",{"$f":"'Pob x Genero'!#REF!","v":{"$error":"#REF!"}},1821]
[{"$f":"'Pob x Genero'!#REF!","v":{"$error":"#REF!"}},{"$f":"'Pob x Genero'!#REF!","v":{"$error":"#REF!"}},{"$f":"'Pob x Genero'!#REF!","v":{"$error":"#REF!"}},{"$f":"'Pob x Genero'!#REF!","v":{"$error":"#REF!"}},{"$f":"'Pob x Genero'!#REF!","v":{"$error":"#REF!"}},"Hombre","00-04",{"$f":"'Pob x Genero'!#REF!","v":{"$error":"#REF!"}},1822]
[{"$f":"'Pob x Genero'!#REF!","v":{"$error":"#REF!"}},{"$f":"'Pob x Genero'!#REF!","v":{"$error":"#REF!"}},{"$f":"'Pob x Genero'!#REF!","v":{"$error":"#REF!"}},{"$f":"'Pob x Genero'!#REF!","v":{"$error":"#REF!"}},{"$f":"'Pob x Genero'!#REF!","v":{"$error":"#REF!"}},"Hombre","00-04",{"$f":"'Pob x Genero'!#REF!","v":{"$error":"#REF!"}},1823]
[{"$f":"'Pob x Genero'!#REF!","v":{"$error":"#REF!"}},{"$f":"'Pob x Genero'!#REF!","v":{"$error":"#REF!"}},{"$f":"'Pob x Genero'!#REF!","v":{"$error":"#REF!"}},{"$f":"'Pob x Genero'!#REF!","v":{"$error":"#REF!"}},{"$f":"'Pob x Genero'!#REF!","v":{"$error":"#REF!"}},"Hombre","00-04",{"$f":"'Pob x Genero'!#REF!","v":{"$error":"#REF!"}},1824]
[{"$f":"'Pob x Genero'!#REF!","v":{"$error":"#REF!"}},{"$f":"'Pob x Genero'!#REF!","v":{"$error":"#REF!"}},{"$f":"'Pob x Genero'!#REF!","v":{"$error":"#REF!"}},{"$f":"'Pob x Genero'!#REF!","v":{"$error":"#REF!"}},{"$f":"'Pob x Genero'!#REF!","v":{"$error":"#REF!"}},"Hombre","00-04",{"$f":"'Pob x Genero'!#REF!","v":{"$error":"#REF!"}},1825]
[{"$f":"'Pob x Genero'!#REF!","v":{"$error":"#REF!"}},{"$f":"'Pob x Genero'!#REF!","v":{"$error":"#REF!"}},{"$f":"'Pob x Genero'!#REF!","v":{"$error":"#REF!"}},{"$f":"'Pob x Genero'!#REF!","v":{"$error":"#REF!"}},{"$f":"'Pob x Genero'!#REF!","v":{"$error":"#REF!"}},"Hombre","00-04",{"$f":"'Pob x Genero'!#REF!","v":{"$error":"#REF!"}},1826]
[{"$f":"'Pob x Genero'!#REF!","v":{"$error":"#REF!"}},{"$f":"'Pob x Genero'!#REF!","v":{"$error":"#REF!"}},{"$f":"'Pob x Genero'!#REF!","v":{"$error":"#REF!"}},{"$f":"'Pob x Genero'!#REF!","v":{"$error":"#REF!"}},{"$f":"'Pob x Genero'!#REF!","v":{"$error":"#REF!"}},"Hombre","00-04",{"$f":"'Pob x Genero'!#REF!","v":{"$error":"#REF!"}},1827]
[{"$f":"'Pob x Genero'!#REF!","v":{"$error":"#REF!"}},{"$f":"'Pob x Genero'!#REF!","v":{"$error":"#REF!"}},{"$f":"'Pob x Genero'!#REF!","v":{"$error":"#REF!"}},{"$f":"'Pob x Genero'!#REF!","v":{"$error":"#REF!"}},{"$f":"'Pob x Genero'!#REF!","v":{"$error":"#REF!"}},"Hombre","00-04",{"$f":"'Pob x Genero'!#REF!","v":{"$error":"#REF!"}},1828]
[{"$f":"'Pob x Genero'!#REF!","v":{"$error":"#REF!"}},{"$f":"'Pob x Genero'!#REF!","v":{"$error":"#REF!"}},{"$f":"'Pob x Genero'!#REF!","v":{"$error":"#REF!"}},{"$f":"'Pob x Genero'!#REF!","v":{"$error":"#REF!"}},{"$f":"'Pob x Genero'!#REF!","v":{"$error":"#REF!"}},"Hombre","00-04",{"$f":"'Pob x Genero'!#REF!","v":{"$error":"#REF!"}},1829]
[{"$f":"'Pob x Genero'!#REF!","v":{"$error":"#REF!"}},{"$f":"'Pob x Genero'!#REF!","v":{"$error":"#REF!"}},{"$f":"'Pob x Genero'!#REF!","v":{"$error":"#REF!"}},{"$f":"'Pob x Genero'!#REF!","v":{"$error":"#REF!"}},{"$f":"'Pob x Genero'!#REF!","v":{"$error":"#REF!"}},"Hombre","00-04",{"$f":"'Pob x Genero'!#REF!","v":{"$error":"#REF!"}},1830]
[{"$f":"'Pob x Genero'!#REF!","v":{"$error":"#REF!"}},{"$f":"'Pob x Genero'!#REF!","v":{"$error":"#REF!"}},{"$f":"'Pob x Genero'!#REF!","v":{"$error":"#REF!"}},{"$f":"'Pob x Genero'!#REF!","v":{"$error":"#REF!"}},{"$f":"'Pob x Genero'!#REF!","v":{"$error":"#REF!"}},"Hombre","00-04",{"$f":"'Pob x Genero'!#REF!","v":{"$error":"#REF!"}},1831]
[{"$f":"'Pob x Genero'!#REF!","v":{"$error":"#REF!"}},{"$f":"'Pob x Genero'!#REF!","v":{"$error":"#REF!"}},{"$f":"'Pob x Genero'!#REF!","v":{"$error":"#REF!"}},{"$f":"'Pob x Genero'!#REF!","v":{"$error":"#REF!"}},{"$f":"'Pob x Genero'!#REF!","v":{"$error":"#REF!"}},"Hombre","00-04",{"$f":"'Pob x Genero'!#REF!","v":{"$error":"#REF!"}},1832]
[{"$f":"'Pob x Genero'!#REF!","v":{"$error":"#REF!"}},{"$f":"'Pob x Genero'!#REF!","v":{"$error":"#REF!"}},{"$f":"'Pob x Genero'!#REF!","v":{"$error":"#REF!"}},{"$f":"'Pob x Genero'!#REF!","v":{"$error":"#REF!"}},{"$f":"'Pob x Genero'!#REF!","v":{"$error":"#REF!"}},"Hombre","00-04",{"$f":"'Pob x Genero'!#REF!","v":{"$error":"#REF!"}},1833]
[{"$f":"'Pob x Genero'!#REF!","v":{"$error":"#REF!"}},{"$f":"'Pob x Genero'!#REF!","v":{"$error":"#REF!"}},{"$f":"'Pob x Genero'!#REF!","v":{"$error":"#REF!"}},{"$f":"'Pob x Genero'!#REF!","v":{"$error":"#REF!"}},{"$f":"'Pob x Genero'!#REF!","v":{"$error":"#REF!"}},"Hombre","00-04",{"$f":"'Pob x Genero'!#REF!","v":{"$error":"#REF!"}},1834]
[{"$f":"'Pob x Genero'!#REF!","v":{"$error":"#REF!"}},{"$f":"'Pob x Genero'!#REF!","v":{"$error":"#REF!"}},{"$f":"'Pob x Genero'!#REF!","v":{"$error":"#REF!"}},{"$f":"'Pob x Genero'!#REF!","v":{"$error":"#REF!"}},{"$f":"'Pob x Genero'!#REF!","v":{"$error":"#REF!"}},"Hombre","00-04",{"$f":"'Pob x Genero'!#REF!","v":{"$error":"#REF!"}},1835]
[{"$f":"'Pob x Genero'!#REF!","v":{"$error":"#REF!"}},{"$f":"'Pob x Genero'!#REF!","v":{"$error":"#REF!"}},{"$f":"'Pob x Genero'!#REF!","v":{"$error":"#REF!"}},{"$f":"'Pob x Genero'!#REF!","v":{"$error":"#REF!"}},{"$f":"'Pob x Genero'!#REF!","v":{"$error":"#REF!"}},"Hombre","00-04",{"$f":"'Pob x Genero'!#REF!","v":{"$error":"#REF!"}},1836]
[{"$f":"'Pob x Genero'!#REF!","v":{"$error":"#REF!"}},{"$f":"'Pob x Genero'!#REF!","v":{"$error":"#REF!"}},{"$f":"'Pob x Genero'!#REF!","v":{"$error":"#REF!"}},{"$f":"'Pob x Genero'!#REF!","v":{"$error":"#REF!"}},{"$f":"'Pob x Genero'!#REF!","v":{"$error":"#REF!"}},"Hombre","00-04",{"$f":"'Pob x Genero'!#REF!","v":{"$error":"#REF!"}},1837]
[{"$f":"'Pob x Genero'!#REF!","v":{"$error":"#REF!"}},{"$f":"'Pob x Genero'!#REF!","v":{"$error":"#REF!"}},{"$f":"'Pob x Genero'!#REF!","v":{"$error":"#REF!"}},{"$f":"'Pob x Genero'!#REF!","v":{"$error":"#REF!"}},{"$f":"'Pob x Genero'!#REF!","v":{"$error":"#REF!"}},"Hombre","00-04",{"$f":"'Pob x Genero'!#REF!","v":{"$error":"#REF!"}},1838]
[{"$f":"'Pob x Genero'!#REF!","v":{"$error":"#REF!"}},{"$f":"'Pob x Genero'!#REF!","v":{"$error":"#REF!"}},{"$f":"'Pob x Genero'!#REF!","v":{"$error":"#REF!"}},{"$f":"'Pob x Genero'!#REF!","v":{"$error":"#REF!"}},{"$f":"'Pob x Genero'!#REF!","v":{"$error":"#REF!"}},"Hombre","00-04",{"$f":"'Pob x Genero'!#REF!","v":{"$error":"#REF!"}},1839]
[{"$f":"'Pob x Genero'!#REF!","v":{"$error":"#REF!"}},{"$f":"'Pob x Genero'!#REF!","v":{"$error":"#REF!"}},{"$f":"'Pob x Genero'!#REF!","v":{"$error":"#REF!"}},{"$f":"'Pob x Genero'!#REF!","v":{"$error":"#REF!"}},{"$f":"'Pob x Genero'!#REF!","v":{"$error":"#REF!"}},"Hombre","00-04",{"$f":"'Pob x Genero'!#REF!","v":{"$error":"#REF!"}},1840]
[{"$f":"'Pob x Genero'!#REF!","v":{"$error":"#REF!"}},{"$f":"'Pob x Genero'!#REF!","v":{"$error":"#REF!"}},{"$f":"'Pob x Genero'!#REF!","v":{"$error":"#REF!"}},{"$f":"'Pob x Genero'!#REF!","v":{"$error":"#REF!"}},{"$f":"'Pob x Genero'!#REF!","v":{"$error":"#REF!"}},"Hombre","00-04",{"$f":"'Pob x Genero'!#REF!","v":{"$error":"#REF!"}},1841]
[{"$f":"'Pob x Genero'!#REF!","v":{"$error":"#REF!"}},{"$f":"'Pob x Genero'!#REF!","v":{"$error":"#REF!"}},{"$f":"'Pob x Genero'!#REF!","v":{"$error":"#REF!"}},{"$f":"'Pob x Genero'!#REF!","v":{"$error":"#REF!"}},{"$f":"'Pob x Genero'!#REF!","v":{"$error":"#REF!"}},"Hombre","00-04",{"$f":"'Pob x Genero'!#REF!","v":{"$error":"#REF!"}},1842]
[{"$f":"'Pob x Genero'!#REF!","v":{"$error":"#REF!"}},{"$f":"'Pob x Genero'!#REF!","v":{"$error":"#REF!"}},{"$f":"'Pob x Genero'!#REF!","v":{"$error":"#REF!"}},{"$f":"'Pob x Genero'!#REF!","v":{"$error":"#REF!"}},{"$f":"'Pob x Genero'!#REF!","v":{"$error":"#REF!"}},"Hombre","00-04",{"$f":"'Pob x Genero'!#REF!","v":{"$error":"#REF!"}},1843]
[{"$f":"'Pob x Genero'!#REF!","v":{"$error":"#REF!"}},{"$f":"'Pob x Genero'!#REF!","v":{"$error":"#REF!"}},{"$f":"'Pob x Genero'!#REF!","v":{"$error":"#REF!"}},{"$f":"'Pob x Genero'!#REF!","v":{"$error":"#REF!"}},{"$f":"'Pob x Genero'!#REF!","v":{"$error":"#REF!"}},"Hombre","00-04",{"$f":"'Pob x Genero'!#REF!","v":{"$error":"#REF!"}},1844]
[{"$f":"'Pob x Genero'!#REF!","v":{"$error":"#REF!"}},{"$f":"'Pob x Genero'!#REF!","v":{"$error":"#REF!"}},{"$f":"'Pob x Genero'!#REF!","v":{"$error":"#REF!"}},{"$f":"'Pob x Genero'!#REF!","v":{"$error":"#REF!"}},{"$f":"'Pob x Genero'!#REF!","v":{"$error":"#REF!"}},"Hombre","00-04",{"$f":"'Pob x Genero'!#REF!","v":{"$error":"#REF!"}},1845]
[{"$f":"'Pob x Genero'!#REF!","v":{"$error":"#REF!"}},{"$f":"'Pob x Genero'!#REF!","v":{"$error":"#REF!"}},{"$f":"'Pob x Genero'!#REF!","v":{"$error":"#REF!"}},{"$f":"'Pob x Genero'!#REF!","v":{"$error":"#REF!"}},{"$f":"'Pob x Genero'!#REF!","v":{"$error":"#REF!"}},"Hombre","00-04",{"$f":"'Pob x Genero'!#REF!","v":{"$error":"#REF!"}},1846]
[{"$f":"'Pob x Genero'!#REF!","v":{"$error":"#REF!"}},{"$f":"'Pob x Genero'!#REF!","v":{"$error":"#REF!"}},{"$f":"'Pob x Genero'!#REF!","v":{"$error":"#REF!"}},{"$f":"'Pob x Genero'!#REF!","v":{"$error":"#REF!"}},{"$f":"'Pob x Genero'!#REF!","v":{"$error":"#REF!"}},"Hombre","00-04",{"$f":"'Pob x Genero'!#REF!","v":{"$error":"#REF!"}},1847]
[{"$f":"'Pob x Genero'!#REF!","v":{"$error":"#REF!"}},{"$f":"'Pob x Genero'!#REF!","v":{"$error":"#REF!"}},{"$f":"'Pob x Genero'!#REF!","v":{"$error":"#REF!"}},{"$f":"'Pob x Genero'!#REF!","v":{"$error":"#REF!"}},{"$f":"'Pob x Genero'!#REF!","v":{"$error":"#REF!"}},"Hombre","00-04",{"$f":"'Pob x Genero'!#REF!","v":{"$error":"#REF!"}},1848]
[{"$f":"'Pob x Genero'!#REF!","v":{"$error":"#REF!"}},{"$f":"'Pob x Genero'!#REF!","v":{"$error":"#REF!"}},{"$f":"'Pob x Genero'!#REF!","v":{"$error":"#REF!"}},{"$f":"'Pob x Genero'!#REF!","v":{"$error":"#REF!"}},{"$f":"'Pob x Genero'!#REF!","v":{"$error":"#REF!"}},"Hombre","00-04",{"$f":"'Pob x Genero'!#REF!","v":{"$error":"#REF!"}},1849]
[{"$f":"'Pob x Genero'!#REF!","v":{"$error":"#REF!"}},{"$f":"'Pob x Genero'!#REF!","v":{"$error":"#REF!"}},{"$f":"'Pob x Genero'!#REF!","v":{"$error":"#REF!"}},{"$f":"'Pob x Genero'!#REF!","v":{"$error":"#REF!"}},{"$f":"'Pob x Genero'!#REF!","v":{"$error":"#REF!"}},"Hombre","00-04",{"$f":"'Pob x Genero'!#REF!","v":{"$error":"#REF!"}},1850]
[{"$f":"'Pob x Genero'!#REF!","v":{"$error":"#REF!"}},{"$f":"'Pob x Genero'!#REF!","v":{"$error":"#REF!"}},{"$f":"'Pob x Genero'!#REF!","v":{"$error":"#REF!"}},{"$f":"'Pob x Genero'!#REF!","v":{"$error":"#REF!"}},{"$f":"'Pob x Genero'!#REF!","v":{"$error":"#REF!"}},"Hombre","00-04",{"$f":"'Pob x Genero'!#REF!","v":{"$error":"#REF!"}},1851]
[{"$f":"'Pob x Genero'!#REF!","v":{"$error":"#REF!"}},{"$f":"'Pob x Genero'!#REF!","v":{"$error":"#REF!"}},{"$f":"'Pob x Genero'!#REF!","v":{"$error":"#REF!"}},{"$f":"'Pob x Genero'!#REF!","v":{"$error":"#REF!"}},{"$f":"'Pob x Genero'!#REF!","v":{"$error":"#REF!"}},"Hombre","00-04",{"$f":"'Pob x Genero'!#REF!","v":{"$error":"#REF!"}},1852]
[{"$f":"'Pob x Genero'!#REF!","v":{"$error":"#REF!"}},{"$f":"'Pob x Genero'!#REF!","v":{"$error":"#REF!"}},{"$f":"'Pob x Genero'!#REF!","v":{"$error":"#REF!"}},{"$f":"'Pob x Genero'!#REF!","v":{"$error":"#REF!"}},{"$f":"'Pob x Genero'!#REF!","v":{"$error":"#REF!"}},"Hombre","00-04",{"$f":"'Pob x Genero'!#REF!","v":{"$error":"#REF!"}},1853]
[{"$f":"'Pob x Genero'!#REF!","v":{"$error":"#REF!"}},{"$f":"'Pob x Genero'!#REF!","v":{"$error":"#REF!"}},{"$f":"'Pob x Genero'!#REF!","v":{"$error":"#REF!"}},{"$f":"'Pob x Genero'!#REF!","v":{"$error":"#REF!"}},{"$f":"'Pob x Genero'!#REF!","v":{"$error":"#REF!"}},"Hombre","00-04",{"$f":"'Pob x Genero'!#REF!","v":{"$error":"#REF!"}},1854]
[{"$f":"'Pob x Genero'!#REF!","v":{"$error":"#REF!"}},{"$f":"'Pob x Genero'!#REF!","v":{"$error":"#REF!"}},{"$f":"'Pob x Genero'!#REF!","v":{"$error":"#REF!"}},{"$f":"'Pob x Genero'!#REF!","v":{"$error":"#REF!"}},{"$f":"'Pob x Genero'!#REF!","v":{"$error":"#REF!"}},"Hombre","00-04",{"$f":"'Pob x Genero'!#REF!","v":{"$error":"#REF!"}},1855]
[{"$f":"'Pob x Genero'!#REF!","v":{"$error":"#REF!"}},{"$f":"'Pob x Genero'!#REF!","v":{"$error":"#REF!"}},{"$f":"'Pob x Genero'!#REF!","v":{"$error":"#REF!"}},{"$f":"'Pob x Genero'!#REF!","v":{"$error":"#REF!"}},{"$f":"'Pob x Genero'!#REF!","v":{"$error":"#REF!"}},"Hombre","00-04",{"$f":"'Pob x Genero'!#REF!","v":{"$error":"#REF!"}},1856]
[{"$f":"'Pob x Genero'!#REF!","v":{"$error":"#REF!"}},{"$f":"'Pob x Genero'!#REF!","v":{"$error":"#REF!"}},{"$f":"'Pob x Genero'!#REF!","v":{"$error":"#REF!"}},{"$f":"'Pob x Genero'!#REF!","v":{"$error":"#REF!"}},{"$f":"'Pob x Genero'!#REF!","v":{"$error":"#REF!"}},"Hombre","00-04",{"$f":"'Pob x Genero'!#REF!","v":{"$error":"#REF!"}},1857]
[{"$f":"'Pob x Genero'!#REF!","v":{"$error":"#REF!"}},{"$f":"'Pob x Genero'!#REF!","v":{"$error":"#REF!"}},{"$f":"'Pob x Genero'!#REF!","v":{"$error":"#REF!"}},{"$f":"'Pob x Genero'!#REF!","v":{"$error":"#REF!"}},{"$f":"'Pob x Genero'!#REF!","v":{"$error":"#REF!"}},{"$f":"F1858","v":"Hombre"},{"$f":"G1858","v":"00-04"},{"$f":"'Pob x Genero'!#REF!","v":{"$error":"#REF!"}},1858]
[{"$f":"'Pob x Genero'!#REF!","v":{"$error":"#REF!"}},{"$f":"'Pob x Genero'!#REF!","v":{"$error":"#REF!"}},{"$f":"'Pob x Genero'!#REF!","v":{"$error":"#REF!"}},{"$f":"'Pob x Genero'!#REF!","v":{"$error":"#REF!"}},{"$f":"'Pob x Genero'!#REF!","v":{"$error":"#REF!"}},"Hombre","00-04",{"$f":"'Pob x Genero'!#REF!","v":{"$error":"#REF!"}},1859]
[{"$f":"'Pob x Genero'!#REF!","v":{"$error":"#REF!"}},{"$f":"'Pob x Genero'!#REF!","v":{"$error":"#REF!"}},{"$f":"'Pob x Genero'!#REF!","v":{"$error":"#REF!"}},{"$f":"'Pob x Genero'!#REF!","v":{"$error":"#REF!"}},{"$f":"'Pob x Genero'!#REF!","v":{"$error":"#REF!"}},"Hombre","00-04",{"$f":"'Pob x Genero'!#REF!","v":{"$error":"#REF!"}},1860]
[{"$f":"'Pob x Genero'!#REF!","v":{"$error":"#REF!"}},{"$f":"'Pob x Genero'!#REF!","v":{"$error":"#REF!"}},{"$f":"'Pob x Genero'!#REF!","v":{"$error":"#REF!"}},{"$f":"'Pob x Genero'!#REF!","v":{"$error":"#REF!"}},{"$f":"'Pob x Genero'!#REF!","v":{"$error":"#REF!"}},"Hombre","00-04",{"$f":"'Pob x Genero'!#REF!","v":{"$error":"#REF!"}},1861]
[{"$f":"'Pob x Genero'!#REF!","v":{"$error":"#REF!"}},{"$f":"'Pob x Genero'!#REF!","v":{"$error":"#REF!"}},{"$f":"'Pob x Genero'!#REF!","v":{"$error":"#REF!"}},{"$f":"'Pob x Genero'!#REF!","v":{"$error":"#REF!"}},{"$f":"'Pob x Genero'!#REF!","v":{"$error":"#REF!"}},"Hombre","00-04",{"$f":"'Pob x Genero'!#REF!","v":{"$error":"#REF!"}},1862]
[{"$f":"'Pob x Genero'!#REF!","v":{"$error":"#REF!"}},{"$f":"'Pob x Genero'!#REF!","v":{"$error":"#REF!"}},{"$f":"'Pob x Genero'!#REF!","v":{"$error":"#REF!"}},{"$f":"'Pob x Genero'!#REF!","v":{"$error":"#REF!"}},{"$f":"'Pob x Genero'!#REF!","v":{"$error":"#REF!"}},"Hombre","00-04",{"$f":"'Pob x Genero'!#REF!","v":{"$error":"#REF!"}},1863]
[{"$f":"'Pob x Genero'!#REF!","v":{"$error":"#REF!"}},{"$f":"'Pob x Genero'!#REF!","v":{"$error":"#REF!"}},{"$f":"'Pob x Genero'!#REF!","v":{"$error":"#REF!"}},{"$f":"'Pob x Genero'!#REF!","v":{"$error":"#REF!"}},{"$f":"'Pob x Genero'!#REF!","v":{"$error":"#REF!"}},"Hombre","00-04",{"$f":"'Pob x Genero'!#REF!","v":{"$error":"#REF!"}},1864]
[{"$f":"'Pob x Genero'!#REF!","v":{"$error":"#REF!"}},{"$f":"'Pob x Genero'!#REF!","v":{"$error":"#REF!"}},{"$f":"'Pob x Genero'!#REF!","v":{"$error":"#REF!"}},{"$f":"'Pob x Genero'!#REF!","v":{"$error":"#REF!"}},{"$f":"'Pob x Genero'!#REF!","v":{"$error":"#REF!"}},"Hombre","00-04",{"$f":"'Pob x Genero'!#REF!","v":{"$error":"#REF!"}},1865]
[{"$f":"'Pob x Genero'!#REF!","v":{"$error":"#REF!"}},{"$f":"'Pob x Genero'!#REF!","v":{"$error":"#REF!"}},{"$f":"'Pob x Genero'!#REF!","v":{"$error":"#REF!"}},{"$f":"'Pob x Genero'!#REF!","v":{"$error":"#REF!"}},{"$f":"'Pob x Genero'!#REF!","v":{"$error":"#REF!"}},"Hombre","00-04",{"$f":"'Pob x Genero'!#REF!","v":{"$error":"#REF!"}},1866]
[{"$f":"'Pob x Genero'!#REF!","v":{"$error":"#REF!"}},{"$f":"'Pob x Genero'!#REF!","v":{"$error":"#REF!"}},{"$f":"'Pob x Genero'!#REF!","v":{"$error":"#REF!"}},{"$f":"'Pob x Genero'!#REF!","v":{"$error":"#REF!"}},{"$f":"'Pob x Genero'!#REF!","v":{"$error":"#REF!"}},"Hombre","00-04",{"$f":"'Pob x Genero'!#REF!","v":{"$error":"#REF!"}},1867]
[{"$f":"'Pob x Genero'!#REF!","v":{"$error":"#REF!"}},{"$f":"'Pob x Genero'!#REF!","v":{"$error":"#REF!"}},{"$f":"'Pob x Genero'!#REF!","v":{"$error":"#REF!"}},{"$f":"'Pob x Genero'!#REF!","v":{"$error":"#REF!"}},{"$f":"'Pob x Genero'!#REF!","v":{"$error":"#REF!"}},"Hombre","00-04",{"$f":"'Pob x Genero'!#REF!","v":{"$error":"#REF!"}},1868]
[{"$f":"'Pob x Genero'!#REF!","v":{"$error":"#REF!"}},{"$f":"'Pob x Genero'!#REF!","v":{"$error":"#REF!"}},{"$f":"'Pob x Genero'!#REF!","v":{"$error":"#REF!"}},{"$f":"'Pob x Genero'!#REF!","v":{"$error":"#REF!"}},{"$f":"'Pob x Genero'!#REF!","v":{"$error":"#REF!"}},"Hombre","00-04",{"$f":"'Pob x Genero'!#REF!","v":{"$error":"#REF!"}},1869]
[{"$f":"'Pob x Genero'!#REF!","v":{"$error":"#REF!"}},{"$f":"'Pob x Genero'!#REF!","v":{"$error":"#REF!"}},{"$f":"'Pob x Genero'!#REF!","v":{"$error":"#REF!"}},{"$f":"'Pob x Genero'!#REF!","v":{"$error":"#REF!"}},{"$f":"'Pob x Genero'!#REF!","v":{"$error":"#REF!"}},"Hombre","00-04",{"$f":"'Pob x Genero'!#REF!","v":{"$error":"#REF!"}},1870]
[{"$f":"'Pob x Genero'!#REF!","v":{"$error":"#REF!"}},{"$f":"'Pob x Genero'!#REF!","v":{"$error":"#REF!"}},{"$f":"'Pob x Genero'!#REF!","v":{"$error":"#REF!"}},{"$f":"'Pob x Genero'!#REF!","v":{"$error":"#REF!"}},{"$f":"'Pob x Genero'!#REF!","v":{"$error":"#REF!"}},"Hombre","00-04",{"$f":"'Pob x Genero'!#REF!","v":{"$error":"#REF!"}},1871]
[{"$f":"'Pob x Genero'!#REF!","v":{"$error":"#REF!"}},{"$f":"'Pob x Genero'!#REF!","v":{"$error":"#REF!"}},{"$f":"'Pob x Genero'!#REF!","v":{"$error":"#REF!"}},{"$f":"'Pob x Genero'!#REF!","v":{"$error":"#REF!"}},{"$f":"'Pob x Genero'!#REF!","v":{"$error":"#REF!"}},"Hombre","00-04",{"$f":"'Pob x Genero'!#REF!","v":{"$error":"#REF!"}},1872]
[{"$f":"'Pob x Genero'!#REF!","v":{"$error":"#REF!"}},{"$f":"'Pob x Genero'!#REF!","v":{"$error":"#REF!"}},{"$f":"'Pob x Genero'!#REF!","v":{"$error":"#REF!"}},{"$f":"'Pob x Genero'!#REF!","v":{"$error":"#REF!"}},{"$f":"'Pob x Genero'!#REF!","v":{"$error":"#REF!"}},"Hombre","00-04",{"$f":"'Pob x Genero'!#REF!","v":{"$error":"#REF!"}},1873]
[{"$f":"'Pob x Genero'!#REF!","v":{"$error":"#REF!"}},{"$f":"'Pob x Genero'!#REF!","v":{"$error":"#REF!"}},{"$f":"'Pob x Genero'!#REF!","v":{"$error":"#REF!"}},{"$f":"'Pob x Genero'!#REF!","v":{"$error":"#REF!"}},{"$f":"'Pob x Genero'!#REF!","v":{"$error":"#REF!"}},"Hombre","00-04",{"$f":"'Pob x Genero'!#REF!","v":{"$error":"#REF!"}},1874]
[{"$f":"'Pob x Genero'!#REF!","v":{"$error":"#REF!"}},{"$f":"'Pob x Genero'!#REF!","v":{"$error":"#REF!"}},{"$f":"'Pob x Genero'!#REF!","v":{"$error":"#REF!"}},{"$f":"'Pob x Genero'!#REF!","v":{"$error":"#REF!"}},{"$f":"'Pob x Genero'!#REF!","v":{"$error":"#REF!"}},"Hombre","00-04",{"$f":"'Pob x Genero'!#REF!","v":{"$error":"#REF!"}},1875]
[{"$f":"'Pob x Genero'!#REF!","v":{"$error":"#REF!"}},{"$f":"'Pob x Genero'!#REF!","v":{"$error":"#REF!"}},{"$f":"'Pob x Genero'!#REF!","v":{"$error":"#REF!"}},{"$f":"'Pob x Genero'!#REF!","v":{"$error":"#REF!"}},{"$f":"'Pob x Genero'!#REF!","v":{"$error":"#REF!"}},"Hombre","00-04",{"$f":"'Pob x Genero'!#REF!","v":{"$error":"#REF!"}},1876]
[{"$f":"'Pob x Genero'!#REF!","v":{"$error":"#REF!"}},{"$f":"'Pob x Genero'!#REF!","v":{"$error":"#REF!"}},{"$f":"'Pob x Genero'!#REF!","v":{"$error":"#REF!"}},{"$f":"'Pob x Genero'!#REF!","v":{"$error":"#REF!"}},{"$f":"'Pob x Genero'!#REF!","v":{"$error":"#REF!"}},"Hombre","00-04",{"$f":"'Pob x Genero'!#REF!","v":{"$error":"#REF!"}},1877]
[{"$f":"'Pob x Genero'!#REF!","v":{"$error":"#REF!"}},{"$f":"'Pob x Genero'!#REF!","v":{"$error":"#REF!"}},{"$f":"'Pob x Genero'!#REF!","v":{"$error":"#REF!"}},{"$f":"'Pob x Genero'!#REF!","v":{"$error":"#REF!"}},{"$f":"'Pob x Genero'!#REF!","v":{"$error":"#REF!"}},"Hombre","00-04",{"$f":"'Pob x Genero'!#REF!","v":{"$error":"#REF!"}},1878]
[{"$f":"'Pob x Genero'!#REF!","v":{"$error":"#REF!"}},{"$f":"'Pob x Genero'!#REF!","v":{"$error":"#REF!"}},{"$f":"'Pob x Genero'!#REF!","v":{"$error":"#REF!"}},{"$f":"'Pob x Genero'!#REF!","v":{"$error":"#REF!"}},{"$f":"'Pob x Genero'!#REF!","v":{"$error":"#REF!"}},"Hombre","00-04",{"$f":"'Pob x Genero'!#REF!","v":{"$error":"#REF!"}},1879]
[{"$f":"'Pob x Genero'!#REF!","v":{"$error":"#REF!"}},{"$f":"'Pob x Genero'!#REF!","v":{"$error":"#REF!"}},{"$f":"'Pob x Genero'!#REF!","v":{"$error":"#REF!"}},{"$f":"'Pob x Genero'!#REF!","v":{"$error":"#REF!"}},{"$f":"'Pob x Genero'!#REF!","v":{"$error":"#REF!"}},"Hombre","00-04",{"$f":"'Pob x Genero'!#REF!","v":{"$error":"#REF!"}},1880]
[{"$f":"'Pob x Genero'!#REF!","v":{"$error":"#REF!"}},{"$f":"'Pob x Genero'!#REF!","v":{"$error":"#REF!"}},{"$f":"'Pob x Genero'!#REF!","v":{"$error":"#REF!"}},{"$f":"'Pob x Genero'!#REF!","v":{"$error":"#REF!"}},{"$f":"'Pob x Genero'!#REF!","v":{"$error":"#REF!"}},"Hombre","00-04",{"$f":"'Pob x Genero'!#REF!","v":{"$error":"#REF!"}},1881]
[{"$f":"'Pob x Genero'!#REF!","v":{"$error":"#REF!"}},{"$f":"'Pob x Genero'!#REF!","v":{"$error":"#REF!"}},{"$f":"'Pob x Genero'!#REF!","v":{"$error":"#REF!"}},{"$f":"'Pob x Genero'!#REF!","v":{"$error":"#REF!"}},{"$f":"'Pob x Genero'!#REF!","v":{"$error":"#REF!"}},"Hombre","00-04",{"$f":"'Pob x Genero'!#REF!","v":{"$error":"#REF!"}},1882]
[{"$f":"'Pob x Genero'!#REF!","v":{"$error":"#REF!"}},{"$f":"'Pob x Genero'!#REF!","v":{"$error":"#REF!"}},{"$f":"'Pob x Genero'!#REF!","v":{"$error":"#REF!"}},{"$f":"'Pob x Genero'!#REF!","v":{"$error":"#REF!"}},{"$f":"'Pob x Genero'!#REF!","v":{"$error":"#REF!"}},"Hombre","00-04",{"$f":"'Pob x Genero'!#REF!","v":{"$error":"#REF!"}},1883]
[{"$f":"'Pob x Genero'!#REF!","v":{"$error":"#REF!"}},{"$f":"'Pob x Genero'!#REF!","v":{"$error":"#REF!"}},{"$f":"'Pob x Genero'!#REF!","v":{"$error":"#REF!"}},{"$f":"'Pob x Genero'!#REF!","v":{"$error":"#REF!"}},{"$f":"'Pob x Genero'!#REF!","v":{"$error":"#REF!"}},"Hombre","00-04",{"$f":"'Pob x Genero'!#REF!","v":{"$error":"#REF!"}},1884]
[{"$f":"'Pob x Genero'!#REF!","v":{"$error":"#REF!"}},{"$f":"'Pob x Genero'!#REF!","v":{"$error":"#REF!"}},{"$f":"'Pob x Genero'!#REF!","v":{"$error":"#REF!"}},{"$f":"'Pob x Genero'!#REF!","v":{"$error":"#REF!"}},{"$f":"'Pob x Genero'!#REF!","v":{"$error":"#REF!"}},"Hombre","00-04",{"$f":"'Pob x Genero'!#REF!","v":{"$error":"#REF!"}},1885]
[{"$f":"'Pob x Genero'!#REF!","v":{"$error":"#REF!"}},{"$f":"'Pob x Genero'!#REF!","v":{"$error":"#REF!"}},{"$f":"'Pob x Genero'!#REF!","v":{"$error":"#REF!"}},{"$f":"'Pob x Genero'!#REF!","v":{"$error":"#REF!"}},{"$f":"'Pob x Genero'!#REF!","v":{"$error":"#REF!"}},"Hombre","00-04",{"$f":"'Pob x Genero'!#REF!","v":{"$error":"#REF!"}},1886]
[{"$f":"'Pob x Genero'!#REF!","v":{"$error":"#REF!"}},{"$f":"'Pob x Genero'!#REF!","v":{"$error":"#REF!"}},{"$f":"'Pob x Genero'!#REF!","v":{"$error":"#REF!"}},{"$f":"'Pob x Genero'!#REF!","v":{"$error":"#REF!"}},{"$f":"'Pob x Genero'!#REF!","v":{"$error":"#REF!"}},"Hombre","00-04",{"$f":"'Pob x Genero'!#REF!","v":{"$error":"#REF!"}},1887]
[{"$f":"'Pob x Genero'!#REF!","v":{"$error":"#REF!"}},{"$f":"'Pob x Genero'!#REF!","v":{"$error":"#REF!"}},{"$f":"'Pob x Genero'!#REF!","v":{"$error":"#REF!"}},{"$f":"'Pob x Genero'!#REF!","v":{"$error":"#REF!"}},{"$f":"'Pob x Genero'!#REF!","v":{"$error":"#REF!"}},"Hombre","00-04",{"$f":"'Pob x Genero'!#REF!","v":{"$error":"#REF!"}},1888]
[{"$f":"'Pob x Genero'!#REF!","v":{"$error":"#REF!"}},{"$f":"'Pob x Genero'!#REF!","v":{"$error":"#REF!"}},{"$f":"'Pob x Genero'!#REF!","v":{"$error":"#REF!"}},{"$f":"'Pob x Genero'!#REF!","v":{"$error":"#REF!"}},{"$f":"'Pob x Genero'!#REF!","v":{"$error":"#REF!"}},"Hombre","00-04",{"$f":"'Pob x Genero'!#REF!","v":{"$error":"#REF!"}},1889]
[{"$f":"'Pob x Genero'!#REF!","v":{"$error":"#REF!"}},{"$f":"'Pob x Genero'!#REF!","v":{"$error":"#REF!"}},{"$f":"'Pob x Genero'!#REF!","v":{"$error":"#REF!"}},{"$f":"'Pob x Genero'!#REF!","v":{"$error":"#REF!"}},{"$f":"'Pob x Genero'!#REF!","v":{"$error":"#REF!"}},"Hombre","00-04",{"$f":"'Pob x Genero'!#REF!","v":{"$error":"#REF!"}},1890]
[{"$f":"A2","v":{"$error":"#REF!"}},{"$f":"B2","v":{"$error":"#REF!"}},{"$error":"#REF!"},{"$error":"#REF!"},{"$error":"#REF!"},"Hombre",{"$f":"'Pob x Genero'!CT7","v":"05-09"},{"$f":"'Pob x Genero'!#REF!","v":{"$error":"#REF!"}},1]
[{"$f":"A3","v":{"$error":"#REF!"}},{"$error":"#REF!"},{"$error":"#REF!"},{"$error":"#REF!"},{"$error":"#REF!"},"Hombre",{"$f":"G1892","v":"05-09"},{"$f":"'Pob x Genero'!#REF!","v":{"$error":"#REF!"}},2]
[{"$f":"A4","v":{"$error":"#REF!"}},{"$error":"#REF!"},{"$error":"#REF!"},{"$error":"#REF!"},{"$error":"#REF!"},"Hombre","05-09",{"$f":"'Pob x Genero'!#REF!","v":{"$error":"#REF!"}},3]
[{"$f":"A5","v":{"$error":"#REF!"}},{"$error":"#REF!"},{"$error":"#REF!"},{"$error":"#REF!"},{"$error":"#REF!"},"Hombre","05-09",{"$f":"'Pob x Genero'!#REF!","v":{"$error":"#REF!"}},4]
[{"$f":"A6","v":{"$error":"#REF!"}},{"$error":"#REF!"},{"$error":"#REF!"},{"$error":"#REF!"},{"$error":"#REF!"},"Hombre","05-09",{"$f":"'Pob x Genero'!#REF!","v":{"$error":"#REF!"}},5]
[{"$f":"A7","v":{"$error":"#REF!"}},{"$error":"#REF!"},{"$error":"#REF!"},{"$error":"#REF!"},{"$error":"#REF!"},"Hombre","05-09",{"$f":"'Pob x Genero'!#REF!","v":{"$error":"#REF!"}},6]
[{"$f":"A8","v":{"$error":"#REF!"}},{"$error":"#REF!"},{"$error":"#REF!"},{"$error":"#REF!"},{"$error":"#REF!"},"Hombre","05-09",{"$f":"'Pob x Genero'!#REF!","v":{"$error":"#REF!"}},7]
[{"$f":"A9","v":{"$error":"#REF!"}},{"$error":"#REF!"},{"$error":"#REF!"},{"$error":"#REF!"},{"$error":"#REF!"},"Hombre","05-09",{"$f":"'Pob x Genero'!#REF!","v":{"$error":"#REF!"}},8]
[{"$f":"A10","v":{"$error":"#REF!"}},{"$error":"#REF!"},{"$error":"#REF!"},{"$error":"#REF!"},{"$error":"#REF!"},"Hombre","05-09",{"$f":"'Pob x Genero'!#REF!","v":{"$error":"#REF!"}},9]
[{"$f":"A11","v":{"$error":"#REF!"}},{"$error":"#REF!"},{"$error":"#REF!"},{"$error":"#REF!"},{"$error":"#REF!"},"Hombre","05-09",{"$f":"'Pob x Genero'!#REF!","v":{"$error":"#REF!"}},10]
[{"$f":"A12","v":{"$error":"#REF!"}},{"$error":"#REF!"},{"$error":"#REF!"},{"$error":"#REF!"},{"$error":"#REF!"},"Hombre","05-09",{"$f":"'Pob x Genero'!#REF!","v":{"$error":"#REF!"}},11]
[{"$f":"A13","v":{"$error":"#REF!"}},{"$error":"#REF!"},{"$error":"#REF!"},{"$error":"#REF!"},{"$error":"#REF!"},"Hombre","05-09",{"$f":"'Pob x Genero'!#REF!","v":{"$error":"#REF!"}},12]
[{"$f":"A14","v":{"$error":"#REF!"}},{"$error":"#REF!"},{"$error":"#REF!"},{"$error":"#REF!"},{"$error":"#REF!"},"Hombre","05-09",{"$f":"'Pob x Genero'!#REF!","v":{"$error":"#REF!"}},13]
[{"$f":"A15","v":{"$error":"#REF!"}},{"$error":"#REF!"},{"$error":"#REF!"},{"$error":"#REF!"},{"$error":"#REF!"},"Hombre","05-09",{"$f":"'Pob x Genero'!#REF!","v":{"$error":"#REF!"}},14]
[{"$f":"A16","v":{"$error":"#REF!"}},{"$error":"#REF!"},{"$error":"#REF!"},{"$error":"#REF!"},{"$error":"#REF!"},"Hombre","05-09",{"$f":"'Pob x Genero'!#REF!","v":{"$error":"#REF!"}},15]
[{"$f":"A17","v":{"$error":"#REF!"}},{"$error":"#REF!"},{"$error":"#REF!"},{"$error":"#REF!"},{"$error":"#REF!"},"Hombre","05-09",{"$f":"'Pob x Genero'!#REF!","v":{"$error":"#REF!"}},16]
[{"$f":"A18","v":{"$error":"#REF!"}},{"$error":"#REF!"},{"$error":"#REF!"},{"$error":"#REF!"},{"$error":"#REF!"},"Hombre","05-09",{"$f":"'Pob x Genero'!#REF!","v":{"$error":"#REF!"}},17]
[{"$f":"A19","v":{"$error":"#REF!"}},{"$error":"#REF!"},{"$error":"#REF!"},{"$error":"#REF!"},{"$error":"#REF!"},"Hombre","05-09",{"$f":"'Pob x Genero'!#REF!","v":{"$error":"#REF!"}},18]
[{"$f":"A20","v":{"$error":"#REF!"}},{"$error":"#REF!"},{"$error":"#REF!"},{"$error":"#REF!"},{"$error":"#REF!"},"Hombre","05-09",{"$f":"'Pob x Genero'!#REF!","v":{"$error":"#REF!"}},19]
[{"$f":"A21","v":{"$error":"#REF!"}},{"$error":"#REF!"},{"$error":"#REF!"},{"$error":"#REF!"},{"$error":"#REF!"},"Hombre","05-09",{"$f":"'Pob x Genero'!#REF!","v":{"$error":"#REF!"}},20]
[{"$f":"A22","v":{"$error":"#REF!"}},{"$error":"#REF!"},{"$error":"#REF!"},{"$error":"#REF!"},{"$error":"#REF!"},"Hombre","05-09",{"$f":"'Pob x Genero'!#REF!","v":{"$error":"#REF!"}},21]
[{"$f":"A23","v":{"$error":"#REF!"}},{"$error":"#REF!"},{"$error":"#REF!"},{"$error":"#REF!"},{"$error":"#REF!"},"Hombre","05-09",{"$f":"'Pob x Genero'!#REF!","v":{"$error":"#REF!"}},22]
[{"$f":"A24","v":{"$error":"#REF!"}},{"$error":"#REF!"},{"$error":"#REF!"},{"$error":"#REF!"},{"$error":"#REF!"},"Hombre","05-09",{"$f":"'Pob x Genero'!#REF!","v":{"$error":"#REF!"}},23]
[{"$f":"A25","v":{"$error":"#REF!"}},{"$error":"#REF!"},{"$error":"#REF!"},{"$error":"#REF!"},{"$error":"#REF!"},"Hombre","05-09",{"$f":"'Pob x Genero'!#REF!","v":{"$error":"#REF!"}},24]
[{"$f":"A26","v":{"$error":"#REF!"}},{"$error":"#REF!"},{"$error":"#REF!"},{"$error":"#REF!"},{"$error":"#REF!"},"Hombre","05-09",{"$f":"'Pob x Genero'!#REF!","v":{"$error":"#REF!"}},25]
[{"$f":"A27","v":{"$error":"#REF!"}},{"$error":"#REF!"},{"$error":"#REF!"},{"$error":"#REF!"},{"$error":"#REF!"},"Hombre","05-09",{"$f":"'Pob x Genero'!#REF!","v":{"$error":"#REF!"}},26]
[{"$f":"A28","v":{"$error":"#REF!"}},{"$error":"#REF!"},{"$error":"#REF!"},{"$error":"#REF!"},{"$error":"#REF!"},"Hombre","05-09",{"$f":"'Pob x Genero'!#REF!","v":{"$error":"#REF!"}},27]
[{"$f":"A29","v":{"$error":"#REF!"}},{"$error":"#REF!"},{"$error":"#REF!"},{"$error":"#REF!"},{"$error":"#REF!"},"Hombre","05-09",{"$f":"'Pob x Genero'!#REF!","v":{"$error":"#REF!"}},28]
[{"$f":"A30","v":{"$error":"#REF!"}},{"$error":"#REF!"},{"$error":"#REF!"},{"$error":"#REF!"},{"$error":"#REF!"},"Hombre","05-09",{"$f":"'Pob x Genero'!#REF!","v":{"$error":"#REF!"}},29]
[{"$f":"A31","v":{"$error":"#REF!"}},{"$error":"#REF!"},{"$error":"#REF!"},{"$error":"#REF!"},{"$error":"#REF!"},"Hombre","05-09",{"$f":"'Pob x Genero'!#REF!","v":{"$error":"#REF!"}},30]
[{"$f":"A32","v":{"$error":"#REF!"}},{"$error":"#REF!"},{"$error":"#REF!"},{"$error":"#REF!"},{"$error":"#REF!"},"Hombre","05-09",{"$f":"'Pob x Genero'!#REF!","v":{"$error":"#REF!"}},31]
[{"$f":"A33","v":{"$error":"#REF!"}},{"$error":"#REF!"},{"$error":"#REF!"},{"$error":"#REF!"},{"$error":"#REF!"},{"$f":"F1922","v":"Hombre"},"05-09",{"$f":"'Pob x Genero'!#REF!","v":{"$error":"#REF!"}},32]
[{"$f":"A34","v":{"$error":"#REF!"}},{"$error":"#REF!"},{"$error":"#REF!"},{"$error":"#REF!"},{"$error":"#REF!"},"Hombre","05-09",{"$f":"'Pob x Genero'!#REF!","v":{"$error":"#REF!"}},33]
[{"$f":"A35","v":{"$error":"#REF!"}},{"$error":"#REF!"},{"$error":"#REF!"},{"$error":"#REF!"},{"$error":"#REF!"},"Hombre","05-09",{"$f":"'Pob x Genero'!#REF!","v":{"$error":"#REF!"}},34]
[{"$f":"A36","v":{"$error":"#REF!"}},{"$error":"#REF!"},{"$error":"#REF!"},{"$error":"#REF!"},{"$error":"#REF!"},"Hombre","05-09",{"$f":"'Pob x Genero'!#REF!","v":{"$error":"#REF!"}},35]
[{"$f":"A37","v":{"$error":"#REF!"}},{"$error":"#REF!"},{"$error":"#REF!"},{"$error":"#REF!"},{"$error":"#REF!"},"Hombre","05-09",{"$f":"'Pob x Genero'!#REF!","v":{"$error":"#REF!"}},36]
[{"$f":"A38","v":{"$error":"#REF!"}},{"$error":"#REF!"},{"$error":"#REF!"},{"$error":"#REF!"},{"$error":"#REF!"},"Hombre","05-09",{"$f":"'Pob x Genero'!#REF!","v":{"$error":"#REF!"}},37]
[{"$f":"A39","v":{"$error":"#REF!"}},{"$error":"#REF!"},{"$error":"#REF!"},{"$error":"#REF!"},{"$error":"#REF!"},"Hombre","05-09",{"$f":"'Pob x Genero'!#REF!","v":{"$error":"#REF!"}},38]
[{"$f":"A40","v":{"$error":"#REF!"}},{"$error":"#REF!"},{"$error":"#REF!"},{"$error":"#REF!"},{"$error":"#REF!"},"Hombre","05-09",{"$f":"'Pob x Genero'!#REF!","v":{"$error":"#REF!"}},39]
[{"$f":"A41","v":{"$error":"#REF!"}},{"$error":"#REF!"},{"$error":"#REF!"},{"$error":"#REF!"},{"$error":"#REF!"},"Hombre","05-09",{"$f":"'Pob x Genero'!#REF!","v":{"$error":"#REF!"}},40]
[{"$f":"A42","v":{"$error":"#REF!"}},{"$error":"#REF!"},{"$error":"#REF!"},{"$error":"#REF!"},{"$error":"#REF!"},"Hombre","05-09",{"$f":"'Pob x Genero'!#REF!","v":{"$error":"#REF!"}},41]
[{"$f":"A43","v":{"$error":"#REF!"}},{"$error":"#REF!"},{"$error":"#REF!"},{"$error":"#REF!"},{"$error":"#REF!"},"Hombre","05-09",{"$f":"'Pob x Genero'!#REF!","v":{"$error":"#REF!"}},42]
[{"$f":"A44","v":{"$error":"#REF!"}},{"$error":"#REF!"},{"$error":"#REF!"},{"$error":"#REF!"},{"$error":"#REF!"},"Hombre","05-09",{"$f":"'Pob x Genero'!#REF!","v":{"$error":"#REF!"}},43]
[{"$f":"A45","v":{"$error":"#REF!"}},{"$error":"#REF!"},{"$error":"#REF!"},{"$error":"#REF!"},{"$error":"#REF!"},"Hombre","05-09",{"$f":"'Pob x Genero'!#REF!","v":{"$error":"#REF!"}},44]
[{"$f":"A46","v":{"$error":"#REF!"}},{"$error":"#REF!"},{"$error":"#REF!"},{"$error":"#REF!"},{"$error":"#REF!"},"Hombre","05-09",{"$f":"'Pob x Genero'!#REF!","v":{"$error":"#REF!"}},45]
[{"$f":"A47","v":{"$error":"#REF!"}},{"$error":"#REF!"},{"$error":"#REF!"},{"$error":"#REF!"},{"$error":"#REF!"},"Hombre","05-09",{"$f":"'Pob x Genero'!#REF!","v":{"$error":"#REF!"}},46]
[{"$f":"A48","v":{"$error":"#REF!"}},{"$error":"#REF!"},{"$error":"#REF!"},{"$error":"#REF!"},{"$error":"#REF!"},"Hombre","05-09",{"$f":"'Pob x Genero'!#REF!","v":{"$error":"#REF!"}},47]
[{"$f":"A49","v":{"$error":"#REF!"}},{"$error":"#REF!"},{"$error":"#REF!"},{"$error":"#REF!"},{"$error":"#REF!"},"Hombre","05-09",{"$f":"'Pob x Genero'!#REF!","v":{"$error":"#REF!"}},48]
[{"$f":"A50","v":{"$error":"#REF!"}},{"$error":"#REF!"},{"$error":"#REF!"},{"$error":"#REF!"},{"$error":"#REF!"},"Hombre","05-09",{"$f":"'Pob x Genero'!#REF!","v":{"$error":"#REF!"}},49]
[{"$f":"A51","v":{"$error":"#REF!"}},{"$error":"#REF!"},{"$error":"#REF!"},{"$error":"#REF!"},{"$error":"#REF!"},"Hombre","05-09",{"$f":"'Pob x Genero'!#REF!","v":{"$error":"#REF!"}},50]
[{"$f":"A52","v":{"$error":"#REF!"}},{"$error":"#REF!"},{"$error":"#REF!"},{"$error":"#REF!"},{"$error":"#REF!"},"Hombre","05-09",{"$f":"'Pob x Genero'!#REF!","v":{"$error":"#REF!"}},51]
[{"$f":"A53","v":{"$error":"#REF!"}},{"$error":"#REF!"},{"$error":"#REF!"},{"$error":"#REF!"},{"$error":"#REF!"},"Hombre","05-09",{"$f":"'Pob x Genero'!#REF!","v":{"$error":"#REF!"}},52]
[{"$f":"A54","v":{"$error":"#REF!"}},{"$error":"#REF!"},{"$error":"#REF!"},{"$error":"#REF!"},{"$error":"#REF!"},"Hombre","05-09",{"$f":"'Pob x Genero'!#REF!","v":{"$error":"#REF!"}},53]
[{"$f":"A55","v":{"$error":"#REF!"}},{"$error":"#REF!"},{"$error":"#REF!"},{"$error":"#REF!"},{"$error":"#REF!"},"Hombre","05-09",{"$f":"'Pob x Genero'!#REF!","v":{"$error":"#REF!"}},54]
[{"$f":"A56","v":{"$error":"#REF!"}},{"$error":"#REF!"},{"$error":"#REF!"},{"$error":"#REF!"},{"$error":"#REF!"},"Hombre","05-09",{"$f":"'Pob x Genero'!#REF!","v":{"$error":"#REF!"}},55]
[{"$f":"A57","v":{"$error":"#REF!"}},{"$error":"#REF!"},{"$error":"#REF!"},{"$error":"#REF!"},{"$error":"#REF!"},"Hombre","05-09",{"$f":"'Pob x Genero'!#REF!","v":{"$error":"#REF!"}},56]
[{"$f":"A58","v":{"$error":"#REF!"}},{"$error":"#REF!"},{"$error":"#REF!"},{"$error":"#REF!"},{"$error":"#REF!"},"Hombre","05-09",{"$f":"'Pob x Genero'!#REF!","v":{"$error":"#REF!"}},57]
[{"$f":"A59","v":{"$error":"#REF!"}},{"$error":"#REF!"},{"$error":"#REF!"},{"$error":"#REF!"},{"$error":"#REF!"},"Hombre","05-09",{"$f":"'Pob x Genero'!#REF!","v":{"$error":"#REF!"}},58]
[{"$f":"A60","v":{"$error":"#REF!"}},{"$error":"#REF!"},{"$error":"#REF!"},{"$error":"#REF!"},{"$error":"#REF!"},"Hombre","05-09",{"$f":"'Pob x Genero'!#REF!","v":{"$error":"#REF!"}},59]
[{"$f":"A61","v":{"$error":"#REF!"}},{"$error":"#REF!"},{"$error":"#REF!"},{"$error":"#REF!"},{"$error":"#REF!"},"Hombre","05-09",{"$f":"'Pob x Genero'!#REF!","v":{"$error":"#REF!"}},60]
[{"$f":"A62","v":{"$error":"#REF!"}},{"$error":"#REF!"},{"$error":"#REF!"},{"$error":"#REF!"},{"$error":"#REF!"},"Hombre","05-09",{"$f":"'Pob x Genero'!#REF!","v":{"$error":"#REF!"}},61]
[{"$f":"A63","v":{"$error":"#REF!"}},{"$error":"#REF!"},{"$error":"#REF!"},{"$error":"#REF!"},{"$error":"#REF!"},"Hombre","05-09",{"$f":"'Pob x Genero'!#REF!","v":{"$error":"#REF!"}},62]
[{"$f":"A64","v":{"$error":"#REF!"}},{"$error":"#REF!"},{"$error":"#REF!"},{"$error":"#REF!"},{"$error":"#REF!"},"Hombre","05-09",{"$f":"'Pob x Genero'!#REF!","v":{"$error":"#REF!"}},63]
[{"$f":"A65","v":{"$error":"#REF!"}},{"$error":"#REF!"},{"$error":"#REF!"},{"$error":"#REF!"},{"$error":"#REF!"},"Hombre","05-09",{"$f":"'Pob x Genero'!#REF!","v":{"$error":"#REF!"}},64]
[{"$f":"A66","v":{"$error":"#REF!"}},{"$error":"#REF!"},{"$error":"#REF!"},{"$error":"#REF!"},{"$error":"#REF!"},"Hombre","05-09",{"$f":"'Pob x Genero'!#REF!","v":{"$error":"#REF!"}},65]
[{"$f":"A67","v":{"$error":"#REF!"}},{"$error":"#REF!"},{"$error":"#REF!"},{"$error":"#REF!"},{"$error":"#REF!"},"Hombre",{"$f":"G1956","v":"05-09"},{"$f":"'Pob x Genero'!#REF!","v":{"$error":"#REF!"}},66]
[{"$f":"A68","v":{"$error":"#REF!"}},{"$error":"#REF!"},{"$error":"#REF!"},{"$error":"#REF!"},{"$error":"#REF!"},"Hombre","05-09",{"$f":"'Pob x Genero'!#REF!","v":{"$error":"#REF!"}},67]
[{"$f":"A69","v":{"$error":"#REF!"}},{"$error":"#REF!"},{"$error":"#REF!"},{"$error":"#REF!"},{"$error":"#REF!"},"Hombre","05-09",{"$f":"'Pob x Genero'!#REF!","v":{"$error":"#REF!"}},68]
[{"$f":"A70","v":{"$error":"#REF!"}},{"$error":"#REF!"},{"$error":"#REF!"},{"$error":"#REF!"},{"$error":"#REF!"},"Hombre","05-09",{"$f":"'Pob x Genero'!#REF!","v":{"$error":"#REF!"}},69]
[{"$f":"A71","v":{"$error":"#REF!"}},{"$error":"#REF!"},{"$error":"#REF!"},{"$error":"#REF!"},{"$error":"#REF!"},"Hombre","05-09",{"$f":"'Pob x Genero'!#REF!","v":{"$error":"#REF!"}},70]
[{"$f":"A72","v":{"$error":"#REF!"}},{"$error":"#REF!"},{"$error":"#REF!"},{"$error":"#REF!"},{"$error":"#REF!"},"Hombre","05-09",{"$f":"'Pob x Genero'!#REF!","v":{"$error":"#REF!"}},71]
[{"$f":"A73","v":{"$error":"#REF!"}},{"$error":"#REF!"},{"$error":"#REF!"},{"$error":"#REF!"},{"$error":"#REF!"},"Hombre","05-09",{"$f":"'Pob x Genero'!#REF!","v":{"$error":"#REF!"}},72]
[{"$f":"A74","v":{"$error":"#REF!"}},{"$error":"#REF!"},{"$error":"#REF!"},{"$error":"#REF!"},{"$error":"#REF!"},"Hombre","05-09",{"$f":"'Pob x Genero'!#REF!","v":{"$error":"#REF!"}},73]
[{"$f":"A75","v":{"$error":"#REF!"}},{"$error":"#REF!"},{"$error":"#REF!"},{"$error":"#REF!"},{"$error":"#REF!"},"Hombre","05-09",{"$f":"'Pob x Genero'!#REF!","v":{"$error":"#REF!"}},74]
[{"$f":"A76","v":{"$error":"#REF!"}},{"$error":"#REF!"},{"$error":"#REF!"},{"$error":"#REF!"},{"$error":"#REF!"},"Hombre","05-09",{"$f":"'Pob x Genero'!#REF!","v":{"$error":"#REF!"}},75]
[{"$f":"A77","v":{"$error":"#REF!"}},{"$error":"#REF!"},{"$error":"#REF!"},{"$error":"#REF!"},{"$error":"#REF!"},"Hombre","05-09",{"$f":"'Pob x Genero'!#REF!","v":{"$error":"#REF!"}},76]
[{"$f":"A78","v":{"$error":"#REF!"}},{"$error":"#REF!"},{"$error":"#REF!"},{"$error":"#REF!"},{"$error":"#REF!"},"Hombre","05-09",{"$f":"'Pob x Genero'!#REF!","v":{"$error":"#REF!"}},77]
[{"$f":"A79","v":{"$error":"#REF!"}},{"$error":"#REF!"},{"$error":"#REF!"},{"$error":"#REF!"},{"$error":"#REF!"},"Hombre","05-09",{"$f":"'Pob x Genero'!#REF!","v":{"$error":"#REF!"}},78]
[{"$f":"A80","v":{"$error":"#REF!"}},{"$error":"#REF!"},{"$error":"#REF!"},{"$error":"#REF!"},{"$error":"#REF!"},"Hombre","05-09",{"$f":"'Pob x Genero'!#REF!","v":{"$error":"#REF!"}},79]
[{"$f":"A81","v":{"$error":"#REF!"}},{"$error":"#REF!"},{"$error":"#REF!"},{"$error":"#REF!"},{"$error":"#REF!"},"Hombre","05-09",{"$f":"'Pob x Genero'!#REF!","v":{"$error":"#REF!"}},80]
[{"$f":"A82","v":{"$error":"#REF!"}},{"$error":"#REF!"},{"$error":"#REF!"},{"$error":"#REF!"},{"$error":"#REF!"},"Hombre","05-09",{"$f":"'Pob x Genero'!#REF!","v":{"$error":"#REF!"}},81]
[{"$f":"A83","v":{"$error":"#REF!"}},{"$error":"#REF!"},{"$error":"#REF!"},{"$error":"#REF!"},{"$error":"#REF!"},"Hombre","05-09",{"$f":"'Pob x Genero'!#REF!","v":{"$error":"#REF!"}},82]
[{"$f":"A84","v":{"$error":"#REF!"}},{"$error":"#REF!"},{"$error":"#REF!"},{"$error":"#REF!"},{"$error":"#REF!"},"Hombre","05-09",{"$f":"'Pob x Genero'!#REF!","v":{"$error":"#REF!"}},83]
[{"$f":"A85","v":{"$error":"#REF!"}},{"$error":"#REF!"},{"$error":"#REF!"},{"$error":"#REF!"},{"$error":"#REF!"},"Hombre","05-09",{"$f":"'Pob x Genero'!#REF!","v":{"$error":"#REF!"}},84]
[{"$f":"A86","v":{"$error":"#REF!"}},{"$error":"#REF!"},{"$error":"#REF!"},{"$error":"#REF!"},{"$error":"#REF!"},"Hombre","05-09",{"$f":"'Pob x Genero'!#REF!","v":{"$error":"#REF!"}},85]
[{"$f":"A87","v":{"$error":"#REF!"}},{"$error":"#REF!"},{"$error":"#REF!"},{"$error":"#REF!"},{"$error":"#REF!"},"Hombre","05-09",{"$f":"'Pob x Genero'!#REF!","v":{"$error":"#REF!"}},86]
[{"$f":"A88","v":{"$error":"#REF!"}},{"$error":"#REF!"},{"$error":"#REF!"},{"$error":"#REF!"},{"$error":"#REF!"},"Hombre","05-09",{"$f":"'Pob x Genero'!#REF!","v":{"$error":"#REF!"}},87]
[{"$f":"A89","v":{"$error":"#REF!"}},{"$error":"#REF!"},{"$error":"#REF!"},{"$error":"#REF!"},{"$error":"#REF!"},"Hombre","05-09",{"$f":"'Pob x Genero'!#REF!","v":{"$error":"#REF!"}},88]
[{"$f":"A90","v":{"$error":"#REF!"}},{"$error":"#REF!"},{"$error":"#REF!"},{"$error":"#REF!"},{"$error":"#REF!"},"Hombre","05-09",{"$f":"'Pob x Genero'!#REF!","v":{"$error":"#REF!"}},89]
[{"$f":"A91","v":{"$error":"#REF!"}},{"$error":"#REF!"},{"$error":"#REF!"},{"$error":"#REF!"},{"$error":"#REF!"},"Hombre","05-09",{"$f":"'Pob x Genero'!#REF!","v":{"$error":"#REF!"}},90]
[{"$f":"A92","v":{"$error":"#REF!"}},{"$error":"#REF!"},{"$error":"#REF!"},{"$error":"#REF!"},{"$error":"#REF!"},"Hombre","05-09",{"$f":"'Pob x Genero'!#REF!","v":{"$error":"#REF!"}},91]
[{"$f":"A93","v":{"$error":"#REF!"}},{"$error":"#REF!"},{"$error":"#REF!"},{"$error":"#REF!"},{"$error":"#REF!"},"Hombre","05-09",{"$f":"'Pob x Genero'!#REF!","v":{"$error":"#REF!"}},92]
[{"$f":"A94","v":{"$error":"#REF!"}},{"$error":"#REF!"},{"$error":"#REF!"},{"$error":"#REF!"},{"$error":"#REF!"},"Hombre","05-09",{"$f":"'Pob x Genero'!#REF!","v":{"$error":"#REF!"}},93]
[{"$f":"A95","v":{"$error":"#REF!"}},{"$error":"#REF!"},{"$error":"#REF!"},{"$error":"#REF!"},{"$error":"#REF!"},"Hombre","05-09",{"$f":"'Pob x Genero'!#REF!","v":{"$error":"#REF!"}},94]
[{"$f":"A96","v":{"$error":"#REF!"}},{"$error":"#REF!"},{"$error":"#REF!"},{"$error":"#REF!"},{"$error":"#REF!"},"Hombre","05-09",{"$f":"'Pob x Genero'!#REF!","v":{"$error":"#REF!"}},95]
[{"$f":"A97","v":{"$error":"#REF!"}},{"$error":"#REF!"},{"$error":"#REF!"},{"$error":"#REF!"},{"$error":"#REF!"},{"$f":"F1986","v":"Hombre"},"05-09",{"$f":"'Pob x Genero'!#REF!","v":{"$error":"#REF!"}},96]
[{"$f":"A98","v":{"$error":"#REF!"}},{"$error":"#REF!"},{"$error":"#REF!"},{"$error":"#REF!"},{"$error":"#REF!"},"Hombre","05-09",{"$f":"'Pob x Genero'!#REF!","v":{"$error":"#REF!"}},97]
[{"$f":"A99","v":{"$error":"#REF!"}},{"$error":"#REF!"},{"$error":"#REF!"},{"$error":"#REF!"},{"$error":"#REF!"},"Hombre","05-09",{"$f":"'Pob x Genero'!#REF!","v":{"$error":"#REF!"}},98]
[{"$f":"A100","v":{"$error":"#REF!"}},{"$error":"#REF!"},{"$error":"#REF!"},{"$error":"#REF!"},{"$error":"#REF!"},"Hombre","05-09",{"$f":"'Pob x Genero'!#REF!","v":{"$error":"#REF!"}},99]
[{"$f":"A101","v":{"$error":"#REF!"}},{"$error":"#REF!"},{"$error":"#REF!"},{"$error":"#REF!"},{"$error":"#REF!"},"Hombre","05-09",{"$f":"'Pob x Genero'!#REF!","v":{"$error":"#REF!"}},100]
[{"$f":"A102","v":{"$error":"#REF!"}},{"$error":"#REF!"},{"$error":"#REF!"},{"$error":"#REF!"},{"$error":"#REF!"},"Hombre","05-09",{"$f":"'Pob x Genero'!#REF!","v":{"$error":"#REF!"}},101]
[{"$f":"A103","v":{"$error":"#REF!"}},{"$error":"#REF!"},{"$error":"#REF!"},{"$error":"#REF!"},{"$error":"#REF!"},"Hombre","05-09",{"$f":"'Pob x Genero'!#REF!","v":{"$error":"#REF!"}},102]
[{"$f":"A104","v":{"$error":"#REF!"}},{"$error":"#REF!"},{"$error":"#REF!"},{"$error":"#REF!"},{"$error":"#REF!"},"Hombre","05-09",{"$f":"'Pob x Genero'!#REF!","v":{"$error":"#REF!"}},103]
[{"$f":"A105","v":{"$error":"#REF!"}},{"$error":"#REF!"},{"$error":"#REF!"},{"$error":"#REF!"},{"$error":"#REF!"},"Hombre","05-09",{"$f":"'Pob x Genero'!#REF!","v":{"$error":"#REF!"}},104]
[{"$f":"A106","v":{"$error":"#REF!"}},{"$error":"#REF!"},{"$error":"#REF!"},{"$error":"#REF!"},{"$error":"#REF!"},"Hombre","05-09",{"$f":"'Pob x Genero'!#REF!","v":{"$error":"#REF!"}},105]
[{"$f":"A107","v":{"$error":"#REF!"}},{"$error":"#REF!"},{"$error":"#REF!"},{"$error":"#REF!"},{"$error":"#REF!"},"Hombre","05-09",{"$f":"'Pob x Genero'!#REF!","v":{"$error":"#REF!"}},106]
[{"$f":"A108","v":{"$error":"#REF!"}},{"$error":"#REF!"},{"$error":"#REF!"},{"$error":"#REF!"},{"$error":"#REF!"},"Hombre","05-09",{"$f":"'Pob x Genero'!#REF!","v":{"$error":"#REF!"}},107]
[{"$f":"A109","v":{"$error":"#REF!"}},{"$error":"#REF!"},{"$error":"#REF!"},{"$error":"#REF!"},{"$error":"#REF!"},"Hombre","05-09",{"$f":"'Pob x Genero'!#REF!","v":{"$error":"#REF!"}},108]
[{"$f":"A110","v":{"$error":"#REF!"}},{"$error":"#REF!"},{"$error":"#REF!"},{"$error":"#REF!"},{"$error":"#REF!"},"Hombre","05-09",{"$f":"'Pob x Genero'!#REF!","v":{"$error":"#REF!"}},109]
[{"$f":"A136","v":{"$error":"#REF!"}},{"$error":"#REF!"},{"$error":"#REF!"},{"$error":"#REF!"},{"$error":"#REF!"},"Hombre","05-09",{"$f":"'Pob x Genero'!#REF!","v":{"$error":"#REF!"}},135]
[{"$f":"A156","v":{"$error":"#REF!"}},{"$error":"#REF!"},{"$error":"#REF!"},{"$error":"#REF!"},{"$error":"#REF!"},"Hombre","05-09",{"$f":"'Pob x Genero'!#REF!","v":{"$error":"#REF!"}},155]
[{"$f":"A195","v":{"$error":"#REF!"}},{"$error":"#REF!"},{"$error":"#REF!"},{"$error":"#REF!"},{"$error":"#REF!"},"Hombre",{"$f":"G2084","v":"05-09"},{"$f":"'Pob x Genero'!#REF!","v":{"$error":"#REF!"}},194]
[{"$f":"A238","v":{"$error":"#REF!"}},{"$error":"#REF!"},{"$error":"#REF!"},{"$error":"#REF!"},{"$error":"#REF!"},"Hombre","05-09",{"$f":"'Pob x Genero'!#REF!","v":{"$error":"#REF!"}},237]
[{"$f":"A271","v":{"$error":"#REF!"}},{"$error":"#REF!"},{"$error":"#REF!"},{"$error":"#REF!"},{"$error":"#REF!"},"Hombre","05-09",{"$f":"'Pob x Genero'!#REF!","v":{"$error":"#REF!"}},270]
[{"$f":"A282","v":{"$error":"#REF!"}},{"$error":"#REF!"},{"$error":"#REF!"},{"$error":"#REF!"},{"$error":"#REF!"},"Hombre","05-09",{"$f":"'Pob x Genero'!#REF!","v":{"$error":"#REF!"}},281]
[{"$f":"A325","v":{"$error":"#REF!"}},{"$error":"#REF!"},{"$error":"#REF!"},{"$error":"#REF!"},{"$error":"#REF!"},"Hombre","05-09",{"$f":"'Pob x Genero'!#REF!","v":{"$error":"#REF!"}},324]
[{"$f":"A364","v":"040128"},"AREQUIPA","AREQUIPA","AREQUIPA","YURA","Hombre","05-09",{"$f":"'Pob x Genero'!CT36","v":1882},363]
[{"$f":"A374","v":"040301"},"AREQUIPA","AREQUIPA","CARAVELI","CARAVELI","Hombre","05-09",{"$f":"'Pob x Genero'!CT46","v":130},373]
[{"$f":"A412","v":"040512"},"AREQUIPA","AREQUIPA","CAYLLOMA","MACA","Hombre","05-09",{"$f":"'Pob x Genero'!CT84","v":12},411]
[{"$f":"A451","v":{"$error":"#REF!"}},{"$error":"#REF!"},{"$error":"#REF!"},{"$error":"#REF!"},{"$error":"#REF!"},"Hombre",{"$f":"G2340","v":"05-09"},{"$f":"'Pob x Genero'!#REF!","v":{"$error":"#REF!"}},450]
[{"$f":"A494","v":{"$error":"#REF!"}},{"$error":"#REF!"},{"$error":"#REF!"},{"$error":"#REF!"},{"$error":"#REF!"},"Hombre","05-09",{"$f":"'Pob x Genero'!#REF!","v":{"$error":"#REF!"}},493]
[{"$f":"A533","v":{"$error":"#REF!"}},{"$error":"#REF!"},{"$error":"#REF!"},{"$error":"#REF!"},{"$error":"#REF!"},"Hombre","05-09",{"$f":"'Pob x Genero'!#REF!","v":{"$error":"#REF!"}},532]
[{"$f":"A559","v":{"$error":"#REF!"}},{"$error":"#REF!"},{"$error":"#REF!"},{"$error":"#REF!"},{"$error":"#REF!"},"Hombre","05-09",{"$f":"'Pob x Genero'!#REF!","v":{"$error":"#REF!"}},558]
[{"$f":"A581","v":{"$error":"#REF!"}},{"$error":"#REF!"},{"$error":"#REF!"},{"$error":"#REF!"},{"$error":"#REF!"},"Hombre","05-09",{"$f":"'Pob x Genero'!#REF!","v":{"$error":"#REF!"}},580]
[{"$f":"A620","v":{"$error":"#REF!"}},{"$error":"#REF!"},{"$error":"#REF!"},{"$error":"#REF!"},{"$error":"#REF!"},"Hombre","05-09",{"$f":"'Pob x Genero'!#REF!","v":{"$error":"#REF!"}},619]
[{"$f":"A663","v":{"$error":"#REF!"}},{"$error":"#REF!"},{"$error":"#REF!"},{"$error":"#REF!"},{"$error":"#REF!"},"Hombre","05-09",{"$f":"'Pob x Genero'!#REF!","v":{"$error":"#REF!"}},662]
[{"$f":"A694","v":{"$error":"#REF!"}},{"$error":"#REF!"},{"$error":"#REF!"},{"$error":"#REF!"},{"$error":"#REF!"},"Hombre","05-09",{"$f":"'Pob x Genero'!#REF!","v":{"$error":"#REF!"}},693]
[{"$f":"A707","v":{"$error":"#REF!"}},{"$error":"#REF!"},{"$error":"#REF!"},{"$error":"#REF!"},{"$error":"#REF!"},"Hombre",{"$f":"G2596","v":"05-09"},{"$f":"'Pob x Genero'!#REF!","v":{"$error":"#REF!"}},706]
[{"$f":"A750","v":{"$error":"#REF!"}},{"$error":"#REF!"},{"$error":"#REF!"},{"$error":"#REF!"},{"$error":"#REF!"},"Hombre","05-09",{"$f":"'Pob x Genero'!#REF!","v":{"$error":"#REF!"}},749]
[{"$f":"A789","v":{"$error":"#REF!"}},{"$error":"#REF!"},{"$error":"#REF!"},{"$error":"#REF!"},{"$error":"#REF!"},"Hombre","05-09",{"$f":"'Pob x Genero'!#REF!","v":{"$error":"#REF!"}},788]
[{"$f":"A829","v":{"$error":"#REF!"}},{"$error":"#REF!"},{"$error":"#REF!"},{"$error":"#REF!"},{"$error":"#REF!"},"Hombre","05-09",{"$f":"'Pob x Genero'!#REF!","v":{"$error":"#REF!"}},828]
[{"$f":"A837","v":{"$error":"#REF!"}},{"$error":"#REF!"},{"$error":"#REF!"},{"$error":"#REF!"},{"$error":"#REF!"},"Hombre","05-09",{"$f":"'Pob x Genero'!#REF!","v":{"$error":"#REF!"}},836]
[{"$f":"A876","v":{"$error":"#REF!"}},{"$error":"#REF!"},{"$error":"#REF!"},{"$error":"#REF!"},{"$error":"#REF!"},"Hombre","05-09",{"$f":"'Pob x Genero'!#REF!","v":{"$error":"#REF!"}},875]
[{"$f":"A919","v":{"$error":"#REF!"}},{"$error":"#REF!"},{"$error":"#REF!"},{"$error":"#REF!"},{"$error":"#REF!"},"Hombre","05-09",{"$f":"'Pob x Genero'!#REF!","v":{"$error":"#REF!"}},918]
[{"$f":"A958","v":{"$error":"#REF!"}},{"$error":"#REF!"},{"$error":"#REF!"},{"$error":"#REF!"},{"$error":"#REF!"},"Hombre","05-09",{"$f":"'Pob x Genero'!#REF!","v":{"$error":"#REF!"}},957]
[{"$f":"A982","v":{"$error":"#REF!"}},{"$error":"#REF!"},{"$error":"#REF!"},{"$error":"#REF!"},{"$error":"#REF!"},"Hombre","05-09",{"$f":"'Pob x Genero'!#REF!","v":{"$error":"#REF!"}},981]
[{"$f":"A1006","v":{"$error":"#REF!"}},{"$error":"#REF!"},{"$error":"#REF!"},{"$error":"#REF!"},{"$error":"#REF!"},"Hombre","05-09",{"$f":"'Pob x Genero'!#REF!","v":{"$error":"#REF!"}},1005]
[{"$f":"A1045","v":{"$error":"#REF!"}},{"$error":"#REF!"},{"$error":"#REF!"},{"$error":"#REF!"},{"$error":"#REF!"},"Hombre","05-09",{"$f":"'Pob x Genero'!#REF!","v":{"$error":"#REF!"}},1044]
[{"$f":"A1088","v":{"$error":"#REF!"}},{"$error":"#REF!"},{"$error":"#REF!"},{"$error":"#REF!"},{"$error":"#REF!"},"Hombre","05-09",{"$f":"'Pob x Genero'!#REF!","v":{"$error":"#REF!"}},1087]
[{"$f":"A1117","v":{"$error":"#REF!"}},{"$error":"#REF!"},{"$error":"#REF!"},{"$error":"#REF!"},{"$error":"#REF!"},"Hombre","05-09",{"$f":"'Pob x Genero'!#REF!","v":{"$error":"#REF!"}},1116]
[{"$f":"A1132","v":{"$error":"#REF!"}},{"$error":"#REF!"},{"$error":"#REF!"},{"$error":"#REF!"},{"$error":"#REF!"},"Hombre","05-09",{"$f":"'Pob x Genero'!#REF!","v":{"$error":"#REF!"}},1131]
[{"$f":"A1175","v":{"$error":"#REF!"}},{"$error":"#REF!"},{"$error":"#REF!"},{"$error":"#REF!"},{"$error":"#REF!"},"Hombre","05-09",{"$f":"'Pob x Genero'!#REF!","v":{"$error":"#REF!"}},1174]
[{"$f":"A1214","v":{"$error":"#REF!"}},{"$error":"#REF!"},{"$error":"#REF!"},{"$error":"#REF!"},{"$error":"#REF!"},"Hombre","05-09",{"$f":"'Pob x Genero'!#REF!","v":{"$error":"#REF!"}},1213]
[{"$f":"A1252","v":{"$error":"#REF!"}},{"$error":"#REF!"},{"$error":"#REF!"},{"$error":"#REF!"},{"$error":"#REF!"},"Hombre","05-09",{"$f":"'Pob x Genero'!#REF!","v":{"$error":"#REF!"}},1251]
[{"$f":"A1262","v":{"$error":"#REF!"}},{"$error":"#REF!"},{"$error":"#REF!"},{"$error":"#REF!"},{"$error":"#REF!"},"Hombre","05-09",{"$f":"'Pob x Genero'!#REF!","v":{"$error":"#REF!"}},1261]
[{"$f":"A1301","v":{"$error":"#REF!"}},{"$error":"#REF!"},{"$error":"#REF!"},{"$error":"#REF!"},{"$error":"#REF!"},"Hombre","05-09",{"$f":"'Pob x Genero'!#REF!","v":{"$error":"#REF!"}},1300]
[{"$f":"A1344","v":{"$error":"#REF!"}},{"$error":"#REF!"},{"$error":"#REF!"},{"$error":"#REF!"},{"$error":"#REF!"},"Hombre","05-09",{"$f":"'Pob x Genero'!#REF!","v":{"$error":"#REF!"}},1343]
[{"$f":"A1383","v":{"$error":"#REF!"}},{"$error":"#REF!"},{"$error":"#REF!"},{"$error":"#REF!"},{"$error":"#REF!"},"Hombre","05-09",{"$f":"'Pob x Genero'!#REF!","v":{"$error":"#REF!"}},1382]
[{"$f":"A1405","v":{"$error":"#REF!"}},{"$error":"#REF!"},{"$error":"#REF!"},{"$error":"#REF!"},{"$error":"#REF!"},"Hombre","05-09",{"$f":"'Pob x Genero'!#REF!","v":{"$error":"#REF!"}},1404]
[{"$f":"A1431","v":{"$error":"#REF!"}},{"$error":"#REF!"},{"$error":"#REF!"},{"$error":"#REF!"},{"$error":"#REF!"},"Hombre","05-09",{"$f":"'Pob x Genero'!#REF!","v":{"$error":"#REF!"}},1430]
[{"$f":"A1470","v":{"$error":"#REF!"}},{"$error":"#REF!"},{"$error":"#REF!"},{"$error":"#REF!"},{"$error":"#REF!"},"Hombre","05-09",{"$f":"'Pob x Genero'!#REF!","v":{"$error":"#REF!"}},1469]
[{"$f":"A1513","v":{"$error":"#REF!"}},{"$error":"#REF!"},{"$error":"#REF!"},{"$error":"#REF!"},{"$error":"#REF!"},"Hombre","05-09",{"$f":"'Pob x Genero'!#REF!","v":{"$error":"#REF!"}},1512]
[{"$f":"A1540","v":{"$error":"#REF!"}},{"$error":"#REF!"},{"$error":"#REF!"},{"$error":"#REF!"},{"$error":"#REF!"},"Hombre","05-09",{"$f":"'Pob x Genero'!#REF!","v":{"$error":"#REF!"}},1539]
[{"$f":"A1557","v":{"$error":"#REF!"}},{"$error":"#REF!"},{"$error":"#REF!"},{"$error":"#REF!"},{"$error":"#REF!"},"Hombre","05-09",{"$f":"'Pob x Genero'!#REF!","v":{"$error":"#REF!"}},1556]
[{"$f":"A1600","v":{"$error":"#REF!"}},{"$error":"#REF!"},{"$error":"#REF!"},{"$error":"#REF!"},{"$error":"#REF!"},"Hombre","05-09",{"$f":"'Pob x Genero'!#REF!","v":{"$error":"#REF!"}},1599]
[{"$f":"A1639","v":{"$error":"#REF!"}},{"$error":"#REF!"},{"$error":"#REF!"},{"$error":"#REF!"},{"$error":"#REF!"},"Hombre","05-09",{"$f":"'Pob x Genero'!#REF!","v":{"$error":"#REF!"}},1638]
[{"$f":"A1675","v":{"$error":"#REF!"}},{"$error":"#REF!"},{"$error":"#REF!"},{"$error":"#REF!"},{"$error":"#REF!"},"Hombre","05-09",{"$f":"'Pob x Genero'!#REF!","v":{"$error":"#REF!"}},1674]
[{"$f":"A1687","v":{"$error":"#REF!"}},{"$error":"#REF!"},{"$error":"#REF!"},{"$error":"#REF!"},{"$error":"#REF!"},"Hombre","05-09",{"$f":"'Pob x Genero'!#REF!","v":{"$error":"#REF!"}},1686]
[{"$f":"A1726","v":{"$error":"#REF!"}},{"$error":"#REF!"},{"$error":"#REF!"},{"$error":"#REF!"},{"$error":"#REF!"},"Hombre","05-09",{"$f":"'Pob x Genero'!#REF!","v":{"$error":"#REF!"}},1725]
[{"$f":"A1769","v":{"$error":"#REF!"}},{"$error":"#REF!"},{"$error":"#REF!"},{"$error":"#REF!"},{"$error":"#REF!"},"Hombre","05-09",{"$f":"'Pob x Genero'!#REF!","v":{"$error":"#REF!"}},1768]
[{"$f":"A1808","v":{"$error":"#REF!"}},{"$error":"#REF!"},{"$error":"#REF!"},{"$error":"#REF!"},{"$error":"#REF!"},"Hombre","05-09",{"$f":"'Pob x Genero'!#REF!","v":{"$error":"#REF!"}},1807]
[{"$f":"A1828","v":{"$error":"#REF!"}},{"$error":"#REF!"},{"$error":"#REF!"},{"$error":"#REF!"},{"$error":"#REF!"},"Hombre","05-09",{"$f":"'Pob x Genero'!#REF!","v":{"$error":"#REF!"}},1827]
[{"$f":"A1856","v":{"$error":"#REF!"}},{"$error":"#REF!"},{"$error":"#REF!"},{"$error":"#REF!"},{"$error":"#REF!"},"Hombre","05-09",{"$f":"'Pob x Genero'!#REF!","v":{"$error":"#REF!"}},1855]
[{"$f":"A1895","v":{"$error":"#REF!"}},{"$error":"#REF!"},{"$error":"#REF!"},{"$error":"#REF!"},{"$error":"#REF!"},"Hombre","10-14",{"$f":"'Pob x Genero'!#REF!","v":{"$error":"#REF!"}},4]
[{"$f":"A1938","v":{"$error":"#REF!"}},{"$error":"#REF!"},{"$error":"#REF!"},{"$error":"#REF!"},{"$error":"#REF!"},"Hombre","10-14",{"$f":"'Pob x Genero'!#REF!","v":{"$error":"#REF!"}},47]
[{"$f":"A1963","v":{"$error":"#REF!"}},{"$error":"#REF!"},{"$error":"#REF!"},{"$error":"#REF!"},{"$error":"#REF!"},"Hombre","10-14",{"$f":"'Pob x Genero'!#REF!","v":{"$error":"#REF!"}},72]
[{"$f":"A1982","v":{"$error":"#REF!"}},{"$error":"#REF!"},{"$error":"#REF!"},{"$error":"#REF!"},{"$error":"#REF!"},"Hombre","10-14",{"$f":"'Pob x Genero'!#REF!","v":{"$error":"#REF!"}},91]
[{"$f":"A2025","v":{"$error":"#REF!"}},{"$error":"#REF!"},{"$error":"#REF!"},{"$error":"#REF!"},{"$error":"#REF!"},"Hombre","10-14",{"$f":"'Pob x Genero'!#REF!","v":{"$error":"#REF!"}},134]
[{"$f":"A2064","v":{"$error":"#REF!"}},{"$error":"#REF!"},{"$error":"#REF!"},{"$error":"#REF!"},{"$error":"#REF!"},"Hombre","10-14",{"$f":"'Pob x Genero'!#REF!","v":{"$error":"#REF!"}},173]
[{"$f":"A2103","v":{"$error":"#REF!"}},{"$error":"#REF!"},{"$error":"#REF!"},{"$error":"#REF!"},{"$error":"#REF!"},"Hombre","10-14",{"$f":"'Pob x Genero'!#REF!","v":{"$error":"#REF!"}},212]
[{"$f":"A2116","v":{"$error":"#REF!"}},{"$error":"#REF!"},{"$error":"#REF!"},{"$error":"#REF!"},{"$error":"#REF!"},"Hombre","10-14",{"$f":"'Pob x Genero'!#REF!","v":{"$error":"#REF!"}},225]
[{"$f":"A2151","v":{"$error":"#REF!"}},{"$error":"#REF!"},{"$error":"#REF!"},{"$error":"#REF!"},{"$error":"#REF!"},"Hombre","10-14",{"$f":"'Pob x Genero'!#REF!","v":{"$error":"#REF!"}},260]
[{"$f":"A2194","v":{"$error":"#REF!"}},{"$error":"#REF!"},{"$error":"#REF!"},{"$error":"#REF!"},{"$error":"#REF!"},"Hombre","10-14",{"$f":"'Pob x Genero'!#REF!","v":{"$error":"#REF!"}},303]
[{"$f":"A2233","v":"040107"},"AREQUIPA","AREQUIPA","AREQUIPA","JACOBO HUNTER","Hombre","10-14",{"$f":"'Pob x Genero'!CU15","v":1931},342]
[{"$f":"A2251","v":"040125"},"AREQUIPA","AREQUIPA","AREQUIPA","VITOR","Hombre","10-14",{"$f":"'Pob x Genero'!CU33","v":158},360]
[{"$f":"A2281","v":"040405"},"AREQUIPA","AREQUIPA","CASTILLA","CHILCAYMARCA","Hombre","10-14",{"$f":"'Pob x Genero'!CU63","v":40},390]
[{"$f":"A2320","v":"040702"},"AREQUIPA","AREQUIPA","ISLAY","COCACHACRA","Hombre","10-14",{"$f":"'Pob x Genero'!CU102","v":244},429]
[{"$f":"A2359","v":{"$error":"#REF!"}},{"$error":"#REF!"},{"$error":"#REF!"},{"$error":"#REF!"},{"$error":"#REF!"},"Hombre","10-14",{"$f":"'Pob x Genero'!#REF!","v":{"$error":"#REF!"}},468]
[{"$f":"A2386","v":{"$error":"#REF!"}},{"$error":"#REF!"},{"$error":"#REF!"},{"$error":"#REF!"},{"$error":"#REF!"},"Hombre","10-14",{"$f":"'Pob x Genero'!#REF!","v":{"$error":"#REF!"}},495]
[{"$f":"A2407","v":{"$error":"#REF!"}},{"$error":"#REF!"},{"$error":"#REF!"},{"$error":"#REF!"},{"$error":"#REF!"},"Hombre","10-14",{"$f":"'Pob x Genero'!#REF!","v":{"$error":"#REF!"}},516]
[{"$f":"A2450","v":{"$error":"#REF!"}},{"$error":"#REF!"},{"$error":"#REF!"},{"$error":"#REF!"},{"$error":"#REF!"},"Hombre","10-14",{"$f":"'Pob x Genero'!#REF!","v":{"$error":"#REF!"}},559]
[{"$f":"A2489","v":{"$error":"#REF!"}},{"$error":"#REF!"},{"$error":"#REF!"},{"$error":"#REF!"},{"$error":"#REF!"},"Hombre","10-14",{"$f":"'Pob x Genero'!#REF!","v":{"$error":"#REF!"}},598]
[{"$f":"A2528","v":{"$error":"#REF!"}},{"$error":"#REF!"},{"$error":"#REF!"},{"$error":"#REF!"},{"$error":"#REF!"},"Hombre","10-14",{"$f":"'Pob x Genero'!#REF!","v":{"$error":"#REF!"}},637]
[{"$f":"A2539","v":{"$error":"#REF!"}},{"$error":"#REF!"},{"$error":"#REF!"},{"$error":"#REF!"},{"$error":"#REF!"},"Hombre","10-14",{"$f":"'Pob x Genero'!#REF!","v":{"$error":"#REF!"}},648]
[{"$f":"A2576","v":{"$error":"#REF!"}},{"$error":"#REF!"},{"$error":"#REF!"},{"$error":"#REF!"},{"$error":"#REF!"},"Hombre","10-14",{"$f":"'Pob x Genero'!#REF!","v":{"$error":"#REF!"}},685]
[{"$f":"A2619","v":{"$error":"#REF!"}},{"$error":"#REF!"},{"$error":"#REF!"},{"$error":"#REF!"},{"$error":"#REF!"},"Hombre","10-14",{"$f":"'Pob x Genero'!#REF!","v":{"$error":"#REF!"}},728]
[{"$f":"A2658","v":{"$error":"#REF!"}},{"$error":"#REF!"},{"$error":"#REF!"},{"$error":"#REF!"},{"$error":"#REF!"},{"$f":"F4547","v":"Hombre"},{"$f":"G4547","v":"10-14"},{"$f":"'Pob x Genero'!#REF!","v":{"$error":"#REF!"}},767]
[{"$f":"A2674","v":{"$error":"#REF!"}},{"$error":"#REF!"},{"$error":"#REF!"},{"$error":"#REF!"},{"$error":"#REF!"},"Hombre","10-14",{"$f":"'Pob x Genero'!#REF!","v":{"$error":"#REF!"}},783]
[{"$f":"A2706","v":{"$error":"#REF!"}},{"$error":"#REF!"},{"$error":"#REF!"},{"$error":"#REF!"},{"$error":"#REF!"},"Hombre","10-14",{"$f":"'Pob x Genero'!#REF!","v":{"$error":"#REF!"}},815]
[{"$f":"A2745","v":{"$error":"#REF!"}},{"$error":"#REF!"},{"$error":"#REF!"},{"$error":"#REF!"},{"$error":"#REF!"},"Hombre","10-14",{"$f":"'Pob x Genero'!#REF!","v":{"$error":"#REF!"}},854]
[{"$f":"A2784","v":{"$error":"#REF!"}},{"$error":"#REF!"},{"$error":"#REF!"},{"$error":"#REF!"},{"$error":"#REF!"},"Hombre","10-14",{"$f":"'Pob x Genero'!#REF!","v":{"$error":"#REF!"}},893]
[{"$f":"A2809","v":{"$error":"#REF!"}},{"$error":"#REF!"},{"$error":"#REF!"},{"$error":"#REF!"},{"$error":"#REF!"},"Hombre","10-14",{"$f":"'Pob x Genero'!#REF!","v":{"$error":"#REF!"}},918]
[{"$f":"A2832","v":{"$error":"#REF!"}},{"$error":"#REF!"},{"$error":"#REF!"},{"$error":"#REF!"},{"$error":"#REF!"},"Hombre","10-14",{"$f":"'Pob x Genero'!#REF!","v":{"$error":"#REF!"}},941]
[{"$f":"A2875","v":{"$error":"#REF!"}},{"$error":"#REF!"},{"$error":"#REF!"},{"$error":"#REF!"},{"$error":"#REF!"},"Hombre","10-14",{"$f":"'Pob x Genero'!#REF!","v":{"$error":"#REF!"}},984]
[{"$f":"A2914","v":{"$error":"#REF!"}},{"$error":"#REF!"},{"$error":"#REF!"},{"$error":"#REF!"},{"$error":"#REF!"},{"$f":"F4803","v":"Hombre"},{"$f":"G4803","v":"10-14"},{"$f":"'Pob x Genero'!#REF!","v":{"$error":"#REF!"}},1023]
[{"$f":"A2953","v":{"$error":"#REF!"}},{"$error":"#REF!"},{"$error":"#REF!"},{"$error":"#REF!"},{"$error":"#REF!"},"Hombre","10-14",{"$f":"'Pob x Genero'!#REF!","v":{"$error":"#REF!"}},1062]
[{"$f":"A2962","v":{"$error":"#REF!"}},{"$error":"#REF!"},{"$error":"#REF!"},{"$error":"#REF!"},{"$error":"#REF!"},"Hombre","10-14",{"$f":"'Pob x Genero'!#REF!","v":{"$error":"#REF!"}},1071]
[{"$f":"A3001","v":{"$error":"#REF!"}},{"$error":"#REF!"},{"$error":"#REF!"},{"$error":"#REF!"},{"$error":"#REF!"},"Hombre","10-14",{"$f":"'Pob x Genero'!#REF!","v":{"$error":"#REF!"}},1110]
[{"$f":"A3040","v":{"$error":"#REF!"}},{"$error":"#REF!"},{"$error":"#REF!"},{"$error":"#REF!"},{"$error":"#REF!"},"Hombre","10-14",{"$f":"'Pob x Genero'!#REF!","v":{"$error":"#REF!"}},1149]
[{"$f":"A3083","v":{"$error":"#REF!"}},{"$error":"#REF!"},{"$error":"#REF!"},{"$error":"#REF!"},{"$error":"#REF!"},"Hombre","10-14",{"$f":"'Pob x Genero'!#REF!","v":{"$error":"#REF!"}},1192]
[{"$f":"A3097","v":{"$error":"#REF!"}},{"$error":"#REF!"},{"$error":"#REF!"},{"$error":"#REF!"},{"$error":"#REF!"},"Hombre","10-14",{"$f":"'Pob x Genero'!#REF!","v":{"$error":"#REF!"}},1206]
[{"$f":"A3131","v":{"$error":"#REF!"}},{"$error":"#REF!"},{"$error":"#REF!"},{"$error":"#REF!"},{"$error":"#REF!"},"Hombre","10-14",{"$f":"'Pob x Genero'!#REF!","v":{"$error":"#REF!"}},1240]
[{"$f":"A3170","v":{"$error":"#REF!"}},{"$error":"#REF!"},{"$error":"#REF!"},{"$error":"#REF!"},{"$error":"#REF!"},{"$f":"F5059","v":"Hombre"},{"$f":"G5059","v":"10-14"},{"$f":"'Pob x Genero'!#REF!","v":{"$error":"#REF!"}},1279]
[{"$f":"A3209","v":{"$error":"#REF!"}},{"$error":"#REF!"},{"$error":"#REF!"},{"$error":"#REF!"},{"$error":"#REF!"},"Hombre","10-14",{"$f":"'Pob x Genero'!#REF!","v":{"$error":"#REF!"}},1318]
[{"$f":"A3232","v":{"$error":"#REF!"}},{"$error":"#REF!"},{"$error":"#REF!"},{"$error":"#REF!"},{"$error":"#REF!"},"Hombre","10-14",{"$f":"'Pob x Genero'!#REF!","v":{"$error":"#REF!"}},1341]
[{"$f":"A3257","v":{"$error":"#REF!"}},{"$error":"#REF!"},{"$error":"#REF!"},{"$error":"#REF!"},{"$error":"#REF!"},"Hombre","10-14",{"$f":"'Pob x Genero'!#REF!","v":{"$error":"#REF!"}},1366]
[{"$f":"A3300","v":{"$error":"#REF!"}},{"$error":"#REF!"},{"$error":"#REF!"},{"$error":"#REF!"},{"$error":"#REF!"},"Hombre","10-14",{"$f":"'Pob x Genero'!#REF!","v":{"$error":"#REF!"}},1409]
[{"$f":"A3339","v":{"$error":"#REF!"}},{"$error":"#REF!"},{"$error":"#REF!"},{"$error":"#REF!"},{"$error":"#REF!"},"Hombre","10-14",{"$f":"'Pob x Genero'!#REF!","v":{"$error":"#REF!"}},1448]
[{"$f":"A3378","v":{"$error":"#REF!"}},{"$error":"#REF!"},{"$error":"#REF!"},{"$error":"#REF!"},{"$error":"#REF!"},"Hombre","10-14",{"$f":"'Pob x Genero'!#REF!","v":{"$error":"#REF!"}},1487]
[{"$f":"A3417","v":{"$error":"#REF!"}},{"$error":"#REF!"},{"$error":"#REF!"},{"$error":"#REF!"},{"$error":"#REF!"},"Hombre","10-14",{"$f":"'Pob x Genero'!#REF!","v":{"$error":"#REF!"}},1526]
[{"$f":"A3426","v":{"$error":"#REF!"}},{"$error":"#REF!"},{"$error":"#REF!"},{"$error":"#REF!"},{"$error":"#REF!"},{"$f":"F5315","v":"Hombre"},{"$f":"G5315","v":"10-14"},{"$f":"'Pob x Genero'!#REF!","v":{"$error":"#REF!"}},1535]
[{"$f":"A3465","v":{"$error":"#REF!"}},{"$error":"#REF!"},{"$error":"#REF!"},{"$error":"#REF!"},{"$error":"#REF!"},"Hombre","10-14",{"$f":"'Pob x Genero'!#REF!","v":{"$error":"#REF!"}},1574]
[{"$f":"A3508","v":{"$error":"#REF!"}},{"$error":"#REF!"},{"$error":"#REF!"},{"$error":"#REF!"},{"$error":"#REF!"},"Hombre","10-14",{"$f":"'Pob x Genero'!#REF!","v":{"$error":"#REF!"}},1617]
[{"$f":"A3520","v":{"$error":"#REF!"}},{"$error":"#REF!"},{"$error":"#REF!"},{"$error":"#REF!"},{"$error":"#REF!"},"Hombre","10-14",{"$f":"'Pob x Genero'!#REF!","v":{"$error":"#REF!"}},1629]
[{"$f":"A3556","v":{"$error":"#REF!"}},{"$error":"#REF!"},{"$error":"#REF!"},{"$error":"#REF!"},{"$error":"#REF!"},"Hombre","10-14",{"$f":"'Pob x Genero'!#REF!","v":{"$error":"#REF!"}},1665]
[{"$f":"A3595","v":{"$error":"#REF!"}},{"$error":"#REF!"},{"$error":"#REF!"},{"$error":"#REF!"},{"$error":"#REF!"},"Hombre","10-14",{"$f":"'Pob x Genero'!#REF!","v":{"$error":"#REF!"}},1704]
[{"$f":"A3634","v":{"$error":"#REF!"}},{"$error":"#REF!"},{"$error":"#REF!"},{"$error":"#REF!"},{"$error":"#REF!"},"Hombre","10-14",{"$f":"'Pob x Genero'!#REF!","v":{"$error":"#REF!"}},1743]
[{"$f":"A3655","v":{"$error":"#REF!"}},{"$error":"#REF!"},{"$error":"#REF!"},{"$error":"#REF!"},{"$error":"#REF!"},"Hombre","10-14",{"$f":"'Pob x Genero'!#REF!","v":{"$error":"#REF!"}},1764]
[{"$f":"A3682","v":{"$error":"#REF!"}},{"$error":"#REF!"},{"$error":"#REF!"},{"$error":"#REF!"},{"$error":"#REF!"},{"$f":"F5571","v":"Hombre"},{"$f":"G5571","v":"10-14"},{"$f":"'Pob x Genero'!#REF!","v":{"$error":"#REF!"}},1791]
[{"$f":"A3725","v":{"$error":"#REF!"}},{"$error":"#REF!"},{"$error":"#REF!"},{"$error":"#REF!"},{"$error":"#REF!"},"Hombre","10-14",{"$f":"'Pob x Genero'!#REF!","v":{"$error":"#REF!"}},1834]
[{"$f":"A3764","v":{"$error":"#REF!"}},{"$error":"#REF!"},{"$error":"#REF!"},{"$error":"#REF!"},{"$error":"#REF!"},"Hombre","10-14",{"$f":"'Pob x Genero'!#REF!","v":{"$error":"#REF!"}},1873]
[{"$f":"A3803","v":{"$error":"#REF!"}},{"$error":"#REF!"},{"$error":"#REF!"},{"$error":"#REF!"},{"$error":"#REF!"},"Hombre","15-19",{"$f":"'Pob x Genero'!#REF!","v":{"$error":"#REF!"}},22]
[{"$f":"A3840","v":{"$error":"#REF!"}},{"$error":"#REF!"},{"$error":"#REF!"},{"$error":"#REF!"},{"$error":"#REF!"},"Hombre","15-19",{"$f":"'Pob x Genero'!#REF!","v":{"$error":"#REF!"}},59]
[{"$f":"A3851","v":{"$error":"#REF!"}},{"$error":"#REF!"},{"$error":"#REF!"},{"$error":"#REF!"},{"$error":"#REF!"},"Hombre","15-19",{"$f":"'Pob x Genero'!#REF!","v":{"$error":"#REF!"}},70]
[{"$f":"A3890","v":{"$error":"#REF!"}},{"$error":"#REF!"},{"$error":"#REF!"},{"$error":"#REF!"},{"$error":"#REF!"},"Hombre","15-19",{"$f":"'Pob x Genero'!#REF!","v":{"$error":"#REF!"}},109]
[{"$f":"A3933","v":{"$error":"#REF!"}},{"$error":"#REF!"},{"$error":"#REF!"},{"$error":"#REF!"},{"$error":"#REF!"},"Hombre","15-19",{"$f":"'Pob x Genero'!#REF!","v":{"$error":"#REF!"}},152]
[{"$f":"A3975","v":{"$error":"#REF!"}},{"$error":"#REF!"},{"$error":"#REF!"},{"$error":"#REF!"},{"$error":"#REF!"},"Hombre",{"$f":"G5864","v":"15-19"},{"$f":"'Pob x Genero'!#REF!","v":{"$error":"#REF!"}},194]
[{"$f":"A3981","v":{"$error":"#REF!"}},{"$error":"#REF!"},{"$error":"#REF!"},{"$error":"#REF!"},{"$error":"#REF!"},"Hombre","15-19",{"$f":"'Pob x Genero'!#REF!","v":{"$error":"#REF!"}},200]
[{"$f":"A4020","v":{"$error":"#REF!"}},{"$error":"#REF!"},{"$error":"#REF!"},{"$error":"#REF!"},{"$error":"#REF!"},"Hombre","15-19",{"$f":"'Pob x Genero'!#REF!","v":{"$error":"#REF!"}},239]
[{"$f":"A4059","v":{"$error":"#REF!"}},{"$error":"#REF!"},{"$error":"#REF!"},{"$error":"#REF!"},{"$error":"#REF!"},"Hombre","15-19",{"$f":"'Pob x Genero'!#REF!","v":{"$error":"#REF!"}},278]
[{"$f":"A4102","v":{"$error":"#REF!"}},{"$error":"#REF!"},{"$error":"#REF!"},{"$error":"#REF!"},{"$error":"#REF!"},"Hombre","15-19",{"$f":"'Pob x Genero'!#REF!","v":{"$error":"#REF!"}},321]
[{"$f":"A4128","v":"040112"},"AREQUIPA","AREQUIPA","AREQUIPA","PAUCARPATA","Hombre","15-19",{"$f":"'Pob x Genero'!CV20","v":4918},347]
[{"$f":"A4146","v":"040201"},"AREQUIPA","AREQUIPA","CAMANA","CAMANA","Hombre","15-19",{"$f":"'Pob x Genero'!CV38","v":503},365]
[{"$f":"A4189","v":"040509"},"AREQUIPA","AREQUIPA","CAYLLOMA","ICHUPAMPA","Hombre","15-19",{"$f":"'Pob x Genero'!CV81","v":19},408]
[{"$f":"A4228","v":{"$error":"#REF!"}},{"$error":"#REF!"},{"$error":"#REF!"},{"$error":"#REF!"},{"$error":"#REF!"},"Hombre","15-19",{"$f":"'Pob x Genero'!#REF!","v":{"$error":"#REF!"}},447]
[{"$f":"A4263","v":{"$error":"#REF!"}},{"$error":"#REF!"},{"$error":"#REF!"},{"$error":"#REF!"},{"$error":"#REF!"},"Hombre","15-19",{"$f":"'Pob x Genero'!#REF!","v":{"$error":"#REF!"}},482]
[{"$f":"A4276","v":{"$error":"#REF!"}},{"$error":"#REF!"},{"$error":"#REF!"},{"$error":"#REF!"},{"$error":"#REF!"},"Hombre","15-19",{"$f":"'Pob x Genero'!#REF!","v":{"$error":"#REF!"}},495]
[{"$f":"A4315","v":{"$error":"#REF!"}},{"$error":"#REF!"},{"$error":"#REF!"},{"$error":"#REF!"},{"$error":"#REF!"},"Hombre","15-19",{"$f":"'Pob x Genero'!#REF!","v":{"$error":"#REF!"}},534]
[{"$f":"A4358","v":{"$error":"#REF!"}},{"$error":"#REF!"},{"$error":"#REF!"},{"$error":"#REF!"},{"$error":"#REF!"},"Hombre","15-19",{"$f":"'Pob x Genero'!#REF!","v":{"$error":"#REF!"}},577]
[{"$f":"A4398","v":{"$error":"#REF!"}},{"$error":"#REF!"},{"$error":"#REF!"},{"$error":"#REF!"},{"$error":"#REF!"},"Hombre","15-19",{"$f":"'Pob x Genero'!#REF!","v":{"$error":"#REF!"}},617]
[{"$f":"A4406","v":{"$error":"#REF!"}},{"$error":"#REF!"},{"$error":"#REF!"},{"$error":"#REF!"},{"$error":"#REF!"},"Hombre","15-19",{"$f":"'Pob x Genero'!#REF!","v":{"$error":"#REF!"}},625]
[{"$f":"A4445","v":{"$error":"#REF!"}},{"$error":"#REF!"},{"$error":"#REF!"},{"$error":"#REF!"},{"$error":"#REF!"},"Hombre","15-19",{"$f":"'Pob x Genero'!#REF!","v":{"$error":"#REF!"}},664]
[{"$f":"A4484","v":{"$error":"#REF!"}},{"$error":"#REF!"},{"$error":"#REF!"},{"$error":"#REF!"},{"$error":"#REF!"},"Hombre","15-19",{"$f":"'Pob x Genero'!#REF!","v":{"$error":"#REF!"}},703]
[{"$f":"A4527","v":{"$error":"#REF!"}},{"$error":"#REF!"},{"$error":"#REF!"},{"$error":"#REF!"},{"$error":"#REF!"},"Hombre","15-19",{"$f":"'Pob x Genero'!#REF!","v":{"$error":"#REF!"}},746]
[{"$f":"A4551","v":{"$error":"#REF!"}},{"$error":"#REF!"},{"$error":"#REF!"},{"$error":"#REF!"},{"$error":"#REF!"},"Hombre",{"$f":"G6440","v":"15-19"},{"$f":"'Pob x Genero'!#REF!","v":{"$error":"#REF!"}},770]
[{"$f":"A4571","v":{"$error":"#REF!"}},{"$error":"#REF!"},{"$error":"#REF!"},{"$error":"#REF!"},{"$error":"#REF!"},"Hombre","15-19",{"$f":"'Pob x Genero'!#REF!","v":{"$error":"#REF!"}},790]
[{"$f":"A4614","v":{"$error":"#REF!"}},{"$error":"#REF!"},{"$error":"#REF!"},{"$error":"#REF!"},{"$error":"#REF!"},"Hombre","15-19",{"$f":"'Pob x Genero'!#REF!","v":{"$error":"#REF!"}},833]
[{"$f":"A4653","v":{"$error":"#REF!"}},{"$error":"#REF!"},{"$error":"#REF!"},{"$error":"#REF!"},{"$error":"#REF!"},"Hombre","15-19",{"$f":"'Pob x Genero'!#REF!","v":{"$error":"#REF!"}},872]
[{"$f":"A4686","v":{"$error":"#REF!"}},{"$error":"#REF!"},{"$error":"#REF!"},{"$error":"#REF!"},{"$error":"#REF!"},"Hombre","15-19",{"$f":"'Pob x Genero'!#REF!","v":{"$error":"#REF!"}},905]
[{"$f":"A4701","v":{"$error":"#REF!"}},{"$error":"#REF!"},{"$error":"#REF!"},{"$error":"#REF!"},{"$error":"#REF!"},"Hombre","15-19",{"$f":"'Pob x Genero'!#REF!","v":{"$error":"#REF!"}},920]
[{"$f":"A4740","v":{"$error":"#REF!"}},{"$error":"#REF!"},{"$error":"#REF!"},{"$error":"#REF!"},{"$error":"#REF!"},"Hombre","15-19",{"$f":"'Pob x Genero'!#REF!","v":{"$error":"#REF!"}},959]
[{"$f":"A4783","v":{"$error":"#REF!"}},{"$error":"#REF!"},{"$error":"#REF!"},{"$error":"#REF!"},{"$error":"#REF!"},"Hombre","15-19",{"$f":"'Pob x Genero'!#REF!","v":{"$error":"#REF!"}},1002]
[{"$f":"A4821","v":{"$error":"#REF!"}},{"$error":"#REF!"},{"$error":"#REF!"},{"$error":"#REF!"},{"$error":"#REF!"},"Hombre","15-19",{"$f":"'Pob x Genero'!#REF!","v":{"$error":"#REF!"}},1040]
[{"$f":"A4831","v":{"$error":"#REF!"}},{"$error":"#REF!"},{"$error":"#REF!"},{"$error":"#REF!"},{"$error":"#REF!"},"Hombre","15-19",{"$f":"'Pob x Genero'!#REF!","v":{"$error":"#REF!"}},1050]
[{"$f":"A4870","v":{"$error":"#REF!"}},{"$error":"#REF!"},{"$error":"#REF!"},{"$error":"#REF!"},{"$error":"#REF!"},"Hombre","15-19",{"$f":"'Pob x Genero'!#REF!","v":{"$error":"#REF!"}},1089]
[{"$f":"A4909","v":{"$error":"#REF!"}},{"$error":"#REF!"},{"$error":"#REF!"},{"$error":"#REF!"},{"$error":"#REF!"},"Hombre","15-19",{"$f":"'Pob x Genero'!#REF!","v":{"$error":"#REF!"}},1128]
[{"$f":"A4952","v":{"$error":"#REF!"}},{"$error":"#REF!"},{"$error":"#REF!"},{"$error":"#REF!"},{"$error":"#REF!"},"Hombre","15-19",{"$f":"'Pob x Genero'!#REF!","v":{"$error":"#REF!"}},1171]
[{"$f":"A4974","v":{"$error":"#REF!"}},{"$error":"#REF!"},{"$error":"#REF!"},{"$error":"#REF!"},{"$error":"#REF!"},"Hombre","15-19",{"$f":"'Pob x Genero'!#REF!","v":{"$error":"#REF!"}},1193]
[{"$f":"A4996","v":{"$error":"#REF!"}},{"$error":"#REF!"},{"$error":"#REF!"},{"$error":"#REF!"},{"$error":"#REF!"},"Hombre","15-19",{"$f":"'Pob x Genero'!#REF!","v":{"$error":"#REF!"}},1215]
[{"$f":"A5039","v":{"$error":"#REF!"}},{"$error":"#REF!"},{"$error":"#REF!"},{"$error":"#REF!"},{"$error":"#REF!"},"Hombre","15-19",{"$f":"'Pob x Genero'!#REF!","v":{"$error":"#REF!"}},1258]
[{"$f":"A5078","v":{"$error":"#REF!"}},{"$error":"#REF!"},{"$error":"#REF!"},{"$error":"#REF!"},{"$error":"#REF!"},"Hombre","15-19",{"$f":"'Pob x Genero'!#REF!","v":{"$error":"#REF!"}},1297]
[{"$f":"A5109","v":{"$error":"#REF!"}},{"$error":"#REF!"},{"$error":"#REF!"},{"$error":"#REF!"},{"$error":"#REF!"},"Hombre","15-19",{"$f":"'Pob x Genero'!#REF!","v":{"$error":"#REF!"}},1328]
[{"$f":"A5126","v":{"$error":"#REF!"}},{"$error":"#REF!"},{"$error":"#REF!"},{"$error":"#REF!"},{"$error":"#REF!"},"Hombre","15-19",{"$f":"'Pob x Genero'!#REF!","v":{"$error":"#REF!"}},1345]
[{"$f":"A5165","v":{"$error":"#REF!"}},{"$error":"#REF!"},{"$error":"#REF!"},{"$error":"#REF!"},{"$error":"#REF!"},"Hombre","15-19",{"$f":"'Pob x Genero'!#REF!","v":{"$error":"#REF!"}},1384]
[{"$f":"A5208","v":{"$error":"#REF!"}},{"$error":"#REF!"},{"$error":"#REF!"},{"$error":"#REF!"},{"$error":"#REF!"},"Hombre","15-19",{"$f":"'Pob x Genero'!#REF!","v":{"$error":"#REF!"}},1427]
[{"$f":"A5244","v":{"$error":"#REF!"}},{"$error":"#REF!"},{"$error":"#REF!"},{"$error":"#REF!"},{"$error":"#REF!"},"Hombre","15-19",{"$f":"'Pob x Genero'!#REF!","v":{"$error":"#REF!"}},1463]
[{"$f":"A5285","v":{"$error":"#REF!"}},{"$error":"#REF!"},{"$error":"#REF!"},{"$error":"#REF!"},{"$error":"#REF!"},"Hombre","15-19",{"$f":"'Pob x Genero'!#REF!","v":{"$error":"#REF!"}},1504]
[{"$f":"A5295","v":{"$error":"#REF!"}},{"$error":"#REF!"},{"$error":"#REF!"},{"$error":"#REF!"},{"$error":"#REF!"},"Hombre","15-19",{"$f":"'Pob x Genero'!#REF!","v":{"$error":"#REF!"}},1514]
[{"$f":"A5334","v":{"$error":"#REF!"}},{"$error":"#REF!"},{"$error":"#REF!"},{"$error":"#REF!"},{"$error":"#REF!"},"Hombre","15-19",{"$f":"'Pob x Genero'!#REF!","v":{"$error":"#REF!"}},1553]
[{"$f":"A5377","v":{"$error":"#REF!"}},{"$error":"#REF!"},{"$error":"#REF!"},{"$error":"#REF!"},{"$error":"#REF!"},"Hombre","15-19",{"$f":"'Pob x Genero'!#REF!","v":{"$error":"#REF!"}},1596]
[{"$f":"A5397","v":{"$error":"#REF!"}},{"$error":"#REF!"},{"$error":"#REF!"},{"$error":"#REF!"},{"$error":"#REF!"},"Hombre","15-19",{"$f":"'Pob x Genero'!#REF!","v":{"$error":"#REF!"}},1616]
[{"$f":"A5421","v":{"$error":"#REF!"}},{"$error":"#REF!"},{"$error":"#REF!"},{"$error":"#REF!"},{"$error":"#REF!"},"Hombre","15-19",{"$f":"'Pob x Genero'!#REF!","v":{"$error":"#REF!"}},1640]
[{"$f":"A5464","v":{"$error":"#REF!"}},{"$error":"#REF!"},{"$error":"#REF!"},{"$error":"#REF!"},{"$error":"#REF!"},"Hombre","15-19",{"$f":"'Pob x Genero'!#REF!","v":{"$error":"#REF!"}},1683]
[{"$f":"A5503","v":{"$error":"#REF!"}},{"$error":"#REF!"},{"$error":"#REF!"},{"$error":"#REF!"},{"$error":"#REF!"},"Hombre","15-19",{"$f":"'Pob x Genero'!#REF!","v":{"$error":"#REF!"}},1722]
[{"$f":"A5532","v":{"$error":"#REF!"}},{"$error":"#REF!"},{"$error":"#REF!"},{"$error":"#REF!"},{"$error":"#REF!"},"Hombre","15-19",{"$f":"'Pob x Genero'!#REF!","v":{"$error":"#REF!"}},1751]
[{"$f":"A5551","v":{"$error":"#REF!"}},{"$error":"#REF!"},{"$error":"#REF!"},{"$error":"#REF!"},{"$error":"#REF!"},"Hombre","15-19",{"$f":"'Pob x Genero'!#REF!","v":{"$error":"#REF!"}},1770]
[{"$f":"A5590","v":{"$error":"#REF!"}},{"$error":"#REF!"},{"$error":"#REF!"},{"$error":"#REF!"},{"$error":"#REF!"},"Hombre","15-19",{"$f":"'Pob x Genero'!#REF!","v":{"$error":"#REF!"}},1809]
[{"$f":"A5633","v":{"$error":"#REF!"}},{"$error":"#REF!"},{"$error":"#REF!"},{"$error":"#REF!"},{"$error":"#REF!"},"Hombre","15-19",{"$f":"'Pob x Genero'!#REF!","v":{"$error":"#REF!"}},1852]
[{"$f":"A5667","v":{"$error":"#REF!"}},{"$error":"#REF!"},{"$error":"#REF!"},{"$error":"#REF!"},{"$error":"#REF!"},"Hombre","15-19",{"$f":"'Pob x Genero'!#REF!","v":{"$error":"#REF!"}},1886]
[{"$f":"A5710","v":{"$error":"#REF!"}},{"$error":"#REF!"},{"$error":"#REF!"},{"$error":"#REF!"},{"$error":"#REF!"},"Hombre","20-24",{"$f":"'Pob x Genero'!#REF!","v":{"$error":"#REF!"}},39]
[{"$f":"A5720","v":{"$error":"#REF!"}},{"$error":"#REF!"},{"$error":"#REF!"},{"$error":"#REF!"},{"$error":"#REF!"},"Hombre","20-24",{"$f":"'Pob x Genero'!#REF!","v":{"$error":"#REF!"}},49]
[{"$f":"A5759","v":{"$error":"#REF!"}},{"$error":"#REF!"},{"$error":"#REF!"},{"$error":"#REF!"},{"$error":"#REF!"},"Hombre","20-24",{"$f":"'Pob x Genero'!#REF!","v":{"$error":"#REF!"}},88]
[{"$f":"A5802","v":{"$error":"#REF!"}},{"$error":"#REF!"},{"$error":"#REF!"},{"$error":"#REF!"},{"$error":"#REF!"},"Hombre","20-24",{"$f":"'Pob x Genero'!#REF!","v":{"$error":"#REF!"}},131]
[{"$f":"A5820","v":{"$error":"#REF!"}},{"$error":"#REF!"},{"$error":"#REF!"},{"$error":"#REF!"},{"$error":"#REF!"},"Hombre","20-24",{"$f":"'Pob x Genero'!#REF!","v":{"$error":"#REF!"}},149]
[{"$f":"A5846","v":{"$error":"#REF!"}},{"$error":"#REF!"},{"$error":"#REF!"},{"$error":"#REF!"},{"$error":"#REF!"},"Hombre","20-24",{"$f":"'Pob x Genero'!#REF!","v":{"$error":"#REF!"}},175]
[{"$f":"A5889","v":{"$error":"#REF!"}},{"$error":"#REF!"},{"$error":"#REF!"},{"$error":"#REF!"},{"$error":"#REF!"},"Hombre","20-24",{"$f":"'Pob x Genero'!#REF!","v":{"$error":"#REF!"}},218]
[{"$f":"A5928","v":{"$error":"#REF!"}},{"$error":"#REF!"},{"$error":"#REF!"},{"$error":"#REF!"},{"$error":"#REF!"},"Hombre","20-24",{"$f":"'Pob x Genero'!#REF!","v":{"$error":"#REF!"}},257]
[{"$f":"A5955","v":{"$error":"#REF!"}},{"$error":"#REF!"},{"$error":"#REF!"},{"$error":"#REF!"},{"$error":"#REF!"},"Hombre","20-24",{"$f":"'Pob x Genero'!#REF!","v":{"$error":"#REF!"}},284]
[{"$f":"A5976","v":{"$error":"#REF!"}},{"$error":"#REF!"},{"$error":"#REF!"},{"$error":"#REF!"},{"$error":"#REF!"},"Hombre","20-24",{"$f":"'Pob x Genero'!#REF!","v":{"$error":"#REF!"}},305]
[{"$f":"A6015","v":"040109"},"AREQUIPA","AREQUIPA","AREQUIPA","MARIANO MELGAR","Hombre","20-24",{"$f":"'Pob x Genero'!CW17","v":2488},344]
[{"$f":"A6058","v":"040402"},"AREQUIPA","AREQUIPA","CASTILLA","ANDAGUA","Hombre","20-24",{"$f":"'Pob x Genero'!CW60","v":41},387]
[{"$f":"A6097","v":"040607"},"AREQUIPA","AREQUIPA","CONDESUYOS","SALAMANCA","Hombre","20-24",{"$f":"'Pob x Genero'!CW99","v":12},426]
[{"$f":"A6108","v":"040804"},"AREQUIPA","AREQUIPA","LA UNION","HUAYNACOTAS","Hombre","20-24",{"$f":"'Pob x Genero'!CW110","v":72},437]
[{"$f":"A6145","v":{"$error":"#REF!"}},{"$error":"#REF!"},{"$error":"#REF!"},{"$error":"#REF!"},{"$error":"#REF!"},"Hombre","20-24",{"$f":"'Pob x Genero'!#REF!","v":{"$error":"#REF!"}},474]
[{"$f":"A6184","v":{"$error":"#REF!"}},{"$error":"#REF!"},{"$error":"#REF!"},{"$error":"#REF!"},{"$error":"#REF!"},"Hombre","20-24",{"$f":"'Pob x Genero'!#REF!","v":{"$error":"#REF!"}},513]
[{"$f":"A6227","v":{"$error":"#REF!"}},{"$error":"#REF!"},{"$error":"#REF!"},{"$error":"#REF!"},{"$error":"#REF!"},"Hombre","20-24",{"$f":"'Pob x Genero'!#REF!","v":{"$error":"#REF!"}},556]
[{"$f":"A6243","v":{"$error":"#REF!"}},{"$error":"#REF!"},{"$error":"#REF!"},{"$error":"#REF!"},{"$error":"#REF!"},"Hombre","20-24",{"$f":"'Pob x Genero'!#REF!","v":{"$error":"#REF!"}},572]
[{"$f":"A6271","v":{"$error":"#REF!"}},{"$error":"#REF!"},{"$error":"#REF!"},{"$error":"#REF!"},{"$error":"#REF!"},"Hombre","20-24",{"$f":"'Pob x Genero'!#REF!","v":{"$error":"#REF!"}},600]
[{"$f":"A6314","v":{"$error":"#REF!"}},{"$error":"#REF!"},{"$error":"#REF!"},{"$error":"#REF!"},{"$error":"#REF!"},"Hombre","20-24",{"$f":"'Pob x Genero'!#REF!","v":{"$error":"#REF!"}},643]
[{"$f":"A6353","v":{"$error":"#REF!"}},{"$error":"#REF!"},{"$error":"#REF!"},{"$error":"#REF!"},{"$error":"#REF!"},"Hombre","20-24",{"$f":"'Pob x Genero'!#REF!","v":{"$error":"#REF!"}},682]
[{"$f":"A6378","v":{"$error":"#REF!"}},{"$error":"#REF!"},{"$error":"#REF!"},{"$error":"#REF!"},{"$error":"#REF!"},"Hombre","20-24",{"$f":"'Pob x Genero'!#REF!","v":{"$error":"#REF!"}},707]
[{"$f":"A6434","v":{"$error":"#REF!"}},{"$error":"#REF!"},{"$error":"#REF!"},{"$error":"#REF!"},{"$error":"#REF!"},"Hombre","20-24",{"$f":"'Pob x Genero'!#REF!","v":{"$error":"#REF!"}},763]
[{"$f":"A6440","v":{"$error":"#REF!"}},{"$error":"#REF!"},{"$error":"#REF!"},{"$error":"#REF!"},{"$error":"#REF!"},"Hombre","20-24",{"$f":"'Pob x Genero'!#REF!","v":{"$error":"#REF!"}},769]
[{"$f":"A6483","v":{"$error":"#REF!"}},{"$error":"#REF!"},{"$error":"#REF!"},{"$error":"#REF!"},{"$error":"#REF!"},"Hombre","20-24",{"$f":"'Pob x Genero'!#REF!","v":{"$error":"#REF!"}},812]
[{"$f":"A6522","v":{"$error":"#REF!"}},{"$error":"#REF!"},{"$error":"#REF!"},{"$error":"#REF!"},{"$error":"#REF!"},"Hombre","20-24",{"$f":"'Pob x Genero'!#REF!","v":{"$error":"#REF!"}},851]
[{"$f":"A6563","v":{"$error":"#REF!"}},{"$error":"#REF!"},{"$error":"#REF!"},{"$error":"#REF!"},{"$error":"#REF!"},"Hombre","20-24",{"$f":"'Pob x Genero'!#REF!","v":{"$error":"#REF!"}},892]
[{"$f":"A6570","v":{"$error":"#REF!"}},{"$error":"#REF!"},{"$error":"#REF!"},{"$error":"#REF!"},{"$error":"#REF!"},"Hombre","20-24",{"$f":"'Pob x Genero'!#REF!","v":{"$error":"#REF!"}},899]
[{"$f":"A6609","v":{"$error":"#REF!"}},{"$error":"#REF!"},{"$error":"#REF!"},{"$error":"#REF!"},{"$error":"#REF!"},"Hombre","20-24",{"$f":"'Pob x Genero'!#REF!","v":{"$error":"#REF!"}},938]
[{"$f":"A6652","v":{"$error":"#REF!"}},{"$error":"#REF!"},{"$error":"#REF!"},{"$error":"#REF!"},{"$error":"#REF!"},"Hombre","20-24",{"$f":"'Pob x Genero'!#REF!","v":{"$error":"#REF!"}},981]
[{"$f":"A6666","v":{"$error":"#REF!"}},{"$error":"#REF!"},{"$error":"#REF!"},{"$error":"#REF!"},{"$error":"#REF!"},"Hombre","20-24",{"$f":"'Pob x Genero'!#REF!","v":{"$error":"#REF!"}},995]
[{"$f":"A6729","v":{"$error":"#REF!"}},{"$error":"#REF!"},{"$error":"#REF!"},{"$error":"#REF!"},{"$error":"#REF!"},"Hombre","20-24",{"$f":"'Pob x Genero'!#REF!","v":{"$error":"#REF!"}},1058]
[{"$f":"A6739","v":{"$error":"#REF!"}},{"$error":"#REF!"},{"$error":"#REF!"},{"$error":"#REF!"},{"$error":"#REF!"},"Hombre","20-24",{"$f":"'Pob x Genero'!#REF!","v":{"$error":"#REF!"}},1068]
[{"$f":"A6778","v":{"$error":"#REF!"}},{"$error":"#REF!"},{"$error":"#REF!"},{"$error":"#REF!"},{"$error":"#REF!"},"Hombre","20-24",{"$f":"'Pob x Genero'!#REF!","v":{"$error":"#REF!"}},1107]
[{"$f":"A6801","v":{"$error":"#REF!"}},{"$error":"#REF!"},{"$error":"#REF!"},{"$error":"#REF!"},{"$error":"#REF!"},"Hombre","20-24",{"$f":"'Pob x Genero'!#REF!","v":{"$error":"#REF!"}},1130]
[{"$f":"A6859","v":{"$error":"#REF!"}},{"$error":"#REF!"},{"$error":"#REF!"},{"$error":"#REF!"},{"$error":"#REF!"},"Hombre","20-24",{"$f":"'Pob x Genero'!#REF!","v":{"$error":"#REF!"}},1188]
[{"$f":"A6865","v":{"$error":"#REF!"}},{"$error":"#REF!"},{"$error":"#REF!"},{"$error":"#REF!"},{"$error":"#REF!"},"Hombre","20-24",{"$f":"'Pob x Genero'!#REF!","v":{"$error":"#REF!"}},1194]
[{"$f":"A6908","v":{"$error":"#REF!"}},{"$error":"#REF!"},{"$error":"#REF!"},{"$error":"#REF!"},{"$error":"#REF!"},"Hombre","20-24",{"$f":"'Pob x Genero'!#REF!","v":{"$error":"#REF!"}},1237]
[{"$f":"A6947","v":{"$error":"#REF!"}},{"$error":"#REF!"},{"$error":"#REF!"},{"$error":"#REF!"},{"$error":"#REF!"},"Hombre","20-24",{"$f":"'Pob x Genero'!#REF!","v":{"$error":"#REF!"}},1276]
[{"$f":"A6986","v":{"$error":"#REF!"}},{"$error":"#REF!"},{"$error":"#REF!"},{"$error":"#REF!"},{"$error":"#REF!"},"Hombre","20-24",{"$f":"'Pob x Genero'!#REF!","v":{"$error":"#REF!"}},1315]
[{"$f":"A6995","v":{"$error":"#REF!"}},{"$error":"#REF!"},{"$error":"#REF!"},{"$error":"#REF!"},{"$error":"#REF!"},"Hombre","20-24",{"$f":"'Pob x Genero'!#REF!","v":{"$error":"#REF!"}},1324]
[{"$f":"A7034","v":{"$error":"#REF!"}},{"$error":"#REF!"},{"$error":"#REF!"},{"$error":"#REF!"},{"$error":"#REF!"},"Hombre","20-24",{"$f":"'Pob x Genero'!#REF!","v":{"$error":"#REF!"}},1363]
[{"$f":"A7073","v":{"$error":"#REF!"}},{"$error":"#REF!"},{"$error":"#REF!"},{"$error":"#REF!"},{"$error":"#REF!"},{"$f":"F8962","v":"Hombre"},{"$f":"G8962","v":"20-24"},{"$f":"'Pob x Genero'!#REF!","v":{"$error":"#REF!"}},1402]
[{"$f":"A7121","v":{"$error":"#REF!"}},{"$error":"#REF!"},{"$error":"#REF!"},{"$error":"#REF!"},{"$error":"#REF!"},"Hombre","20-24",{"$f":"'Pob x Genero'!#REF!","v":{"$error":"#REF!"}},1450]
[{"$f":"A7154","v":{"$error":"#REF!"}},{"$error":"#REF!"},{"$error":"#REF!"},{"$error":"#REF!"},{"$error":"#REF!"},"Hombre","20-24",{"$f":"'Pob x Genero'!#REF!","v":{"$error":"#REF!"}},1483]
[{"$f":"A7164","v":{"$error":"#REF!"}},{"$error":"#REF!"},{"$error":"#REF!"},{"$error":"#REF!"},{"$error":"#REF!"},"Hombre","20-24",{"$f":"'Pob x Genero'!#REF!","v":{"$error":"#REF!"}},1493]
[{"$f":"A7203","v":{"$error":"#REF!"}},{"$error":"#REF!"},{"$error":"#REF!"},{"$error":"#REF!"},{"$error":"#REF!"},"Hombre","20-24",{"$f":"'Pob x Genero'!#REF!","v":{"$error":"#REF!"}},1532]
[{"$f":"A7224","v":{"$error":"#REF!"}},{"$error":"#REF!"},{"$error":"#REF!"},{"$error":"#REF!"},{"$error":"#REF!"},"Hombre","20-24",{"$f":"'Pob x Genero'!#REF!","v":{"$error":"#REF!"}},1553]
[{"$f":"A7284","v":{"$error":"#REF!"}},{"$error":"#REF!"},{"$error":"#REF!"},{"$error":"#REF!"},{"$error":"#REF!"},"Hombre","20-24",{"$f":"'Pob x Genero'!#REF!","v":{"$error":"#REF!"}},1613]
[{"$f":"A7290","v":{"$error":"#REF!"}},{"$error":"#REF!"},{"$error":"#REF!"},{"$error":"#REF!"},{"$error":"#REF!"},"Hombre","20-24",{"$f":"'Pob x Genero'!#REF!","v":{"$error":"#REF!"}},1619]
[{"$f":"A7333","v":{"$error":"#REF!"}},{"$error":"#REF!"},{"$error":"#REF!"},{"$error":"#REF!"},{"$error":"#REF!"},"Hombre","20-24",{"$f":"'Pob x Genero'!#REF!","v":{"$error":"#REF!"}},1662]
[{"$f":"A7372","v":{"$error":"#REF!"}},{"$error":"#REF!"},{"$error":"#REF!"},{"$error":"#REF!"},{"$error":"#REF!"},"Hombre","20-24",{"$f":"'Pob x Genero'!#REF!","v":{"$error":"#REF!"}},1701]
[{"$f":"A7409","v":{"$error":"#REF!"}},{"$error":"#REF!"},{"$error":"#REF!"},{"$error":"#REF!"},{"$error":"#REF!"},"Hombre","20-24",{"$f":"'Pob x Genero'!#REF!","v":{"$error":"#REF!"}},1738]
[{"$f":"A7420","v":{"$error":"#REF!"}},{"$error":"#REF!"},{"$error":"#REF!"},{"$error":"#REF!"},{"$error":"#REF!"},"Hombre","20-24",{"$f":"'Pob x Genero'!#REF!","v":{"$error":"#REF!"}},1749]
[{"$f":"A7459","v":{"$error":"#REF!"}},{"$error":"#REF!"},{"$error":"#REF!"},{"$error":"#REF!"},{"$error":"#REF!"},"Hombre","20-24",{"$f":"'Pob x Genero'!#REF!","v":{"$error":"#REF!"}},1788]
[{"$f":"A7498","v":{"$error":"#REF!"}},{"$error":"#REF!"},{"$error":"#REF!"},{"$error":"#REF!"},{"$error":"#REF!"},"Hombre","20-24",{"$f":"'Pob x Genero'!#REF!","v":{"$error":"#REF!"}},1827]
[{"$f":"A7544","v":{"$error":"#REF!"}},{"$error":"#REF!"},{"$error":"#REF!"},{"$error":"#REF!"},{"$error":"#REF!"},"Hombre","20-24",{"$f":"'Pob x Genero'!#REF!","v":{"$error":"#REF!"}},1873]
[{"$f":"A7579","v":{"$error":"#REF!"}},{"$error":"#REF!"},{"$error":"#REF!"},{"$error":"#REF!"},{"$error":"#REF!"},"Hombre","25-29",{"$f":"'Pob x Genero'!#REF!","v":{"$error":"#REF!"}},18]
[{"$f":"A7589","v":{"$error":"#REF!"}},{"$error":"#REF!"},{"$error":"#REF!"},{"$error":"#REF!"},{"$error":"#REF!"},"Hombre","25-29",{"$f":"'Pob x Genero'!#REF!","v":{"$error":"#REF!"}},28]
[{"$f":"A7628","v":{"$error":"#REF!"}},{"$error":"#REF!"},{"$error":"#REF!"},{"$error":"#REF!"},{"$error":"#REF!"},"Hombre","25-29",{"$f":"'Pob x Genero'!#REF!","v":{"$error":"#REF!"}},67]
[{"$f":"A7679","v":{"$error":"#REF!"}},{"$error":"#REF!"},{"$error":"#REF!"},{"$error":"#REF!"},{"$error":"#REF!"},"Hombre","25-29",{"$f":"'Pob x Genero'!#REF!","v":{"$error":"#REF!"}},118]
[{"$f":"A7709","v":{"$error":"#REF!"}},{"$error":"#REF!"},{"$error":"#REF!"},{"$error":"#REF!"},{"$error":"#REF!"},"Hombre","25-29",{"$f":"'Pob x Genero'!#REF!","v":{"$error":"#REF!"}},148]
[{"$f":"A7715","v":{"$error":"#REF!"}},{"$error":"#REF!"},{"$error":"#REF!"},{"$error":"#REF!"},{"$error":"#REF!"},"Hombre","25-29",{"$f":"'Pob x Genero'!#REF!","v":{"$error":"#REF!"}},154]
[{"$f":"A7754","v":{"$error":"#REF!"}},{"$error":"#REF!"},{"$error":"#REF!"},{"$error":"#REF!"},{"$error":"#REF!"},"Hombre","25-29",{"$f":"'Pob x Genero'!#REF!","v":{"$error":"#REF!"}},193]
[{"$f":"A7797","v":{"$error":"#REF!"}},{"$error":"#REF!"},{"$error":"#REF!"},{"$error":"#REF!"},{"$error":"#REF!"},"Hombre","25-29",{"$f":"'Pob x Genero'!#REF!","v":{"$error":"#REF!"}},236]
[{"$f":"A7832","v":{"$error":"#REF!"}},{"$error":"#REF!"},{"$error":"#REF!"},{"$error":"#REF!"},{"$error":"#REF!"},"Hombre","25-29",{"$f":"'Pob x Genero'!#REF!","v":{"$error":"#REF!"}},271]
[{"$f":"A7845","v":{"$error":"#REF!"}},{"$error":"#REF!"},{"$error":"#REF!"},{"$error":"#REF!"},{"$error":"#REF!"},"Hombre","25-29",{"$f":"'Pob x Genero'!#REF!","v":{"$error":"#REF!"}},284]
[{"$f":"A7884","v":{"$error":"#REF!"}},{"$error":"#REF!"},{"$error":"#REF!"},{"$error":"#REF!"},{"$error":"#REF!"},"Hombre","25-29",{"$f":"'Pob x Genero'!#REF!","v":{"$error":"#REF!"}},323]
[{"$f":"A7923","v":"040127"},"AREQUIPA","AREQUIPA","AREQUIPA","YARABAMBA","Hombre","25-29",{"$f":"'Pob x Genero'!CX35","v":91},362]
[{"$f":"A7967","v":"040507"},"AREQUIPA","AREQUIPA","CAYLLOMA","HUAMBO","Hombre","25-29",{"$f":"'Pob x Genero'!CX79","v":26},406]
[{"$f":"A8004","v":"040810"},"AREQUIPA","AREQUIPA","LA UNION","TOMEPAMPA","Hombre","25-29",{"$f":"'Pob x Genero'!CX116","v":15},443]
[{"$f":"A8014","v":{"$error":"#REF!"}},{"$error":"#REF!"},{"$error":"#REF!"},{"$error":"#REF!"},{"$error":"#REF!"},"Hombre","25-29",{"$f":"'Pob x Genero'!#REF!","v":{"$error":"#REF!"}},453]
[{"$f":"A8053","v":{"$error":"#REF!"}},{"$error":"#REF!"},{"$error":"#REF!"},{"$error":"#REF!"},{"$error":"#REF!"},"Hombre","25-29",{"$f":"'Pob x Genero'!#REF!","v":{"$error":"#REF!"}},492]
[{"$f":"A8092","v":{"$error":"#REF!"}},{"$error":"#REF!"},{"$error":"#REF!"},{"$error":"#REF!"},{"$error":"#REF!"},"Hombre","25-29",{"$f":"'Pob x Genero'!#REF!","v":{"$error":"#REF!"}},531]
[{"$f":"A8120","v":{"$error":"#REF!"}},{"$error":"#REF!"},{"$error":"#REF!"},{"$error":"#REF!"},{"$error":"#REF!"},"Hombre","25-29",{"$f":"'Pob x Genero'!#REF!","v":{"$error":"#REF!"}},559]
[{"$f":"A8140","v":{"$error":"#REF!"}},{"$error":"#REF!"},{"$error":"#REF!"},{"$error":"#REF!"},{"$error":"#REF!"},"Hombre","25-29",{"$f":"'Pob x Genero'!#REF!","v":{"$error":"#REF!"}},579]
[{"$f":"A8179","v":{"$error":"#REF!"}},{"$error":"#REF!"},{"$error":"#REF!"},{"$error":"#REF!"},{"$error":"#REF!"},"Hombre","25-29",{"$f":"'Pob x Genero'!#REF!","v":{"$error":"#REF!"}},618]
[{"$f":"A8222","v":{"$error":"#REF!"}},{"$error":"#REF!"},{"$error":"#REF!"},{"$error":"#REF!"},{"$error":"#REF!"},"Hombre","25-29",{"$f":"'Pob x Genero'!#REF!","v":{"$error":"#REF!"}},661]
[{"$f":"A8255","v":{"$error":"#REF!"}},{"$error":"#REF!"},{"$error":"#REF!"},{"$error":"#REF!"},{"$error":"#REF!"},"Hombre","25-29",{"$f":"'Pob x Genero'!#REF!","v":{"$error":"#REF!"}},694]
[{"$f":"A8270","v":{"$error":"#REF!"}},{"$error":"#REF!"},{"$error":"#REF!"},{"$error":"#REF!"},{"$error":"#REF!"},"Hombre","25-29",{"$f":"'Pob x Genero'!#REF!","v":{"$error":"#REF!"}},709]
[{"$f":"A8309","v":{"$error":"#REF!"}},{"$error":"#REF!"},{"$error":"#REF!"},{"$error":"#REF!"},{"$error":"#REF!"},"Hombre","25-29",{"$f":"'Pob x Genero'!#REF!","v":{"$error":"#REF!"}},748]
[{"$f":"A8348","v":{"$error":"#REF!"}},{"$error":"#REF!"},{"$error":"#REF!"},{"$error":"#REF!"},{"$error":"#REF!"},"Hombre","25-29",{"$f":"'Pob x Genero'!#REF!","v":{"$error":"#REF!"}},787]
[{"$f":"A8390","v":{"$error":"#REF!"}},{"$error":"#REF!"},{"$error":"#REF!"},{"$error":"#REF!"},{"$error":"#REF!"},"Hombre","25-29",{"$f":"'Pob x Genero'!#REF!","v":{"$error":"#REF!"}},829]
[{"$f":"A8429","v":{"$error":"#REF!"}},{"$error":"#REF!"},{"$error":"#REF!"},{"$error":"#REF!"},{"$error":"#REF!"},"Hombre","25-29",{"$f":"'Pob x Genero'!#REF!","v":{"$error":"#REF!"}},868]
[{"$f":"A8439","v":{"$error":"#REF!"}},{"$error":"#REF!"},{"$error":"#REF!"},{"$error":"#REF!"},{"$error":"#REF!"},"Hombre","25-29",{"$f":"'Pob x Genero'!#REF!","v":{"$error":"#REF!"}},878]
[{"$f":"A8478","v":{"$error":"#REF!"}},{"$error":"#REF!"},{"$error":"#REF!"},{"$error":"#REF!"},{"$error":"#REF!"},"Hombre","25-29",{"$f":"'Pob x Genero'!#REF!","v":{"$error":"#REF!"}},917]
[{"$f":"A8517","v":{"$error":"#REF!"}},{"$error":"#REF!"},{"$error":"#REF!"},{"$error":"#REF!"},{"$error":"#REF!"},"Hombre","25-29",{"$f":"'Pob x Genero'!#REF!","v":{"$error":"#REF!"}},956]
[{"$f":"A8543","v":{"$error":"#REF!"}},{"$error":"#REF!"},{"$error":"#REF!"},{"$error":"#REF!"},{"$error":"#REF!"},"Hombre","25-29",{"$f":"'Pob x Genero'!#REF!","v":{"$error":"#REF!"}},982]
[{"$f":"A8565","v":{"$error":"#REF!"}},{"$error":"#REF!"},{"$error":"#REF!"},{"$error":"#REF!"},{"$error":"#REF!"},"Hombre","25-29",{"$f":"'Pob x Genero'!#REF!","v":{"$error":"#REF!"}},1004]
[{"$f":"A8604","v":{"$error":"#REF!"}},{"$error":"#REF!"},{"$error":"#REF!"},{"$error":"#REF!"},{"$error":"#REF!"},"Hombre","25-29",{"$f":"'Pob x Genero'!#REF!","v":{"$error":"#REF!"}},1043]
[{"$f":"A8647","v":{"$error":"#REF!"}},{"$error":"#REF!"},{"$error":"#REF!"},{"$error":"#REF!"},{"$error":"#REF!"},"Hombre","25-29",{"$f":"'Pob x Genero'!#REF!","v":{"$error":"#REF!"}},1086]
[{"$f":"A8678","v":{"$error":"#REF!"}},{"$error":"#REF!"},{"$error":"#REF!"},{"$error":"#REF!"},{"$error":"#REF!"},"Hombre","25-29",{"$f":"'Pob x Genero'!#REF!","v":{"$error":"#REF!"}},1117]
[{"$f":"A8728","v":{"$error":"#REF!"}},{"$error":"#REF!"},{"$error":"#REF!"},{"$error":"#REF!"},{"$error":"#REF!"},"Hombre","25-29",{"$f":"'Pob x Genero'!#REF!","v":{"$error":"#REF!"}},1167]
[{"$f":"A8734","v":{"$error":"#REF!"}},{"$error":"#REF!"},{"$error":"#REF!"},{"$error":"#REF!"},{"$error":"#REF!"},"Hombre","25-29",{"$f":"'Pob x Genero'!#REF!","v":{"$error":"#REF!"}},1173]
[{"$f":"A8773","v":{"$error":"#REF!"}},{"$error":"#REF!"},{"$error":"#REF!"},{"$error":"#REF!"},{"$error":"#REF!"},"Hombre","25-29",{"$f":"'Pob x Genero'!#REF!","v":{"$error":"#REF!"}},1212]
[{"$f":"A8813","v":{"$error":"#REF!"}},{"$error":"#REF!"},{"$error":"#REF!"},{"$error":"#REF!"},{"$error":"#REF!"},"Hombre","25-29",{"$f":"'Pob x Genero'!#REF!","v":{"$error":"#REF!"}},1252]
[{"$f":"A8854","v":{"$error":"#REF!"}},{"$error":"#REF!"},{"$error":"#REF!"},{"$error":"#REF!"},{"$error":"#REF!"},"Hombre","25-29",{"$f":"'Pob x Genero'!#REF!","v":{"$error":"#REF!"}},1293]
[{"$f":"A8860","v":{"$error":"#REF!"}},{"$error":"#REF!"},{"$error":"#REF!"},{"$error":"#REF!"},{"$error":"#REF!"},"Hombre","25-29",{"$f":"'Pob x Genero'!#REF!","v":{"$error":"#REF!"}},1299]
[{"$f":"A8903","v":{"$error":"#REF!"}},{"$error":"#REF!"},{"$error":"#REF!"},{"$error":"#REF!"},{"$error":"#REF!"},"Hombre","25-29",{"$f":"'Pob x Genero'!#REF!","v":{"$error":"#REF!"}},1342]
[{"$f":"A8942","v":{"$error":"#REF!"}},{"$error":"#REF!"},{"$error":"#REF!"},{"$error":"#REF!"},{"$error":"#REF!"},"Hombre","25-29",{"$f":"'Pob x Genero'!#REF!","v":{"$error":"#REF!"}},1381]
[{"$f":"A8966","v":{"$error":"#REF!"}},{"$error":"#REF!"},{"$error":"#REF!"},{"$error":"#REF!"},{"$error":"#REF!"},"Hombre","25-29",{"$f":"'Pob x Genero'!#REF!","v":{"$error":"#REF!"}},1405]
[{"$f":"A9023","v":{"$error":"#REF!"}},{"$error":"#REF!"},{"$error":"#REF!"},{"$error":"#REF!"},{"$error":"#REF!"},"Hombre","25-29",{"$f":"'Pob x Genero'!#REF!","v":{"$error":"#REF!"}},1462]
[{"$f":"A9029","v":{"$error":"#REF!"}},{"$error":"#REF!"},{"$error":"#REF!"},{"$error":"#REF!"},{"$error":"#REF!"},"Hombre","25-29",{"$f":"'Pob x Genero'!#REF!","v":{"$error":"#REF!"}},1468]
[{"$f":"A9072","v":{"$error":"#REF!"}},{"$error":"#REF!"},{"$error":"#REF!"},{"$error":"#REF!"},{"$error":"#REF!"},"Hombre","25-29",{"$f":"'Pob x Genero'!#REF!","v":{"$error":"#REF!"}},1511]
[{"$f":"A9101","v":{"$error":"#REF!"}},{"$error":"#REF!"},{"$error":"#REF!"},{"$error":"#REF!"},{"$error":"#REF!"},"Hombre","25-29",{"$f":"'Pob x Genero'!#REF!","v":{"$error":"#REF!"}},1540]
[{"$f":"A9153","v":{"$error":"#REF!"}},{"$error":"#REF!"},{"$error":"#REF!"},{"$error":"#REF!"},{"$error":"#REF!"},"Hombre","25-29",{"$f":"'Pob x Genero'!#REF!","v":{"$error":"#REF!"}},1592]
[{"$f":"A9159","v":{"$error":"#REF!"}},{"$error":"#REF!"},{"$error":"#REF!"},{"$error":"#REF!"},{"$error":"#REF!"},"Hombre","25-29",{"$f":"'Pob x Genero'!#REF!","v":{"$error":"#REF!"}},1598]
[{"$f":"A9198","v":{"$error":"#REF!"}},{"$error":"#REF!"},{"$error":"#REF!"},{"$error":"#REF!"},{"$error":"#REF!"},"Hombre","25-29",{"$f":"'Pob x Genero'!#REF!","v":{"$error":"#REF!"}},1637]
[{"$f":"A9236","v":{"$error":"#REF!"}},{"$error":"#REF!"},{"$error":"#REF!"},{"$error":"#REF!"},{"$error":"#REF!"},"Hombre","25-29",{"$f":"'Pob x Genero'!#REF!","v":{"$error":"#REF!"}},1675]
[{"$f":"A9279","v":{"$error":"#REF!"}},{"$error":"#REF!"},{"$error":"#REF!"},{"$error":"#REF!"},{"$error":"#REF!"},"Hombre","25-29",{"$f":"'Pob x Genero'!#REF!","v":{"$error":"#REF!"}},1718]
[{"$f":"A9318","v":{"$error":"#REF!"}},{"$error":"#REF!"},{"$error":"#REF!"},{"$error":"#REF!"},{"$error":"#REF!"},"Hombre","25-29",{"$f":"'Pob x Genero'!#REF!","v":{"$error":"#REF!"}},1757]
[{"$f":"A9328","v":{"$error":"#REF!"}},{"$error":"#REF!"},{"$error":"#REF!"},{"$error":"#REF!"},{"$error":"#REF!"},"Hombre","25-29",{"$f":"'Pob x Genero'!#REF!","v":{"$error":"#REF!"}},1767]
[{"$f":"A9367","v":{"$error":"#REF!"}},{"$error":"#REF!"},{"$error":"#REF!"},{"$error":"#REF!"},{"$error":"#REF!"},"Hombre","25-29",{"$f":"'Pob x Genero'!#REF!","v":{"$error":"#REF!"}},1806]
[{"$f":"A9389","v":{"$error":"#REF!"}},{"$error":"#REF!"},{"$error":"#REF!"},{"$error":"#REF!"},{"$error":"#REF!"},"Hombre","25-29",{"$f":"'Pob x Genero'!#REF!","v":{"$error":"#REF!"}},1828]
[{"$f":"A9448","v":{"$error":"#REF!"}},{"$error":"#REF!"},{"$error":"#REF!"},{"$error":"#REF!"},{"$error":"#REF!"},"Hombre","25-29",{"$f":"'Pob x Genero'!#REF!","v":{"$error":"#REF!"}},1887]
[{"$f":"A9454","v":{"$error":"#REF!"}},{"$error":"#REF!"},{"$error":"#REF!"},{"$error":"#REF!"},{"$error":"#REF!"},"Hombre","30-34",{"$f":"'Pob x Genero'!#REF!","v":{"$error":"#REF!"}},3]
[{"$f":"A9497","v":{"$error":"#REF!"}},{"$error":"#REF!"},{"$error":"#REF!"},{"$error":"#REF!"},{"$error":"#REF!"},"Hombre","30-34",{"$f":"'Pob x Genero'!#REF!","v":{"$error":"#REF!"}},46]
[{"$f":"A9524","v":{"$error":"#REF!"}},{"$error":"#REF!"},{"$error":"#REF!"},{"$error":"#REF!"},{"$error":"#REF!"},"Hombre","30-34",{"$f":"'Pob x Genero'!#REF!","v":{"$error":"#REF!"}},73]
[{"$f":"A9578","v":{"$error":"#REF!"}},{"$error":"#REF!"},{"$error":"#REF!"},{"$error":"#REF!"},{"$error":"#REF!"},"Hombre","30-34",{"$f":"'Pob x Genero'!#REF!","v":{"$error":"#REF!"}},127]
[{"$f":"A9584","v":{"$error":"#REF!"}},{"$error":"#REF!"},{"$error":"#REF!"},{"$error":"#REF!"},{"$error":"#REF!"},"Hombre","30-34",{"$f":"'Pob x Genero'!#REF!","v":{"$error":"#REF!"}},133]
[{"$f":"A9623","v":{"$error":"#REF!"}},{"$error":"#REF!"},{"$error":"#REF!"},{"$error":"#REF!"},{"$error":"#REF!"},"Hombre","30-34",{"$f":"'Pob x Genero'!#REF!","v":{"$error":"#REF!"}},172]
[{"$f":"A9659","v":{"$error":"#REF!"}},{"$error":"#REF!"},{"$error":"#REF!"},{"$error":"#REF!"},{"$error":"#REF!"},"Hombre","30-34",{"$f":"'Pob x Genero'!#REF!","v":{"$error":"#REF!"}},208]
[{"$f":"A9704","v":{"$error":"#REF!"}},{"$error":"#REF!"},{"$error":"#REF!"},{"$error":"#REF!"},{"$error":"#REF!"},"Hombre","30-34",{"$f":"'Pob x Genero'!#REF!","v":{"$error":"#REF!"}},253]
[{"$f":"A9743","v":{"$error":"#REF!"}},{"$error":"#REF!"},{"$error":"#REF!"},{"$error":"#REF!"},{"$error":"#REF!"},"Hombre","30-34",{"$f":"'Pob x Genero'!#REF!","v":{"$error":"#REF!"}},292]
[{"$f":"A9753","v":{"$error":"#REF!"}},{"$error":"#REF!"},{"$error":"#REF!"},{"$error":"#REF!"},{"$error":"#REF!"},"Hombre","30-34",{"$f":"'Pob x Genero'!#REF!","v":{"$error":"#REF!"}},302]
[{"$f":"A9792","v":"040106"},"AREQUIPA","AREQUIPA","AREQUIPA","CHIGUATA","Hombre","30-34",{"$f":"'Pob x Genero'!CY14","v":149},341]
[{"$f":"A9812","v":"040126"},"AREQUIPA","AREQUIPA","AREQUIPA","YANAHUARA","Hombre","30-34",{"$f":"'Pob x Genero'!CY34","v":927},361]
[{"$f":"A9873","v":"040603"},"AREQUIPA","AREQUIPA","CONDESUYOS","CAYARANI","Hombre","30-34",{"$f":"'Pob x Genero'!CY95","v":123},422]
[{"$f":"A9879","v":"040701"},"AREQUIPA","AREQUIPA","ISLAY","MOLLENDO","Hombre","30-34",{"$f":"'Pob x Genero'!CY101","v":918},428]
[{"$f":"A9922","v":{"$error":"#REF!"}},{"$error":"#REF!"},{"$error":"#REF!"},{"$error":"#REF!"},{"$error":"#REF!"},"Hombre","30-34",{"$f":"'Pob x Genero'!#REF!","v":{"$error":"#REF!"}},471]
[{"$f":"A9947","v":{"$error":"#REF!"}},{"$error":"#REF!"},{"$error":"#REF!"},{"$error":"#REF!"},{"$error":"#REF!"},"Hombre","30-34",{"$f":"'Pob x Genero'!#REF!","v":{"$error":"#REF!"}},496]
[{"$f":"A9999","v":{"$error":"#REF!"}},{"$error":"#REF!"},{"$error":"#REF!"},{"$error":"#REF!"},{"$error":"#REF!"},"Hombre","30-34",{"$f":"'Pob x Genero'!#REF!","v":{"$error":"#REF!"}},548]
[{"$f":"A10009","v":{"$error":"#REF!"}},{"$error":"#REF!"},{"$error":"#REF!"},{"$error":"#REF!"},{"$error":"#REF!"},"Hombre","30-34",{"$f":"'Pob x Genero'!#REF!","v":{"$error":"#REF!"}},558]
[{"$f":"A10048","v":{"$error":"#REF!"}},{"$error":"#REF!"},{"$error":"#REF!"},{"$error":"#REF!"},{"$error":"#REF!"},"Hombre","30-34",{"$f":"'Pob x Genero'!#REF!","v":{"$error":"#REF!"}},597]
[{"$f":"A10091","v":{"$error":"#REF!"}},{"$error":"#REF!"},{"$error":"#REF!"},{"$error":"#REF!"},{"$error":"#REF!"},"Hombre","30-34",{"$f":"'Pob x Genero'!#REF!","v":{"$error":"#REF!"}},640]
[{"$f":"A10132","v":{"$error":"#REF!"}},{"$error":"#REF!"},{"$error":"#REF!"},{"$error":"#REF!"},{"$error":"#REF!"},"Hombre","30-34",{"$f":"'Pob x Genero'!#REF!","v":{"$error":"#REF!"}},681]
[{"$f":"A10168","v":{"$error":"#REF!"}},{"$error":"#REF!"},{"$error":"#REF!"},{"$error":"#REF!"},{"$error":"#REF!"},"Hombre","30-34",{"$f":"'Pob x Genero'!#REF!","v":{"$error":"#REF!"}},717]
[{"$f":"A10178","v":{"$error":"#REF!"}},{"$error":"#REF!"},{"$error":"#REF!"},{"$error":"#REF!"},{"$error":"#REF!"},"Hombre","30-34",{"$f":"'Pob x Genero'!#REF!","v":{"$error":"#REF!"}},727]
[{"$f":"A10217","v":{"$error":"#REF!"}},{"$error":"#REF!"},{"$error":"#REF!"},{"$error":"#REF!"},{"$error":"#REF!"},"Hombre","30-34",{"$f":"'Pob x Genero'!#REF!","v":{"$error":"#REF!"}},766]
[{"$f":"A10267","v":{"$error":"#REF!"}},{"$error":"#REF!"},{"$error":"#REF!"},{"$error":"#REF!"},{"$error":"#REF!"},"Hombre","30-34",{"$f":"'Pob x Genero'!#REF!","v":{"$error":"#REF!"}},816]
[{"$f":"A10298","v":{"$error":"#REF!"}},{"$error":"#REF!"},{"$error":"#REF!"},{"$error":"#REF!"},{"$error":"#REF!"},"Hombre","30-34",{"$f":"'Pob x Genero'!#REF!","v":{"$error":"#REF!"}},847]
[{"$f":"A10304","v":{"$error":"#REF!"}},{"$error":"#REF!"},{"$error":"#REF!"},{"$error":"#REF!"},{"$error":"#REF!"},"Hombre","30-34",{"$f":"'Pob x Genero'!#REF!","v":{"$error":"#REF!"}},853]
[{"$f":"A10347","v":{"$error":"#REF!"}},{"$error":"#REF!"},{"$error":"#REF!"},{"$error":"#REF!"},{"$error":"#REF!"},"Hombre","30-34",{"$f":"'Pob x Genero'!#REF!","v":{"$error":"#REF!"}},896]
[{"$f":"A10370","v":{"$error":"#REF!"}},{"$error":"#REF!"},{"$error":"#REF!"},{"$error":"#REF!"},{"$error":"#REF!"},"Hombre","30-34",{"$f":"'Pob x Genero'!#REF!","v":{"$error":"#REF!"}},919]
[{"$f":"A10424","v":{"$error":"#REF!"}},{"$error":"#REF!"},{"$error":"#REF!"},{"$error":"#REF!"},{"$error":"#REF!"},"Hombre","30-34",{"$f":"'Pob x Genero'!#REF!","v":{"$error":"#REF!"}},973]
[{"$f":"A10434","v":{"$error":"#REF!"}},{"$error":"#REF!"},{"$error":"#REF!"},{"$error":"#REF!"},{"$error":"#REF!"},"Hombre","30-34",{"$f":"'Pob x Genero'!#REF!","v":{"$error":"#REF!"}},983]
[{"$f":"A10473","v":{"$error":"#REF!"}},{"$error":"#REF!"},{"$error":"#REF!"},{"$error":"#REF!"},{"$error":"#REF!"},"Hombre","30-34",{"$f":"'Pob x Genero'!#REF!","v":{"$error":"#REF!"}},1022]
[{"$f":"A10516","v":{"$error":"#REF!"}},{"$error":"#REF!"},{"$error":"#REF!"},{"$error":"#REF!"},{"$error":"#REF!"},"Hombre","30-34",{"$f":"'Pob x Genero'!#REF!","v":{"$error":"#REF!"}},1065]
[{"$f":"A10555","v":{"$error":"#REF!"}},{"$error":"#REF!"},{"$error":"#REF!"},{"$error":"#REF!"},{"$error":"#REF!"},"Hombre","30-34",{"$f":"'Pob x Genero'!#REF!","v":{"$error":"#REF!"}},1104]
[{"$f":"A10593","v":{"$error":"#REF!"}},{"$error":"#REF!"},{"$error":"#REF!"},{"$error":"#REF!"},{"$error":"#REF!"},"Hombre","30-34",{"$f":"'Pob x Genero'!#REF!","v":{"$error":"#REF!"}},1142]
[{"$f":"A10603","v":{"$error":"#REF!"}},{"$error":"#REF!"},{"$error":"#REF!"},{"$error":"#REF!"},{"$error":"#REF!"},"Hombre","30-34",{"$f":"'Pob x Genero'!#REF!","v":{"$error":"#REF!"}},1152]
[{"$f":"A10642","v":{"$error":"#REF!"}},{"$error":"#REF!"},{"$error":"#REF!"},{"$error":"#REF!"},{"$error":"#REF!"},"Hombre","30-34",{"$f":"'Pob x Genero'!#REF!","v":{"$error":"#REF!"}},1191]
[{"$f":"A10690","v":{"$error":"#REF!"}},{"$error":"#REF!"},{"$error":"#REF!"},{"$error":"#REF!"},{"$error":"#REF!"},"Hombre","30-34",{"$f":"'Pob x Genero'!#REF!","v":{"$error":"#REF!"}},1239]
[{"$f":"A10723","v":{"$error":"#REF!"}},{"$error":"#REF!"},{"$error":"#REF!"},{"$error":"#REF!"},{"$error":"#REF!"},"Hombre","30-34",{"$f":"'Pob x Genero'!#REF!","v":{"$error":"#REF!"}},1272]
[{"$f":"A10729","v":{"$error":"#REF!"}},{"$error":"#REF!"},{"$error":"#REF!"},{"$error":"#REF!"},{"$error":"#REF!"},"Hombre","30-34",{"$f":"'Pob x Genero'!#REF!","v":{"$error":"#REF!"}},1278]
[{"$f":"A10772","v":{"$error":"#REF!"}},{"$error":"#REF!"},{"$error":"#REF!"},{"$error":"#REF!"},{"$error":"#REF!"},"Hombre","30-34",{"$f":"'Pob x Genero'!#REF!","v":{"$error":"#REF!"}},1321]
[{"$f":"A10825","v":{"$error":"#REF!"}},{"$error":"#REF!"},{"$error":"#REF!"},{"$error":"#REF!"},{"$error":"#REF!"},"Hombre","30-34",{"$f":"'Pob x Genero'!#REF!","v":{"$error":"#REF!"}},1374]
[{"$f":"A10849","v":{"$error":"#REF!"}},{"$error":"#REF!"},{"$error":"#REF!"},{"$error":"#REF!"},{"$error":"#REF!"},"Hombre","30-34",{"$f":"'Pob x Genero'!#REF!","v":{"$error":"#REF!"}},1398]
[{"$f":"A10859","v":{"$error":"#REF!"}},{"$error":"#REF!"},{"$error":"#REF!"},{"$error":"#REF!"},{"$error":"#REF!"},"Hombre","30-34",{"$f":"'Pob x Genero'!#REF!","v":{"$error":"#REF!"}},1408]
[{"$f":"A10898","v":{"$error":"#REF!"}},{"$error":"#REF!"},{"$error":"#REF!"},{"$error":"#REF!"},{"$error":"#REF!"},"Hombre","30-34",{"$f":"'Pob x Genero'!#REF!","v":{"$error":"#REF!"}},1447]
[{"$f":"A10941","v":{"$error":"#REF!"}},{"$error":"#REF!"},{"$error":"#REF!"},{"$error":"#REF!"},{"$error":"#REF!"},"Hombre","30-34",{"$f":"'Pob x Genero'!#REF!","v":{"$error":"#REF!"}},1490]
[{"$f":"A10978","v":{"$error":"#REF!"}},{"$error":"#REF!"},{"$error":"#REF!"},{"$error":"#REF!"},{"$error":"#REF!"},"Hombre","30-34",{"$f":"'Pob x Genero'!#REF!","v":{"$error":"#REF!"}},1527]
[{"$f":"A11018","v":{"$error":"#REF!"}},{"$error":"#REF!"},{"$error":"#REF!"},{"$error":"#REF!"},{"$error":"#REF!"},"Hombre","30-34",{"$f":"'Pob x Genero'!#REF!","v":{"$error":"#REF!"}},1567]
[{"$f":"A11028","v":{"$error":"#REF!"}},{"$error":"#REF!"},{"$error":"#REF!"},{"$error":"#REF!"},{"$error":"#REF!"},"Hombre","30-34",{"$f":"'Pob x Genero'!#REF!","v":{"$error":"#REF!"}},1577]
[{"$f":"A11067","v":{"$error":"#REF!"}},{"$error":"#REF!"},{"$error":"#REF!"},{"$error":"#REF!"},{"$error":"#REF!"},"Hombre","30-34",{"$f":"'Pob x Genero'!#REF!","v":{"$error":"#REF!"}},1616]
[{"$f":"A11113","v":{"$error":"#REF!"}},{"$error":"#REF!"},{"$error":"#REF!"},{"$error":"#REF!"},{"$error":"#REF!"},"Hombre","30-34",{"$f":"'Pob x Genero'!#REF!","v":{"$error":"#REF!"}},1662]
[{"$f":"A11148","v":{"$error":"#REF!"}},{"$error":"#REF!"},{"$error":"#REF!"},{"$error":"#REF!"},{"$error":"#REF!"},"Hombre","30-34",{"$f":"'Pob x Genero'!#REF!","v":{"$error":"#REF!"}},1697]
[{"$f":"A11154","v":{"$error":"#REF!"}},{"$error":"#REF!"},{"$error":"#REF!"},{"$error":"#REF!"},{"$error":"#REF!"},"Hombre","30-34",{"$f":"'Pob x Genero'!#REF!","v":{"$error":"#REF!"}},1703]
[{"$f":"A11197","v":{"$error":"#REF!"}},{"$error":"#REF!"},{"$error":"#REF!"},{"$error":"#REF!"},{"$error":"#REF!"},"Hombre","30-34",{"$f":"'Pob x Genero'!#REF!","v":{"$error":"#REF!"}},1746]
[{"$f":"A11248","v":{"$error":"#REF!"}},{"$error":"#REF!"},{"$error":"#REF!"},{"$error":"#REF!"},{"$error":"#REF!"},"Hombre","30-34",{"$f":"'Pob x Genero'!#REF!","v":{"$error":"#REF!"}},1797]
[{"$f":"A11274","v":{"$error":"#REF!"}},{"$error":"#REF!"},{"$error":"#REF!"},{"$error":"#REF!"},{"$error":"#REF!"},"Hombre","30-34",{"$f":"'Pob x Genero'!#REF!","v":{"$error":"#REF!"}},1823]
[{"$f":"A11317","v":{"$error":"#REF!"}},{"$error":"#REF!"},{"$error":"#REF!"},{"$error":"#REF!"},{"$error":"#REF!"},"Hombre","30-34",{"$f":"'Pob x Genero'!#REF!","v":{"$error":"#REF!"}},1866]
[{"$f":"A11323","v":{"$error":"#REF!"}},{"$error":"#REF!"},{"$error":"#REF!"},{"$error":"#REF!"},{"$error":"#REF!"},"Hombre","30-34",{"$f":"'Pob x Genero'!#REF!","v":{"$error":"#REF!"}},1872]
[{"$f":"A11366","v":{"$error":"#REF!"}},{"$error":"#REF!"},{"$error":"#REF!"},{"$error":"#REF!"},{"$error":"#REF!"},"Hombre","35-39",{"$f":"'Pob x Genero'!#REF!","v":{"$error":"#REF!"}},25]
[{"$f":"A11401","v":{"$error":"#REF!"}},{"$error":"#REF!"},{"$error":"#REF!"},{"$error":"#REF!"},{"$error":"#REF!"},"Hombre","35-39",{"$f":"'Pob x Genero'!#REF!","v":{"$error":"#REF!"}},60]
[{"$f":"A11443","v":{"$error":"#REF!"}},{"$error":"#REF!"},{"$error":"#REF!"},{"$error":"#REF!"},{"$error":"#REF!"},"Hombre","35-39",{"$f":"'Pob x Genero'!#REF!","v":{"$error":"#REF!"}},102]
[{"$f":"A11453","v":{"$error":"#REF!"}},{"$error":"#REF!"},{"$error":"#REF!"},{"$error":"#REF!"},{"$error":"#REF!"},"Hombre","35-39",{"$f":"'Pob x Genero'!#REF!","v":{"$error":"#REF!"}},112]
[{"$f":"A11492","v":{"$error":"#REF!"}},{"$error":"#REF!"},{"$error":"#REF!"},{"$error":"#REF!"},{"$error":"#REF!"},"Hombre","35-39",{"$f":"'Pob x Genero'!#REF!","v":{"$error":"#REF!"}},151]
[{"$f":"A11536","v":{"$error":"#REF!"}},{"$error":"#REF!"},{"$error":"#REF!"},{"$error":"#REF!"},{"$error":"#REF!"},"Hombre","35-39",{"$f":"'Pob x Genero'!#REF!","v":{"$error":"#REF!"}},195]
[{"$f":"A11573","v":{"$error":"#REF!"}},{"$error":"#REF!"},{"$error":"#REF!"},{"$error":"#REF!"},{"$error":"#REF!"},"Hombre","35-39",{"$f":"'Pob x Genero'!#REF!","v":{"$error":"#REF!"}},232]
[{"$f":"A11612","v":{"$error":"#REF!"}},{"$error":"#REF!"},{"$error":"#REF!"},{"$error":"#REF!"},{"$error":"#REF!"},"Hombre","35-39",{"$f":"'Pob x Genero'!#REF!","v":{"$error":"#REF!"}},271]
[{"$f":"A11622","v":{"$error":"#REF!"}},{"$error":"#REF!"},{"$error":"#REF!"},{"$error":"#REF!"},{"$error":"#REF!"},"Hombre","35-39",{"$f":"'Pob x Genero'!#REF!","v":{"$error":"#REF!"}},281]
[{"$f":"A11671","v":{"$error":"#REF!"}},{"$error":"#REF!"},{"$error":"#REF!"},{"$error":"#REF!"},{"$error":"#REF!"},"Hombre","35-39",{"$f":"'Pob x Genero'!#REF!","v":{"$error":"#REF!"}},330]
[{"$f":"A11699","v":"040123"},"AREQUIPA","AREQUIPA","AREQUIPA","TIABAYA","Hombre","35-39",{"$f":"'Pob x Genero'!CZ31","v":740},358]
[{"$f":"A11742","v":"040502"},"AREQUIPA","AREQUIPA","CAYLLOMA","ACHOMA",{"$f":"F13631","v":"Hombre"},"35-39",{"$f":"'Pob x Genero'!CZ74","v":21},401]
[{"$f":"A11748","v":"040508"},"AREQUIPA","AREQUIPA","CAYLLOMA","HUANCA","Hombre","35-39",{"$f":"'Pob x Genero'!CZ80","v":38},407]
[{"$f":"A11787","v":{"$error":"#REF!"}},{"$error":"#REF!"},{"$error":"#REF!"},{"$error":"#REF!"},{"$error":"#REF!"},"Hombre","35-39",{"$f":"'Pob x Genero'!#REF!","v":{"$error":"#REF!"}},446]
[{"$f":"A11824","v":{"$error":"#REF!"}},{"$error":"#REF!"},{"$error":"#REF!"},{"$error":"#REF!"},{"$error":"#REF!"},"Hombre","35-39",{"$f":"'Pob x Genero'!#REF!","v":{"$error":"#REF!"}},483]
[{"$f":"A11868","v":{"$error":"#REF!"}},{"$error":"#REF!"},{"$error":"#REF!"},{"$error":"#REF!"},{"$error":"#REF!"},"Hombre","35-39",{"$f":"'Pob x Genero'!#REF!","v":{"$error":"#REF!"}},527]
[{"$f":"A11878","v":{"$error":"#REF!"}},{"$error":"#REF!"},{"$error":"#REF!"},{"$error":"#REF!"},{"$error":"#REF!"},"Hombre","35-39",{"$f":"'Pob x Genero'!#REF!","v":{"$error":"#REF!"}},537]
[{"$f":"A11917","v":{"$error":"#REF!"}},{"$error":"#REF!"},{"$error":"#REF!"},{"$error":"#REF!"},{"$error":"#REF!"},"Hombre","35-39",{"$f":"'Pob x Genero'!#REF!","v":{"$error":"#REF!"}},576]
[{"$f":"A11959","v":{"$error":"#REF!"}},{"$error":"#REF!"},{"$error":"#REF!"},{"$error":"#REF!"},{"$error":"#REF!"},"Hombre","35-39",{"$f":"'Pob x Genero'!#REF!","v":{"$error":"#REF!"}},618]
[{"$f":"A11998","v":{"$error":"#REF!"}},{"$error":"#REF!"},{"$error":"#REF!"},{"$error":"#REF!"},{"$error":"#REF!"},{"$f":"F13887","v":"Hombre"},"35-39",{"$f":"'Pob x Genero'!#REF!","v":{"$error":"#REF!"}},657]
[{"$f":"A12037","v":{"$error":"#REF!"}},{"$error":"#REF!"},{"$error":"#REF!"},{"$error":"#REF!"},{"$error":"#REF!"},"Hombre","35-39",{"$f":"'Pob x Genero'!#REF!","v":{"$error":"#REF!"}},696]
[{"$f":"A12047","v":{"$error":"#REF!"}},{"$error":"#REF!"},{"$error":"#REF!"},{"$error":"#REF!"},{"$error":"#REF!"},"Hombre",{"$f":"G13936","v":"35-39"},{"$f":"'Pob x Genero'!#REF!","v":{"$error":"#REF!"}},706]
[{"$f":"A12086","v":{"$error":"#REF!"}},{"$error":"#REF!"},{"$error":"#REF!"},{"$error":"#REF!"},{"$error":"#REF!"},"Hombre","35-39",{"$f":"'Pob x Genero'!#REF!","v":{"$error":"#REF!"}},745]
[{"$f":"A12112","v":{"$error":"#REF!"}},{"$error":"#REF!"},{"$error":"#REF!"},{"$error":"#REF!"},{"$error":"#REF!"},"Hombre","35-39",{"$f":"'Pob x Genero'!#REF!","v":{"$error":"#REF!"}},771]
[{"$f":"A12167","v":{"$error":"#REF!"}},{"$error":"#REF!"},{"$error":"#REF!"},{"$error":"#REF!"},{"$error":"#REF!"},"Hombre","35-39",{"$f":"'Pob x Genero'!#REF!","v":{"$error":"#REF!"}},826]
[{"$f":"A12173","v":{"$error":"#REF!"}},{"$error":"#REF!"},{"$error":"#REF!"},{"$error":"#REF!"},{"$error":"#REF!"},"Hombre","35-39",{"$f":"'Pob x Genero'!#REF!","v":{"$error":"#REF!"}},832]
[{"$f":"A12212","v":{"$error":"#REF!"}},{"$error":"#REF!"},{"$error":"#REF!"},{"$error":"#REF!"},{"$error":"#REF!"},"Hombre","35-39",{"$f":"'Pob x Genero'!#REF!","v":{"$error":"#REF!"}},871]
[{"$f":"A12247","v":{"$error":"#REF!"}},{"$error":"#REF!"},{"$error":"#REF!"},{"$error":"#REF!"},{"$error":"#REF!"},"Hombre","35-39",{"$f":"'Pob x Genero'!#REF!","v":{"$error":"#REF!"}},906]
[{"$f":"A12293","v":{"$error":"#REF!"}},{"$error":"#REF!"},{"$error":"#REF!"},{"$error":"#REF!"},{"$error":"#REF!"},"Hombre","35-39",{"$f":"'Pob x Genero'!#REF!","v":{"$error":"#REF!"}},952]
[{"$f":"A12303","v":{"$error":"#REF!"}},{"$error":"#REF!"},{"$error":"#REF!"},{"$error":"#REF!"},{"$error":"#REF!"},"Hombre",{"$f":"G14192","v":"35-39"},{"$f":"'Pob x Genero'!#REF!","v":{"$error":"#REF!"}},962]
[{"$f":"A12342","v":{"$error":"#REF!"}},{"$error":"#REF!"},{"$error":"#REF!"},{"$error":"#REF!"},{"$error":"#REF!"},"Hombre","35-39",{"$f":"'Pob x Genero'!#REF!","v":{"$error":"#REF!"}},1001]
[{"$f":"A12382","v":{"$error":"#REF!"}},{"$error":"#REF!"},{"$error":"#REF!"},{"$error":"#REF!"},{"$error":"#REF!"},{"$f":"F14271","v":"Hombre"},"35-39",{"$f":"'Pob x Genero'!#REF!","v":{"$error":"#REF!"}},1041]
[{"$f":"A12423","v":{"$error":"#REF!"}},{"$error":"#REF!"},{"$error":"#REF!"},{"$error":"#REF!"},{"$error":"#REF!"},"Hombre","35-39",{"$f":"'Pob x Genero'!#REF!","v":{"$error":"#REF!"}},1082]
[{"$f":"A12462","v":{"$error":"#REF!"}},{"$error":"#REF!"},{"$error":"#REF!"},{"$error":"#REF!"},{"$error":"#REF!"},"Hombre","35-39",{"$f":"'Pob x Genero'!#REF!","v":{"$error":"#REF!"}},1121]
[{"$f":"A12472","v":{"$error":"#REF!"}},{"$error":"#REF!"},{"$error":"#REF!"},{"$error":"#REF!"},{"$error":"#REF!"},"Hombre","35-39",{"$f":"'Pob x Genero'!#REF!","v":{"$error":"#REF!"}},1131]
[{"$f":"A12511","v":{"$error":"#REF!"}},{"$error":"#REF!"},{"$error":"#REF!"},{"$error":"#REF!"},{"$error":"#REF!"},"Hombre","35-39",{"$f":"'Pob x Genero'!#REF!","v":{"$error":"#REF!"}},1170]
[{"$f":"A12535","v":{"$error":"#REF!"}},{"$error":"#REF!"},{"$error":"#REF!"},{"$error":"#REF!"},{"$error":"#REF!"},"Hombre","35-39",{"$f":"'Pob x Genero'!#REF!","v":{"$error":"#REF!"}},1194]
[{"$f":"A12592","v":{"$error":"#REF!"}},{"$error":"#REF!"},{"$error":"#REF!"},{"$error":"#REF!"},{"$error":"#REF!"},"Hombre","35-39",{"$f":"'Pob x Genero'!#REF!","v":{"$error":"#REF!"}},1251]
[{"$f":"A12598","v":{"$error":"#REF!"}},{"$error":"#REF!"},{"$error":"#REF!"},{"$error":"#REF!"},{"$error":"#REF!"},"Hombre","35-39",{"$f":"'Pob x Genero'!#REF!","v":{"$error":"#REF!"}},1257]
[{"$f":"A12637","v":{"$error":"#REF!"}},{"$error":"#REF!"},{"$error":"#REF!"},{"$error":"#REF!"},{"$error":"#REF!"},"Hombre","35-39",{"$f":"'Pob x Genero'!#REF!","v":{"$error":"#REF!"}},1296]
[{"$f":"A12670","v":{"$error":"#REF!"}},{"$error":"#REF!"},{"$error":"#REF!"},{"$error":"#REF!"},{"$error":"#REF!"},"Hombre","35-39",{"$f":"'Pob x Genero'!#REF!","v":{"$error":"#REF!"}},1329]
[{"$f":"A12718","v":{"$error":"#REF!"}},{"$error":"#REF!"},{"$error":"#REF!"},{"$error":"#REF!"},{"$error":"#REF!"},"Hombre","35-39",{"$f":"'Pob x Genero'!#REF!","v":{"$error":"#REF!"}},1377]
[{"$f":"A12728","v":{"$error":"#REF!"}},{"$error":"#REF!"},{"$error":"#REF!"},{"$error":"#REF!"},{"$error":"#REF!"},"Hombre","35-39",{"$f":"'Pob x Genero'!#REF!","v":{"$error":"#REF!"}},1387]
[{"$f":"A12767","v":{"$error":"#REF!"}},{"$error":"#REF!"},{"$error":"#REF!"},{"$error":"#REF!"},{"$error":"#REF!"},"Hombre","35-39",{"$f":"'Pob x Genero'!#REF!","v":{"$error":"#REF!"}},1426]
[{"$f":"A12805","v":{"$error":"#REF!"}},{"$error":"#REF!"},{"$error":"#REF!"},{"$error":"#REF!"},{"$error":"#REF!"},"Hombre","35-39",{"$f":"'Pob x Genero'!#REF!","v":{"$error":"#REF!"}},1464]
[{"$f":"A12848","v":{"$error":"#REF!"}},{"$error":"#REF!"},{"$error":"#REF!"},{"$error":"#REF!"},{"$error":"#REF!"},"Hombre","35-39",{"$f":"'Pob x Genero'!#REF!","v":{"$error":"#REF!"}},1507]
[{"$f":"A12887","v":{"$error":"#REF!"}},{"$error":"#REF!"},{"$error":"#REF!"},{"$error":"#REF!"},{"$error":"#REF!"},"Hombre","35-39",{"$f":"'Pob x Genero'!#REF!","v":{"$error":"#REF!"}},1546]
[{"$f":"A12893","v":{"$error":"#REF!"}},{"$error":"#REF!"},{"$error":"#REF!"},{"$error":"#REF!"},{"$error":"#REF!"},"Hombre","35-39",{"$f":"'Pob x Genero'!#REF!","v":{"$error":"#REF!"}},1552]
[{"$f":"A12936","v":{"$error":"#REF!"}},{"$error":"#REF!"},{"$error":"#REF!"},{"$error":"#REF!"},{"$error":"#REF!"},"Hombre","35-39",{"$f":"'Pob x Genero'!#REF!","v":{"$error":"#REF!"}},1595]
[{"$f":"A12958","v":{"$error":"#REF!"}},{"$error":"#REF!"},{"$error":"#REF!"},{"$error":"#REF!"},{"$error":"#REF!"},{"$f":"F14847","v":"Hombre"},"35-39",{"$f":"'Pob x Genero'!#REF!","v":{"$error":"#REF!"}},1617]
[{"$f":"A13017","v":{"$error":"#REF!"}},{"$error":"#REF!"},{"$error":"#REF!"},{"$error":"#REF!"},{"$error":"#REF!"},"Hombre","35-39",{"$f":"'Pob x Genero'!#REF!","v":{"$error":"#REF!"}},1676]
[{"$f":"A13023","v":{"$error":"#REF!"}},{"$error":"#REF!"},{"$error":"#REF!"},{"$error":"#REF!"},{"$error":"#REF!"},"Hombre","35-39",{"$f":"'Pob x Genero'!#REF!","v":{"$error":"#REF!"}},1682]
[{"$f":"A13062","v":{"$error":"#REF!"}},{"$error":"#REF!"},{"$error":"#REF!"},{"$error":"#REF!"},{"$error":"#REF!"},"Hombre","35-39",{"$f":"'Pob x Genero'!#REF!","v":{"$error":"#REF!"}},1721]
[{"$f":"A13093","v":{"$error":"#REF!"}},{"$error":"#REF!"},{"$error":"#REF!"},{"$error":"#REF!"},{"$error":"#REF!"},"Hombre","35-39",{"$f":"'Pob x Genero'!#REF!","v":{"$error":"#REF!"}},1752]
[{"$f":"A13143","v":{"$error":"#REF!"}},{"$error":"#REF!"},{"$error":"#REF!"},{"$error":"#REF!"},{"$error":"#REF!"},"Hombre","35-39",{"$f":"'Pob x Genero'!#REF!","v":{"$error":"#REF!"}},1802]
[{"$f":"A13153","v":{"$error":"#REF!"}},{"$error":"#REF!"},{"$error":"#REF!"},{"$error":"#REF!"},{"$error":"#REF!"},"Hombre","35-39",{"$f":"'Pob x Genero'!#REF!","v":{"$error":"#REF!"}},1812]
[{"$f":"A13192","v":{"$error":"#REF!"}},{"$error":"#REF!"},{"$error":"#REF!"},{"$error":"#REF!"},{"$error":"#REF!"},"Hombre","35-39",{"$f":"'Pob x Genero'!#REF!","v":{"$error":"#REF!"}},1851]
[{"$f":"A13228","v":{"$error":"#REF!"}},{"$error":"#REF!"},{"$error":"#REF!"},{"$error":"#REF!"},{"$error":"#REF!"},"Hombre","35-39",{"$f":"'Pob x Genero'!#REF!","v":{"$error":"#REF!"}},1887]
[{"$f":"A13273","v":{"$error":"#REF!"}},{"$error":"#REF!"},{"$error":"#REF!"},{"$error":"#REF!"},{"$error":"#REF!"},"Hombre","40-44",{"$f":"'Pob x Genero'!#REF!","v":{"$error":"#REF!"}},42]
[{"$f":"A13312","v":{"$error":"#REF!"}},{"$error":"#REF!"},{"$error":"#REF!"},{"$error":"#REF!"},{"$error":"#REF!"},"Hombre","40-44",{"$f":"'Pob x Genero'!#REF!","v":{"$error":"#REF!"}},81]
[{"$f":"A13318","v":{"$error":"#REF!"}},{"$error":"#REF!"},{"$error":"#REF!"},{"$error":"#REF!"},{"$error":"#REF!"},"Hombre","40-44",{"$f":"'Pob x Genero'!#REF!","v":{"$error":"#REF!"}},87]
[{"$f":"A13361","v":{"$error":"#REF!"}},{"$error":"#REF!"},{"$error":"#REF!"},{"$error":"#REF!"},{"$error":"#REF!"},{"$f":"F15250","v":"Hombre"},{"$f":"G15250","v":"40-44"},{"$f":"'Pob x Genero'!#REF!","v":{"$error":"#REF!"}},130]
[{"$f":"A13413","v":{"$error":"#REF!"}},{"$error":"#REF!"},{"$error":"#REF!"},{"$error":"#REF!"},{"$error":"#REF!"},"Hombre","40-44",{"$f":"'Pob x Genero'!#REF!","v":{"$error":"#REF!"}},182]
[{"$f":"A13442","v":{"$error":"#REF!"}},{"$error":"#REF!"},{"$error":"#REF!"},{"$error":"#REF!"},{"$error":"#REF!"},"Hombre","40-44",{"$f":"'Pob x Genero'!#REF!","v":{"$error":"#REF!"}},211]
[{"$f":"A13448","v":{"$error":"#REF!"}},{"$error":"#REF!"},{"$error":"#REF!"},{"$error":"#REF!"},{"$error":"#REF!"},"Hombre","40-44",{"$f":"'Pob x Genero'!#REF!","v":{"$error":"#REF!"}},217]
[{"$f":"A13487","v":{"$error":"#REF!"}},{"$error":"#REF!"},{"$error":"#REF!"},{"$error":"#REF!"},{"$error":"#REF!"},"Hombre","40-44",{"$f":"'Pob x Genero'!#REF!","v":{"$error":"#REF!"}},256]
[{"$f":"A13516","v":{"$error":"#REF!"}},{"$error":"#REF!"},{"$error":"#REF!"},{"$error":"#REF!"},{"$error":"#REF!"},"Hombre","40-44",{"$f":"'Pob x Genero'!#REF!","v":{"$error":"#REF!"}},285]
[{"$f":"A13568","v":"040102"},"AREQUIPA","AREQUIPA","AREQUIPA","ALTO SELVA ALEGRE","Hombre","40-44",{"$f":"'Pob x Genero'!DA10","v":3225},337]
[{"$f":"A13607","v":"040304"},"AREQUIPA","AREQUIPA","CARAVELI","ATIQUIPA","Hombre","40-44",{"$f":"'Pob x Genero'!DA49","v":18},376]
[{"$f":"A13617","v":"040401"},"AREQUIPA","AREQUIPA","CASTILLA","APLAO",{"$f":"F15506","v":"Hombre"},{"$f":"G15506","v":"40-44"},{"$f":"'Pob x Genero'!DA59","v":270},386]
[{"$f":"A13651","v":"040601"},"AREQUIPA","AREQUIPA","CONDESUYOS","CHUQUIBAMBA","Hombre","40-44",{"$f":"'Pob x Genero'!DA93","v":102},420]
[{"$f":"A13698","v":{"$error":"#REF!"}},{"$error":"#REF!"},{"$error":"#REF!"},{"$error":"#REF!"},{"$error":"#REF!"},"Hombre","40-44",{"$f":"'Pob x Genero'!#REF!","v":{"$error":"#REF!"}},467]
[{"$f":"A13737","v":{"$error":"#REF!"}},{"$error":"#REF!"},{"$error":"#REF!"},{"$error":"#REF!"},{"$error":"#REF!"},"Hombre","40-44",{"$f":"'Pob x Genero'!#REF!","v":{"$error":"#REF!"}},506]
[{"$f":"A13743","v":{"$error":"#REF!"}},{"$error":"#REF!"},{"$error":"#REF!"},{"$error":"#REF!"},{"$error":"#REF!"},"Hombre","40-44",{"$f":"'Pob x Genero'!#REF!","v":{"$error":"#REF!"}},512]
[{"$f":"A13786","v":{"$error":"#REF!"}},{"$error":"#REF!"},{"$error":"#REF!"},{"$error":"#REF!"},{"$error":"#REF!"},"Hombre","40-44",{"$f":"'Pob x Genero'!#REF!","v":{"$error":"#REF!"}},555]
[{"$f":"A13836","v":{"$error":"#REF!"}},{"$error":"#REF!"},{"$error":"#REF!"},{"$error":"#REF!"},{"$error":"#REF!"},"Hombre","40-44",{"$f":"'Pob x Genero'!#REF!","v":{"$error":"#REF!"}},605]
[{"$f":"A13867","v":{"$error":"#REF!"}},{"$error":"#REF!"},{"$error":"#REF!"},{"$error":"#REF!"},{"$error":"#REF!"},"Hombre","40-44",{"$f":"'Pob x Genero'!#REF!","v":{"$error":"#REF!"}},636]
[{"$f":"A13906","v":{"$error":"#REF!"}},{"$error":"#REF!"},{"$error":"#REF!"},{"$error":"#REF!"},{"$error":"#REF!"},"Hombre","40-44",{"$f":"'Pob x Genero'!#REF!","v":{"$error":"#REF!"}},675]
[{"$f":"A13912","v":{"$error":"#REF!"}},{"$error":"#REF!"},{"$error":"#REF!"},{"$error":"#REF!"},{"$error":"#REF!"},"Hombre","40-44",{"$f":"'Pob x Genero'!#REF!","v":{"$error":"#REF!"}},681]
[{"$f":"A13971","v":{"$error":"#REF!"}},{"$error":"#REF!"},{"$error":"#REF!"},{"$error":"#REF!"},{"$error":"#REF!"},"Hombre","40-44",{"$f":"'Pob x Genero'!#REF!","v":{"$error":"#REF!"}},740]
[{"$f":"A13993","v":{"$error":"#REF!"}},{"$error":"#REF!"},{"$error":"#REF!"},{"$error":"#REF!"},{"$error":"#REF!"},"Hombre","40-44",{"$f":"'Pob x Genero'!#REF!","v":{"$error":"#REF!"}},762]
[{"$f":"A14032","v":{"$error":"#REF!"}},{"$error":"#REF!"},{"$error":"#REF!"},{"$error":"#REF!"},{"$error":"#REF!"},"Hombre","40-44",{"$f":"'Pob x Genero'!#REF!","v":{"$error":"#REF!"}},801]
[{"$f":"A14042","v":{"$error":"#REF!"}},{"$error":"#REF!"},{"$error":"#REF!"},{"$error":"#REF!"},{"$error":"#REF!"},"Hombre","40-44",{"$f":"'Pob x Genero'!#REF!","v":{"$error":"#REF!"}},811]
[{"$f":"A14081","v":{"$error":"#REF!"}},{"$error":"#REF!"},{"$error":"#REF!"},{"$error":"#REF!"},{"$error":"#REF!"},"Hombre","40-44",{"$f":"'Pob x Genero'!#REF!","v":{"$error":"#REF!"}},850]
[{"$f":"A14124","v":{"$error":"#REF!"}},{"$error":"#REF!"},{"$error":"#REF!"},{"$error":"#REF!"},{"$error":"#REF!"},"Hombre","40-44",{"$f":"'Pob x Genero'!#REF!","v":{"$error":"#REF!"}},893]
[{"$f":"A14162","v":{"$error":"#REF!"}},{"$error":"#REF!"},{"$error":"#REF!"},{"$error":"#REF!"},{"$error":"#REF!"},"Hombre","40-44",{"$f":"'Pob x Genero'!#REF!","v":{"$error":"#REF!"}},931]
[{"$f":"A14201","v":{"$error":"#REF!"}},{"$error":"#REF!"},{"$error":"#REF!"},{"$error":"#REF!"},{"$error":"#REF!"},"Hombre","40-44",{"$f":"'Pob x Genero'!#REF!","v":{"$error":"#REF!"}},970]
[{"$f":"A14211","v":{"$error":"#REF!"}},{"$error":"#REF!"},{"$error":"#REF!"},{"$error":"#REF!"},{"$error":"#REF!"},"Hombre","40-44",{"$f":"'Pob x Genero'!#REF!","v":{"$error":"#REF!"}},980]
[{"$f":"A14259","v":{"$error":"#REF!"}},{"$error":"#REF!"},{"$error":"#REF!"},{"$error":"#REF!"},{"$error":"#REF!"},"Hombre","40-44",{"$f":"'Pob x Genero'!#REF!","v":{"$error":"#REF!"}},1028]
[{"$f":"A14292","v":{"$error":"#REF!"}},{"$error":"#REF!"},{"$error":"#REF!"},{"$error":"#REF!"},{"$error":"#REF!"},"Hombre","40-44",{"$f":"'Pob x Genero'!#REF!","v":{"$error":"#REF!"}},1061]
[{"$f":"A14331","v":{"$error":"#REF!"}},{"$error":"#REF!"},{"$error":"#REF!"},{"$error":"#REF!"},{"$error":"#REF!"},"Hombre","40-44",{"$f":"'Pob x Genero'!#REF!","v":{"$error":"#REF!"}},1100]
[{"$f":"A14337","v":{"$error":"#REF!"}},{"$error":"#REF!"},{"$error":"#REF!"},{"$error":"#REF!"},{"$error":"#REF!"},"Hombre","40-44",{"$f":"'Pob x Genero'!#REF!","v":{"$error":"#REF!"}},1106]
[{"$f":"A14394","v":{"$error":"#REF!"}},{"$error":"#REF!"},{"$error":"#REF!"},{"$error":"#REF!"},{"$error":"#REF!"},"Hombre","40-44",{"$f":"'Pob x Genero'!#REF!","v":{"$error":"#REF!"}},1163]
[{"$f":"A14418","v":{"$error":"#REF!"}},{"$error":"#REF!"},{"$error":"#REF!"},{"$error":"#REF!"},{"$error":"#REF!"},"Hombre","40-44",{"$f":"'Pob x Genero'!#REF!","v":{"$error":"#REF!"}},1187]
[{"$f":"A14457","v":{"$error":"#REF!"}},{"$error":"#REF!"},{"$error":"#REF!"},{"$error":"#REF!"},{"$error":"#REF!"},"Hombre","40-44",{"$f":"'Pob x Genero'!#REF!","v":{"$error":"#REF!"}},1226]
[{"$f":"A14467","v":{"$error":"#REF!"}},{"$error":"#REF!"},{"$error":"#REF!"},{"$error":"#REF!"},{"$error":"#REF!"},"Hombre","40-44",{"$f":"'Pob x Genero'!#REF!","v":{"$error":"#REF!"}},1236]
[{"$f":"A14506","v":{"$error":"#REF!"}},{"$error":"#REF!"},{"$error":"#REF!"},{"$error":"#REF!"},{"$error":"#REF!"},"Hombre","40-44",{"$f":"'Pob x Genero'!#REF!","v":{"$error":"#REF!"}},1275]
[{"$f":"A14547","v":{"$error":"#REF!"}},{"$error":"#REF!"},{"$error":"#REF!"},{"$error":"#REF!"},{"$error":"#REF!"},"Hombre","40-44",{"$f":"'Pob x Genero'!#REF!","v":{"$error":"#REF!"}},1316]
[{"$f":"A14587","v":{"$error":"#REF!"}},{"$error":"#REF!"},{"$error":"#REF!"},{"$error":"#REF!"},{"$error":"#REF!"},"Hombre","40-44",{"$f":"'Pob x Genero'!#REF!","v":{"$error":"#REF!"}},1356]
[{"$f":"A14626","v":{"$error":"#REF!"}},{"$error":"#REF!"},{"$error":"#REF!"},{"$error":"#REF!"},{"$error":"#REF!"},"Hombre","40-44",{"$f":"'Pob x Genero'!#REF!","v":{"$error":"#REF!"}},1395]
[{"$f":"A14636","v":{"$error":"#REF!"}},{"$error":"#REF!"},{"$error":"#REF!"},{"$error":"#REF!"},{"$error":"#REF!"},"Hombre","40-44",{"$f":"'Pob x Genero'!#REF!","v":{"$error":"#REF!"}},1405]
[{"$f":"A14682","v":{"$error":"#REF!"}},{"$error":"#REF!"},{"$error":"#REF!"},{"$error":"#REF!"},{"$error":"#REF!"},"Hombre","40-44",{"$f":"'Pob x Genero'!#REF!","v":{"$error":"#REF!"}},1451]
[{"$f":"A14713","v":{"$error":"#REF!"}},{"$error":"#REF!"},{"$error":"#REF!"},{"$error":"#REF!"},{"$error":"#REF!"},"Hombre","40-44",{"$f":"'Pob x Genero'!#REF!","v":{"$error":"#REF!"}},1482]
[{"$f":"A14756","v":{"$error":"#REF!"}},{"$error":"#REF!"},{"$error":"#REF!"},{"$error":"#REF!"},{"$error":"#REF!"},"Hombre","40-44",{"$f":"'Pob x Genero'!#REF!","v":{"$error":"#REF!"}},1525]
[{"$f":"A14762","v":{"$error":"#REF!"}},{"$error":"#REF!"},{"$error":"#REF!"},{"$error":"#REF!"},{"$error":"#REF!"},"Hombre","40-44",{"$f":"'Pob x Genero'!#REF!","v":{"$error":"#REF!"}},1531]
[{"$f":"A14817","v":{"$error":"#REF!"}},{"$error":"#REF!"},{"$error":"#REF!"},{"$error":"#REF!"},{"$error":"#REF!"},"Hombre","40-44",{"$f":"'Pob x Genero'!#REF!","v":{"$error":"#REF!"}},1586]
[{"$f":"A14843","v":{"$error":"#REF!"}},{"$error":"#REF!"},{"$error":"#REF!"},{"$error":"#REF!"},{"$error":"#REF!"},"Hombre","40-44",{"$f":"'Pob x Genero'!#REF!","v":{"$error":"#REF!"}},1612]
[{"$f":"A14882","v":{"$error":"#REF!"}},{"$error":"#REF!"},{"$error":"#REF!"},{"$error":"#REF!"},{"$error":"#REF!"},"Hombre","40-44",{"$f":"'Pob x Genero'!#REF!","v":{"$error":"#REF!"}},1651]
[{"$f":"A14892","v":{"$error":"#REF!"}},{"$error":"#REF!"},{"$error":"#REF!"},{"$error":"#REF!"},{"$error":"#REF!"},"Hombre","40-44",{"$f":"'Pob x Genero'!#REF!","v":{"$error":"#REF!"}},1661]
[{"$f":"A14931","v":{"$error":"#REF!"}},{"$error":"#REF!"},{"$error":"#REF!"},{"$error":"#REF!"},{"$error":"#REF!"},"Hombre","40-44",{"$f":"'Pob x Genero'!#REF!","v":{"$error":"#REF!"}},1700]
[{"$f":"A14970","v":{"$error":"#REF!"}},{"$error":"#REF!"},{"$error":"#REF!"},{"$error":"#REF!"},{"$error":"#REF!"},"Hombre","40-44",{"$f":"'Pob x Genero'!#REF!","v":{"$error":"#REF!"}},1739]
[{"$f":"A15012","v":{"$error":"#REF!"}},{"$error":"#REF!"},{"$error":"#REF!"},{"$error":"#REF!"},{"$error":"#REF!"},"Hombre","40-44",{"$f":"'Pob x Genero'!#REF!","v":{"$error":"#REF!"}},1781]
[{"$f":"A15051","v":{"$error":"#REF!"}},{"$error":"#REF!"},{"$error":"#REF!"},{"$error":"#REF!"},{"$error":"#REF!"},"Hombre","40-44",{"$f":"'Pob x Genero'!#REF!","v":{"$error":"#REF!"}},1820]
[{"$f":"A15061","v":{"$error":"#REF!"}},{"$error":"#REF!"},{"$error":"#REF!"},{"$error":"#REF!"},{"$error":"#REF!"},"Hombre","40-44",{"$f":"'Pob x Genero'!#REF!","v":{"$error":"#REF!"}},1830]
[{"$f":"A15105","v":{"$error":"#REF!"}},{"$error":"#REF!"},{"$error":"#REF!"},{"$error":"#REF!"},{"$error":"#REF!"},"Hombre","40-44",{"$f":"'Pob x Genero'!#REF!","v":{"$error":"#REF!"}},1874]
[{"$f":"A15138","v":{"$error":"#REF!"}},{"$error":"#REF!"},{"$error":"#REF!"},{"$error":"#REF!"},{"$error":"#REF!"},"Hombre","45-49",{"$f":"'Pob x Genero'!#REF!","v":{"$error":"#REF!"}},17]
[{"$f":"A15181","v":{"$error":"#REF!"}},{"$error":"#REF!"},{"$error":"#REF!"},{"$error":"#REF!"},{"$error":"#REF!"},"Hombre","45-49",{"$f":"'Pob x Genero'!#REF!","v":{"$error":"#REF!"}},60]
[{"$f":"A15187","v":{"$error":"#REF!"}},{"$error":"#REF!"},{"$error":"#REF!"},{"$error":"#REF!"},{"$error":"#REF!"},"Hombre",{"$f":"G17076","v":"45-49"},{"$f":"'Pob x Genero'!#REF!","v":{"$error":"#REF!"}},66]
[{"$f":"A15240","v":{"$error":"#REF!"}},{"$error":"#REF!"},{"$error":"#REF!"},{"$error":"#REF!"},{"$error":"#REF!"},"Hombre","45-49",{"$f":"'Pob x Genero'!#REF!","v":{"$error":"#REF!"}},119]
[{"$f":"A15268","v":{"$error":"#REF!"}},{"$error":"#REF!"},{"$error":"#REF!"},{"$error":"#REF!"},{"$error":"#REF!"},"Hombre","45-49",{"$f":"'Pob x Genero'!#REF!","v":{"$error":"#REF!"}},147]
[{"$f":"A15307","v":{"$error":"#REF!"}},{"$error":"#REF!"},{"$error":"#REF!"},{"$error":"#REF!"},{"$error":"#REF!"},"Hombre","45-49",{"$f":"'Pob x Genero'!#REF!","v":{"$error":"#REF!"}},186]
[{"$f":"A15317","v":{"$error":"#REF!"}},{"$error":"#REF!"},{"$error":"#REF!"},{"$error":"#REF!"},{"$error":"#REF!"},"Hombre","45-49",{"$f":"'Pob x Genero'!#REF!","v":{"$error":"#REF!"}},196]
[{"$f":"A15356","v":{"$error":"#REF!"}},{"$error":"#REF!"},{"$error":"#REF!"},{"$error":"#REF!"},{"$error":"#REF!"},"Hombre","45-49",{"$f":"'Pob x Genero'!#REF!","v":{"$error":"#REF!"}},235]
[{"$f":"A15393","v":{"$error":"#REF!"}},{"$error":"#REF!"},{"$error":"#REF!"},{"$error":"#REF!"},{"$error":"#REF!"},"Hombre","45-49",{"$f":"'Pob x Genero'!#REF!","v":{"$error":"#REF!"}},272]
[{"$f":"A15437","v":{"$error":"#REF!"}},{"$error":"#REF!"},{"$error":"#REF!"},{"$error":"#REF!"},{"$error":"#REF!"},"Hombre","45-49",{"$f":"'Pob x Genero'!#REF!","v":{"$error":"#REF!"}},316]
[{"$f":"A15476","v":"040120"},"AREQUIPA","AREQUIPA","AREQUIPA","SANTA ISABEL DE SIGUAS","Hombre","45-49",{"$f":"'Pob x Genero'!DB28","v":23},355]
[{"$f":"A15486","v":"040201"},"AREQUIPA","AREQUIPA","CAMANA","CAMANA","Hombre","45-49",{"$f":"'Pob x Genero'!DB38","v":386},365]
[{"$f":"A15528","v":"040508"},"AREQUIPA","AREQUIPA","CAYLLOMA","HUANCA","Hombre","45-49",{"$f":"'Pob x Genero'!DB80","v":51},407]
[{"$f":"A15563","v":"040809"},"AREQUIPA","AREQUIPA","LA UNION","TAURIA","Hombre","45-49",{"$f":"'Pob x Genero'!DB115","v":6},442]
[{"$f":"A15606","v":{"$error":"#REF!"}},{"$error":"#REF!"},{"$error":"#REF!"},{"$error":"#REF!"},{"$error":"#REF!"},"Hombre","45-49",{"$f":"'Pob x Genero'!#REF!","v":{"$error":"#REF!"}},485]
[{"$f":"A15612","v":{"$error":"#REF!"}},{"$error":"#REF!"},{"$error":"#REF!"},{"$error":"#REF!"},{"$error":"#REF!"},"Hombre","45-49",{"$f":"'Pob x Genero'!#REF!","v":{"$error":"#REF!"}},491]
[{"$f":"A15663","v":{"$error":"#REF!"}},{"$error":"#REF!"},{"$error":"#REF!"},{"$error":"#REF!"},{"$error":"#REF!"},"Hombre","45-49",{"$f":"'Pob x Genero'!#REF!","v":{"$error":"#REF!"}},542]
[{"$f":"A15693","v":{"$error":"#REF!"}},{"$error":"#REF!"},{"$error":"#REF!"},{"$error":"#REF!"},{"$error":"#REF!"},"Hombre","45-49",{"$f":"'Pob x Genero'!#REF!","v":{"$error":"#REF!"}},572]
[{"$f":"A15732","v":{"$error":"#REF!"}},{"$error":"#REF!"},{"$error":"#REF!"},{"$error":"#REF!"},{"$error":"#REF!"},"Hombre","45-49",{"$f":"'Pob x Genero'!#REF!","v":{"$error":"#REF!"}},611]
[{"$f":"A15742","v":{"$error":"#REF!"}},{"$error":"#REF!"},{"$error":"#REF!"},{"$error":"#REF!"},{"$error":"#REF!"},"Hombre","45-49",{"$f":"'Pob x Genero'!#REF!","v":{"$error":"#REF!"}},621]
[{"$f":"A15781","v":{"$error":"#REF!"}},{"$error":"#REF!"},{"$error":"#REF!"},{"$error":"#REF!"},{"$error":"#REF!"},"Hombre","45-49",{"$f":"'Pob x Genero'!#REF!","v":{"$error":"#REF!"}},660]
[{"$f":"A15816","v":{"$error":"#REF!"}},{"$error":"#REF!"},{"$error":"#REF!"},{"$error":"#REF!"},{"$error":"#REF!"},"Hombre","45-49",{"$f":"'Pob x Genero'!#REF!","v":{"$error":"#REF!"}},695]
[{"$f":"A15862","v":{"$error":"#REF!"}},{"$error":"#REF!"},{"$error":"#REF!"},{"$error":"#REF!"},{"$error":"#REF!"},"Hombre","45-49",{"$f":"'Pob x Genero'!#REF!","v":{"$error":"#REF!"}},741]
[{"$f":"A15901","v":{"$error":"#REF!"}},{"$error":"#REF!"},{"$error":"#REF!"},{"$error":"#REF!"},{"$error":"#REF!"},"Hombre","45-49",{"$f":"'Pob x Genero'!#REF!","v":{"$error":"#REF!"}},780]
[{"$f":"A15911","v":{"$error":"#REF!"}},{"$error":"#REF!"},{"$error":"#REF!"},{"$error":"#REF!"},{"$error":"#REF!"},"Hombre","45-49",{"$f":"'Pob x Genero'!#REF!","v":{"$error":"#REF!"}},790]
[{"$f":"A15951","v":{"$error":"#REF!"}},{"$error":"#REF!"},{"$error":"#REF!"},{"$error":"#REF!"},{"$error":"#REF!"},"Hombre","45-49",{"$f":"'Pob x Genero'!#REF!","v":{"$error":"#REF!"}},830]
[{"$f":"A15988","v":{"$error":"#REF!"}},{"$error":"#REF!"},{"$error":"#REF!"},{"$error":"#REF!"},{"$error":"#REF!"},"Hombre","45-49",{"$f":"'Pob x Genero'!#REF!","v":{"$error":"#REF!"}},867]
[{"$f":"A16031","v":{"$error":"#REF!"}},{"$error":"#REF!"},{"$error":"#REF!"},{"$error":"#REF!"},{"$error":"#REF!"},"Hombre","45-49",{"$f":"'Pob x Genero'!#REF!","v":{"$error":"#REF!"}},910]
[{"$f":"A16037","v":{"$error":"#REF!"}},{"$error":"#REF!"},{"$error":"#REF!"},{"$error":"#REF!"},{"$error":"#REF!"},"Hombre","45-49",{"$f":"'Pob x Genero'!#REF!","v":{"$error":"#REF!"}},916]
[{"$f":"A16080","v":{"$error":"#REF!"}},{"$error":"#REF!"},{"$error":"#REF!"},{"$error":"#REF!"},{"$error":"#REF!"},"Hombre","45-49",{"$f":"'Pob x Genero'!#REF!","v":{"$error":"#REF!"}},959]
[{"$f":"A16104","v":{"$error":"#REF!"}},{"$error":"#REF!"},{"$error":"#REF!"},{"$error":"#REF!"},{"$error":"#REF!"},"Hombre","45-49",{"$f":"'Pob x Genero'!#REF!","v":{"$error":"#REF!"}},983]
[{"$f":"A16157","v":{"$error":"#REF!"}},{"$error":"#REF!"},{"$error":"#REF!"},{"$error":"#REF!"},{"$error":"#REF!"},"Hombre","45-49",{"$f":"'Pob x Genero'!#REF!","v":{"$error":"#REF!"}},1036]
[{"$f":"A16200","v":{"$error":"#REF!"}},{"$error":"#REF!"},{"$error":"#REF!"},{"$error":"#REF!"},{"$error":"#REF!"},"Hombre","45-49",{"$f":"'Pob x Genero'!#REF!","v":{"$error":"#REF!"}},1079]
[{"$f":"A16206","v":{"$error":"#REF!"}},{"$error":"#REF!"},{"$error":"#REF!"},{"$error":"#REF!"},{"$error":"#REF!"},"Hombre","45-49",{"$f":"'Pob x Genero'!#REF!","v":{"$error":"#REF!"}},1085]
[{"$f":"A16239","v":{"$error":"#REF!"}},{"$error":"#REF!"},{"$error":"#REF!"},{"$error":"#REF!"},{"$error":"#REF!"},"Hombre","45-49",{"$f":"'Pob x Genero'!#REF!","v":{"$error":"#REF!"}},1118]
[{"$f":"A16287","v":{"$error":"#REF!"}},{"$error":"#REF!"},{"$error":"#REF!"},{"$error":"#REF!"},{"$error":"#REF!"},"Hombre","45-49",{"$f":"'Pob x Genero'!#REF!","v":{"$error":"#REF!"}},1166]
[{"$f":"A16326","v":{"$error":"#REF!"}},{"$error":"#REF!"},{"$error":"#REF!"},{"$error":"#REF!"},{"$error":"#REF!"},"Hombre","45-49",{"$f":"'Pob x Genero'!#REF!","v":{"$error":"#REF!"}},1205]
[{"$f":"A16336","v":{"$error":"#REF!"}},{"$error":"#REF!"},{"$error":"#REF!"},{"$error":"#REF!"},{"$error":"#REF!"},"Hombre","45-49",{"$f":"'Pob x Genero'!#REF!","v":{"$error":"#REF!"}},1215]
[{"$f":"A16374","v":{"$error":"#REF!"}},{"$error":"#REF!"},{"$error":"#REF!"},{"$error":"#REF!"},{"$error":"#REF!"},"Hombre","45-49",{"$f":"'Pob x Genero'!#REF!","v":{"$error":"#REF!"}},1253]
[{"$f":"A16413","v":{"$error":"#REF!"}},{"$error":"#REF!"},{"$error":"#REF!"},{"$error":"#REF!"},{"$error":"#REF!"},"Hombre","45-49",{"$f":"'Pob x Genero'!#REF!","v":{"$error":"#REF!"}},1292]
[{"$f":"A16456","v":{"$error":"#REF!"}},{"$error":"#REF!"},{"$error":"#REF!"},{"$error":"#REF!"},{"$error":"#REF!"},"Hombre","45-49",{"$f":"'Pob x Genero'!#REF!","v":{"$error":"#REF!"}},1335]
[{"$f":"A16495","v":{"$error":"#REF!"}},{"$error":"#REF!"},{"$error":"#REF!"},{"$error":"#REF!"},{"$error":"#REF!"},"Hombre","45-49",{"$f":"'Pob x Genero'!#REF!","v":{"$error":"#REF!"}},1374]
[{"$f":"A16501","v":{"$error":"#REF!"}},{"$error":"#REF!"},{"$error":"#REF!"},{"$error":"#REF!"},{"$error":"#REF!"},"Hombre","45-49",{"$f":"'Pob x Genero'!#REF!","v":{"$error":"#REF!"}},1380]
[{"$f":"A16559","v":{"$error":"#REF!"}},{"$error":"#REF!"},{"$error":"#REF!"},{"$error":"#REF!"},{"$error":"#REF!"},"Hombre","45-49",{"$f":"'Pob x Genero'!#REF!","v":{"$error":"#REF!"}},1438]
[{"$f":"A16582","v":{"$error":"#REF!"}},{"$error":"#REF!"},{"$error":"#REF!"},{"$error":"#REF!"},{"$error":"#REF!"},"Hombre","45-49",{"$f":"'Pob x Genero'!#REF!","v":{"$error":"#REF!"}},1461]
[{"$f":"A16625","v":{"$error":"#REF!"}},{"$error":"#REF!"},{"$error":"#REF!"},{"$error":"#REF!"},{"$error":"#REF!"},"Hombre","45-49",{"$f":"'Pob x Genero'!#REF!","v":{"$error":"#REF!"}},1504]
[{"$f":"A16631","v":{"$error":"#REF!"}},{"$error":"#REF!"},{"$error":"#REF!"},{"$error":"#REF!"},{"$error":"#REF!"},"Hombre","45-49",{"$f":"'Pob x Genero'!#REF!","v":{"$error":"#REF!"}},1510]
[{"$f":"A16662","v":{"$error":"#REF!"}},{"$error":"#REF!"},{"$error":"#REF!"},{"$error":"#REF!"},{"$error":"#REF!"},"Hombre","45-49",{"$f":"'Pob x Genero'!#REF!","v":{"$error":"#REF!"}},1541]
[{"$f":"A16712","v":{"$error":"#REF!"}},{"$error":"#REF!"},{"$error":"#REF!"},{"$error":"#REF!"},{"$error":"#REF!"},"Hombre","45-49",{"$f":"'Pob x Genero'!#REF!","v":{"$error":"#REF!"}},1591]
[{"$f":"A16751","v":{"$error":"#REF!"}},{"$error":"#REF!"},{"$error":"#REF!"},{"$error":"#REF!"},{"$error":"#REF!"},"Hombre","45-49",{"$f":"'Pob x Genero'!#REF!","v":{"$error":"#REF!"}},1630]
[{"$f":"A16761","v":{"$error":"#REF!"}},{"$error":"#REF!"},{"$error":"#REF!"},{"$error":"#REF!"},{"$error":"#REF!"},"Hombre","45-49",{"$f":"'Pob x Genero'!#REF!","v":{"$error":"#REF!"}},1640]
[{"$f":"A16797","v":{"$error":"#REF!"}},{"$error":"#REF!"},{"$error":"#REF!"},{"$error":"#REF!"},{"$error":"#REF!"},"Hombre","45-49",{"$f":"'Pob x Genero'!#REF!","v":{"$error":"#REF!"}},1676]
[{"$f":"A16838","v":{"$error":"#REF!"}},{"$error":"#REF!"},{"$error":"#REF!"},{"$error":"#REF!"},{"$error":"#REF!"},"Hombre","45-49",{"$f":"'Pob x Genero'!#REF!","v":{"$error":"#REF!"}},1717]
[{"$f":"A16881","v":{"$error":"#REF!"}},{"$error":"#REF!"},{"$error":"#REF!"},{"$error":"#REF!"},{"$error":"#REF!"},"Hombre","45-49",{"$f":"'Pob x Genero'!#REF!","v":{"$error":"#REF!"}},1760]
[{"$f":"A16920","v":{"$error":"#REF!"}},{"$error":"#REF!"},{"$error":"#REF!"},{"$error":"#REF!"},{"$error":"#REF!"},"Hombre","45-49",{"$f":"'Pob x Genero'!#REF!","v":{"$error":"#REF!"}},1799]
[{"$f":"A16926","v":{"$error":"#REF!"}},{"$error":"#REF!"},{"$error":"#REF!"},{"$error":"#REF!"},{"$error":"#REF!"},"Hombre","45-49",{"$f":"'Pob x Genero'!#REF!","v":{"$error":"#REF!"}},1805]
[{"$f":"A16982","v":{"$error":"#REF!"}},{"$error":"#REF!"},{"$error":"#REF!"},{"$error":"#REF!"},{"$error":"#REF!"},"Hombre","45-49",{"$f":"'Pob x Genero'!#REF!","v":{"$error":"#REF!"}},1861]
[{"$f":"A17007","v":{"$error":"#REF!"}},{"$error":"#REF!"},{"$error":"#REF!"},{"$error":"#REF!"},{"$error":"#REF!"},"Hombre","45-49",{"$f":"'Pob x Genero'!#REF!","v":{"$error":"#REF!"}},1886]
[{"$f":"A17050","v":{"$error":"#REF!"}},{"$error":"#REF!"},{"$error":"#REF!"},{"$error":"#REF!"},{"$error":"#REF!"},"Hombre","50-54",{"$f":"'Pob x Genero'!#REF!","v":{"$error":"#REF!"}},39]
[{"$f":"A17056","v":{"$error":"#REF!"}},{"$error":"#REF!"},{"$error":"#REF!"},{"$error":"#REF!"},{"$error":"#REF!"},"Hombre","50-54",{"$f":"'Pob x Genero'!#REF!","v":{"$error":"#REF!"}},45]
[{"$f":"A17117","v":{"$error":"#REF!"}},{"$error":"#REF!"},{"$error":"#REF!"},{"$error":"#REF!"},{"$error":"#REF!"},"Hombre","50-54",{"$f":"'Pob x Genero'!#REF!","v":{"$error":"#REF!"}},106]
[{"$f":"A17137","v":{"$error":"#REF!"}},{"$error":"#REF!"},{"$error":"#REF!"},{"$error":"#REF!"},{"$error":"#REF!"},"Hombre","50-54",{"$f":"'Pob x Genero'!#REF!","v":{"$error":"#REF!"}},126]
[{"$f":"A17176","v":{"$error":"#REF!"}},{"$error":"#REF!"},{"$error":"#REF!"},{"$error":"#REF!"},{"$error":"#REF!"},"Hombre","50-54",{"$f":"'Pob x Genero'!#REF!","v":{"$error":"#REF!"}},165]
[{"$f":"A17186","v":{"$error":"#REF!"}},{"$error":"#REF!"},{"$error":"#REF!"},{"$error":"#REF!"},{"$error":"#REF!"},"Hombre","50-54",{"$f":"'Pob x Genero'!#REF!","v":{"$error":"#REF!"}},175]
[{"$f":"A17220","v":{"$error":"#REF!"}},{"$error":"#REF!"},{"$error":"#REF!"},{"$error":"#REF!"},{"$error":"#REF!"},"Hombre","50-54",{"$f":"'Pob x Genero'!#REF!","v":{"$error":"#REF!"}},209]
[{"$f":"A17263","v":{"$error":"#REF!"}},{"$error":"#REF!"},{"$error":"#REF!"},{"$error":"#REF!"},{"$error":"#REF!"},"Hombre","50-54",{"$f":"'Pob x Genero'!#REF!","v":{"$error":"#REF!"}},252]
[{"$f":"A17306","v":{"$error":"#REF!"}},{"$error":"#REF!"},{"$error":"#REF!"},{"$error":"#REF!"},{"$error":"#REF!"},"Hombre","50-54",{"$f":"'Pob x Genero'!#REF!","v":{"$error":"#REF!"}},295]
[{"$f":"A17345","v":{"$error":"#REF!"}},{"$error":"#REF!"},{"$error":"#REF!"},{"$error":"#REF!"},{"$error":"#REF!"},"Hombre","50-54",{"$f":"'Pob x Genero'!#REF!","v":{"$error":"#REF!"}},334]
[{"$f":"A17351","v":"040105"},"AREQUIPA","AREQUIPA","AREQUIPA","CHARACATO","Hombre","50-54",{"$f":"'Pob x Genero'!DC13","v":494},340]
[{"$f":"A17405","v":"040409"},"AREQUIPA","AREQUIPA","CASTILLA","ORCOPAMPA","Hombre","50-54",{"$f":"'Pob x Genero'!DC67","v":181},394]
[{"$f":"A17432","v":"040602"},"AREQUIPA","AREQUIPA","CONDESUYOS","ANDARAY","Hombre","50-54",{"$f":"'Pob x Genero'!DC94","v":28},421]
[{"$f":"A17475","v":{"$error":"#REF!"}},{"$error":"#REF!"},{"$error":"#REF!"},{"$error":"#REF!"},{"$error":"#REF!"},"Hombre","50-54",{"$f":"'Pob x Genero'!#REF!","v":{"$error":"#REF!"}},464]
[{"$f":"A17481","v":{"$error":"#REF!"}},{"$error":"#REF!"},{"$error":"#REF!"},{"$error":"#REF!"},{"$error":"#REF!"},"Hombre","50-54",{"$f":"'Pob x Genero'!#REF!","v":{"$error":"#REF!"}},470]
[{"$f":"A17540","v":{"$error":"#REF!"}},{"$error":"#REF!"},{"$error":"#REF!"},{"$error":"#REF!"},{"$error":"#REF!"},"Hombre","50-54",{"$f":"'Pob x Genero'!#REF!","v":{"$error":"#REF!"}},529]
[{"$f":"A17562","v":{"$error":"#REF!"}},{"$error":"#REF!"},{"$error":"#REF!"},{"$error":"#REF!"},{"$error":"#REF!"},"Hombre","50-54",{"$f":"'Pob x Genero'!#REF!","v":{"$error":"#REF!"}},551]
[{"$f":"A17601","v":{"$error":"#REF!"}},{"$error":"#REF!"},{"$error":"#REF!"},{"$error":"#REF!"},{"$error":"#REF!"},"Hombre","50-54",{"$f":"'Pob x Genero'!#REF!","v":{"$error":"#REF!"}},590]
[{"$f":"A17640","v":{"$error":"#REF!"}},{"$error":"#REF!"},{"$error":"#REF!"},{"$error":"#REF!"},{"$error":"#REF!"},"Hombre","50-54",{"$f":"'Pob x Genero'!#REF!","v":{"$error":"#REF!"}},629]
[{"$f":"A17643","v":{"$error":"#REF!"}},{"$error":"#REF!"},{"$error":"#REF!"},{"$error":"#REF!"},{"$error":"#REF!"},"Hombre","50-54",{"$f":"'Pob x Genero'!#REF!","v":{"$error":"#REF!"}},632]
[{"$f":"A17688","v":{"$error":"#REF!"}},{"$error":"#REF!"},{"$error":"#REF!"},{"$error":"#REF!"},{"$error":"#REF!"},"Hombre","50-54",{"$f":"'Pob x Genero'!#REF!","v":{"$error":"#REF!"}},677]
[{"$f":"A17731","v":{"$error":"#REF!"}},{"$error":"#REF!"},{"$error":"#REF!"},{"$error":"#REF!"},{"$error":"#REF!"},"Hombre","50-54",{"$f":"'Pob x Genero'!#REF!","v":{"$error":"#REF!"}},720]
[{"$f":"A17770","v":{"$error":"#REF!"}},{"$error":"#REF!"},{"$error":"#REF!"},{"$error":"#REF!"},{"$error":"#REF!"},"Hombre","50-54",{"$f":"'Pob x Genero'!#REF!","v":{"$error":"#REF!"}},759]
[{"$f":"A17776","v":{"$error":"#REF!"}},{"$error":"#REF!"},{"$error":"#REF!"},{"$error":"#REF!"},{"$error":"#REF!"},"Hombre","50-54",{"$f":"'Pob x Genero'!#REF!","v":{"$error":"#REF!"}},765]
[{"$f":"A17828","v":{"$error":"#REF!"}},{"$error":"#REF!"},{"$error":"#REF!"},{"$error":"#REF!"},{"$error":"#REF!"},"Hombre","50-54",{"$f":"'Pob x Genero'!#REF!","v":{"$error":"#REF!"}},817]
[{"$f":"A17857","v":{"$error":"#REF!"}},{"$error":"#REF!"},{"$error":"#REF!"},{"$error":"#REF!"},{"$error":"#REF!"},"Hombre","50-54",{"$f":"'Pob x Genero'!#REF!","v":{"$error":"#REF!"}},846]
[{"$f":"A17900","v":{"$error":"#REF!"}},{"$error":"#REF!"},{"$error":"#REF!"},{"$error":"#REF!"},{"$error":"#REF!"},"Hombre","50-54",{"$f":"'Pob x Genero'!#REF!","v":{"$error":"#REF!"}},889]
[{"$f":"A17906","v":{"$error":"#REF!"}},{"$error":"#REF!"},{"$error":"#REF!"},{"$error":"#REF!"},{"$error":"#REF!"},"Hombre","50-54",{"$f":"'Pob x Genero'!#REF!","v":{"$error":"#REF!"}},895]
[{"$f":"A17963","v":{"$error":"#REF!"}},{"$error":"#REF!"},{"$error":"#REF!"},{"$error":"#REF!"},{"$error":"#REF!"},"Hombre","50-54",{"$f":"'Pob x Genero'!#REF!","v":{"$error":"#REF!"}},952]
[{"$f":"A17987","v":{"$error":"#REF!"}},{"$error":"#REF!"},{"$error":"#REF!"},{"$error":"#REF!"},{"$error":"#REF!"},"Hombre","50-54",{"$f":"'Pob x Genero'!#REF!","v":{"$error":"#REF!"}},976]
[{"$f":"A18026","v":{"$error":"#REF!"}},{"$error":"#REF!"},{"$error":"#REF!"},{"$error":"#REF!"},{"$error":"#REF!"},"Hombre","50-54",{"$f":"'Pob x Genero'!#REF!","v":{"$error":"#REF!"}},1015]
[{"$f":"A18065","v":{"$error":"#REF!"}},{"$error":"#REF!"},{"$error":"#REF!"},{"$error":"#REF!"},{"$error":"#REF!"},"Hombre","50-54",{"$f":"'Pob x Genero'!#REF!","v":{"$error":"#REF!"}},1054]
[{"$f":"A18075","v":{"$error":"#REF!"}},{"$error":"#REF!"},{"$error":"#REF!"},{"$error":"#REF!"},{"$error":"#REF!"},"Hombre","50-54",{"$f":"'Pob x Genero'!#REF!","v":{"$error":"#REF!"}},1064]
[{"$f":"A18116","v":{"$error":"#REF!"}},{"$error":"#REF!"},{"$error":"#REF!"},{"$error":"#REF!"},{"$error":"#REF!"},"Hombre","50-54",{"$f":"'Pob x Genero'!#REF!","v":{"$error":"#REF!"}},1105]
[{"$f":"A18156","v":{"$error":"#REF!"}},{"$error":"#REF!"},{"$error":"#REF!"},{"$error":"#REF!"},{"$error":"#REF!"},"Hombre","50-54",{"$f":"'Pob x Genero'!#REF!","v":{"$error":"#REF!"}},1145]
[{"$f":"A18195","v":{"$error":"#REF!"}},{"$error":"#REF!"},{"$error":"#REF!"},{"$error":"#REF!"},{"$error":"#REF!"},"Hombre","50-54",{"$f":"'Pob x Genero'!#REF!","v":{"$error":"#REF!"}},1184]
[{"$f":"A18201","v":{"$error":"#REF!"}},{"$error":"#REF!"},{"$error":"#REF!"},{"$error":"#REF!"},{"$error":"#REF!"},"Hombre","50-54",{"$f":"'Pob x Genero'!#REF!","v":{"$error":"#REF!"}},1190]
[{"$f":"A18251","v":{"$error":"#REF!"}},{"$error":"#REF!"},{"$error":"#REF!"},{"$error":"#REF!"},{"$error":"#REF!"},"Hombre","50-54",{"$f":"'Pob x Genero'!#REF!","v":{"$error":"#REF!"}},1240]
[{"$f":"A18282","v":{"$error":"#REF!"}},{"$error":"#REF!"},{"$error":"#REF!"},{"$error":"#REF!"},{"$error":"#REF!"},"Hombre","50-54",{"$f":"'Pob x Genero'!#REF!","v":{"$error":"#REF!"}},1271]
[{"$f":"A18321","v":{"$error":"#REF!"}},{"$error":"#REF!"},{"$error":"#REF!"},{"$error":"#REF!"},{"$error":"#REF!"},"Hombre","50-54",{"$f":"'Pob x Genero'!#REF!","v":{"$error":"#REF!"}},1310]
[{"$f":"A18331","v":{"$error":"#REF!"}},{"$error":"#REF!"},{"$error":"#REF!"},{"$error":"#REF!"},{"$error":"#REF!"},"Hombre","50-54",{"$f":"'Pob x Genero'!#REF!","v":{"$error":"#REF!"}},1320]
[{"$f":"A18386","v":{"$error":"#REF!"}},{"$error":"#REF!"},{"$error":"#REF!"},{"$error":"#REF!"},{"$error":"#REF!"},"Hombre","50-54",{"$f":"'Pob x Genero'!#REF!","v":{"$error":"#REF!"}},1375]
[{"$f":"A18412","v":{"$error":"#REF!"}},{"$error":"#REF!"},{"$error":"#REF!"},{"$error":"#REF!"},{"$error":"#REF!"},"Hombre","50-54",{"$f":"'Pob x Genero'!#REF!","v":{"$error":"#REF!"}},1401]
[{"$f":"A18451","v":{"$error":"#REF!"}},{"$error":"#REF!"},{"$error":"#REF!"},{"$error":"#REF!"},{"$error":"#REF!"},"Hombre","50-54",{"$f":"'Pob x Genero'!#REF!","v":{"$error":"#REF!"}},1440]
[{"$f":"A18490","v":{"$error":"#REF!"}},{"$error":"#REF!"},{"$error":"#REF!"},{"$error":"#REF!"},{"$error":"#REF!"},"Hombre","50-54",{"$f":"'Pob x Genero'!#REF!","v":{"$error":"#REF!"}},1479]
[{"$f":"A18500","v":{"$error":"#REF!"}},{"$error":"#REF!"},{"$error":"#REF!"},{"$error":"#REF!"},{"$error":"#REF!"},"Hombre","50-54",{"$f":"'Pob x Genero'!#REF!","v":{"$error":"#REF!"}},1489]
[{"$f":"A18539","v":{"$error":"#REF!"}},{"$error":"#REF!"},{"$error":"#REF!"},{"$error":"#REF!"},{"$error":"#REF!"},"Hombre","50-54",{"$f":"'Pob x Genero'!#REF!","v":{"$error":"#REF!"}},1528]
[{"$f":"A18581","v":{"$error":"#REF!"}},{"$error":"#REF!"},{"$error":"#REF!"},{"$error":"#REF!"},{"$error":"#REF!"},"Hombre","50-54",{"$f":"'Pob x Genero'!#REF!","v":{"$error":"#REF!"}},1570]
[{"$f":"A18620","v":{"$error":"#REF!"}},{"$error":"#REF!"},{"$error":"#REF!"},{"$error":"#REF!"},{"$error":"#REF!"},"Hombre","50-54",{"$f":"'Pob x Genero'!#REF!","v":{"$error":"#REF!"}},1609]
[{"$f":"A18626","v":{"$error":"#REF!"}},{"$error":"#REF!"},{"$error":"#REF!"},{"$error":"#REF!"},{"$error":"#REF!"},"Hombre","50-54",{"$f":"'Pob x Genero'!#REF!","v":{"$error":"#REF!"}},1615]
[{"$f":"A18674","v":{"$error":"#REF!"}},{"$error":"#REF!"},{"$error":"#REF!"},{"$error":"#REF!"},{"$error":"#REF!"},"Hombre","50-54",{"$f":"'Pob x Genero'!#REF!","v":{"$error":"#REF!"}},1663]
[{"$f":"A18707","v":{"$error":"#REF!"}},{"$error":"#REF!"},{"$error":"#REF!"},{"$error":"#REF!"},{"$error":"#REF!"},"Hombre","50-54",{"$f":"'Pob x Genero'!#REF!","v":{"$error":"#REF!"}},1696]
[{"$f":"A18746","v":{"$error":"#REF!"}},{"$error":"#REF!"},{"$error":"#REF!"},{"$error":"#REF!"},{"$error":"#REF!"},"Hombre","50-54",{"$f":"'Pob x Genero'!#REF!","v":{"$error":"#REF!"}},1735]
[{"$f":"A18789","v":{"$error":"#REF!"}},{"$error":"#REF!"},{"$error":"#REF!"},{"$error":"#REF!"},{"$error":"#REF!"},"Hombre","50-54",{"$f":"'Pob x Genero'!#REF!","v":{"$error":"#REF!"}},1778]
[{"$f":"A18809","v":{"$error":"#REF!"}},{"$error":"#REF!"},{"$error":"#REF!"},{"$error":"#REF!"},{"$error":"#REF!"},"Hombre","50-54",{"$f":"'Pob x Genero'!#REF!","v":{"$error":"#REF!"}},1798]
[{"$f":"A18837","v":{"$error":"#REF!"}},{"$error":"#REF!"},{"$error":"#REF!"},{"$error":"#REF!"},{"$error":"#REF!"},"Hombre","50-54",{"$f":"'Pob x Genero'!#REF!","v":{"$error":"#REF!"}},1826]
[{"$f":"A18876","v":{"$error":"#REF!"}},{"$error":"#REF!"},{"$error":"#REF!"},{"$error":"#REF!"},{"$error":"#REF!"},"Hombre","50-54",{"$f":"'Pob x Genero'!#REF!","v":{"$error":"#REF!"}},1865]
[{"$f":"A18915","v":{"$error":"#REF!"}},{"$error":"#REF!"},{"$error":"#REF!"},{"$error":"#REF!"},{"$error":"#REF!"},"Hombre","55-59",{"$f":"'Pob x Genero'!#REF!","v":{"$error":"#REF!"}},14]
[{"$f":"A18925","v":{"$error":"#REF!"}},{"$error":"#REF!"},{"$error":"#REF!"},{"$error":"#REF!"},{"$error":"#REF!"},"Hombre","55-59",{"$f":"'Pob x Genero'!#REF!","v":{"$error":"#REF!"}},24]
[{"$f":"A18962","v":{"$error":"#REF!"}},{"$error":"#REF!"},{"$error":"#REF!"},{"$error":"#REF!"},{"$error":"#REF!"},{"$f":"F20851","v":"Hombre"},"55-59",{"$f":"'Pob x Genero'!#REF!","v":{"$error":"#REF!"}},61]
[{"$f":"A19006","v":{"$error":"#REF!"}},{"$error":"#REF!"},{"$error":"#REF!"},{"$error":"#REF!"},{"$error":"#REF!"},"Hombre","55-59",{"$f":"'Pob x Genero'!#REF!","v":{"$error":"#REF!"}},105]
[{"$f":"A19045","v":{"$error":"#REF!"}},{"$error":"#REF!"},{"$error":"#REF!"},{"$error":"#REF!"},{"$error":"#REF!"},"Hombre","55-59",{"$f":"'Pob x Genero'!#REF!","v":{"$error":"#REF!"}},144]
[{"$f":"A19084","v":{"$error":"#REF!"}},{"$error":"#REF!"},{"$error":"#REF!"},{"$error":"#REF!"},{"$error":"#REF!"},"Hombre","55-59",{"$f":"'Pob x Genero'!#REF!","v":{"$error":"#REF!"}},183]
[{"$f":"A19097","v":{"$error":"#REF!"}},{"$error":"#REF!"},{"$error":"#REF!"},{"$error":"#REF!"},{"$error":"#REF!"},"Hombre","55-59",{"$f":"'Pob x Genero'!#REF!","v":{"$error":"#REF!"}},196]
[{"$f":"A19132","v":{"$error":"#REF!"}},{"$error":"#REF!"},{"$error":"#REF!"},{"$error":"#REF!"},{"$error":"#REF!"},"Hombre","55-59",{"$f":"'Pob x Genero'!#REF!","v":{"$error":"#REF!"}},231]
[{"$f":"A19171","v":{"$error":"#REF!"}},{"$error":"#REF!"},{"$error":"#REF!"},{"$error":"#REF!"},{"$error":"#REF!"},"Hombre","55-59",{"$f":"'Pob x Genero'!#REF!","v":{"$error":"#REF!"}},270]
[{"$f":"A19214","v":{"$error":"#REF!"}},{"$error":"#REF!"},{"$error":"#REF!"},{"$error":"#REF!"},{"$error":"#REF!"},"Hombre","55-59",{"$f":"'Pob x Genero'!#REF!","v":{"$error":"#REF!"}},313]
[{"$f":"A19232","v":{"$error":"#REF!"}},{"$error":"#REF!"},{"$error":"#REF!"},{"$error":"#REF!"},{"$error":"#REF!"},"Hombre","55-59",{"$f":"'Pob x Genero'!#REF!","v":{"$error":"#REF!"}},331]
[{"$f":"A19262","v":"040126"},"AREQUIPA","AREQUIPA","AREQUIPA","YANAHUARA","Hombre","55-59",{"$f":"'Pob x Genero'!DD34","v":858},361]
[{"$f":"A19301","v":"040501"},"AREQUIPA","AREQUIPA","CAYLLOMA","CHIVAY","Hombre","55-59",{"$f":"'Pob x Genero'!DD73","v":135},400]
[{"$f":"A19340","v":"040806"},"AREQUIPA","AREQUIPA","LA UNION","PUYCA","Hombre","55-59",{"$f":"'Pob x Genero'!DD112","v":50},439]
[{"$f":"A19350","v":{"$error":"#REF!"}},{"$error":"#REF!"},{"$error":"#REF!"},{"$error":"#REF!"},{"$error":"#REF!"},"Hombre","55-59",{"$f":"'Pob x Genero'!#REF!","v":{"$error":"#REF!"}},449]
[{"$f":"A19385","v":{"$error":"#REF!"}},{"$error":"#REF!"},{"$error":"#REF!"},{"$error":"#REF!"},{"$error":"#REF!"},"Hombre","55-59",{"$f":"'Pob x Genero'!#REF!","v":{"$error":"#REF!"}},484]
[{"$f":"A19427","v":{"$error":"#REF!"}},{"$error":"#REF!"},{"$error":"#REF!"},{"$error":"#REF!"},{"$error":"#REF!"},"Hombre","55-59",{"$f":"'Pob x Genero'!#REF!","v":{"$error":"#REF!"}},526]
[{"$f":"A19470","v":{"$error":"#REF!"}},{"$error":"#REF!"},{"$error":"#REF!"},{"$error":"#REF!"},{"$error":"#REF!"},"Hombre","55-59",{"$f":"'Pob x Genero'!#REF!","v":{"$error":"#REF!"}},569]
[{"$f":"A19509","v":{"$error":"#REF!"}},{"$error":"#REF!"},{"$error":"#REF!"},{"$error":"#REF!"},{"$error":"#REF!"},"Hombre","55-59",{"$f":"'Pob x Genero'!#REF!","v":{"$error":"#REF!"}},608]
[{"$f":"A19520","v":{"$error":"#REF!"}},{"$error":"#REF!"},{"$error":"#REF!"},{"$error":"#REF!"},{"$error":"#REF!"},"Hombre","55-59",{"$f":"'Pob x Genero'!#REF!","v":{"$error":"#REF!"}},619]
[{"$f":"A19557","v":{"$error":"#REF!"}},{"$error":"#REF!"},{"$error":"#REF!"},{"$error":"#REF!"},{"$error":"#REF!"},"Hombre","55-59",{"$f":"'Pob x Genero'!#REF!","v":{"$error":"#REF!"}},656]
[{"$f":"A19596","v":{"$error":"#REF!"}},{"$error":"#REF!"},{"$error":"#REF!"},{"$error":"#REF!"},{"$error":"#REF!"},"Hombre","55-59",{"$f":"'Pob x Genero'!#REF!","v":{"$error":"#REF!"}},695]
[{"$f":"A19639","v":{"$error":"#REF!"}},{"$error":"#REF!"},{"$error":"#REF!"},{"$error":"#REF!"},{"$error":"#REF!"},"Hombre","55-59",{"$f":"'Pob x Genero'!#REF!","v":{"$error":"#REF!"}},738]
[{"$f":"A19655","v":{"$error":"#REF!"}},{"$error":"#REF!"},{"$error":"#REF!"},{"$error":"#REF!"},{"$error":"#REF!"},"Hombre","55-59",{"$f":"'Pob x Genero'!#REF!","v":{"$error":"#REF!"}},754]
[{"$f":"A19687","v":{"$error":"#REF!"}},{"$error":"#REF!"},{"$error":"#REF!"},{"$error":"#REF!"},{"$error":"#REF!"},"Hombre","55-59",{"$f":"'Pob x Genero'!#REF!","v":{"$error":"#REF!"}},786]
[{"$f":"A19726","v":{"$error":"#REF!"}},{"$error":"#REF!"},{"$error":"#REF!"},{"$error":"#REF!"},{"$error":"#REF!"},"Hombre","55-59",{"$f":"'Pob x Genero'!#REF!","v":{"$error":"#REF!"}},825]
[{"$f":"A19765","v":{"$error":"#REF!"}},{"$error":"#REF!"},{"$error":"#REF!"},{"$error":"#REF!"},{"$error":"#REF!"},"Hombre","55-59",{"$f":"'Pob x Genero'!#REF!","v":{"$error":"#REF!"}},864]
[{"$f":"A19775","v":{"$error":"#REF!"}},{"$error":"#REF!"},{"$error":"#REF!"},{"$error":"#REF!"},{"$error":"#REF!"},"Hombre","55-59",{"$f":"'Pob x Genero'!#REF!","v":{"$error":"#REF!"}},874]
[{"$f":"A19808","v":{"$error":"#REF!"}},{"$error":"#REF!"},{"$error":"#REF!"},{"$error":"#REF!"},{"$error":"#REF!"},"Hombre","55-59",{"$f":"'Pob x Genero'!#REF!","v":{"$error":"#REF!"}},907]
[{"$f":"A19852","v":{"$error":"#REF!"}},{"$error":"#REF!"},{"$error":"#REF!"},{"$error":"#REF!"},{"$error":"#REF!"},"Hombre","55-59",{"$f":"'Pob x Genero'!#REF!","v":{"$error":"#REF!"}},951]
[{"$f":"A19895","v":{"$error":"#REF!"}},{"$error":"#REF!"},{"$error":"#REF!"},{"$error":"#REF!"},{"$error":"#REF!"},"Hombre","55-59",{"$f":"'Pob x Genero'!#REF!","v":{"$error":"#REF!"}},994]
[{"$f":"A19934","v":{"$error":"#REF!"}},{"$error":"#REF!"},{"$error":"#REF!"},{"$error":"#REF!"},{"$error":"#REF!"},"Hombre","55-59",{"$f":"'Pob x Genero'!#REF!","v":{"$error":"#REF!"}},1033]
[{"$f":"A19943","v":{"$error":"#REF!"}},{"$error":"#REF!"},{"$error":"#REF!"},{"$error":"#REF!"},{"$error":"#REF!"},"Hombre","55-59",{"$f":"'Pob x Genero'!#REF!","v":{"$error":"#REF!"}},1042]
[{"$f":"A19982","v":{"$error":"#REF!"}},{"$error":"#REF!"},{"$error":"#REF!"},{"$error":"#REF!"},{"$error":"#REF!"},"Hombre","55-59",{"$f":"'Pob x Genero'!#REF!","v":{"$error":"#REF!"}},1081]
[{"$f":"A20021","v":{"$error":"#REF!"}},{"$error":"#REF!"},{"$error":"#REF!"},{"$error":"#REF!"},{"$error":"#REF!"},"Hombre","55-59",{"$f":"'Pob x Genero'!#REF!","v":{"$error":"#REF!"}},1120]
[{"$f":"A20064","v":{"$error":"#REF!"}},{"$error":"#REF!"},{"$error":"#REF!"},{"$error":"#REF!"},{"$error":"#REF!"},"Hombre","55-59",{"$f":"'Pob x Genero'!#REF!","v":{"$error":"#REF!"}},1163]
[{"$f":"A20070","v":{"$error":"#REF!"}},{"$error":"#REF!"},{"$error":"#REF!"},{"$error":"#REF!"},{"$error":"#REF!"},"Hombre","55-59",{"$f":"'Pob x Genero'!#REF!","v":{"$error":"#REF!"}},1169]
[{"$f":"A20128","v":{"$error":"#REF!"}},{"$error":"#REF!"},{"$error":"#REF!"},{"$error":"#REF!"},{"$error":"#REF!"},"Hombre","55-59",{"$f":"'Pob x Genero'!#REF!","v":{"$error":"#REF!"}},1227]
[{"$f":"A20151","v":{"$error":"#REF!"}},{"$error":"#REF!"},{"$error":"#REF!"},{"$error":"#REF!"},{"$error":"#REF!"},"Hombre","55-59",{"$f":"'Pob x Genero'!#REF!","v":{"$error":"#REF!"}},1250]
[{"$f":"A20190","v":{"$error":"#REF!"}},{"$error":"#REF!"},{"$error":"#REF!"},{"$error":"#REF!"},{"$error":"#REF!"},"Hombre","55-59",{"$f":"'Pob x Genero'!#REF!","v":{"$error":"#REF!"}},1289]
[{"$f":"A20200","v":{"$error":"#REF!"}},{"$error":"#REF!"},{"$error":"#REF!"},{"$error":"#REF!"},{"$error":"#REF!"},"Hombre","55-59",{"$f":"'Pob x Genero'!#REF!","v":{"$error":"#REF!"}},1299]
[{"$f":"A20263","v":{"$error":"#REF!"}},{"$error":"#REF!"},{"$error":"#REF!"},{"$error":"#REF!"},{"$error":"#REF!"},"Hombre","55-59",{"$f":"'Pob x Genero'!#REF!","v":{"$error":"#REF!"}},1362]
[{"$f":"A20277","v":{"$error":"#REF!"}},{"$error":"#REF!"},{"$error":"#REF!"},{"$error":"#REF!"},{"$error":"#REF!"},"Hombre","55-59",{"$f":"'Pob x Genero'!#REF!","v":{"$error":"#REF!"}},1376]
[{"$f":"A20320","v":{"$error":"#REF!"}},{"$error":"#REF!"},{"$error":"#REF!"},{"$error":"#REF!"},{"$error":"#REF!"},"Hombre","55-59",{"$f":"'Pob x Genero'!#REF!","v":{"$error":"#REF!"}},1419]
[{"$f":"A20359","v":{"$error":"#REF!"}},{"$error":"#REF!"},{"$error":"#REF!"},{"$error":"#REF!"},{"$error":"#REF!"},"Hombre","55-59",{"$f":"'Pob x Genero'!#REF!","v":{"$error":"#REF!"}},1458]
[{"$f":"A20366","v":{"$error":"#REF!"}},{"$error":"#REF!"},{"$error":"#REF!"},{"$error":"#REF!"},{"$error":"#REF!"},"Hombre","55-59",{"$f":"'Pob x Genero'!#REF!","v":{"$error":"#REF!"}},1465]
[{"$f":"A20407","v":{"$error":"#REF!"}},{"$error":"#REF!"},{"$error":"#REF!"},{"$error":"#REF!"},{"$error":"#REF!"},"Hombre","55-59",{"$f":"'Pob x Genero'!#REF!","v":{"$error":"#REF!"}},1506]
[{"$f":"A20446","v":{"$error":"#REF!"}},{"$error":"#REF!"},{"$error":"#REF!"},{"$error":"#REF!"},{"$error":"#REF!"},"Hombre","55-59",{"$f":"'Pob x Genero'!#REF!","v":{"$error":"#REF!"}},1545]
[{"$f":"A20489","v":{"$error":"#REF!"}},{"$error":"#REF!"},{"$error":"#REF!"},{"$error":"#REF!"},{"$error":"#REF!"},"Hombre","55-59",{"$f":"'Pob x Genero'!#REF!","v":{"$error":"#REF!"}},1588]
[{"$f":"A20495","v":{"$error":"#REF!"}},{"$error":"#REF!"},{"$error":"#REF!"},{"$error":"#REF!"},{"$error":"#REF!"},"Hombre","55-59",{"$f":"'Pob x Genero'!#REF!","v":{"$error":"#REF!"}},1594]
[{"$f":"A20551","v":{"$error":"#REF!"}},{"$error":"#REF!"},{"$error":"#REF!"},{"$error":"#REF!"},{"$error":"#REF!"},"Hombre","55-59",{"$f":"'Pob x Genero'!#REF!","v":{"$error":"#REF!"}},1650]
[{"$f":"A20576","v":{"$error":"#REF!"}},{"$error":"#REF!"},{"$error":"#REF!"},{"$error":"#REF!"},{"$error":"#REF!"},"Hombre","55-59",{"$f":"'Pob x Genero'!#REF!","v":{"$error":"#REF!"}},1675]
[{"$f":"A20615","v":{"$error":"#REF!"}},{"$error":"#REF!"},{"$error":"#REF!"},{"$error":"#REF!"},{"$error":"#REF!"},"Hombre","55-59",{"$f":"'Pob x Genero'!#REF!","v":{"$error":"#REF!"}},1714]
[{"$f":"A20625","v":{"$error":"#REF!"}},{"$error":"#REF!"},{"$error":"#REF!"},{"$error":"#REF!"},{"$error":"#REF!"},"Hombre","55-59",{"$f":"'Pob x Genero'!#REF!","v":{"$error":"#REF!"}},1724]
[{"$f":"A20686","v":{"$error":"#REF!"}},{"$error":"#REF!"},{"$error":"#REF!"},{"$error":"#REF!"},{"$error":"#REF!"},"Hombre","55-59",{"$f":"'Pob x Genero'!#REF!","v":{"$error":"#REF!"}},1785]
[{"$f":"A20702","v":{"$error":"#REF!"}},{"$error":"#REF!"},{"$error":"#REF!"},{"$error":"#REF!"},{"$error":"#REF!"},"Hombre","55-59",{"$f":"'Pob x Genero'!#REF!","v":{"$error":"#REF!"}},1801]
[{"$f":"A20745","v":{"$error":"#REF!"}},{"$error":"#REF!"},{"$error":"#REF!"},{"$error":"#REF!"},{"$error":"#REF!"},"Hombre","55-59",{"$f":"'Pob x Genero'!#REF!","v":{"$error":"#REF!"}},1844]
[{"$f":"A20784","v":{"$error":"#REF!"}},{"$error":"#REF!"},{"$error":"#REF!"},{"$error":"#REF!"},{"$error":"#REF!"},"Hombre","55-59",{"$f":"'Pob x Genero'!#REF!","v":{"$error":"#REF!"}},1883]
[{"$f":"A20789","v":{"$error":"#REF!"}},{"$error":"#REF!"},{"$error":"#REF!"},{"$error":"#REF!"},{"$error":"#REF!"},"Hombre","55-59",{"$f":"'Pob x Genero'!#REF!","v":{"$error":"#REF!"}},1888]
[{"$f":"A20832","v":{"$error":"#REF!"}},{"$error":"#REF!"},{"$error":"#REF!"},{"$error":"#REF!"},{"$error":"#REF!"},"Hombre","60-64",{"$f":"'Pob x Genero'!#REF!","v":{"$error":"#REF!"}},41]
[{"$f":"A20871","v":{"$error":"#REF!"}},{"$error":"#REF!"},{"$error":"#REF!"},{"$error":"#REF!"},{"$error":"#REF!"},"Hombre","60-64",{"$f":"'Pob x Genero'!#REF!","v":{"$error":"#REF!"}},80]
[{"$f":"A20914","v":{"$error":"#REF!"}},{"$error":"#REF!"},{"$error":"#REF!"},{"$error":"#REF!"},{"$error":"#REF!"},"Hombre","60-64",{"$f":"'Pob x Genero'!#REF!","v":{"$error":"#REF!"}},123]
[{"$f":"A20920","v":{"$error":"#REF!"}},{"$error":"#REF!"},{"$error":"#REF!"},{"$error":"#REF!"},{"$error":"#REF!"},"Hombre","60-64",{"$f":"'Pob x Genero'!#REF!","v":{"$error":"#REF!"}},129]
[{"$f":"A20974","v":{"$error":"#REF!"}},{"$error":"#REF!"},{"$error":"#REF!"},{"$error":"#REF!"},{"$error":"#REF!"},"Hombre","60-64",{"$f":"'Pob x Genero'!#REF!","v":{"$error":"#REF!"}},183]
[{"$f":"A21001","v":{"$error":"#REF!"}},{"$error":"#REF!"},{"$error":"#REF!"},{"$error":"#REF!"},{"$error":"#REF!"},"Hombre","60-64",{"$f":"'Pob x Genero'!#REF!","v":{"$error":"#REF!"}},210]
[{"$f":"A21040","v":{"$error":"#REF!"}},{"$error":"#REF!"},{"$error":"#REF!"},{"$error":"#REF!"},{"$error":"#REF!"},"Hombre","60-64",{"$f":"'Pob x Genero'!#REF!","v":{"$error":"#REF!"}},249]
[{"$f":"A21083","v":{"$error":"#REF!"}},{"$error":"#REF!"},{"$error":"#REF!"},{"$error":"#REF!"},{"$error":"#REF!"},"Hombre","60-64",{"$f":"'Pob x Genero'!#REF!","v":{"$error":"#REF!"}},292]
[{"$f":"A21109","v":{"$error":"#REF!"}},{"$error":"#REF!"},{"$error":"#REF!"},{"$error":"#REF!"},{"$error":"#REF!"},"Hombre","60-64",{"$f":"'Pob x Genero'!#REF!","v":{"$error":"#REF!"}},318]
[{"$f":"A21127","v":"040101"},"AREQUIPA","AREQUIPA","AREQUIPA","AREQUIPA","Hombre","60-64",{"$f":"'Pob x Genero'!DE9","v":1985},336]
[{"$f":"A21170","v":"040307"},"AREQUIPA","AREQUIPA","CARAVELI","CHALA","Hombre","60-64",{"$f":"'Pob x Genero'!DE52","v":163},379]
[{"$f":"A21209","v":"040519"},"AREQUIPA","AREQUIPA","CAYLLOMA","YANQUE","Hombre","60-64",{"$f":"'Pob x Genero'!DE91","v":69},418]
[{"$f":"A21244","v":{"$error":"#REF!"}},{"$error":"#REF!"},{"$error":"#REF!"},{"$error":"#REF!"},{"$error":"#REF!"},"Hombre","60-64",{"$f":"'Pob x Genero'!#REF!","v":{"$error":"#REF!"}},453]
[{"$f":"A21257","v":{"$error":"#REF!"}},{"$error":"#REF!"},{"$error":"#REF!"},{"$error":"#REF!"},{"$error":"#REF!"},"Hombre","60-64",{"$f":"'Pob x Genero'!#REF!","v":{"$error":"#REF!"}},466]
[{"$f":"A21296","v":{"$error":"#REF!"}},{"$error":"#REF!"},{"$error":"#REF!"},{"$error":"#REF!"},{"$error":"#REF!"},"Hombre","60-64",{"$f":"'Pob x Genero'!#REF!","v":{"$error":"#REF!"}},505]
[{"$f":"A21339","v":{"$error":"#REF!"}},{"$error":"#REF!"},{"$error":"#REF!"},{"$error":"#REF!"},{"$error":"#REF!"},"Hombre","60-64",{"$f":"'Pob x Genero'!#REF!","v":{"$error":"#REF!"}},548]
[{"$f":"A21378","v":{"$error":"#REF!"}},{"$error":"#REF!"},{"$error":"#REF!"},{"$error":"#REF!"},{"$error":"#REF!"},"Hombre","60-64",{"$f":"'Pob x Genero'!#REF!","v":{"$error":"#REF!"}},587]
[{"$f":"A21397","v":{"$error":"#REF!"}},{"$error":"#REF!"},{"$error":"#REF!"},{"$error":"#REF!"},{"$error":"#REF!"},"Hombre","60-64",{"$f":"'Pob x Genero'!#REF!","v":{"$error":"#REF!"}},606]
[{"$f":"A21426","v":{"$error":"#REF!"}},{"$error":"#REF!"},{"$error":"#REF!"},{"$error":"#REF!"},{"$error":"#REF!"},"Hombre","60-64",{"$f":"'Pob x Genero'!#REF!","v":{"$error":"#REF!"}},635]
[{"$f":"A21465","v":{"$error":"#REF!"}},{"$error":"#REF!"},{"$error":"#REF!"},{"$error":"#REF!"},{"$error":"#REF!"},"Hombre","60-64",{"$f":"'Pob x Genero'!#REF!","v":{"$error":"#REF!"}},674]
[{"$f":"A21508","v":{"$error":"#REF!"}},{"$error":"#REF!"},{"$error":"#REF!"},{"$error":"#REF!"},{"$error":"#REF!"},"Hombre","60-64",{"$f":"'Pob x Genero'!#REF!","v":{"$error":"#REF!"}},717]
[{"$f":"A21532","v":{"$error":"#REF!"}},{"$error":"#REF!"},{"$error":"#REF!"},{"$error":"#REF!"},{"$error":"#REF!"},"Hombre","60-64",{"$f":"'Pob x Genero'!#REF!","v":{"$error":"#REF!"}},741]
[{"$f":"A21552","v":{"$error":"#REF!"}},{"$error":"#REF!"},{"$error":"#REF!"},{"$error":"#REF!"},{"$error":"#REF!"},"Hombre","60-64",{"$f":"'Pob x Genero'!#REF!","v":{"$error":"#REF!"}},761]
[{"$f":"A21595","v":{"$error":"#REF!"}},{"$error":"#REF!"},{"$error":"#REF!"},{"$error":"#REF!"},{"$error":"#REF!"},"Hombre","60-64",{"$f":"'Pob x Genero'!#REF!","v":{"$error":"#REF!"}},804]
[{"$f":"A21634","v":{"$error":"#REF!"}},{"$error":"#REF!"},{"$error":"#REF!"},{"$error":"#REF!"},{"$error":"#REF!"},"Hombre","60-64",{"$f":"'Pob x Genero'!#REF!","v":{"$error":"#REF!"}},843]
[{"$f":"A21667","v":{"$error":"#REF!"}},{"$error":"#REF!"},{"$error":"#REF!"},{"$error":"#REF!"},{"$error":"#REF!"},"Hombre","60-64",{"$f":"'Pob x Genero'!#REF!","v":{"$error":"#REF!"}},876]
[{"$f":"A21682","v":{"$error":"#REF!"}},{"$error":"#REF!"},{"$error":"#REF!"},{"$error":"#REF!"},{"$error":"#REF!"},"Hombre","60-64",{"$f":"'Pob x Genero'!#REF!","v":{"$error":"#REF!"}},891]
[{"$f":"A21721","v":{"$error":"#REF!"}},{"$error":"#REF!"},{"$error":"#REF!"},{"$error":"#REF!"},{"$error":"#REF!"},"Hombre","60-64",{"$f":"'Pob x Genero'!#REF!","v":{"$error":"#REF!"}},930]
[{"$f":"A21764","v":{"$error":"#REF!"}},{"$error":"#REF!"},{"$error":"#REF!"},{"$error":"#REF!"},{"$error":"#REF!"},"Hombre","60-64",{"$f":"'Pob x Genero'!#REF!","v":{"$error":"#REF!"}},973]
[{"$f":"A21803","v":{"$error":"#REF!"}},{"$error":"#REF!"},{"$error":"#REF!"},{"$error":"#REF!"},{"$error":"#REF!"},"Hombre","60-64",{"$f":"'Pob x Genero'!#REF!","v":{"$error":"#REF!"}},1012]
[{"$f":"A21820","v":{"$error":"#REF!"}},{"$error":"#REF!"},{"$error":"#REF!"},{"$error":"#REF!"},{"$error":"#REF!"},"Hombre","60-64",{"$f":"'Pob x Genero'!#REF!","v":{"$error":"#REF!"}},1029]
[{"$f":"A21851","v":{"$error":"#REF!"}},{"$error":"#REF!"},{"$error":"#REF!"},{"$error":"#REF!"},{"$error":"#REF!"},"Hombre","60-64",{"$f":"'Pob x Genero'!#REF!","v":{"$error":"#REF!"}},1060]
[{"$f":"A21890","v":{"$error":"#REF!"}},{"$error":"#REF!"},{"$error":"#REF!"},{"$error":"#REF!"},{"$error":"#REF!"},"Hombre","60-64",{"$f":"'Pob x Genero'!#REF!","v":{"$error":"#REF!"}},1099]
[{"$f":"A21933","v":{"$error":"#REF!"}},{"$error":"#REF!"},{"$error":"#REF!"},{"$error":"#REF!"},{"$error":"#REF!"},"Hombre","60-64",{"$f":"'Pob x Genero'!#REF!","v":{"$error":"#REF!"}},1142]
[{"$f":"A21955","v":{"$error":"#REF!"}},{"$error":"#REF!"},{"$error":"#REF!"},{"$error":"#REF!"},{"$error":"#REF!"},"Hombre","60-64",{"$f":"'Pob x Genero'!#REF!","v":{"$error":"#REF!"}},1164]
[{"$f":"A21977","v":{"$error":"#REF!"}},{"$error":"#REF!"},{"$error":"#REF!"},{"$error":"#REF!"},{"$error":"#REF!"},"Hombre","60-64",{"$f":"'Pob x Genero'!#REF!","v":{"$error":"#REF!"}},1186]
[{"$f":"A22020","v":{"$error":"#REF!"}},{"$error":"#REF!"},{"$error":"#REF!"},{"$error":"#REF!"},{"$error":"#REF!"},"Hombre","60-64",{"$f":"'Pob x Genero'!#REF!","v":{"$error":"#REF!"}},1229]
[{"$f":"A22059","v":{"$error":"#REF!"}},{"$error":"#REF!"},{"$error":"#REF!"},{"$error":"#REF!"},{"$error":"#REF!"},"Hombre","60-64",{"$f":"'Pob x Genero'!#REF!","v":{"$error":"#REF!"}},1268]
[{"$f":"A22098","v":{"$error":"#REF!"}},{"$error":"#REF!"},{"$error":"#REF!"},{"$error":"#REF!"},{"$error":"#REF!"},"Hombre","60-64",{"$f":"'Pob x Genero'!#REF!","v":{"$error":"#REF!"}},1307]
[{"$f":"A22108","v":{"$error":"#REF!"}},{"$error":"#REF!"},{"$error":"#REF!"},{"$error":"#REF!"},{"$error":"#REF!"},"Hombre","60-64",{"$f":"'Pob x Genero'!#REF!","v":{"$error":"#REF!"}},1317]
[{"$f":"A22146","v":{"$error":"#REF!"}},{"$error":"#REF!"},{"$error":"#REF!"},{"$error":"#REF!"},{"$error":"#REF!"},"Hombre","60-64",{"$f":"'Pob x Genero'!#REF!","v":{"$error":"#REF!"}},1355]
[{"$f":"A22189","v":{"$error":"#REF!"}},{"$error":"#REF!"},{"$error":"#REF!"},{"$error":"#REF!"},{"$error":"#REF!"},"Hombre","60-64",{"$f":"'Pob x Genero'!#REF!","v":{"$error":"#REF!"}},1398]
[{"$f":"A22228","v":{"$error":"#REF!"}},{"$error":"#REF!"},{"$error":"#REF!"},{"$error":"#REF!"},{"$error":"#REF!"},"Hombre","60-64",{"$f":"'Pob x Genero'!#REF!","v":{"$error":"#REF!"}},1437]
[{"$f":"A22243","v":{"$error":"#REF!"}},{"$error":"#REF!"},{"$error":"#REF!"},{"$error":"#REF!"},{"$error":"#REF!"},"Hombre","60-64",{"$f":"'Pob x Genero'!#REF!","v":{"$error":"#REF!"}},1452]
[{"$f":"A22276","v":{"$error":"#REF!"}},{"$error":"#REF!"},{"$error":"#REF!"},{"$error":"#REF!"},{"$error":"#REF!"},"Hombre","60-64",{"$f":"'Pob x Genero'!#REF!","v":{"$error":"#REF!"}},1485]
[{"$f":"A22315","v":{"$error":"#REF!"}},{"$error":"#REF!"},{"$error":"#REF!"},{"$error":"#REF!"},{"$error":"#REF!"},"Hombre","60-64",{"$f":"'Pob x Genero'!#REF!","v":{"$error":"#REF!"}},1524]
[{"$f":"A22354","v":{"$error":"#REF!"}},{"$error":"#REF!"},{"$error":"#REF!"},{"$error":"#REF!"},{"$error":"#REF!"},"Hombre","60-64",{"$f":"'Pob x Genero'!#REF!","v":{"$error":"#REF!"}},1563]
[{"$f":"A22378","v":{"$error":"#REF!"}},{"$error":"#REF!"},{"$error":"#REF!"},{"$error":"#REF!"},{"$error":"#REF!"},"Hombre","60-64",{"$f":"'Pob x Genero'!#REF!","v":{"$error":"#REF!"}},1587]
[{"$f":"A22402","v":{"$error":"#REF!"}},{"$error":"#REF!"},{"$error":"#REF!"},{"$error":"#REF!"},{"$error":"#REF!"},"Hombre","60-64",{"$f":"'Pob x Genero'!#REF!","v":{"$error":"#REF!"}},1611]
[{"$f":"A22445","v":{"$error":"#REF!"}},{"$error":"#REF!"},{"$error":"#REF!"},{"$error":"#REF!"},{"$error":"#REF!"},"Hombre","60-64",{"$f":"'Pob x Genero'!#REF!","v":{"$error":"#REF!"}},1654]
[{"$f":"A22484","v":{"$error":"#REF!"}},{"$error":"#REF!"},{"$error":"#REF!"},{"$error":"#REF!"},{"$error":"#REF!"},"Hombre","60-64",{"$f":"'Pob x Genero'!#REF!","v":{"$error":"#REF!"}},1693]
[{"$f":"A22523","v":{"$error":"#REF!"}},{"$error":"#REF!"},{"$error":"#REF!"},{"$error":"#REF!"},{"$error":"#REF!"},"Hombre","60-64",{"$f":"'Pob x Genero'!#REF!","v":{"$error":"#REF!"}},1732]
[{"$f":"A22531","v":{"$error":"#REF!"}},{"$error":"#REF!"},{"$error":"#REF!"},{"$error":"#REF!"},{"$error":"#REF!"},"Hombre","60-64",{"$f":"'Pob x Genero'!#REF!","v":{"$error":"#REF!"}},1740]
[{"$f":"A22571","v":{"$error":"#REF!"}},{"$error":"#REF!"},{"$error":"#REF!"},{"$error":"#REF!"},{"$error":"#REF!"},"Hombre","60-64",{"$f":"'Pob x Genero'!#REF!","v":{"$error":"#REF!"}},1780]
[{"$f":"A22614","v":{"$error":"#REF!"}},{"$error":"#REF!"},{"$error":"#REF!"},{"$error":"#REF!"},{"$error":"#REF!"},"Hombre","60-64",{"$f":"'Pob x Genero'!#REF!","v":{"$error":"#REF!"}},1823]
[{"$f":"A22653","v":{"$error":"#REF!"}},{"$error":"#REF!"},{"$error":"#REF!"},{"$error":"#REF!"},{"$error":"#REF!"},"Hombre","60-64",{"$f":"'Pob x Genero'!#REF!","v":{"$error":"#REF!"}},1862]
[{"$f":"A22666","v":{"$error":"#REF!"}},{"$error":"#REF!"},{"$error":"#REF!"},{"$error":"#REF!"},{"$error":"#REF!"},"Hombre","60-64",{"$f":"'Pob x Genero'!#REF!","v":{"$error":"#REF!"}},1875]
[{"$f":"A22701","v":{"$error":"#REF!"}},{"$error":"#REF!"},{"$error":"#REF!"},{"$error":"#REF!"},{"$error":"#REF!"},"Hombre","65-69",{"$f":"'Pob x Genero'!#REF!","v":{"$error":"#REF!"}},20]
[{"$f":"A22740","v":{"$error":"#REF!"}},{"$error":"#REF!"},{"$error":"#REF!"},{"$error":"#REF!"},{"$error":"#REF!"},"Hombre","65-69",{"$f":"'Pob x Genero'!#REF!","v":{"$error":"#REF!"}},59]
[{"$f":"A22779","v":{"$error":"#REF!"}},{"$error":"#REF!"},{"$error":"#REF!"},{"$error":"#REF!"},{"$error":"#REF!"},"Hombre","65-69",{"$f":"'Pob x Genero'!#REF!","v":{"$error":"#REF!"}},98]
[{"$f":"A22801","v":{"$error":"#REF!"}},{"$error":"#REF!"},{"$error":"#REF!"},{"$error":"#REF!"},{"$error":"#REF!"},"Hombre","65-69",{"$f":"'Pob x Genero'!#REF!","v":{"$error":"#REF!"}},120]
[{"$f":"A22827","v":{"$error":"#REF!"}},{"$error":"#REF!"},{"$error":"#REF!"},{"$error":"#REF!"},{"$error":"#REF!"},"Hombre","65-69",{"$f":"'Pob x Genero'!#REF!","v":{"$error":"#REF!"}},146]
[{"$f":"A22870","v":{"$error":"#REF!"}},{"$error":"#REF!"},{"$error":"#REF!"},{"$error":"#REF!"},{"$error":"#REF!"},"Hombre","65-69",{"$f":"'Pob x Genero'!#REF!","v":{"$error":"#REF!"}},189]
[{"$f":"A22909","v":{"$error":"#REF!"}},{"$error":"#REF!"},{"$error":"#REF!"},{"$error":"#REF!"},{"$error":"#REF!"},"Hombre","65-69",{"$f":"'Pob x Genero'!#REF!","v":{"$error":"#REF!"}},228]
[{"$f":"A22948","v":{"$error":"#REF!"}},{"$error":"#REF!"},{"$error":"#REF!"},{"$error":"#REF!"},{"$error":"#REF!"},"Hombre","65-69",{"$f":"'Pob x Genero'!#REF!","v":{"$error":"#REF!"}},267]
[{"$f":"A22954","v":{"$error":"#REF!"}},{"$error":"#REF!"},{"$error":"#REF!"},{"$error":"#REF!"},{"$error":"#REF!"},"Hombre","65-69",{"$f":"'Pob x Genero'!#REF!","v":{"$error":"#REF!"}},273]
[{"$f":"A22996","v":{"$error":"#REF!"}},{"$error":"#REF!"},{"$error":"#REF!"},{"$error":"#REF!"},{"$error":"#REF!"},"Hombre","65-69",{"$f":"'Pob x Genero'!#REF!","v":{"$error":"#REF!"}},315]
[{"$f":"A23035","v":"040119"},"AREQUIPA","AREQUIPA","AREQUIPA","SAN JUAN DE TARUCANI","Hombre","65-69",{"$f":"'Pob x Genero'!DF27","v":29},354]
[{"$f":"A23078","v":"040412"},"AREQUIPA","AREQUIPA","CASTILLA","UÑON","Hombre","65-69",{"$f":"'Pob x Genero'!DF70","v":8},397]
[{"$f":"A23089","v":"040509"},"AREQUIPA","AREQUIPA","CAYLLOMA","ICHUPAMPA","Hombre","65-69",{"$f":"'Pob x Genero'!DF81","v":19},408]
[{"$f":"A23126","v":{"$error":"#REF!"}},{"$error":"#REF!"},{"$error":"#REF!"},{"$error":"#REF!"},{"$error":"#REF!"},"Hombre","65-69",{"$f":"'Pob x Genero'!#REF!","v":{"$error":"#REF!"}},445]
[{"$f":"A23165","v":{"$error":"#REF!"}},{"$error":"#REF!"},{"$error":"#REF!"},{"$error":"#REF!"},{"$error":"#REF!"},"Hombre","65-69",{"$f":"'Pob x Genero'!#REF!","v":{"$error":"#REF!"}},484]
[{"$f":"A23204","v":{"$error":"#REF!"}},{"$error":"#REF!"},{"$error":"#REF!"},{"$error":"#REF!"},{"$error":"#REF!"},"Hombre","65-69",{"$f":"'Pob x Genero'!#REF!","v":{"$error":"#REF!"}},523]
[{"$f":"A23224","v":{"$error":"#REF!"}},{"$error":"#REF!"},{"$error":"#REF!"},{"$error":"#REF!"},{"$error":"#REF!"},"Hombre","65-69",{"$f":"'Pob x Genero'!#REF!","v":{"$error":"#REF!"}},543]
[{"$f":"A23252","v":{"$error":"#REF!"}},{"$error":"#REF!"},{"$error":"#REF!"},{"$error":"#REF!"},{"$error":"#REF!"},"Hombre","65-69",{"$f":"'Pob x Genero'!#REF!","v":{"$error":"#REF!"}},571]
[{"$f":"A23295","v":{"$error":"#REF!"}},{"$error":"#REF!"},{"$error":"#REF!"},{"$error":"#REF!"},{"$error":"#REF!"},"Hombre","65-69",{"$f":"'Pob x Genero'!#REF!","v":{"$error":"#REF!"}},614]
[{"$f":"A23334","v":{"$error":"#REF!"}},{"$error":"#REF!"},{"$error":"#REF!"},{"$error":"#REF!"},{"$error":"#REF!"},"Hombre","65-69",{"$f":"'Pob x Genero'!#REF!","v":{"$error":"#REF!"}},653]
[{"$f":"A23373","v":{"$error":"#REF!"}},{"$error":"#REF!"},{"$error":"#REF!"},{"$error":"#REF!"},{"$error":"#REF!"},"Hombre","65-69",{"$f":"'Pob x Genero'!#REF!","v":{"$error":"#REF!"}},692]
[{"$f":"A23409","v":{"$error":"#REF!"}},{"$error":"#REF!"},{"$error":"#REF!"},{"$error":"#REF!"},{"$error":"#REF!"},"Hombre","65-69",{"$f":"'Pob x Genero'!#REF!","v":{"$error":"#REF!"}},728]
[{"$f":"A23421","v":{"$error":"#REF!"}},{"$error":"#REF!"},{"$error":"#REF!"},{"$error":"#REF!"},{"$error":"#REF!"},"Hombre","65-69",{"$f":"'Pob x Genero'!#REF!","v":{"$error":"#REF!"}},740]
[{"$f":"A23460","v":{"$error":"#REF!"}},{"$error":"#REF!"},{"$error":"#REF!"},{"$error":"#REF!"},{"$error":"#REF!"},"Hombre","65-69",{"$f":"'Pob x Genero'!#REF!","v":{"$error":"#REF!"}},779]
[{"$f":"A23503","v":{"$error":"#REF!"}},{"$error":"#REF!"},{"$error":"#REF!"},{"$error":"#REF!"},{"$error":"#REF!"},"Hombre","65-69",{"$f":"'Pob x Genero'!#REF!","v":{"$error":"#REF!"}},822]
[{"$f":"A23512","v":{"$error":"#REF!"}},{"$error":"#REF!"},{"$error":"#REF!"},{"$error":"#REF!"},{"$error":"#REF!"},"Hombre","65-69",{"$f":"'Pob x Genero'!#REF!","v":{"$error":"#REF!"}},831]
[{"$f":"A23551","v":{"$error":"#REF!"}},{"$error":"#REF!"},{"$error":"#REF!"},{"$error":"#REF!"},{"$error":"#REF!"},"Hombre","65-69",{"$f":"'Pob x Genero'!#REF!","v":{"$error":"#REF!"}},870]
[{"$f":"A23590","v":{"$error":"#REF!"}},{"$error":"#REF!"},{"$error":"#REF!"},{"$error":"#REF!"},{"$error":"#REF!"},"Hombre","65-69",{"$f":"'Pob x Genero'!#REF!","v":{"$error":"#REF!"}},909]
[{"$f":"A23629","v":{"$error":"#REF!"}},{"$error":"#REF!"},{"$error":"#REF!"},{"$error":"#REF!"},{"$error":"#REF!"},"Hombre","65-69",{"$f":"'Pob x Genero'!#REF!","v":{"$error":"#REF!"}},948]
[{"$f":"A23647","v":{"$error":"#REF!"}},{"$error":"#REF!"},{"$error":"#REF!"},{"$error":"#REF!"},{"$error":"#REF!"},"Hombre","65-69",{"$f":"'Pob x Genero'!#REF!","v":{"$error":"#REF!"}},966]
[{"$f":"A23677","v":{"$error":"#REF!"}},{"$error":"#REF!"},{"$error":"#REF!"},{"$error":"#REF!"},{"$error":"#REF!"},"Hombre","65-69",{"$f":"'Pob x Genero'!#REF!","v":{"$error":"#REF!"}},996]
[{"$f":"A23720","v":{"$error":"#REF!"}},{"$error":"#REF!"},{"$error":"#REF!"},{"$error":"#REF!"},{"$error":"#REF!"},"Hombre","65-69",{"$f":"'Pob x Genero'!#REF!","v":{"$error":"#REF!"}},1039]
[{"$f":"A23759","v":{"$error":"#REF!"}},{"$error":"#REF!"},{"$error":"#REF!"},{"$error":"#REF!"},{"$error":"#REF!"},"Hombre","65-69",{"$f":"'Pob x Genero'!#REF!","v":{"$error":"#REF!"}},1078]
[{"$f":"A23798","v":{"$error":"#REF!"}},{"$error":"#REF!"},{"$error":"#REF!"},{"$error":"#REF!"},{"$error":"#REF!"},"Hombre","65-69",{"$f":"'Pob x Genero'!#REF!","v":{"$error":"#REF!"}},1117]
[{"$f":"A23832","v":{"$error":"#REF!"}},{"$error":"#REF!"},{"$error":"#REF!"},{"$error":"#REF!"},{"$error":"#REF!"},"Hombre","65-69",{"$f":"'Pob x Genero'!#REF!","v":{"$error":"#REF!"}},1151]
[{"$f":"A23846","v":{"$error":"#REF!"}},{"$error":"#REF!"},{"$error":"#REF!"},{"$error":"#REF!"},{"$error":"#REF!"},"Hombre","65-69",{"$f":"'Pob x Genero'!#REF!","v":{"$error":"#REF!"}},1165]
[{"$f":"A23885","v":{"$error":"#REF!"}},{"$error":"#REF!"},{"$error":"#REF!"},{"$error":"#REF!"},{"$error":"#REF!"},"Hombre","65-69",{"$f":"'Pob x Genero'!#REF!","v":{"$error":"#REF!"}},1204]
[{"$f":"A23928","v":{"$error":"#REF!"}},{"$error":"#REF!"},{"$error":"#REF!"},{"$error":"#REF!"},{"$error":"#REF!"},"Hombre","65-69",{"$f":"'Pob x Genero'!#REF!","v":{"$error":"#REF!"}},1247]
[{"$f":"A23935","v":{"$error":"#REF!"}},{"$error":"#REF!"},{"$error":"#REF!"},{"$error":"#REF!"},{"$error":"#REF!"},"Hombre","65-69",{"$f":"'Pob x Genero'!#REF!","v":{"$error":"#REF!"}},1254]
[{"$f":"A23976","v":{"$error":"#REF!"}},{"$error":"#REF!"},{"$error":"#REF!"},{"$error":"#REF!"},{"$error":"#REF!"},"Hombre","65-69",{"$f":"'Pob x Genero'!#REF!","v":{"$error":"#REF!"}},1295]
[{"$f":"A24015","v":{"$error":"#REF!"}},{"$error":"#REF!"},{"$error":"#REF!"},{"$error":"#REF!"},{"$error":"#REF!"},"Hombre","65-69",{"$f":"'Pob x Genero'!#REF!","v":{"$error":"#REF!"}},1334]
[{"$f":"A24054","v":{"$error":"#REF!"}},{"$error":"#REF!"},{"$error":"#REF!"},{"$error":"#REF!"},{"$error":"#REF!"},"Hombre","65-69",{"$f":"'Pob x Genero'!#REF!","v":{"$error":"#REF!"}},1373]
[{"$f":"A24097","v":{"$error":"#REF!"}},{"$error":"#REF!"},{"$error":"#REF!"},{"$error":"#REF!"},{"$error":"#REF!"},"Hombre","65-69",{"$f":"'Pob x Genero'!#REF!","v":{"$error":"#REF!"}},1416]
[{"$f":"A24120","v":{"$error":"#REF!"}},{"$error":"#REF!"},{"$error":"#REF!"},{"$error":"#REF!"},{"$error":"#REF!"},"Hombre","65-69",{"$f":"'Pob x Genero'!#REF!","v":{"$error":"#REF!"}},1439]
[{"$f":"A24141","v":{"$error":"#REF!"}},{"$error":"#REF!"},{"$error":"#REF!"},{"$error":"#REF!"},{"$error":"#REF!"},"Hombre","65-69",{"$f":"'Pob x Genero'!#REF!","v":{"$error":"#REF!"}},1460]
[{"$f":"A24184","v":{"$error":"#REF!"}},{"$error":"#REF!"},{"$error":"#REF!"},{"$error":"#REF!"},{"$error":"#REF!"},"Hombre","65-69",{"$f":"'Pob x Genero'!#REF!","v":{"$error":"#REF!"}},1503]
[{"$f":"A24223","v":{"$error":"#REF!"}},{"$error":"#REF!"},{"$error":"#REF!"},{"$error":"#REF!"},{"$error":"#REF!"},"Hombre","65-69",{"$f":"'Pob x Genero'!#REF!","v":{"$error":"#REF!"}},1542]
[{"$f":"A24255","v":{"$error":"#REF!"}},{"$error":"#REF!"},{"$error":"#REF!"},{"$error":"#REF!"},{"$error":"#REF!"},"Hombre","65-69",{"$f":"'Pob x Genero'!#REF!","v":{"$error":"#REF!"}},1574]
[{"$f":"A24271","v":{"$error":"#REF!"}},{"$error":"#REF!"},{"$error":"#REF!"},{"$error":"#REF!"},{"$error":"#REF!"},"Hombre","65-69",{"$f":"'Pob x Genero'!#REF!","v":{"$error":"#REF!"}},1590]
[{"$f":"A24310","v":{"$error":"#REF!"}},{"$error":"#REF!"},{"$error":"#REF!"},{"$error":"#REF!"},{"$error":"#REF!"},"Hombre","65-69",{"$f":"'Pob x Genero'!#REF!","v":{"$error":"#REF!"}},1629]
[{"$f":"A24353","v":{"$error":"#REF!"}},{"$error":"#REF!"},{"$error":"#REF!"},{"$error":"#REF!"},{"$error":"#REF!"},"Hombre","65-69",{"$f":"'Pob x Genero'!#REF!","v":{"$error":"#REF!"}},1672]
[{"$f":"A24390","v":{"$error":"#REF!"}},{"$error":"#REF!"},{"$error":"#REF!"},{"$error":"#REF!"},{"$error":"#REF!"},"Hombre","65-69",{"$f":"'Pob x Genero'!#REF!","v":{"$error":"#REF!"}},1709]
[{"$f":"A24401","v":{"$error":"#REF!"}},{"$error":"#REF!"},{"$error":"#REF!"},{"$error":"#REF!"},{"$error":"#REF!"},"Hombre","65-69",{"$f":"'Pob x Genero'!#REF!","v":{"$error":"#REF!"}},1720]
[{"$f":"A24440","v":{"$error":"#REF!"}},{"$error":"#REF!"},{"$error":"#REF!"},{"$error":"#REF!"},{"$error":"#REF!"},"Hombre","65-69",{"$f":"'Pob x Genero'!#REF!","v":{"$error":"#REF!"}},1759]
[{"$f":"A24479","v":{"$error":"#REF!"}},{"$error":"#REF!"},{"$error":"#REF!"},{"$error":"#REF!"},{"$error":"#REF!"},"Hombre","65-69",{"$f":"'Pob x Genero'!#REF!","v":{"$error":"#REF!"}},1798]
[{"$f":"A24522","v":{"$error":"#REF!"}},{"$error":"#REF!"},{"$error":"#REF!"},{"$error":"#REF!"},{"$error":"#REF!"},"Hombre","65-69",{"$f":"'Pob x Genero'!#REF!","v":{"$error":"#REF!"}},1841]
[{"$f":"A24543","v":{"$error":"#REF!"}},{"$error":"#REF!"},{"$error":"#REF!"},{"$error":"#REF!"},{"$error":"#REF!"},"Hombre","65-69",{"$f":"'Pob x Genero'!#REF!","v":{"$error":"#REF!"}},1862]
[{"$f":"A24566","v":{"$error":"#REF!"}},{"$error":"#REF!"},{"$error":"#REF!"},{"$error":"#REF!"},{"$error":"#REF!"},"Hombre","65-69",{"$f":"'Pob x Genero'!#REF!","v":{"$error":"#REF!"}},1885]
[{"$f":"A24609","v":{"$error":"#REF!"}},{"$error":"#REF!"},{"$error":"#REF!"},{"$error":"#REF!"},{"$error":"#REF!"},"Hombre","70-74",{"$f":"'Pob x Genero'!#REF!","v":{"$error":"#REF!"}},38]
[{"$f":"A24648","v":{"$error":"#REF!"}},{"$error":"#REF!"},{"$error":"#REF!"},{"$error":"#REF!"},{"$error":"#REF!"},"Hombre","70-74",{"$f":"'Pob x Genero'!#REF!","v":{"$error":"#REF!"}},77]
[{"$f":"A24678","v":{"$error":"#REF!"}},{"$error":"#REF!"},{"$error":"#REF!"},{"$error":"#REF!"},{"$error":"#REF!"},"Hombre","70-74",{"$f":"'Pob x Genero'!#REF!","v":{"$error":"#REF!"}},107]
[{"$f":"A24696","v":{"$error":"#REF!"}},{"$error":"#REF!"},{"$error":"#REF!"},{"$error":"#REF!"},{"$error":"#REF!"},"Hombre","70-74",{"$f":"'Pob x Genero'!#REF!","v":{"$error":"#REF!"}},125]
[{"$f":"A24735","v":{"$error":"#REF!"}},{"$error":"#REF!"},{"$error":"#REF!"},{"$error":"#REF!"},{"$error":"#REF!"},"Hombre","70-74",{"$f":"'Pob x Genero'!#REF!","v":{"$error":"#REF!"}},164]
[{"$f":"A24778","v":{"$error":"#REF!"}},{"$error":"#REF!"},{"$error":"#REF!"},{"$error":"#REF!"},{"$error":"#REF!"},"Hombre","70-74",{"$f":"'Pob x Genero'!#REF!","v":{"$error":"#REF!"}},207]
[{"$f":"A24813","v":{"$error":"#REF!"}},{"$error":"#REF!"},{"$error":"#REF!"},{"$error":"#REF!"},{"$error":"#REF!"},"Hombre","70-74",{"$f":"'Pob x Genero'!#REF!","v":{"$error":"#REF!"}},242]
[{"$f":"A24826","v":{"$error":"#REF!"}},{"$error":"#REF!"},{"$error":"#REF!"},{"$error":"#REF!"},{"$error":"#REF!"},"Hombre","70-74",{"$f":"'Pob x Genero'!#REF!","v":{"$error":"#REF!"}},255]
[{"$f":"A24865","v":{"$error":"#REF!"}},{"$error":"#REF!"},{"$error":"#REF!"},{"$error":"#REF!"},{"$error":"#REF!"},"Hombre","70-74",{"$f":"'Pob x Genero'!#REF!","v":{"$error":"#REF!"}},294]
[{"$f":"A24904","v":{"$error":"#REF!"}},{"$error":"#REF!"},{"$error":"#REF!"},{"$error":"#REF!"},{"$error":"#REF!"},"Hombre","70-74",{"$f":"'Pob x Genero'!#REF!","v":{"$error":"#REF!"}},333]
[{"$f":"A24947","v":"040304"},"AREQUIPA","AREQUIPA","CARAVELI","ATIQUIPA","Hombre","70-74",{"$f":"'Pob x Genero'!DG49","v":7},376]
[{"$f":"A24966","v":"040410"},"AREQUIPA","AREQUIPA","CASTILLA","PAMPACOLCA","Hombre","70-74",{"$f":"'Pob x Genero'!DG68","v":24},395]
[{"$f":"A24991","v":"040601"},"AREQUIPA","AREQUIPA","CONDESUYOS","CHUQUIBAMBA","Hombre","70-74",{"$f":"'Pob x Genero'!DG93","v":72},420]
[{"$f":"A25034","v":{"$error":"#REF!"}},{"$error":"#REF!"},{"$error":"#REF!"},{"$error":"#REF!"},{"$error":"#REF!"},"Hombre","70-74",{"$f":"'Pob x Genero'!#REF!","v":{"$error":"#REF!"}},463]
[{"$f":"A25073","v":{"$error":"#REF!"}},{"$error":"#REF!"},{"$error":"#REF!"},{"$error":"#REF!"},{"$error":"#REF!"},"Hombre","70-74",{"$f":"'Pob x Genero'!#REF!","v":{"$error":"#REF!"}},502]
[{"$f":"A25101","v":{"$error":"#REF!"}},{"$error":"#REF!"},{"$error":"#REF!"},{"$error":"#REF!"},{"$error":"#REF!"},"Hombre","70-74",{"$f":"'Pob x Genero'!#REF!","v":{"$error":"#REF!"}},530]
[{"$f":"A25121","v":{"$error":"#REF!"}},{"$error":"#REF!"},{"$error":"#REF!"},{"$error":"#REF!"},{"$error":"#REF!"},"Hombre","70-74",{"$f":"'Pob x Genero'!#REF!","v":{"$error":"#REF!"}},550]
[{"$f":"A25160","v":{"$error":"#REF!"}},{"$error":"#REF!"},{"$error":"#REF!"},{"$error":"#REF!"},{"$error":"#REF!"},"Hombre","70-74",{"$f":"'Pob x Genero'!#REF!","v":{"$error":"#REF!"}},589]
[{"$f":"A25203","v":{"$error":"#REF!"}},{"$error":"#REF!"},{"$error":"#REF!"},{"$error":"#REF!"},{"$error":"#REF!"},"Hombre","70-74",{"$f":"'Pob x Genero'!#REF!","v":{"$error":"#REF!"}},632]
[{"$f":"A25236","v":{"$error":"#REF!"}},{"$error":"#REF!"},{"$error":"#REF!"},{"$error":"#REF!"},{"$error":"#REF!"},"Hombre","70-74",{"$f":"'Pob x Genero'!#REF!","v":{"$error":"#REF!"}},665]
[{"$f":"A25247","v":{"$error":"#REF!"}},{"$error":"#REF!"},{"$error":"#REF!"},{"$error":"#REF!"},{"$error":"#REF!"},"Hombre","70-74",{"$f":"'Pob x Genero'!#REF!","v":{"$error":"#REF!"}},676]
[{"$f":"A25290","v":{"$error":"#REF!"}},{"$error":"#REF!"},{"$error":"#REF!"},{"$error":"#REF!"},{"$error":"#REF!"},"Hombre","70-74",{"$f":"'Pob x Genero'!#REF!","v":{"$error":"#REF!"}},719]
[{"$f":"A25329","v":{"$error":"#REF!"}},{"$error":"#REF!"},{"$error":"#REF!"},{"$error":"#REF!"},{"$error":"#REF!"},"Hombre","70-74",{"$f":"'Pob x Genero'!#REF!","v":{"$error":"#REF!"}},758]
[{"$f":"A25372","v":{"$error":"#REF!"}},{"$error":"#REF!"},{"$error":"#REF!"},{"$error":"#REF!"},{"$error":"#REF!"},"Hombre","70-74",{"$f":"'Pob x Genero'!#REF!","v":{"$error":"#REF!"}},801]
[{"$f":"A25389","v":{"$error":"#REF!"}},{"$error":"#REF!"},{"$error":"#REF!"},{"$error":"#REF!"},{"$error":"#REF!"},"Hombre","70-74",{"$f":"'Pob x Genero'!#REF!","v":{"$error":"#REF!"}},818]
[{"$f":"A25416","v":{"$error":"#REF!"}},{"$error":"#REF!"},{"$error":"#REF!"},{"$error":"#REF!"},{"$error":"#REF!"},"Hombre","70-74",{"$f":"'Pob x Genero'!#REF!","v":{"$error":"#REF!"}},845]
[{"$f":"A25459","v":{"$error":"#REF!"}},{"$error":"#REF!"},{"$error":"#REF!"},{"$error":"#REF!"},{"$error":"#REF!"},"Hombre","70-74",{"$f":"'Pob x Genero'!#REF!","v":{"$error":"#REF!"}},888]
[{"$f":"A25498","v":{"$error":"#REF!"}},{"$error":"#REF!"},{"$error":"#REF!"},{"$error":"#REF!"},{"$error":"#REF!"},"Hombre","70-74",{"$f":"'Pob x Genero'!#REF!","v":{"$error":"#REF!"}},927]
[{"$f":"A25524","v":{"$error":"#REF!"}},{"$error":"#REF!"},{"$error":"#REF!"},{"$error":"#REF!"},{"$error":"#REF!"},"Hombre","70-74",{"$f":"'Pob x Genero'!#REF!","v":{"$error":"#REF!"}},953]
[{"$f":"A25546","v":{"$error":"#REF!"}},{"$error":"#REF!"},{"$error":"#REF!"},{"$error":"#REF!"},{"$error":"#REF!"},"Hombre","70-74",{"$f":"'Pob x Genero'!#REF!","v":{"$error":"#REF!"}},975]
[{"$f":"A25585","v":{"$error":"#REF!"}},{"$error":"#REF!"},{"$error":"#REF!"},{"$error":"#REF!"},{"$error":"#REF!"},"Hombre","70-74",{"$f":"'Pob x Genero'!#REF!","v":{"$error":"#REF!"}},1014]
[{"$f":"A25628","v":{"$error":"#REF!"}},{"$error":"#REF!"},{"$error":"#REF!"},{"$error":"#REF!"},{"$error":"#REF!"},"Hombre","70-74",{"$f":"'Pob x Genero'!#REF!","v":{"$error":"#REF!"}},1057]
[{"$f":"A25659","v":{"$error":"#REF!"}},{"$error":"#REF!"},{"$error":"#REF!"},{"$error":"#REF!"},{"$error":"#REF!"},"Hombre","70-74",{"$f":"'Pob x Genero'!#REF!","v":{"$error":"#REF!"}},1088]
[{"$f":"A25672","v":{"$error":"#REF!"}},{"$error":"#REF!"},{"$error":"#REF!"},{"$error":"#REF!"},{"$error":"#REF!"},"Hombre","70-74",{"$f":"'Pob x Genero'!#REF!","v":{"$error":"#REF!"}},1101]
[{"$f":"A25715","v":{"$error":"#REF!"}},{"$error":"#REF!"},{"$error":"#REF!"},{"$error":"#REF!"},{"$error":"#REF!"},"Hombre","70-74",{"$f":"'Pob x Genero'!#REF!","v":{"$error":"#REF!"}},1144]
[{"$f":"A25754","v":{"$error":"#REF!"}},{"$error":"#REF!"},{"$error":"#REF!"},{"$error":"#REF!"},{"$error":"#REF!"},"Hombre","70-74",{"$f":"'Pob x Genero'!#REF!","v":{"$error":"#REF!"}},1183]
[{"$f":"A25797","v":{"$error":"#REF!"}},{"$error":"#REF!"},{"$error":"#REF!"},{"$error":"#REF!"},{"$error":"#REF!"},"Hombre","70-74",{"$f":"'Pob x Genero'!#REF!","v":{"$error":"#REF!"}},1226]
[{"$f":"A25812","v":{"$error":"#REF!"}},{"$error":"#REF!"},{"$error":"#REF!"},{"$error":"#REF!"},{"$error":"#REF!"},"Hombre","70-74",{"$f":"'Pob x Genero'!#REF!","v":{"$error":"#REF!"}},1241]
[{"$f":"A25841","v":{"$error":"#REF!"}},{"$error":"#REF!"},{"$error":"#REF!"},{"$error":"#REF!"},{"$error":"#REF!"},"Hombre","70-74",{"$f":"'Pob x Genero'!#REF!","v":{"$error":"#REF!"}},1270]
[{"$f":"A25884","v":{"$error":"#REF!"}},{"$error":"#REF!"},{"$error":"#REF!"},{"$error":"#REF!"},{"$error":"#REF!"},"Hombre","70-74",{"$f":"'Pob x Genero'!#REF!","v":{"$error":"#REF!"}},1313]
[{"$f":"A25923","v":{"$error":"#REF!"}},{"$error":"#REF!"},{"$error":"#REF!"},{"$error":"#REF!"},{"$error":"#REF!"},"Hombre","70-74",{"$f":"'Pob x Genero'!#REF!","v":{"$error":"#REF!"}},1352]
[{"$f":"A25947","v":{"$error":"#REF!"}},{"$error":"#REF!"},{"$error":"#REF!"},{"$error":"#REF!"},{"$error":"#REF!"},"Hombre","70-74",{"$f":"'Pob x Genero'!#REF!","v":{"$error":"#REF!"}},1376]
[{"$f":"A25971","v":{"$error":"#REF!"}},{"$error":"#REF!"},{"$error":"#REF!"},{"$error":"#REF!"},{"$error":"#REF!"},"Hombre","70-74",{"$f":"'Pob x Genero'!#REF!","v":{"$error":"#REF!"}},1400]
[{"$f":"A26010","v":{"$error":"#REF!"}},{"$error":"#REF!"},{"$error":"#REF!"},{"$error":"#REF!"},{"$error":"#REF!"},"Hombre","70-74",{"$f":"'Pob x Genero'!#REF!","v":{"$error":"#REF!"}},1439]
[{"$f":"A26053","v":{"$error":"#REF!"}},{"$error":"#REF!"},{"$error":"#REF!"},{"$error":"#REF!"},{"$error":"#REF!"},"Hombre","70-74",{"$f":"'Pob x Genero'!#REF!","v":{"$error":"#REF!"}},1482]
[{"$f":"A26092","v":{"$error":"#REF!"}},{"$error":"#REF!"},{"$error":"#REF!"},{"$error":"#REF!"},{"$error":"#REF!"},"Hombre","70-74",{"$f":"'Pob x Genero'!#REF!","v":{"$error":"#REF!"}},1521]
[{"$f":"A26100","v":{"$error":"#REF!"}},{"$error":"#REF!"},{"$error":"#REF!"},{"$error":"#REF!"},{"$error":"#REF!"},"Hombre","70-74",{"$f":"'Pob x Genero'!#REF!","v":{"$error":"#REF!"}},1529]
[{"$f":"A26140","v":{"$error":"#REF!"}},{"$error":"#REF!"},{"$error":"#REF!"},{"$error":"#REF!"},{"$error":"#REF!"},"Hombre","70-74",{"$f":"'Pob x Genero'!#REF!","v":{"$error":"#REF!"}},1569]
[{"$f":"A26179","v":{"$error":"#REF!"}},{"$error":"#REF!"},{"$error":"#REF!"},{"$error":"#REF!"},{"$error":"#REF!"},"Hombre","70-74",{"$f":"'Pob x Genero'!#REF!","v":{"$error":"#REF!"}},1608]
[{"$f":"A26222","v":{"$error":"#REF!"}},{"$error":"#REF!"},{"$error":"#REF!"},{"$error":"#REF!"},{"$error":"#REF!"},"Hombre","70-74",{"$f":"'Pob x Genero'!#REF!","v":{"$error":"#REF!"}},1651]
[{"$f":"A26235","v":{"$error":"#REF!"}},{"$error":"#REF!"},{"$error":"#REF!"},{"$error":"#REF!"},{"$error":"#REF!"},"Hombre","70-74",{"$f":"'Pob x Genero'!#REF!","v":{"$error":"#REF!"}},1664]
[{"$f":"A26266","v":{"$error":"#REF!"}},{"$error":"#REF!"},{"$error":"#REF!"},{"$error":"#REF!"},{"$error":"#REF!"},"Hombre","70-74",{"$f":"'Pob x Genero'!#REF!","v":{"$error":"#REF!"}},1695]
[{"$f":"A26309","v":{"$error":"#REF!"}},{"$error":"#REF!"},{"$error":"#REF!"},{"$error":"#REF!"},{"$error":"#REF!"},"Hombre","70-74",{"$f":"'Pob x Genero'!#REF!","v":{"$error":"#REF!"}},1738]
[{"$f":"A26348","v":{"$error":"#REF!"}},{"$error":"#REF!"},{"$error":"#REF!"},{"$error":"#REF!"},{"$error":"#REF!"},"Hombre","70-74",{"$f":"'Pob x Genero'!#REF!","v":{"$error":"#REF!"}},1777]
[{"$f":"A26370","v":{"$error":"#REF!"}},{"$error":"#REF!"},{"$error":"#REF!"},{"$error":"#REF!"},{"$error":"#REF!"},"Hombre","70-74",{"$f":"'Pob x Genero'!#REF!","v":{"$error":"#REF!"}},1799]
[{"$f":"A26396","v":{"$error":"#REF!"}},{"$error":"#REF!"},{"$error":"#REF!"},{"$error":"#REF!"},{"$error":"#REF!"},"Hombre","70-74",{"$f":"'Pob x Genero'!#REF!","v":{"$error":"#REF!"}},1825]
[{"$f":"A26435","v":{"$error":"#REF!"}},{"$error":"#REF!"},{"$error":"#REF!"},{"$error":"#REF!"},{"$error":"#REF!"},"Hombre","70-74",{"$f":"'Pob x Genero'!#REF!","v":{"$error":"#REF!"}},1864]
[{"$f":"A26478","v":{"$error":"#REF!"}},{"$error":"#REF!"},{"$error":"#REF!"},{"$error":"#REF!"},{"$error":"#REF!"},"Hombre","75-79",{"$f":"'Pob x Genero'!#REF!","v":{"$error":"#REF!"}},17]
[{"$f":"A26517","v":{"$error":"#REF!"}},{"$error":"#REF!"},{"$error":"#REF!"},{"$error":"#REF!"},{"$error":"#REF!"},"Hombre","75-79",{"$f":"'Pob x Genero'!#REF!","v":{"$error":"#REF!"}},56]
[{"$f":"A26555","v":{"$error":"#REF!"}},{"$error":"#REF!"},{"$error":"#REF!"},{"$error":"#REF!"},{"$error":"#REF!"},"Hombre","75-79",{"$f":"'Pob x Genero'!#REF!","v":{"$error":"#REF!"}},94]
[{"$f":"A26565","v":{"$error":"#REF!"}},{"$error":"#REF!"},{"$error":"#REF!"},{"$error":"#REF!"},{"$error":"#REF!"},"Hombre","75-79",{"$f":"'Pob x Genero'!#REF!","v":{"$error":"#REF!"}},104]
[{"$f":"A26604","v":{"$error":"#REF!"}},{"$error":"#REF!"},{"$error":"#REF!"},{"$error":"#REF!"},{"$error":"#REF!"},"Hombre","75-79",{"$f":"'Pob x Genero'!#REF!","v":{"$error":"#REF!"}},143]
[{"$f":"A26647","v":{"$error":"#REF!"}},{"$error":"#REF!"},{"$error":"#REF!"},{"$error":"#REF!"},{"$error":"#REF!"},"Hombre","75-79",{"$f":"'Pob x Genero'!#REF!","v":{"$error":"#REF!"}},186]
[{"$f":"A26658","v":{"$error":"#REF!"}},{"$error":"#REF!"},{"$error":"#REF!"},{"$error":"#REF!"},{"$error":"#REF!"},"Hombre","75-79",{"$f":"'Pob x Genero'!#REF!","v":{"$error":"#REF!"}},197]
[{"$f":"A26691","v":{"$error":"#REF!"}},{"$error":"#REF!"},{"$error":"#REF!"},{"$error":"#REF!"},{"$error":"#REF!"},"Hombre","75-79",{"$f":"'Pob x Genero'!#REF!","v":{"$error":"#REF!"}},230]
[{"$f":"A26734","v":{"$error":"#REF!"}},{"$error":"#REF!"},{"$error":"#REF!"},{"$error":"#REF!"},{"$error":"#REF!"},"Hombre","75-79",{"$f":"'Pob x Genero'!#REF!","v":{"$error":"#REF!"}},273]
[{"$f":"A26773","v":{"$error":"#REF!"}},{"$error":"#REF!"},{"$error":"#REF!"},{"$error":"#REF!"},{"$error":"#REF!"},"Hombre","75-79",{"$f":"'Pob x Genero'!#REF!","v":{"$error":"#REF!"}},312]
[{"$f":"A26793","v":{"$error":"#REF!"}},{"$error":"#REF!"},{"$error":"#REF!"},{"$error":"#REF!"},{"$error":"#REF!"},"Hombre","75-79",{"$f":"'Pob x Genero'!#REF!","v":{"$error":"#REF!"}},332]
[{"$f":"A26821","v":"040125"},"AREQUIPA","AREQUIPA","AREQUIPA","VITOR","Hombre","75-79",{"$f":"'Pob x Genero'!DH33","v":46},360]
[{"$f":"A26860","v":"040414"},"AREQUIPA","AREQUIPA","CASTILLA","VIRACO","Hombre","75-79",{"$f":"'Pob x Genero'!DH72","v":35},399]
[{"$f":"A26903","v":"040809"},"AREQUIPA","AREQUIPA","LA UNION","TAURIA","Hombre","75-79",{"$f":"'Pob x Genero'!DH115","v":3},442]
[{"$f":"A26942","v":{"$error":"#REF!"}},{"$error":"#REF!"},{"$error":"#REF!"},{"$error":"#REF!"},{"$error":"#REF!"},"Hombre","75-79",{"$f":"'Pob x Genero'!#REF!","v":{"$error":"#REF!"}},481]
[{"$f":"A26978","v":{"$error":"#REF!"}},{"$error":"#REF!"},{"$error":"#REF!"},{"$error":"#REF!"},{"$error":"#REF!"},"Hombre","75-79",{"$f":"'Pob x Genero'!#REF!","v":{"$error":"#REF!"}},517]
[{"$f":"A26990","v":{"$error":"#REF!"}},{"$error":"#REF!"},{"$error":"#REF!"},{"$error":"#REF!"},{"$error":"#REF!"},"Hombre","75-79",{"$f":"'Pob x Genero'!#REF!","v":{"$error":"#REF!"}},529]
[{"$f":"A27029","v":{"$error":"#REF!"}},{"$error":"#REF!"},{"$error":"#REF!"},{"$error":"#REF!"},{"$error":"#REF!"},"Hombre","75-79",{"$f":"'Pob x Genero'!#REF!","v":{"$error":"#REF!"}},568]
[{"$f":"A27068","v":{"$error":"#REF!"}},{"$error":"#REF!"},{"$error":"#REF!"},{"$error":"#REF!"},{"$error":"#REF!"},"Hombre","75-79",{"$f":"'Pob x Genero'!#REF!","v":{"$error":"#REF!"}},607]
[{"$f":"A27081","v":{"$error":"#REF!"}},{"$error":"#REF!"},{"$error":"#REF!"},{"$error":"#REF!"},{"$error":"#REF!"},{"$f":"F28970","v":"Hombre"},"75-79",{"$f":"'Pob x Genero'!#REF!","v":{"$error":"#REF!"}},620]
[{"$f":"A27116","v":{"$error":"#REF!"}},{"$error":"#REF!"},{"$error":"#REF!"},{"$error":"#REF!"},{"$error":"#REF!"},"Hombre","75-79",{"$f":"'Pob x Genero'!#REF!","v":{"$error":"#REF!"}},655]
[{"$f":"A27159","v":{"$error":"#REF!"}},{"$error":"#REF!"},{"$error":"#REF!"},{"$error":"#REF!"},{"$error":"#REF!"},"Hombre","75-79",{"$f":"'Pob x Genero'!#REF!","v":{"$error":"#REF!"}},698]
[{"$f":"A27198","v":{"$error":"#REF!"}},{"$error":"#REF!"},{"$error":"#REF!"},{"$error":"#REF!"},{"$error":"#REF!"},"Hombre","75-79",{"$f":"'Pob x Genero'!#REF!","v":{"$error":"#REF!"}},737]
[{"$f":"A27216","v":{"$error":"#REF!"}},{"$error":"#REF!"},{"$error":"#REF!"},{"$error":"#REF!"},{"$error":"#REF!"},"Hombre","75-79",{"$f":"'Pob x Genero'!#REF!","v":{"$error":"#REF!"}},755]
[{"$f":"A27246","v":{"$error":"#REF!"}},{"$error":"#REF!"},{"$error":"#REF!"},{"$error":"#REF!"},{"$error":"#REF!"},"Hombre","75-79",{"$f":"'Pob x Genero'!#REF!","v":{"$error":"#REF!"}},785]
[{"$f":"A27285","v":{"$error":"#REF!"}},{"$error":"#REF!"},{"$error":"#REF!"},{"$error":"#REF!"},{"$error":"#REF!"},"Hombre","75-79",{"$f":"'Pob x Genero'!#REF!","v":{"$error":"#REF!"}},824]
[{"$f":"A27328","v":{"$error":"#REF!"}},{"$error":"#REF!"},{"$error":"#REF!"},{"$error":"#REF!"},{"$error":"#REF!"},"Hombre","75-79",{"$f":"'Pob x Genero'!#REF!","v":{"$error":"#REF!"}},867]
[{"$f":"A27367","v":{"$error":"#REF!"}},{"$error":"#REF!"},{"$error":"#REF!"},{"$error":"#REF!"},{"$error":"#REF!"},"Hombre","75-79",{"$f":"'Pob x Genero'!#REF!","v":{"$error":"#REF!"}},906]
[{"$f":"A27401","v":{"$error":"#REF!"}},{"$error":"#REF!"},{"$error":"#REF!"},{"$error":"#REF!"},{"$error":"#REF!"},{"$f":"F29290","v":"Hombre"},"75-79",{"$f":"'Pob x Genero'!#REF!","v":{"$error":"#REF!"}},940]
[{"$f":"A27415","v":{"$error":"#REF!"}},{"$error":"#REF!"},{"$error":"#REF!"},{"$error":"#REF!"},{"$error":"#REF!"},"Hombre","75-79",{"$f":"'Pob x Genero'!#REF!","v":{"$error":"#REF!"}},954]
[{"$f":"A27454","v":{"$error":"#REF!"}},{"$error":"#REF!"},{"$error":"#REF!"},{"$error":"#REF!"},{"$error":"#REF!"},"Hombre","75-79",{"$f":"'Pob x Genero'!#REF!","v":{"$error":"#REF!"}},993]
[{"$f":"A27493","v":{"$error":"#REF!"}},{"$error":"#REF!"},{"$error":"#REF!"},{"$error":"#REF!"},{"$error":"#REF!"},"Hombre","75-79",{"$f":"'Pob x Genero'!#REF!","v":{"$error":"#REF!"}},1032]
[{"$f":"A27536","v":{"$error":"#REF!"}},{"$error":"#REF!"},{"$error":"#REF!"},{"$error":"#REF!"},{"$error":"#REF!"},"Hombre","75-79",{"$f":"'Pob x Genero'!#REF!","v":{"$error":"#REF!"}},1075]
[{"$f":"A27541","v":{"$error":"#REF!"}},{"$error":"#REF!"},{"$error":"#REF!"},{"$error":"#REF!"},{"$error":"#REF!"},"Hombre","75-79",{"$f":"'Pob x Genero'!#REF!","v":{"$error":"#REF!"}},1080]
[{"$f":"A27584","v":{"$error":"#REF!"}},{"$error":"#REF!"},{"$error":"#REF!"},{"$error":"#REF!"},{"$error":"#REF!"},"Hombre","75-79",{"$f":"'Pob x Genero'!#REF!","v":{"$error":"#REF!"}},1123]
[{"$f":"A27623","v":{"$error":"#REF!"}},{"$error":"#REF!"},{"$error":"#REF!"},{"$error":"#REF!"},{"$error":"#REF!"},"Hombre","75-79",{"$f":"'Pob x Genero'!#REF!","v":{"$error":"#REF!"}},1162]
[{"$f":"A27639","v":{"$error":"#REF!"}},{"$error":"#REF!"},{"$error":"#REF!"},{"$error":"#REF!"},{"$error":"#REF!"},"Hombre","75-79",{"$f":"'Pob x Genero'!#REF!","v":{"$error":"#REF!"}},1178]
[{"$f":"A27671","v":{"$error":"#REF!"}},{"$error":"#REF!"},{"$error":"#REF!"},{"$error":"#REF!"},{"$error":"#REF!"},"Hombre","75-79",{"$f":"'Pob x Genero'!#REF!","v":{"$error":"#REF!"}},1210]
[{"$f":"A27710","v":{"$error":"#REF!"}},{"$error":"#REF!"},{"$error":"#REF!"},{"$error":"#REF!"},{"$error":"#REF!"},"Hombre","75-79",{"$f":"'Pob x Genero'!#REF!","v":{"$error":"#REF!"}},1249]
[{"$f":"A27749","v":{"$error":"#REF!"}},{"$error":"#REF!"},{"$error":"#REF!"},{"$error":"#REF!"},{"$error":"#REF!"},"Hombre","75-79",{"$f":"'Pob x Genero'!#REF!","v":{"$error":"#REF!"}},1288]
[{"$f":"A27792","v":{"$error":"#REF!"}},{"$error":"#REF!"},{"$error":"#REF!"},{"$error":"#REF!"},{"$error":"#REF!"},"Hombre","75-79",{"$f":"'Pob x Genero'!#REF!","v":{"$error":"#REF!"}},1331]
[{"$f":"A27824","v":{"$error":"#REF!"}},{"$error":"#REF!"},{"$error":"#REF!"},{"$error":"#REF!"},{"$error":"#REF!"},"Hombre","75-79",{"$f":"'Pob x Genero'!#REF!","v":{"$error":"#REF!"}},1363]
[{"$f":"A27840","v":{"$error":"#REF!"}},{"$error":"#REF!"},{"$error":"#REF!"},{"$error":"#REF!"},{"$error":"#REF!"},"Hombre","75-79",{"$f":"'Pob x Genero'!#REF!","v":{"$error":"#REF!"}},1379]
[{"$f":"A27879","v":{"$error":"#REF!"}},{"$error":"#REF!"},{"$error":"#REF!"},{"$error":"#REF!"},{"$error":"#REF!"},"Hombre","75-79",{"$f":"'Pob x Genero'!#REF!","v":{"$error":"#REF!"}},1418]
[{"$f":"A27918","v":{"$error":"#REF!"}},{"$error":"#REF!"},{"$error":"#REF!"},{"$error":"#REF!"},{"$error":"#REF!"},"Hombre","75-79",{"$f":"'Pob x Genero'!#REF!","v":{"$error":"#REF!"}},1457]
[{"$f":"A27959","v":{"$error":"#REF!"}},{"$error":"#REF!"},{"$error":"#REF!"},{"$error":"#REF!"},{"$error":"#REF!"},"Hombre","75-79",{"$f":"'Pob x Genero'!#REF!","v":{"$error":"#REF!"}},1498]
[{"$f":"A27966","v":{"$error":"#REF!"}},{"$error":"#REF!"},{"$error":"#REF!"},{"$error":"#REF!"},{"$error":"#REF!"},"Hombre","75-79",{"$f":"'Pob x Genero'!#REF!","v":{"$error":"#REF!"}},1505]
[{"$f":"A28009","v":{"$error":"#REF!"}},{"$error":"#REF!"},{"$error":"#REF!"},{"$error":"#REF!"},{"$error":"#REF!"},"Hombre","75-79",{"$f":"'Pob x Genero'!#REF!","v":{"$error":"#REF!"}},1548]
[{"$f":"A28048","v":{"$error":"#REF!"}},{"$error":"#REF!"},{"$error":"#REF!"},{"$error":"#REF!"},{"$error":"#REF!"},"Hombre","75-79",{"$f":"'Pob x Genero'!#REF!","v":{"$error":"#REF!"}},1587]
[{"$f":"A28087","v":{"$error":"#REF!"}},{"$error":"#REF!"},{"$error":"#REF!"},{"$error":"#REF!"},{"$error":"#REF!"},"Hombre","75-79",{"$f":"'Pob x Genero'!#REF!","v":{"$error":"#REF!"}},1626]
[{"$f":"A28112","v":{"$error":"#REF!"}},{"$error":"#REF!"},{"$error":"#REF!"},{"$error":"#REF!"},{"$error":"#REF!"},"Hombre","75-79",{"$f":"'Pob x Genero'!#REF!","v":{"$error":"#REF!"}},1651]
[{"$f":"A28135","v":{"$error":"#REF!"}},{"$error":"#REF!"},{"$error":"#REF!"},{"$error":"#REF!"},{"$error":"#REF!"},"Hombre","75-79",{"$f":"'Pob x Genero'!#REF!","v":{"$error":"#REF!"}},1674]
[{"$f":"A28174","v":{"$error":"#REF!"}},{"$error":"#REF!"},{"$error":"#REF!"},{"$error":"#REF!"},{"$error":"#REF!"},"Hombre","75-79",{"$f":"'Pob x Genero'!#REF!","v":{"$error":"#REF!"}},1713]
[{"$f":"A28217","v":{"$error":"#REF!"}},{"$error":"#REF!"},{"$error":"#REF!"},{"$error":"#REF!"},{"$error":"#REF!"},"Hombre","75-79",{"$f":"'Pob x Genero'!#REF!","v":{"$error":"#REF!"}},1756]
[{"$f":"A28247","v":{"$error":"#REF!"}},{"$error":"#REF!"},{"$error":"#REF!"},{"$error":"#REF!"},{"$error":"#REF!"},"Hombre","75-79",{"$f":"'Pob x Genero'!#REF!","v":{"$error":"#REF!"}},1786]
[{"$f":"A28265","v":{"$error":"#REF!"}},{"$error":"#REF!"},{"$error":"#REF!"},{"$error":"#REF!"},{"$error":"#REF!"},"Hombre","75-79",{"$f":"'Pob x Genero'!#REF!","v":{"$error":"#REF!"}},1804]
[{"$f":"A28304","v":{"$error":"#REF!"}},{"$error":"#REF!"},{"$error":"#REF!"},{"$error":"#REF!"},{"$error":"#REF!"},"Hombre","75-79",{"$f":"'Pob x Genero'!#REF!","v":{"$error":"#REF!"}},1843]
[{"$f":"A28343","v":{"$error":"#REF!"}},{"$error":"#REF!"},{"$error":"#REF!"},{"$error":"#REF!"},{"$error":"#REF!"},"Hombre","75-79",{"$f":"'Pob x Genero'!#REF!","v":{"$error":"#REF!"}},1882]
[{"$f":"A28382","v":{"$error":"#REF!"}},{"$error":"#REF!"},{"$error":"#REF!"},{"$error":"#REF!"},{"$error":"#REF!"},"Hombre","80-84",{"$f":"'Pob x Genero'!#REF!","v":{"$error":"#REF!"}},31]
[{"$f":"A28391","v":{"$error":"#REF!"}},{"$error":"#REF!"},{"$error":"#REF!"},{"$error":"#REF!"},{"$error":"#REF!"},"Hombre","80-84",{"$f":"'Pob x Genero'!#REF!","v":{"$error":"#REF!"}},40]
[{"$f":"A28434","v":{"$error":"#REF!"}},{"$error":"#REF!"},{"$error":"#REF!"},{"$error":"#REF!"},{"$error":"#REF!"},"Hombre","80-84",{"$f":"'Pob x Genero'!#REF!","v":{"$error":"#REF!"}},83]
[{"$f":"A28473","v":{"$error":"#REF!"}},{"$error":"#REF!"},{"$error":"#REF!"},{"$error":"#REF!"},{"$error":"#REF!"},"Hombre","80-84",{"$f":"'Pob x Genero'!#REF!","v":{"$error":"#REF!"}},122]
[{"$f":"A28512","v":{"$error":"#REF!"}},{"$error":"#REF!"},{"$error":"#REF!"},{"$error":"#REF!"},{"$error":"#REF!"},"Hombre","80-84",{"$f":"'Pob x Genero'!#REF!","v":{"$error":"#REF!"}},161]
[{"$f":"A28535","v":{"$error":"#REF!"}},{"$error":"#REF!"},{"$error":"#REF!"},{"$error":"#REF!"},{"$error":"#REF!"},"Hombre","80-84",{"$f":"'Pob x Genero'!#REF!","v":{"$error":"#REF!"}},184]
[{"$f":"A28560","v":{"$error":"#REF!"}},{"$error":"#REF!"},{"$error":"#REF!"},{"$error":"#REF!"},{"$error":"#REF!"},"Hombre","80-84",{"$f":"'Pob x Genero'!#REF!","v":{"$error":"#REF!"}},209]
[{"$f":"A28599","v":{"$error":"#REF!"}},{"$error":"#REF!"},{"$error":"#REF!"},{"$error":"#REF!"},{"$error":"#REF!"},"Hombre","80-84",{"$f":"'Pob x Genero'!#REF!","v":{"$error":"#REF!"}},248]
[{"$f":"A28642","v":{"$error":"#REF!"}},{"$error":"#REF!"},{"$error":"#REF!"},{"$error":"#REF!"},{"$error":"#REF!"},"Hombre","80-84",{"$f":"'Pob x Genero'!#REF!","v":{"$error":"#REF!"}},291]
[{"$f":"A28670","v":{"$error":"#REF!"}},{"$error":"#REF!"},{"$error":"#REF!"},{"$error":"#REF!"},{"$error":"#REF!"},"Hombre","80-84",{"$f":"'Pob x Genero'!#REF!","v":{"$error":"#REF!"}},319]
[{"$f":"A28690","v":"040104"},"AREQUIPA","AREQUIPA","AREQUIPA","CERRO COLORADO","Hombre","80-84",{"$f":"'Pob x Genero'!DI12","v":823},339]
[{"$f":"A28729","v":"040306"},"AREQUIPA","AREQUIPA","CARAVELI","CAHUACHO","Hombre","80-84",{"$f":"'Pob x Genero'!DI51","v":10},378]
[{"$f":"A28768","v":"040518"},"AREQUIPA","AREQUIPA","CAYLLOMA","TUTI","Hombre","80-84",{"$f":"'Pob x Genero'!DI90","v":6},417]
[{"$f":"A28805","v":{"$error":"#REF!"}},{"$error":"#REF!"},{"$error":"#REF!"},{"$error":"#REF!"},{"$error":"#REF!"},"Hombre","80-84",{"$f":"'Pob x Genero'!#REF!","v":{"$error":"#REF!"}},454]
[{"$f":"A28849","v":{"$error":"#REF!"}},{"$error":"#REF!"},{"$error":"#REF!"},{"$error":"#REF!"},{"$error":"#REF!"},"Hombre","80-84",{"$f":"'Pob x Genero'!#REF!","v":{"$error":"#REF!"}},498]
[{"$f":"A28855","v":{"$error":"#REF!"}},{"$error":"#REF!"},{"$error":"#REF!"},{"$error":"#REF!"},{"$error":"#REF!"},"Hombre","80-84",{"$f":"'Pob x Genero'!#REF!","v":{"$error":"#REF!"}},504]
[{"$f":"A28898","v":{"$error":"#REF!"}},{"$error":"#REF!"},{"$error":"#REF!"},{"$error":"#REF!"},{"$error":"#REF!"},"Hombre","80-84",{"$f":"'Pob x Genero'!#REF!","v":{"$error":"#REF!"}},547]
[{"$f":"A28937","v":{"$error":"#REF!"}},{"$error":"#REF!"},{"$error":"#REF!"},{"$error":"#REF!"},{"$error":"#REF!"},{"$f":"F30826","v":"Hombre"},"80-84",{"$f":"'Pob x Genero'!#REF!","v":{"$error":"#REF!"}},586]
[{"$f":"A28958","v":{"$error":"#REF!"}},{"$error":"#REF!"},{"$error":"#REF!"},{"$error":"#REF!"},{"$error":"#REF!"},"Hombre","80-84",{"$f":"'Pob x Genero'!#REF!","v":{"$error":"#REF!"}},607]
[{"$f":"A28985","v":{"$error":"#REF!"}},{"$error":"#REF!"},{"$error":"#REF!"},{"$error":"#REF!"},{"$error":"#REF!"},"Hombre","80-84",{"$f":"'Pob x Genero'!#REF!","v":{"$error":"#REF!"}},634]
[{"$f":"A29024","v":{"$error":"#REF!"}},{"$error":"#REF!"},{"$error":"#REF!"},{"$error":"#REF!"},{"$error":"#REF!"},"Hombre","80-84",{"$f":"'Pob x Genero'!#REF!","v":{"$error":"#REF!"}},673]
[{"$f":"A29067","v":{"$error":"#REF!"}},{"$error":"#REF!"},{"$error":"#REF!"},{"$error":"#REF!"},{"$error":"#REF!"},"Hombre","80-84",{"$f":"'Pob x Genero'!#REF!","v":{"$error":"#REF!"}},716]
[{"$f":"A29093","v":{"$error":"#REF!"}},{"$error":"#REF!"},{"$error":"#REF!"},{"$error":"#REF!"},{"$error":"#REF!"},"Hombre","80-84",{"$f":"'Pob x Genero'!#REF!","v":{"$error":"#REF!"}},742]
[{"$f":"A29115","v":{"$error":"#REF!"}},{"$error":"#REF!"},{"$error":"#REF!"},{"$error":"#REF!"},{"$error":"#REF!"},"Hombre","80-84",{"$f":"'Pob x Genero'!#REF!","v":{"$error":"#REF!"}},764]
[{"$f":"A29154","v":{"$error":"#REF!"}},{"$error":"#REF!"},{"$error":"#REF!"},{"$error":"#REF!"},{"$error":"#REF!"},"Hombre","80-84",{"$f":"'Pob x Genero'!#REF!","v":{"$error":"#REF!"}},803]
[{"$f":"A29193","v":{"$error":"#REF!"}},{"$error":"#REF!"},{"$error":"#REF!"},{"$error":"#REF!"},{"$error":"#REF!"},{"$f":"F31082","v":"Hombre"},"80-84",{"$f":"'Pob x Genero'!#REF!","v":{"$error":"#REF!"}},842]
[{"$f":"A29228","v":{"$error":"#REF!"}},{"$error":"#REF!"},{"$error":"#REF!"},{"$error":"#REF!"},{"$error":"#REF!"},"Hombre","80-84",{"$f":"'Pob x Genero'!#REF!","v":{"$error":"#REF!"}},877]
[{"$f":"A29274","v":{"$error":"#REF!"}},{"$error":"#REF!"},{"$error":"#REF!"},{"$error":"#REF!"},{"$error":"#REF!"},"Hombre","80-84",{"$f":"'Pob x Genero'!#REF!","v":{"$error":"#REF!"}},923]
[{"$f":"A29280","v":{"$error":"#REF!"}},{"$error":"#REF!"},{"$error":"#REF!"},{"$error":"#REF!"},{"$error":"#REF!"},"Hombre","80-84",{"$f":"'Pob x Genero'!#REF!","v":{"$error":"#REF!"}},929]
[{"$f":"A29323","v":{"$error":"#REF!"}},{"$error":"#REF!"},{"$error":"#REF!"},{"$error":"#REF!"},{"$error":"#REF!"},"Hombre","80-84",{"$f":"'Pob x Genero'!#REF!","v":{"$error":"#REF!"}},972]
[{"$f":"A29362","v":{"$error":"#REF!"}},{"$error":"#REF!"},{"$error":"#REF!"},{"$error":"#REF!"},{"$error":"#REF!"},"Hombre","80-84",{"$f":"'Pob x Genero'!#REF!","v":{"$error":"#REF!"}},1011]
[{"$f":"A29381","v":{"$error":"#REF!"}},{"$error":"#REF!"},{"$error":"#REF!"},{"$error":"#REF!"},{"$error":"#REF!"},"Hombre","80-84",{"$f":"'Pob x Genero'!#REF!","v":{"$error":"#REF!"}},1030]
[{"$f":"A29410","v":{"$error":"#REF!"}},{"$error":"#REF!"},{"$error":"#REF!"},{"$error":"#REF!"},{"$error":"#REF!"},"Hombre","80-84",{"$f":"'Pob x Genero'!#REF!","v":{"$error":"#REF!"}},1059]
[{"$f":"A29449","v":{"$error":"#REF!"}},{"$error":"#REF!"},{"$error":"#REF!"},{"$error":"#REF!"},{"$error":"#REF!"},{"$f":"F31338","v":"Hombre"},"80-84",{"$f":"'Pob x Genero'!#REF!","v":{"$error":"#REF!"}},1098]
[{"$f":"A29492","v":{"$error":"#REF!"}},{"$error":"#REF!"},{"$error":"#REF!"},{"$error":"#REF!"},{"$error":"#REF!"},"Hombre","80-84",{"$f":"'Pob x Genero'!#REF!","v":{"$error":"#REF!"}},1141]
[{"$f":"A29516","v":{"$error":"#REF!"}},{"$error":"#REF!"},{"$error":"#REF!"},{"$error":"#REF!"},{"$error":"#REF!"},"Hombre","80-84",{"$f":"'Pob x Genero'!#REF!","v":{"$error":"#REF!"}},1165]
[{"$f":"A29540","v":{"$error":"#REF!"}},{"$error":"#REF!"},{"$error":"#REF!"},{"$error":"#REF!"},{"$error":"#REF!"},"Hombre","80-84",{"$f":"'Pob x Genero'!#REF!","v":{"$error":"#REF!"}},1189]
[{"$f":"A29579","v":{"$error":"#REF!"}},{"$error":"#REF!"},{"$error":"#REF!"},{"$error":"#REF!"},{"$error":"#REF!"},"Hombre","80-84",{"$f":"'Pob x Genero'!#REF!","v":{"$error":"#REF!"}},1228]
[{"$f":"A29618","v":{"$error":"#REF!"}},{"$error":"#REF!"},{"$error":"#REF!"},{"$error":"#REF!"},{"$error":"#REF!"},"Hombre","80-84",{"$f":"'Pob x Genero'!#REF!","v":{"$error":"#REF!"}},1267]
[{"$f":"A29651","v":{"$error":"#REF!"}},{"$error":"#REF!"},{"$error":"#REF!"},{"$error":"#REF!"},{"$error":"#REF!"},"Hombre","80-84",{"$f":"'Pob x Genero'!#REF!","v":{"$error":"#REF!"}},1300]
[{"$f":"A29699","v":{"$error":"#REF!"}},{"$error":"#REF!"},{"$error":"#REF!"},{"$error":"#REF!"},{"$error":"#REF!"},"Hombre","80-84",{"$f":"'Pob x Genero'!#REF!","v":{"$error":"#REF!"}},1348]
[{"$f":"A29705","v":{"$error":"#REF!"}},{"$error":"#REF!"},{"$error":"#REF!"},{"$error":"#REF!"},{"$error":"#REF!"},{"$f":"F31594","v":"Hombre"},"80-84",{"$f":"'Pob x Genero'!#REF!","v":{"$error":"#REF!"}},1354]
[{"$f":"A29748","v":{"$error":"#REF!"}},{"$error":"#REF!"},{"$error":"#REF!"},{"$error":"#REF!"},{"$error":"#REF!"},"Hombre","80-84",{"$f":"'Pob x Genero'!#REF!","v":{"$error":"#REF!"}},1397]
[{"$f":"A29787","v":{"$error":"#REF!"}},{"$error":"#REF!"},{"$error":"#REF!"},{"$error":"#REF!"},{"$error":"#REF!"},"Hombre","80-84",{"$f":"'Pob x Genero'!#REF!","v":{"$error":"#REF!"}},1436]
[{"$f":"A29804","v":{"$error":"#REF!"}},{"$error":"#REF!"},{"$error":"#REF!"},{"$error":"#REF!"},{"$error":"#REF!"},"Hombre","80-84",{"$f":"'Pob x Genero'!#REF!","v":{"$error":"#REF!"}},1453]
[{"$f":"A29835","v":{"$error":"#REF!"}},{"$error":"#REF!"},{"$error":"#REF!"},{"$error":"#REF!"},{"$error":"#REF!"},"Hombre","80-84",{"$f":"'Pob x Genero'!#REF!","v":{"$error":"#REF!"}},1484]
[{"$f":"A29874","v":{"$error":"#REF!"}},{"$error":"#REF!"},{"$error":"#REF!"},{"$error":"#REF!"},{"$error":"#REF!"},"Hombre","80-84",{"$f":"'Pob x Genero'!#REF!","v":{"$error":"#REF!"}},1523]
[{"$f":"A29917","v":{"$error":"#REF!"}},{"$error":"#REF!"},{"$error":"#REF!"},{"$error":"#REF!"},{"$error":"#REF!"},"Hombre","80-84",{"$f":"'Pob x Genero'!#REF!","v":{"$error":"#REF!"}},1566]
[{"$f":"A29939","v":{"$error":"#REF!"}},{"$error":"#REF!"},{"$error":"#REF!"},{"$error":"#REF!"},{"$error":"#REF!"},"Hombre","80-84",{"$f":"'Pob x Genero'!#REF!","v":{"$error":"#REF!"}},1588]
[{"$f":"A29994","v":{"$error":"#REF!"}},{"$error":"#REF!"},{"$error":"#REF!"},{"$error":"#REF!"},{"$error":"#REF!"},"Hombre","80-84",{"$f":"'Pob x Genero'!#REF!","v":{"$error":"#REF!"}},1643]
[{"$f":"A30004","v":{"$error":"#REF!"}},{"$error":"#REF!"},{"$error":"#REF!"},{"$error":"#REF!"},{"$error":"#REF!"},"Hombre","80-84",{"$f":"'Pob x Genero'!#REF!","v":{"$error":"#REF!"}},1653]
[{"$f":"A30043","v":{"$error":"#REF!"}},{"$error":"#REF!"},{"$error":"#REF!"},{"$error":"#REF!"},{"$error":"#REF!"},"Hombre","80-84",{"$f":"'Pob x Genero'!#REF!","v":{"$error":"#REF!"}},1692]
[{"$f":"A30086","v":{"$error":"#REF!"}},{"$error":"#REF!"},{"$error":"#REF!"},{"$error":"#REF!"},{"$error":"#REF!"},"Hombre","80-84",{"$f":"'Pob x Genero'!#REF!","v":{"$error":"#REF!"}},1735]
[{"$f":"A30124","v":{"$error":"#REF!"}},{"$error":"#REF!"},{"$error":"#REF!"},{"$error":"#REF!"},{"$error":"#REF!"},"Hombre","80-84",{"$f":"'Pob x Genero'!#REF!","v":{"$error":"#REF!"}},1773]
[{"$f":"A30130","v":{"$error":"#REF!"}},{"$error":"#REF!"},{"$error":"#REF!"},{"$error":"#REF!"},{"$error":"#REF!"},"Hombre","80-84",{"$f":"'Pob x Genero'!#REF!","v":{"$error":"#REF!"}},1779]
[{"$f":"A30173","v":{"$error":"#REF!"}},{"$error":"#REF!"},{"$error":"#REF!"},{"$error":"#REF!"},{"$error":"#REF!"},"Hombre","80-84",{"$f":"'Pob x Genero'!#REF!","v":{"$error":"#REF!"}},1822]
[{"$f":"A30212","v":{"$error":"#REF!"}},{"$error":"#REF!"},{"$error":"#REF!"},{"$error":"#REF!"},{"$error":"#REF!"},"Hombre","80-84",{"$f":"'Pob x Genero'!#REF!","v":{"$error":"#REF!"}},1861]
[{"$f":"A30227","v":{"$error":"#REF!"}},{"$error":"#REF!"},{"$error":"#REF!"},{"$error":"#REF!"},{"$error":"#REF!"},"Hombre","80-84",{"$f":"'Pob x Genero'!#REF!","v":{"$error":"#REF!"}},1876]
[{"$f":"A30260","v":{"$error":"#REF!"}},{"$error":"#REF!"},{"$error":"#REF!"},{"$error":"#REF!"},{"$error":"#REF!"},"Hombre","85-+",{"$f":"'Pob x Genero'!#REF!","v":{"$error":"#REF!"}},19]
[{"$f":"A30299","v":{"$error":"#REF!"}},{"$error":"#REF!"},{"$error":"#REF!"},{"$error":"#REF!"},{"$error":"#REF!"},"Hombre","85-+",{"$f":"'Pob x Genero'!#REF!","v":{"$error":"#REF!"}},58]
[{"$f":"A30342","v":{"$error":"#REF!"}},{"$error":"#REF!"},{"$error":"#REF!"},{"$error":"#REF!"},{"$error":"#REF!"},"Hombre","85-+",{"$f":"'Pob x Genero'!#REF!","v":{"$error":"#REF!"}},101]
[{"$f":"A30362","v":{"$error":"#REF!"}},{"$error":"#REF!"},{"$error":"#REF!"},{"$error":"#REF!"},{"$error":"#REF!"},"Hombre","85-+",{"$f":"'Pob x Genero'!#REF!","v":{"$error":"#REF!"}},121]
[{"$f":"A30419","v":{"$error":"#REF!"}},{"$error":"#REF!"},{"$error":"#REF!"},{"$error":"#REF!"},{"$error":"#REF!"},"Hombre","85-+",{"$f":"'Pob x Genero'!#REF!","v":{"$error":"#REF!"}},178]
[{"$f":"A30429","v":{"$error":"#REF!"}},{"$error":"#REF!"},{"$error":"#REF!"},{"$error":"#REF!"},{"$error":"#REF!"},"Hombre","85-+",{"$f":"'Pob x Genero'!#REF!","v":{"$error":"#REF!"}},188]
[{"$f":"A30468","v":{"$error":"#REF!"}},{"$error":"#REF!"},{"$error":"#REF!"},{"$error":"#REF!"},{"$error":"#REF!"},"Hombre","85-+",{"$f":"'Pob x Genero'!#REF!","v":{"$error":"#REF!"}},227]
[{"$f":"A30511","v":{"$error":"#REF!"}},{"$error":"#REF!"},{"$error":"#REF!"},{"$error":"#REF!"},{"$error":"#REF!"},"Hombre","85-+",{"$f":"'Pob x Genero'!#REF!","v":{"$error":"#REF!"}},270]
[{"$f":"A30547","v":{"$error":"#REF!"}},{"$error":"#REF!"},{"$error":"#REF!"},{"$error":"#REF!"},{"$error":"#REF!"},"Hombre","85-+",{"$f":"'Pob x Genero'!#REF!","v":{"$error":"#REF!"}},306]
[{"$f":"A30555","v":{"$error":"#REF!"}},{"$error":"#REF!"},{"$error":"#REF!"},{"$error":"#REF!"},{"$error":"#REF!"},"Hombre","85-+",{"$f":"'Pob x Genero'!#REF!","v":{"$error":"#REF!"}},314]
[{"$f":"A30598","v":"040122"},"AREQUIPA","AREQUIPA","AREQUIPA","SOCABAYA","Hombre","85-+",{"$f":"'Pob x Genero'!DJ30","v":355},357]
[{"$f":"A30637","v":"040411"},"AREQUIPA","AREQUIPA","CASTILLA","TIPAN","Hombre","85-+",{"$f":"'Pob x Genero'!DJ69","v":12},396]
[{"$f":"A30682","v":"040808"},"AREQUIPA","AREQUIPA","LA UNION","SAYLA","Hombre","85-+",{"$f":"'Pob x Genero'!DJ114","v":7},441]
[{"$f":"A30685","v":"040811"},"AREQUIPA","AREQUIPA","LA UNION","TORO","Hombre","85-+",{"$f":"'Pob x Genero'!DJ117","v":14},444]
[{"$f":"A30724","v":{"$error":"#REF!"}},{"$error":"#REF!"},{"$error":"#REF!"},{"$error":"#REF!"},{"$error":"#REF!"},"Hombre","85-+",{"$f":"'Pob x Genero'!#REF!","v":{"$error":"#REF!"}},483]
[{"$f":"A30767","v":{"$error":"#REF!"}},{"$error":"#REF!"},{"$error":"#REF!"},{"$error":"#REF!"},{"$error":"#REF!"},"Hombre","85-+",{"$f":"'Pob x Genero'!#REF!","v":{"$error":"#REF!"}},526]
[{"$f":"A30785","v":{"$error":"#REF!"}},{"$error":"#REF!"},{"$error":"#REF!"},{"$error":"#REF!"},{"$error":"#REF!"},"Hombre","85-+",{"$f":"'Pob x Genero'!#REF!","v":{"$error":"#REF!"}},544]
[{"$f":"A30844","v":{"$error":"#REF!"}},{"$error":"#REF!"},{"$error":"#REF!"},{"$error":"#REF!"},{"$error":"#REF!"},"Hombre","85-+",{"$f":"'Pob x Genero'!#REF!","v":{"$error":"#REF!"}},603]
[{"$f":"A30854","v":{"$error":"#REF!"}},{"$error":"#REF!"},{"$error":"#REF!"},{"$error":"#REF!"},{"$error":"#REF!"},"Hombre","85-+",{"$f":"'Pob x Genero'!#REF!","v":{"$error":"#REF!"}},613]
[{"$f":"A30893","v":{"$error":"#REF!"}},{"$error":"#REF!"},{"$error":"#REF!"},{"$error":"#REF!"},{"$error":"#REF!"},"Hombre","85-+",{"$f":"'Pob x Genero'!#REF!","v":{"$error":"#REF!"}},652]
[{"$f":"A30936","v":{"$error":"#REF!"}},{"$error":"#REF!"},{"$error":"#REF!"},{"$error":"#REF!"},{"$error":"#REF!"},"Hombre","85-+",{"$f":"'Pob x Genero'!#REF!","v":{"$error":"#REF!"}},695]
[{"$f":"A30970","v":{"$error":"#REF!"}},{"$error":"#REF!"},{"$error":"#REF!"},{"$error":"#REF!"},{"$error":"#REF!"},"Hombre","85-+",{"$f":"'Pob x Genero'!#REF!","v":{"$error":"#REF!"}},729]
[{"$f":"A30980","v":{"$error":"#REF!"}},{"$error":"#REF!"},{"$error":"#REF!"},{"$error":"#REF!"},{"$error":"#REF!"},"Hombre","85-+",{"$f":"'Pob x Genero'!#REF!","v":{"$error":"#REF!"}},739]
[{"$f":"A31023","v":{"$error":"#REF!"}},{"$error":"#REF!"},{"$error":"#REF!"},{"$error":"#REF!"},{"$error":"#REF!"},"Hombre","85-+",{"$f":"'Pob x Genero'!#REF!","v":{"$error":"#REF!"}},782]
[{"$f":"A31062","v":{"$error":"#REF!"}},{"$error":"#REF!"},{"$error":"#REF!"},{"$error":"#REF!"},{"$error":"#REF!"},"Hombre","85-+",{"$f":"'Pob x Genero'!#REF!","v":{"$error":"#REF!"}},821]
[{"$f":"A31105","v":{"$error":"#REF!"}},{"$error":"#REF!"},{"$error":"#REF!"},{"$error":"#REF!"},{"$error":"#REF!"},"Hombre","85-+",{"$f":"'Pob x Genero'!#REF!","v":{"$error":"#REF!"}},864]
[{"$f":"A31143","v":{"$error":"#REF!"}},{"$error":"#REF!"},{"$error":"#REF!"},{"$error":"#REF!"},{"$error":"#REF!"},"Hombre","85-+",{"$f":"'Pob x Genero'!#REF!","v":{"$error":"#REF!"}},902]
[{"$f":"A31149","v":{"$error":"#REF!"}},{"$error":"#REF!"},{"$error":"#REF!"},{"$error":"#REF!"},{"$error":"#REF!"},"Hombre","85-+",{"$f":"'Pob x Genero'!#REF!","v":{"$error":"#REF!"}},908]
[{"$f":"A31192","v":{"$error":"#REF!"}},{"$error":"#REF!"},{"$error":"#REF!"},{"$error":"#REF!"},{"$error":"#REF!"},"Hombre","85-+",{"$f":"'Pob x Genero'!#REF!","v":{"$error":"#REF!"}},951]
[{"$f":"A31240","v":{"$error":"#REF!"}},{"$error":"#REF!"},{"$error":"#REF!"},{"$error":"#REF!"},{"$error":"#REF!"},"Hombre","85-+",{"$f":"'Pob x Genero'!#REF!","v":{"$error":"#REF!"}},999]
[{"$f":"A31269","v":{"$error":"#REF!"}},{"$error":"#REF!"},{"$error":"#REF!"},{"$error":"#REF!"},{"$error":"#REF!"},"Hombre","85-+",{"$f":"'Pob x Genero'!#REF!","v":{"$error":"#REF!"}},1028]
[{"$f":"A31279","v":{"$error":"#REF!"}},{"$error":"#REF!"},{"$error":"#REF!"},{"$error":"#REF!"},{"$error":"#REF!"},"Hombre","85-+",{"$f":"'Pob x Genero'!#REF!","v":{"$error":"#REF!"}},1038]
[{"$f":"A31318","v":{"$error":"#REF!"}},{"$error":"#REF!"},{"$error":"#REF!"},{"$error":"#REF!"},{"$error":"#REF!"},"Hombre","85-+",{"$f":"'Pob x Genero'!#REF!","v":{"$error":"#REF!"}},1077]
[{"$f":"A31361","v":{"$error":"#REF!"}},{"$error":"#REF!"},{"$error":"#REF!"},{"$error":"#REF!"},{"$error":"#REF!"},"Hombre","85-+",{"$f":"'Pob x Genero'!#REF!","v":{"$error":"#REF!"}},1120]
[{"$f":"A31393","v":{"$error":"#REF!"}},{"$error":"#REF!"},{"$error":"#REF!"},{"$error":"#REF!"},{"$error":"#REF!"},"Hombre","85-+",{"$f":"'Pob x Genero'!#REF!","v":{"$error":"#REF!"}},1152]
[{"$f":"A31438","v":{"$error":"#REF!"}},{"$error":"#REF!"},{"$error":"#REF!"},{"$error":"#REF!"},{"$error":"#REF!"},"Hombre","85-+",{"$f":"'Pob x Genero'!#REF!","v":{"$error":"#REF!"}},1197]
[{"$f":"A31448","v":{"$error":"#REF!"}},{"$error":"#REF!"},{"$error":"#REF!"},{"$error":"#REF!"},{"$error":"#REF!"},"Hombre","85-+",{"$f":"'Pob x Genero'!#REF!","v":{"$error":"#REF!"}},1207]
[{"$f":"A31487","v":{"$error":"#REF!"}},{"$error":"#REF!"},{"$error":"#REF!"},{"$error":"#REF!"},{"$error":"#REF!"},"Hombre","85-+",{"$f":"'Pob x Genero'!#REF!","v":{"$error":"#REF!"}},1246]
[{"$f":"A31528","v":{"$error":"#REF!"}},{"$error":"#REF!"},{"$error":"#REF!"},{"$error":"#REF!"},{"$error":"#REF!"},"Hombre","85-+",{"$f":"'Pob x Genero'!#REF!","v":{"$error":"#REF!"}},1287]
[{"$f":"A31568","v":{"$error":"#REF!"}},{"$error":"#REF!"},{"$error":"#REF!"},{"$error":"#REF!"},{"$error":"#REF!"},"Hombre","85-+",{"$f":"'Pob x Genero'!#REF!","v":{"$error":"#REF!"}},1327]
[{"$f":"A31574","v":{"$error":"#REF!"}},{"$error":"#REF!"},{"$error":"#REF!"},{"$error":"#REF!"},{"$error":"#REF!"},"Hombre","85-+",{"$f":"'Pob x Genero'!#REF!","v":{"$error":"#REF!"}},1333]
[{"$f":"A31617","v":{"$error":"#REF!"}},{"$error":"#REF!"},{"$error":"#REF!"},{"$error":"#REF!"},{"$error":"#REF!"},"Hombre","85-+",{"$f":"'Pob x Genero'!#REF!","v":{"$error":"#REF!"}},1376]
[{"$f":"A31663","v":{"$error":"#REF!"}},{"$error":"#REF!"},{"$error":"#REF!"},{"$error":"#REF!"},{"$error":"#REF!"},"Hombre","85-+",{"$f":"'Pob x Genero'!#REF!","v":{"$error":"#REF!"}},1422]
[{"$f":"A31694","v":{"$error":"#REF!"}},{"$error":"#REF!"},{"$error":"#REF!"},{"$error":"#REF!"},{"$error":"#REF!"},"Hombre","85-+",{"$f":"'Pob x Genero'!#REF!","v":{"$error":"#REF!"}},1453]
[{"$f":"A31704","v":{"$error":"#REF!"}},{"$error":"#REF!"},{"$error":"#REF!"},{"$error":"#REF!"},{"$error":"#REF!"},"Hombre","85-+",{"$f":"'Pob x Genero'!#REF!","v":{"$error":"#REF!"}},1463]
[{"$f":"A31743","v":{"$error":"#REF!"}},{"$error":"#REF!"},{"$error":"#REF!"},{"$error":"#REF!"},{"$error":"#REF!"},"Hombre","85-+",{"$f":"'Pob x Genero'!#REF!","v":{"$error":"#REF!"}},1502]
[{"$f":"A31782","v":{"$error":"#REF!"}},{"$error":"#REF!"},{"$error":"#REF!"},{"$error":"#REF!"},{"$error":"#REF!"},"Hombre","85-+",{"$f":"'Pob x Genero'!#REF!","v":{"$error":"#REF!"}},1541]
[{"$f":"A31816","v":{"$error":"#REF!"}},{"$error":"#REF!"},{"$error":"#REF!"},{"$error":"#REF!"},{"$error":"#REF!"},"Hombre","85-+",{"$f":"'Pob x Genero'!#REF!","v":{"$error":"#REF!"}},1575]
[{"$f":"A31863","v":{"$error":"#REF!"}},{"$error":"#REF!"},{"$error":"#REF!"},{"$error":"#REF!"},{"$error":"#REF!"},"Hombre","85-+",{"$f":"'Pob x Genero'!#REF!","v":{"$error":"#REF!"}},1622]
[{"$f":"A31873","v":{"$error":"#REF!"}},{"$error":"#REF!"},{"$error":"#REF!"},{"$error":"#REF!"},{"$error":"#REF!"},"Hombre","85-+",{"$f":"'Pob x Genero'!#REF!","v":{"$error":"#REF!"}},1632]
[{"$f":"A31912","v":{"$error":"#REF!"}},{"$error":"#REF!"},{"$error":"#REF!"},{"$error":"#REF!"},{"$error":"#REF!"},"Hombre","85-+",{"$f":"'Pob x Genero'!#REF!","v":{"$error":"#REF!"}},1671]
[{"$f":"A31951","v":{"$error":"#REF!"}},{"$error":"#REF!"},{"$error":"#REF!"},{"$error":"#REF!"},{"$error":"#REF!"},"Hombre","85-+",{"$f":"'Pob x Genero'!#REF!","v":{"$error":"#REF!"}},1710]
[{"$f":"A31993","v":{"$error":"#REF!"}},{"$error":"#REF!"},{"$error":"#REF!"},{"$error":"#REF!"},{"$error":"#REF!"},"Hombre","85-+",{"$f":"'Pob x Genero'!#REF!","v":{"$error":"#REF!"}},1752]
[{"$f":"A31999","v":{"$error":"#REF!"}},{"$error":"#REF!"},{"$error":"#REF!"},{"$error":"#REF!"},{"$error":"#REF!"},"Hombre","85-+",{"$f":"'Pob x Genero'!#REF!","v":{"$error":"#REF!"}},1758]
[{"$f":"A32042","v":{"$error":"#REF!"}},{"$error":"#REF!"},{"$error":"#REF!"},{"$error":"#REF!"},{"$error":"#REF!"},"Hombre","85-+",{"$f":"'Pob x Genero'!#REF!","v":{"$error":"#REF!"}},1801]
[{"$f":"A32081","v":{"$error":"#REF!"}},{"$error":"#REF!"},{"$error":"#REF!"},{"$error":"#REF!"},{"$error":"#REF!"},"Hombre","85-+",{"$f":"'Pob x Genero'!#REF!","v":{"$error":"#REF!"}},1840]
[{"$f":"A32104","v":{"$error":"#REF!"}},{"$error":"#REF!"},{"$error":"#REF!"},{"$error":"#REF!"},{"$error":"#REF!"},"Hombre","85-+",{"$f":"'Pob x Genero'!#REF!","v":{"$error":"#REF!"}},1863]
[{"$f":"A32129","v":{"$error":"#REF!"}},{"$error":"#REF!"},{"$error":"#REF!"},{"$error":"#REF!"},{"$error":"#REF!"},"Hombre","85-+",{"$f":"'Pob x Genero'!#REF!","v":{"$error":"#REF!"}},1888]
[{"$f":"A32168","v":{"$error":"#REF!"}},{"$error":"#REF!"},{"$error":"#REF!"},{"$error":"#REF!"},{"$error":"#REF!"},"Mujer","00-04",{"$f":"'Pob x Genero'!#REF!","v":{"$error":"#REF!"}},37]
[{"$f":"A32207","v":{"$error":"#REF!"}},{"$error":"#REF!"},{"$error":"#REF!"},{"$error":"#REF!"},{"$error":"#REF!"},"Mujer","00-04",{"$f":"'Pob x Genero'!#REF!","v":{"$error":"#REF!"}},76]
[{"$f":"A32239","v":{"$error":"#REF!"}},{"$error":"#REF!"},{"$error":"#REF!"},{"$error":"#REF!"},{"$error":"#REF!"},"Mujer","00-04",{"$f":"'Pob x Genero'!#REF!","v":{"$error":"#REF!"}},108]
[{"$f":"A32288","v":{"$error":"#REF!"}},{"$error":"#REF!"},{"$error":"#REF!"},{"$error":"#REF!"},{"$error":"#REF!"},"Mujer","00-04",{"$f":"'Pob x Genero'!#REF!","v":{"$error":"#REF!"}},157]
[{"$f":"A32298","v":{"$error":"#REF!"}},{"$error":"#REF!"},{"$error":"#REF!"},{"$error":"#REF!"},{"$error":"#REF!"},"Mujer","00-04",{"$f":"'Pob x Genero'!#REF!","v":{"$error":"#REF!"}},167]
[{"$f":"A32337","v":{"$error":"#REF!"}},{"$error":"#REF!"},{"$error":"#REF!"},{"$error":"#REF!"},{"$error":"#REF!"},"Mujer","00-04",{"$f":"'Pob x Genero'!#REF!","v":{"$error":"#REF!"}},206]
[{"$f":"A32374","v":{"$error":"#REF!"}},{"$error":"#REF!"},{"$error":"#REF!"},{"$error":"#REF!"},{"$error":"#REF!"},"Mujer","00-04",{"$f":"'Pob x Genero'!#REF!","v":{"$error":"#REF!"}},243]
[{"$f":"A32418","v":{"$error":"#REF!"}},{"$error":"#REF!"},{"$error":"#REF!"},{"$error":"#REF!"},{"$error":"#REF!"},"Mujer","00-04",{"$f":"'Pob x Genero'!#REF!","v":{"$error":"#REF!"}},287]
[{"$f":"A32424","v":{"$error":"#REF!"}},{"$error":"#REF!"},{"$error":"#REF!"},{"$error":"#REF!"},{"$error":"#REF!"},"Mujer","00-04",{"$f":"'Pob x Genero'!#REF!","v":{"$error":"#REF!"}},293]
[{"$f":"A32467","v":"040101"},"AREQUIPA","AREQUIPA","AREQUIPA","AREQUIPA","Mujer","00-04",{"$f":"'Pob x Genero'!DK9","v":1785},336]
[{"$f":"A32506","v":"040303"},"AREQUIPA","AREQUIPA","CARAVELI","ATICO","Mujer","00-04",{"$f":"'Pob x Genero'!DK48","v":184},375]
[{"$f":"A32527","v":"040411"},"AREQUIPA","AREQUIPA","CASTILLA","TIPAN","Mujer","00-04",{"$f":"'Pob x Genero'!DK69","v":6},396]
[{"$f":"A32554","v":"040604"},"AREQUIPA","AREQUIPA","CONDESUYOS","CHICHAS","Mujer","00-04",{"$f":"'Pob x Genero'!DK96","v":10},423]
[{"$f":"A32593","v":{"$error":"#REF!"}},{"$error":"#REF!"},{"$error":"#REF!"},{"$error":"#REF!"},{"$error":"#REF!"},"Mujer","00-04",{"$f":"'Pob x Genero'!#REF!","v":{"$error":"#REF!"}},462]
[{"$f":"A32632","v":{"$error":"#REF!"}},{"$error":"#REF!"},{"$error":"#REF!"},{"$error":"#REF!"},{"$error":"#REF!"},"Mujer","00-04",{"$f":"'Pob x Genero'!#REF!","v":{"$error":"#REF!"}},501]
[{"$f":"A32662","v":{"$error":"#REF!"}},{"$error":"#REF!"},{"$error":"#REF!"},{"$error":"#REF!"},{"$error":"#REF!"},"Mujer","00-04",{"$f":"'Pob x Genero'!#REF!","v":{"$error":"#REF!"}},531]
[{"$f":"A32713","v":{"$error":"#REF!"}},{"$error":"#REF!"},{"$error":"#REF!"},{"$error":"#REF!"},{"$error":"#REF!"},"Mujer","00-04",{"$f":"'Pob x Genero'!#REF!","v":{"$error":"#REF!"}},582]
[{"$f":"A32723","v":{"$error":"#REF!"}},{"$error":"#REF!"},{"$error":"#REF!"},{"$error":"#REF!"},{"$error":"#REF!"},"Mujer","00-04",{"$f":"'Pob x Genero'!#REF!","v":{"$error":"#REF!"}},592]
[{"$f":"A32762","v":{"$error":"#REF!"}},{"$error":"#REF!"},{"$error":"#REF!"},{"$error":"#REF!"},{"$error":"#REF!"},"Mujer","00-04",{"$f":"'Pob x Genero'!#REF!","v":{"$error":"#REF!"}},631]
[{"$f":"A32797","v":{"$error":"#REF!"}},{"$error":"#REF!"},{"$error":"#REF!"},{"$error":"#REF!"},{"$error":"#REF!"},"Mujer","00-04",{"$f":"'Pob x Genero'!#REF!","v":{"$error":"#REF!"}},666]
[{"$f":"A32843","v":{"$error":"#REF!"}},{"$error":"#REF!"},{"$error":"#REF!"},{"$error":"#REF!"},{"$error":"#REF!"},"Mujer","00-04",{"$f":"'Pob x Genero'!#REF!","v":{"$error":"#REF!"}},712]
[{"$f":"A32849","v":{"$error":"#REF!"}},{"$error":"#REF!"},{"$error":"#REF!"},{"$error":"#REF!"},{"$error":"#REF!"},"Mujer","00-04",{"$f":"'Pob x Genero'!#REF!","v":{"$error":"#REF!"}},718]
[{"$f":"A32888","v":{"$error":"#REF!"}},{"$error":"#REF!"},{"$error":"#REF!"},{"$error":"#REF!"},{"$error":"#REF!"},"Mujer","00-04",{"$f":"'Pob x Genero'!#REF!","v":{"$error":"#REF!"}},757]
[{"$f":"A32931","v":{"$error":"#REF!"}},{"$error":"#REF!"},{"$error":"#REF!"},{"$error":"#REF!"},{"$error":"#REF!"},"Mujer","00-04",{"$f":"'Pob x Genero'!#REF!","v":{"$error":"#REF!"}},800]
[{"$f":"A32950","v":{"$error":"#REF!"}},{"$error":"#REF!"},{"$error":"#REF!"},{"$error":"#REF!"},{"$error":"#REF!"},"Mujer","00-04",{"$f":"'Pob x Genero'!#REF!","v":{"$error":"#REF!"}},819]
[{"$f":"A32979","v":{"$error":"#REF!"}},{"$error":"#REF!"},{"$error":"#REF!"},{"$error":"#REF!"},{"$error":"#REF!"},"Mujer","00-04",{"$f":"'Pob x Genero'!#REF!","v":{"$error":"#REF!"}},848]
[{"$f":"A33018","v":{"$error":"#REF!"}},{"$error":"#REF!"},{"$error":"#REF!"},{"$error":"#REF!"},{"$error":"#REF!"},"Mujer","00-04",{"$f":"'Pob x Genero'!#REF!","v":{"$error":"#REF!"}},887]
[{"$f":"A33057","v":{"$error":"#REF!"}},{"$error":"#REF!"},{"$error":"#REF!"},{"$error":"#REF!"},{"$error":"#REF!"},"Mujer","00-04",{"$f":"'Pob x Genero'!#REF!","v":{"$error":"#REF!"}},926]
[{"$f":"A33085","v":{"$error":"#REF!"}},{"$error":"#REF!"},{"$error":"#REF!"},{"$error":"#REF!"},{"$error":"#REF!"},"Mujer","00-04",{"$f":"'Pob x Genero'!#REF!","v":{"$error":"#REF!"}},954]
[{"$f":"A33138","v":{"$error":"#REF!"}},{"$error":"#REF!"},{"$error":"#REF!"},{"$error":"#REF!"},{"$error":"#REF!"},"Mujer","00-04",{"$f":"'Pob x Genero'!#REF!","v":{"$error":"#REF!"}},1007]
[{"$f":"A33148","v":{"$error":"#REF!"}},{"$error":"#REF!"},{"$error":"#REF!"},{"$error":"#REF!"},{"$error":"#REF!"},"Mujer","00-04",{"$f":"'Pob x Genero'!#REF!","v":{"$error":"#REF!"}},1017]
[{"$f":"A33187","v":{"$error":"#REF!"}},{"$error":"#REF!"},{"$error":"#REF!"},{"$error":"#REF!"},{"$error":"#REF!"},"Mujer","00-04",{"$f":"'Pob x Genero'!#REF!","v":{"$error":"#REF!"}},1056]
[{"$f":"A33220","v":{"$error":"#REF!"}},{"$error":"#REF!"},{"$error":"#REF!"},{"$error":"#REF!"},{"$error":"#REF!"},"Mujer","00-04",{"$f":"'Pob x Genero'!#REF!","v":{"$error":"#REF!"}},1089]
[{"$f":"A33268","v":{"$error":"#REF!"}},{"$error":"#REF!"},{"$error":"#REF!"},{"$error":"#REF!"},{"$error":"#REF!"},"Mujer","00-04",{"$f":"'Pob x Genero'!#REF!","v":{"$error":"#REF!"}},1137]
[{"$f":"A33274","v":{"$error":"#REF!"}},{"$error":"#REF!"},{"$error":"#REF!"},{"$error":"#REF!"},{"$error":"#REF!"},"Mujer","00-04",{"$f":"'Pob x Genero'!#REF!","v":{"$error":"#REF!"}},1143]
[{"$f":"A33313","v":{"$error":"#REF!"}},{"$error":"#REF!"},{"$error":"#REF!"},{"$error":"#REF!"},{"$error":"#REF!"},"Mujer","00-04",{"$f":"'Pob x Genero'!#REF!","v":{"$error":"#REF!"}},1182]
[{"$f":"A33356","v":{"$error":"#REF!"}},{"$error":"#REF!"},{"$error":"#REF!"},{"$error":"#REF!"},{"$error":"#REF!"},"Mujer","00-04",{"$f":"'Pob x Genero'!#REF!","v":{"$error":"#REF!"}},1225]
[{"$f":"A33373","v":{"$error":"#REF!"}},{"$error":"#REF!"},{"$error":"#REF!"},{"$error":"#REF!"},{"$error":"#REF!"},"Mujer","00-04",{"$f":"'Pob x Genero'!#REF!","v":{"$error":"#REF!"}},1242]
[{"$f":"A33437","v":{"$error":"#REF!"}},{"$error":"#REF!"},{"$error":"#REF!"},{"$error":"#REF!"},{"$error":"#REF!"},"Mujer","00-04",{"$f":"'Pob x Genero'!#REF!","v":{"$error":"#REF!"}},1306]
[{"$f":"A33443","v":{"$error":"#REF!"}},{"$error":"#REF!"},{"$error":"#REF!"},{"$error":"#REF!"},{"$error":"#REF!"},"Mujer","00-04",{"$f":"'Pob x Genero'!#REF!","v":{"$error":"#REF!"}},1312]
[{"$f":"A33482","v":{"$error":"#REF!"}},{"$error":"#REF!"},{"$error":"#REF!"},{"$error":"#REF!"},{"$error":"#REF!"},"Mujer","00-04",{"$f":"'Pob x Genero'!#REF!","v":{"$error":"#REF!"}},1351]
[{"$f":"A33508","v":{"$error":"#REF!"}},{"$error":"#REF!"},{"$error":"#REF!"},{"$error":"#REF!"},{"$error":"#REF!"},"Mujer","00-04",{"$f":"'Pob x Genero'!#REF!","v":{"$error":"#REF!"}},1377]
[{"$f":"A33563","v":{"$error":"#REF!"}},{"$error":"#REF!"},{"$error":"#REF!"},{"$error":"#REF!"},{"$error":"#REF!"},"Mujer","00-04",{"$f":"'Pob x Genero'!#REF!","v":{"$error":"#REF!"}},1432]
[{"$f":"A33569","v":{"$error":"#REF!"}},{"$error":"#REF!"},{"$error":"#REF!"},{"$error":"#REF!"},{"$error":"#REF!"},"Mujer","00-04",{"$f":"'Pob x Genero'!#REF!","v":{"$error":"#REF!"}},1438]
[{"$f":"A33612","v":{"$error":"#REF!"}},{"$error":"#REF!"},{"$error":"#REF!"},{"$error":"#REF!"},{"$error":"#REF!"},"Mujer","00-04",{"$f":"'Pob x Genero'!#REF!","v":{"$error":"#REF!"}},1481]
[{"$f":"A33643","v":{"$error":"#REF!"}},{"$error":"#REF!"},{"$error":"#REF!"},{"$error":"#REF!"},{"$error":"#REF!"},"Mujer","00-04",{"$f":"'Pob x Genero'!#REF!","v":{"$error":"#REF!"}},1512]
[{"$f":"A33693","v":{"$error":"#REF!"}},{"$error":"#REF!"},{"$error":"#REF!"},{"$error":"#REF!"},{"$error":"#REF!"},"Mujer","00-04",{"$f":"'Pob x Genero'!#REF!","v":{"$error":"#REF!"}},1562]
[{"$f":"A33732","v":{"$error":"#REF!"}},{"$error":"#REF!"},{"$error":"#REF!"},{"$error":"#REF!"},{"$error":"#REF!"},"Mujer","00-04",{"$f":"'Pob x Genero'!#REF!","v":{"$error":"#REF!"}},1601]
[{"$f":"A33738","v":{"$error":"#REF!"}},{"$error":"#REF!"},{"$error":"#REF!"},{"$error":"#REF!"},{"$error":"#REF!"},"Mujer","00-04",{"$f":"'Pob x Genero'!#REF!","v":{"$error":"#REF!"}},1607]
[{"$f":"A33781","v":{"$error":"#REF!"}},{"$error":"#REF!"},{"$error":"#REF!"},{"$error":"#REF!"},{"$error":"#REF!"},"Mujer","00-04",{"$f":"'Pob x Genero'!#REF!","v":{"$error":"#REF!"}},1650]
[{"$f":"A33828","v":{"$error":"#REF!"}},{"$error":"#REF!"},{"$error":"#REF!"},{"$error":"#REF!"},{"$error":"#REF!"},"Mujer","00-04",{"$f":"'Pob x Genero'!#REF!","v":{"$error":"#REF!"}},1697]
[{"$f":"A33862","v":{"$error":"#REF!"}},{"$error":"#REF!"},{"$error":"#REF!"},{"$error":"#REF!"},{"$error":"#REF!"},"Mujer","00-04",{"$f":"'Pob x Genero'!#REF!","v":{"$error":"#REF!"}},1731]
[{"$f":"A33868","v":{"$error":"#REF!"}},{"$error":"#REF!"},{"$error":"#REF!"},{"$error":"#REF!"},{"$error":"#REF!"},"Mujer","00-04",{"$f":"'Pob x Genero'!#REF!","v":{"$error":"#REF!"}},1737]
[{"$f":"A33907","v":{"$error":"#REF!"}},{"$error":"#REF!"},{"$error":"#REF!"},{"$error":"#REF!"},{"$error":"#REF!"},"Mujer","00-04",{"$f":"'Pob x Genero'!#REF!","v":{"$error":"#REF!"}},1776]
[{"$f":"A33931","v":{"$error":"#REF!"}},{"$error":"#REF!"},{"$error":"#REF!"},{"$error":"#REF!"},{"$error":"#REF!"},"Mujer","00-04",{"$f":"'Pob x Genero'!#REF!","v":{"$error":"#REF!"}},1800]
[{"$f":"A33988","v":{"$error":"#REF!"}},{"$error":"#REF!"},{"$error":"#REF!"},{"$error":"#REF!"},{"$error":"#REF!"},"Mujer","00-04",{"$f":"'Pob x Genero'!#REF!","v":{"$error":"#REF!"}},1857]
[{"$f":"A34027","v":{"$error":"#REF!"}},{"$error":"#REF!"},{"$error":"#REF!"},{"$error":"#REF!"},{"$error":"#REF!"},"Mujer","05-09",{"$f":"'Pob x Genero'!#REF!","v":{"$error":"#REF!"}},6]
[{"$f":"A34037","v":{"$error":"#REF!"}},{"$error":"#REF!"},{"$error":"#REF!"},{"$error":"#REF!"},{"$error":"#REF!"},"Mujer","05-09",{"$f":"'Pob x Genero'!#REF!","v":{"$error":"#REF!"}},16]
[{"$f":"A34076","v":{"$error":"#REF!"}},{"$error":"#REF!"},{"$error":"#REF!"},{"$error":"#REF!"},{"$error":"#REF!"},"Mujer","05-09",{"$f":"'Pob x Genero'!#REF!","v":{"$error":"#REF!"}},55]
[{"$f":"A34116","v":{"$error":"#REF!"}},{"$error":"#REF!"},{"$error":"#REF!"},{"$error":"#REF!"},{"$error":"#REF!"},"Mujer","05-09",{"$f":"'Pob x Genero'!#REF!","v":{"$error":"#REF!"}},95]
[{"$f":"A34157","v":{"$error":"#REF!"}},{"$error":"#REF!"},{"$error":"#REF!"},{"$error":"#REF!"},{"$error":"#REF!"},"Mujer","05-09",{"$f":"'Pob x Genero'!#REF!","v":{"$error":"#REF!"}},136]
[{"$f":"A34163","v":{"$error":"#REF!"}},{"$error":"#REF!"},{"$error":"#REF!"},{"$error":"#REF!"},{"$error":"#REF!"},"Mujer","05-09",{"$f":"'Pob x Genero'!#REF!","v":{"$error":"#REF!"}},142]
[{"$f":"A34206","v":{"$error":"#REF!"}},{"$error":"#REF!"},{"$error":"#REF!"},{"$error":"#REF!"},{"$error":"#REF!"},"Mujer","05-09",{"$f":"'Pob x Genero'!#REF!","v":{"$error":"#REF!"}},185]
[{"$f":"A34251","v":{"$error":"#REF!"}},{"$error":"#REF!"},{"$error":"#REF!"},{"$error":"#REF!"},{"$error":"#REF!"},"Mujer","05-09",{"$f":"'Pob x Genero'!#REF!","v":{"$error":"#REF!"}},230]
[{"$f":"A34287","v":{"$error":"#REF!"}},{"$error":"#REF!"},{"$error":"#REF!"},{"$error":"#REF!"},{"$error":"#REF!"},"Mujer","05-09",{"$f":"'Pob x Genero'!#REF!","v":{"$error":"#REF!"}},266]
[{"$f":"A34293","v":{"$error":"#REF!"}},{"$error":"#REF!"},{"$error":"#REF!"},{"$error":"#REF!"},{"$error":"#REF!"},"Mujer","05-09",{"$f":"'Pob x Genero'!#REF!","v":{"$error":"#REF!"}},272]
[{"$f":"A34332","v":{"$error":"#REF!"}},{"$error":"#REF!"},{"$error":"#REF!"},{"$error":"#REF!"},{"$error":"#REF!"},"Mujer","05-09",{"$f":"'Pob x Genero'!#REF!","v":{"$error":"#REF!"}},311]
[{"$f":"A34386","v":"040201"},"AREQUIPA","AREQUIPA","CAMANA","CAMANA","Mujer","05-09",{"$f":"'Pob x Genero'!DL38","v":257},365]
[{"$f":"A34413","v":"040407"},"AREQUIPA","AREQUIPA","CASTILLA","HUANCARQUI","Mujer","05-09",{"$f":"'Pob x Genero'!DL65","v":40},392]
[{"$f":"A34452","v":"040704"},"AREQUIPA","AREQUIPA","ISLAY","ISLAY","Mujer","05-09",{"$f":"'Pob x Genero'!DL104","v":210},431]
[{"$f":"A34462","v":"040808"},"AREQUIPA","AREQUIPA","LA UNION","SAYLA","Mujer","05-09",{"$f":"'Pob x Genero'!DL114","v":7},441]
[{"$f":"A34501","v":{"$error":"#REF!"}},{"$error":"#REF!"},{"$error":"#REF!"},{"$error":"#REF!"},{"$error":"#REF!"},"Mujer","05-09",{"$f":"'Pob x Genero'!#REF!","v":{"$error":"#REF!"}},480]
[{"$f":"A34539","v":{"$error":"#REF!"}},{"$error":"#REF!"},{"$error":"#REF!"},{"$error":"#REF!"},{"$error":"#REF!"},"Mujer","05-09",{"$f":"'Pob x Genero'!#REF!","v":{"$error":"#REF!"}},518]
[{"$f":"A34582","v":{"$error":"#REF!"}},{"$error":"#REF!"},{"$error":"#REF!"},{"$error":"#REF!"},{"$error":"#REF!"},"Mujer","05-09",{"$f":"'Pob x Genero'!#REF!","v":{"$error":"#REF!"}},561]
[{"$f":"A34588","v":{"$error":"#REF!"}},{"$error":"#REF!"},{"$error":"#REF!"},{"$error":"#REF!"},{"$error":"#REF!"},"Mujer","05-09",{"$f":"'Pob x Genero'!#REF!","v":{"$error":"#REF!"}},567]
[{"$f":"A34631","v":{"$error":"#REF!"}},{"$error":"#REF!"},{"$error":"#REF!"},{"$error":"#REF!"},{"$error":"#REF!"},"Mujer","05-09",{"$f":"'Pob x Genero'!#REF!","v":{"$error":"#REF!"}},610]
[{"$f":"A34674","v":{"$error":"#REF!"}},{"$error":"#REF!"},{"$error":"#REF!"},{"$error":"#REF!"},{"$error":"#REF!"},"Mujer","05-09",{"$f":"'Pob x Genero'!#REF!","v":{"$error":"#REF!"}},653]
[{"$f":"A34708","v":{"$error":"#REF!"}},{"$error":"#REF!"},{"$error":"#REF!"},{"$error":"#REF!"},{"$error":"#REF!"},"Mujer","05-09",{"$f":"'Pob x Genero'!#REF!","v":{"$error":"#REF!"}},687]
[{"$f":"A34718","v":{"$error":"#REF!"}},{"$error":"#REF!"},{"$error":"#REF!"},{"$error":"#REF!"},{"$error":"#REF!"},"Mujer","05-09",{"$f":"'Pob x Genero'!#REF!","v":{"$error":"#REF!"}},697]
[{"$f":"A34757","v":{"$error":"#REF!"}},{"$error":"#REF!"},{"$error":"#REF!"},{"$error":"#REF!"},{"$error":"#REF!"},"Mujer","05-09",{"$f":"'Pob x Genero'!#REF!","v":{"$error":"#REF!"}},736]
[{"$f":"A34809","v":{"$error":"#REF!"}},{"$error":"#REF!"},{"$error":"#REF!"},{"$error":"#REF!"},{"$error":"#REF!"},"Mujer","05-09",{"$f":"'Pob x Genero'!#REF!","v":{"$error":"#REF!"}},788]
[{"$f":"A34838","v":{"$error":"#REF!"}},{"$error":"#REF!"},{"$error":"#REF!"},{"$error":"#REF!"},{"$error":"#REF!"},"Mujer","05-09",{"$f":"'Pob x Genero'!#REF!","v":{"$error":"#REF!"}},817]
[{"$f":"A34877","v":{"$error":"#REF!"}},{"$error":"#REF!"},{"$error":"#REF!"},{"$error":"#REF!"},{"$error":"#REF!"},"Mujer","05-09",{"$f":"'Pob x Genero'!#REF!","v":{"$error":"#REF!"}},856]
[{"$f":"A34887","v":{"$error":"#REF!"}},{"$error":"#REF!"},{"$error":"#REF!"},{"$error":"#REF!"},{"$error":"#REF!"},"Mujer","05-09",{"$f":"'Pob x Genero'!#REF!","v":{"$error":"#REF!"}},866]
[{"$f":"A34926","v":{"$error":"#REF!"}},{"$error":"#REF!"},{"$error":"#REF!"},{"$error":"#REF!"},{"$error":"#REF!"},"Mujer","05-09",{"$f":"'Pob x Genero'!#REF!","v":{"$error":"#REF!"}},905]
[{"$f":"A34962","v":{"$error":"#REF!"}},{"$error":"#REF!"},{"$error":"#REF!"},{"$error":"#REF!"},{"$error":"#REF!"},"Mujer","05-09",{"$f":"'Pob x Genero'!#REF!","v":{"$error":"#REF!"}},941]
[{"$f":"A35007","v":{"$error":"#REF!"}},{"$error":"#REF!"},{"$error":"#REF!"},{"$error":"#REF!"},{"$error":"#REF!"},"Mujer","05-09",{"$f":"'Pob x Genero'!#REF!","v":{"$error":"#REF!"}},986]
[{"$f":"A35013","v":{"$error":"#REF!"}},{"$error":"#REF!"},{"$error":"#REF!"},{"$error":"#REF!"},{"$error":"#REF!"},"Mujer","05-09",{"$f":"'Pob x Genero'!#REF!","v":{"$error":"#REF!"}},992]
[{"$f":"A35056","v":{"$error":"#REF!"}},{"$error":"#REF!"},{"$error":"#REF!"},{"$error":"#REF!"},{"$error":"#REF!"},"Mujer","05-09",{"$f":"'Pob x Genero'!#REF!","v":{"$error":"#REF!"}},1035]
[{"$f":"A35097","v":{"$error":"#REF!"}},{"$error":"#REF!"},{"$error":"#REF!"},{"$error":"#REF!"},{"$error":"#REF!"},"Mujer","05-09",{"$f":"'Pob x Genero'!#REF!","v":{"$error":"#REF!"}},1076]
[{"$f":"A35133","v":{"$error":"#REF!"}},{"$error":"#REF!"},{"$error":"#REF!"},{"$error":"#REF!"},{"$error":"#REF!"},"Mujer","05-09",{"$f":"'Pob x Genero'!#REF!","v":{"$error":"#REF!"}},1112]
[{"$f":"A35143","v":{"$error":"#REF!"}},{"$error":"#REF!"},{"$error":"#REF!"},{"$error":"#REF!"},{"$error":"#REF!"},"Mujer","05-09",{"$f":"'Pob x Genero'!#REF!","v":{"$error":"#REF!"}},1122]
[{"$f":"A35182","v":{"$error":"#REF!"}},{"$error":"#REF!"},{"$error":"#REF!"},{"$error":"#REF!"},{"$error":"#REF!"},"Mujer","05-09",{"$f":"'Pob x Genero'!#REF!","v":{"$error":"#REF!"}},1161]
[{"$f":"A35232","v":{"$error":"#REF!"}},{"$error":"#REF!"},{"$error":"#REF!"},{"$error":"#REF!"},{"$error":"#REF!"},"Mujer","05-09",{"$f":"'Pob x Genero'!#REF!","v":{"$error":"#REF!"}},1211]
[{"$f":"A35263","v":{"$error":"#REF!"}},{"$error":"#REF!"},{"$error":"#REF!"},{"$error":"#REF!"},{"$error":"#REF!"},"Mujer","05-09",{"$f":"'Pob x Genero'!#REF!","v":{"$error":"#REF!"}},1242]
[{"$f":"A35302","v":{"$error":"#REF!"}},{"$error":"#REF!"},{"$error":"#REF!"},{"$error":"#REF!"},{"$error":"#REF!"},"Mujer","05-09",{"$f":"'Pob x Genero'!#REF!","v":{"$error":"#REF!"}},1281]
[{"$f":"A35312","v":{"$error":"#REF!"}},{"$error":"#REF!"},{"$error":"#REF!"},{"$error":"#REF!"},{"$error":"#REF!"},"Mujer","05-09",{"$f":"'Pob x Genero'!#REF!","v":{"$error":"#REF!"}},1291]
[{"$f":"A35351","v":{"$error":"#REF!"}},{"$error":"#REF!"},{"$error":"#REF!"},{"$error":"#REF!"},{"$error":"#REF!"},"Mujer","05-09",{"$f":"'Pob x Genero'!#REF!","v":{"$error":"#REF!"}},1330]
[{"$f":"A35385","v":{"$error":"#REF!"}},{"$error":"#REF!"},{"$error":"#REF!"},{"$error":"#REF!"},{"$error":"#REF!"},"Mujer","05-09",{"$f":"'Pob x Genero'!#REF!","v":{"$error":"#REF!"}},1364]
[{"$f":"A35432","v":{"$error":"#REF!"}},{"$error":"#REF!"},{"$error":"#REF!"},{"$error":"#REF!"},{"$error":"#REF!"},"Mujer","05-09",{"$f":"'Pob x Genero'!#REF!","v":{"$error":"#REF!"}},1411]
[{"$f":"A35438","v":{"$error":"#REF!"}},{"$error":"#REF!"},{"$error":"#REF!"},{"$error":"#REF!"},{"$error":"#REF!"},"Mujer","05-09",{"$f":"'Pob x Genero'!#REF!","v":{"$error":"#REF!"}},1417]
[{"$f":"A35481","v":{"$error":"#REF!"}},{"$error":"#REF!"},{"$error":"#REF!"},{"$error":"#REF!"},{"$error":"#REF!"},"Mujer","05-09",{"$f":"'Pob x Genero'!#REF!","v":{"$error":"#REF!"}},1460]
[{"$f":"A35520","v":{"$error":"#REF!"}},{"$error":"#REF!"},{"$error":"#REF!"},{"$error":"#REF!"},{"$error":"#REF!"},"Mujer","05-09",{"$f":"'Pob x Genero'!#REF!","v":{"$error":"#REF!"}},1499]
[{"$f":"A35558","v":{"$error":"#REF!"}},{"$error":"#REF!"},{"$error":"#REF!"},{"$error":"#REF!"},{"$error":"#REF!"},"Mujer","05-09",{"$f":"'Pob x Genero'!#REF!","v":{"$error":"#REF!"}},1537]
[{"$f":"A35568","v":{"$error":"#REF!"}},{"$error":"#REF!"},{"$error":"#REF!"},{"$error":"#REF!"},{"$error":"#REF!"},"Mujer","05-09",{"$f":"'Pob x Genero'!#REF!","v":{"$error":"#REF!"}},1547]
[{"$f":"A35607","v":{"$error":"#REF!"}},{"$error":"#REF!"},{"$error":"#REF!"},{"$error":"#REF!"},{"$error":"#REF!"},"Mujer","05-09",{"$f":"'Pob x Genero'!#REF!","v":{"$error":"#REF!"}},1586]
[{"$f":"A35655","v":{"$error":"#REF!"}},{"$error":"#REF!"},{"$error":"#REF!"},{"$error":"#REF!"},{"$error":"#REF!"},"Mujer","05-09",{"$f":"'Pob x Genero'!#REF!","v":{"$error":"#REF!"}},1634]
[{"$f":"A35688","v":{"$error":"#REF!"}},{"$error":"#REF!"},{"$error":"#REF!"},{"$error":"#REF!"},{"$error":"#REF!"},"Mujer","05-09",{"$f":"'Pob x Genero'!#REF!","v":{"$error":"#REF!"}},1667]
[{"$f":"A35727","v":{"$error":"#REF!"}},{"$error":"#REF!"},{"$error":"#REF!"},{"$error":"#REF!"},{"$error":"#REF!"},"Mujer","05-09",{"$f":"'Pob x Genero'!#REF!","v":{"$error":"#REF!"}},1706]
[{"$f":"A35737","v":{"$error":"#REF!"}},{"$error":"#REF!"},{"$error":"#REF!"},{"$error":"#REF!"},{"$error":"#REF!"},"Mujer","05-09",{"$f":"'Pob x Genero'!#REF!","v":{"$error":"#REF!"}},1716]
[{"$f":"A35776","v":{"$error":"#REF!"}},{"$error":"#REF!"},{"$error":"#REF!"},{"$error":"#REF!"},{"$error":"#REF!"},"Mujer","05-09",{"$f":"'Pob x Genero'!#REF!","v":{"$error":"#REF!"}},1755]
[{"$f":"A35808","v":{"$error":"#REF!"}},{"$error":"#REF!"},{"$error":"#REF!"},{"$error":"#REF!"},{"$error":"#REF!"},"Mujer","05-09",{"$f":"'Pob x Genero'!#REF!","v":{"$error":"#REF!"}},1787]
[{"$f":"A35857","v":{"$error":"#REF!"}},{"$error":"#REF!"},{"$error":"#REF!"},{"$error":"#REF!"},{"$error":"#REF!"},"Mujer","05-09",{"$f":"'Pob x Genero'!#REF!","v":{"$error":"#REF!"}},1836]
[{"$f":"A35863","v":{"$error":"#REF!"}},{"$error":"#REF!"},{"$error":"#REF!"},{"$error":"#REF!"},{"$error":"#REF!"},"Mujer","05-09",{"$f":"'Pob x Genero'!#REF!","v":{"$error":"#REF!"}},1842]
[{"$f":"A35906","v":{"$error":"#REF!"}},{"$error":"#REF!"},{"$error":"#REF!"},{"$error":"#REF!"},{"$error":"#REF!"},"Mujer","05-09",{"$f":"'Pob x Genero'!#REF!","v":{"$error":"#REF!"}},1885]
[{"$f":"A35943","v":{"$error":"#REF!"}},{"$error":"#REF!"},{"$error":"#REF!"},{"$error":"#REF!"},{"$error":"#REF!"},"Mujer","10-14",{"$f":"'Pob x Genero'!#REF!","v":{"$error":"#REF!"}},32]
[{"$f":"A35983","v":{"$error":"#REF!"}},{"$error":"#REF!"},{"$error":"#REF!"},{"$error":"#REF!"},{"$error":"#REF!"},"Mujer","10-14",{"$f":"'Pob x Genero'!#REF!","v":{"$error":"#REF!"}},72]
[{"$f":"A36026","v":{"$error":"#REF!"}},{"$error":"#REF!"},{"$error":"#REF!"},{"$error":"#REF!"},{"$error":"#REF!"},"Mujer","10-14",{"$f":"'Pob x Genero'!#REF!","v":{"$error":"#REF!"}},115]
[{"$f":"A36032","v":{"$error":"#REF!"}},{"$error":"#REF!"},{"$error":"#REF!"},{"$error":"#REF!"},{"$error":"#REF!"},"Mujer","10-14",{"$f":"'Pob x Genero'!#REF!","v":{"$error":"#REF!"}},121]
[{"$f":"A36075","v":{"$error":"#REF!"}},{"$error":"#REF!"},{"$error":"#REF!"},{"$error":"#REF!"},{"$error":"#REF!"},"Mujer","10-14",{"$f":"'Pob x Genero'!#REF!","v":{"$error":"#REF!"}},164]
[{"$f":"A36096","v":{"$error":"#REF!"}},{"$error":"#REF!"},{"$error":"#REF!"},{"$error":"#REF!"},{"$error":"#REF!"},"Mujer","10-14",{"$f":"'Pob x Genero'!#REF!","v":{"$error":"#REF!"}},185]
[{"$f":"A36152","v":{"$error":"#REF!"}},{"$error":"#REF!"},{"$error":"#REF!"},{"$error":"#REF!"},{"$error":"#REF!"},"Mujer","10-14",{"$f":"'Pob x Genero'!#REF!","v":{"$error":"#REF!"}},241]
[{"$f":"A36162","v":{"$error":"#REF!"}},{"$error":"#REF!"},{"$error":"#REF!"},{"$error":"#REF!"},{"$error":"#REF!"},"Mujer","10-14",{"$f":"'Pob x Genero'!#REF!","v":{"$error":"#REF!"}},251]
[{"$f":"A36201","v":{"$error":"#REF!"}},{"$error":"#REF!"},{"$error":"#REF!"},{"$error":"#REF!"},{"$error":"#REF!"},"Mujer","10-14",{"$f":"'Pob x Genero'!#REF!","v":{"$error":"#REF!"}},290]
[{"$f":"A36231","v":{"$error":"#REF!"}},{"$error":"#REF!"},{"$error":"#REF!"},{"$error":"#REF!"},{"$error":"#REF!"},"Mujer","10-14",{"$f":"'Pob x Genero'!#REF!","v":{"$error":"#REF!"}},320]
[{"$f":"A36282","v":"040207"},"AREQUIPA","AREQUIPA","CAMANA","QUILCA","Mujer","10-14",{"$f":"'Pob x Genero'!DM44","v":32},371]
[{"$f":"A36321","v":"040511"},"AREQUIPA","AREQUIPA","CAYLLOMA","LLUTA","Mujer","10-14",{"$f":"'Pob x Genero'!DM83","v":12},410]
[{"$f":"A36331","v":"040601"},"AREQUIPA","AREQUIPA","CONDESUYOS","CHUQUIBAMBA","Mujer","10-14",{"$f":"'Pob x Genero'!DM93","v":124},420]
[{"$f":"A36366","v":{"$error":"#REF!"}},{"$error":"#REF!"},{"$error":"#REF!"},{"$error":"#REF!"},{"$error":"#REF!"},"Mujer","10-14",{"$f":"'Pob x Genero'!#REF!","v":{"$error":"#REF!"}},455]
[{"$f":"A36408","v":{"$error":"#REF!"}},{"$error":"#REF!"},{"$error":"#REF!"},{"$error":"#REF!"},{"$error":"#REF!"},"Mujer","10-14",{"$f":"'Pob x Genero'!#REF!","v":{"$error":"#REF!"}},497]
[{"$f":"A36451","v":{"$error":"#REF!"}},{"$error":"#REF!"},{"$error":"#REF!"},{"$error":"#REF!"},{"$error":"#REF!"},{"$f":"F38340","v":"Mujer"},"10-14",{"$f":"'Pob x Genero'!#REF!","v":{"$error":"#REF!"}},540]
[{"$f":"A36457","v":{"$error":"#REF!"}},{"$error":"#REF!"},{"$error":"#REF!"},{"$error":"#REF!"},{"$error":"#REF!"},"Mujer","10-14",{"$f":"'Pob x Genero'!#REF!","v":{"$error":"#REF!"}},546]
[{"$f":"A36496","v":{"$error":"#REF!"}},{"$error":"#REF!"},{"$error":"#REF!"},{"$error":"#REF!"},{"$error":"#REF!"},"Mujer","10-14",{"$f":"'Pob x Genero'!#REF!","v":{"$error":"#REF!"}},585]
[{"$f":"A36519","v":{"$error":"#REF!"}},{"$error":"#REF!"},{"$error":"#REF!"},{"$error":"#REF!"},{"$error":"#REF!"},"Mujer","10-14",{"$f":"'Pob x Genero'!#REF!","v":{"$error":"#REF!"}},608]
[{"$f":"A36577","v":{"$error":"#REF!"}},{"$error":"#REF!"},{"$error":"#REF!"},{"$error":"#REF!"},{"$error":"#REF!"},"Mujer","10-14",{"$f":"'Pob x Genero'!#REF!","v":{"$error":"#REF!"}},666]
[{"$f":"A36587","v":{"$error":"#REF!"}},{"$error":"#REF!"},{"$error":"#REF!"},{"$error":"#REF!"},{"$error":"#REF!"},"Mujer","10-14",{"$f":"'Pob x Genero'!#REF!","v":{"$error":"#REF!"}},676]
[{"$f":"A36626","v":{"$error":"#REF!"}},{"$error":"#REF!"},{"$error":"#REF!"},{"$error":"#REF!"},{"$error":"#REF!"},"Mujer","10-14",{"$f":"'Pob x Genero'!#REF!","v":{"$error":"#REF!"}},715]
[{"$f":"A36654","v":{"$error":"#REF!"}},{"$error":"#REF!"},{"$error":"#REF!"},{"$error":"#REF!"},{"$error":"#REF!"},"Mujer","10-14",{"$f":"'Pob x Genero'!#REF!","v":{"$error":"#REF!"}},743]
[{"$f":"A36707","v":{"$error":"#REF!"}},{"$error":"#REF!"},{"$error":"#REF!"},{"$error":"#REF!"},{"$error":"#REF!"},{"$f":"F38596","v":"Mujer"},"10-14",{"$f":"'Pob x Genero'!#REF!","v":{"$error":"#REF!"}},796]
[{"$f":"A36746","v":{"$error":"#REF!"}},{"$error":"#REF!"},{"$error":"#REF!"},{"$error":"#REF!"},{"$error":"#REF!"},"Mujer","10-14",{"$f":"'Pob x Genero'!#REF!","v":{"$error":"#REF!"}},835]
[{"$f":"A36756","v":{"$error":"#REF!"}},{"$error":"#REF!"},{"$error":"#REF!"},{"$error":"#REF!"},{"$error":"#REF!"},"Mujer","10-14",{"$f":"'Pob x Genero'!#REF!","v":{"$error":"#REF!"}},845]
[{"$f":"A36789","v":{"$error":"#REF!"}},{"$error":"#REF!"},{"$error":"#REF!"},{"$error":"#REF!"},{"$error":"#REF!"},"Mujer","10-14",{"$f":"'Pob x Genero'!#REF!","v":{"$error":"#REF!"}},878]
[{"$f":"A36833","v":{"$error":"#REF!"}},{"$error":"#REF!"},{"$error":"#REF!"},{"$error":"#REF!"},{"$error":"#REF!"},"Mujer","10-14",{"$f":"'Pob x Genero'!#REF!","v":{"$error":"#REF!"}},922]
[{"$f":"A36876","v":{"$error":"#REF!"}},{"$error":"#REF!"},{"$error":"#REF!"},{"$error":"#REF!"},{"$error":"#REF!"},"Mujer","10-14",{"$f":"'Pob x Genero'!#REF!","v":{"$error":"#REF!"}},965]
[{"$f":"A36882","v":{"$error":"#REF!"}},{"$error":"#REF!"},{"$error":"#REF!"},{"$error":"#REF!"},{"$error":"#REF!"},"Mujer","10-14",{"$f":"'Pob x Genero'!#REF!","v":{"$error":"#REF!"}},971]
[{"$f":"A36921","v":{"$error":"#REF!"}},{"$error":"#REF!"},{"$error":"#REF!"},{"$error":"#REF!"},{"$error":"#REF!"},"Mujer","10-14",{"$f":"'Pob x Genero'!#REF!","v":{"$error":"#REF!"}},1010]
[{"$f":"A36974","v":{"$error":"#REF!"}},{"$error":"#REF!"},{"$error":"#REF!"},{"$error":"#REF!"},{"$error":"#REF!"},"Mujer","10-14",{"$f":"'Pob x Genero'!#REF!","v":{"$error":"#REF!"}},1063]
[{"$f":"A37002","v":{"$error":"#REF!"}},{"$error":"#REF!"},{"$error":"#REF!"},{"$error":"#REF!"},{"$error":"#REF!"},"Mujer","10-14",{"$f":"'Pob x Genero'!#REF!","v":{"$error":"#REF!"}},1091]
[{"$f":"A37012","v":{"$error":"#REF!"}},{"$error":"#REF!"},{"$error":"#REF!"},{"$error":"#REF!"},{"$error":"#REF!"},"Mujer","10-14",{"$f":"'Pob x Genero'!#REF!","v":{"$error":"#REF!"}},1101]
[{"$f":"A37051","v":{"$error":"#REF!"}},{"$error":"#REF!"},{"$error":"#REF!"},{"$error":"#REF!"},{"$error":"#REF!"},"Mujer","10-14",{"$f":"'Pob x Genero'!#REF!","v":{"$error":"#REF!"}},1140]
[{"$f":"A37077","v":{"$error":"#REF!"}},{"$error":"#REF!"},{"$error":"#REF!"},{"$error":"#REF!"},{"$error":"#REF!"},"Mujer","10-14",{"$f":"'Pob x Genero'!#REF!","v":{"$error":"#REF!"}},1166]
[{"$f":"A37132","v":{"$error":"#REF!"}},{"$error":"#REF!"},{"$error":"#REF!"},{"$error":"#REF!"},{"$error":"#REF!"},"Mujer","10-14",{"$f":"'Pob x Genero'!#REF!","v":{"$error":"#REF!"}},1221]
[{"$f":"A37171","v":{"$error":"#REF!"}},{"$error":"#REF!"},{"$error":"#REF!"},{"$error":"#REF!"},{"$error":"#REF!"},"Mujer","10-14",{"$f":"'Pob x Genero'!#REF!","v":{"$error":"#REF!"}},1260]
[{"$f":"A37181","v":{"$error":"#REF!"}},{"$error":"#REF!"},{"$error":"#REF!"},{"$error":"#REF!"},{"$error":"#REF!"},"Mujer","10-14",{"$f":"'Pob x Genero'!#REF!","v":{"$error":"#REF!"}},1270]
[{"$f":"A37212","v":{"$error":"#REF!"}},{"$error":"#REF!"},{"$error":"#REF!"},{"$error":"#REF!"},{"$error":"#REF!"},"Mujer","10-14",{"$f":"'Pob x Genero'!#REF!","v":{"$error":"#REF!"}},1301]
[{"$f":"A37258","v":{"$error":"#REF!"}},{"$error":"#REF!"},{"$error":"#REF!"},{"$error":"#REF!"},{"$error":"#REF!"},"Mujer","10-14",{"$f":"'Pob x Genero'!#REF!","v":{"$error":"#REF!"}},1347]
[{"$f":"A37301","v":{"$error":"#REF!"}},{"$error":"#REF!"},{"$error":"#REF!"},{"$error":"#REF!"},{"$error":"#REF!"},"Mujer","10-14",{"$f":"'Pob x Genero'!#REF!","v":{"$error":"#REF!"}},1390]
[{"$f":"A37307","v":{"$error":"#REF!"}},{"$error":"#REF!"},{"$error":"#REF!"},{"$error":"#REF!"},{"$error":"#REF!"},"Mujer","10-14",{"$f":"'Pob x Genero'!#REF!","v":{"$error":"#REF!"}},1396]
[{"$f":"A37346","v":{"$error":"#REF!"}},{"$error":"#REF!"},{"$error":"#REF!"},{"$error":"#REF!"},{"$error":"#REF!"},"Mujer","10-14",{"$f":"'Pob x Genero'!#REF!","v":{"$error":"#REF!"}},1435]
[{"$f":"A37397","v":{"$error":"#REF!"}},{"$error":"#REF!"},{"$error":"#REF!"},{"$error":"#REF!"},{"$error":"#REF!"},"Mujer","10-14",{"$f":"'Pob x Genero'!#REF!","v":{"$error":"#REF!"}},1486]
[{"$f":"A37427","v":{"$error":"#REF!"}},{"$error":"#REF!"},{"$error":"#REF!"},{"$error":"#REF!"},{"$error":"#REF!"},"Mujer","10-14",{"$f":"'Pob x Genero'!#REF!","v":{"$error":"#REF!"}},1516]
[{"$f":"A37437","v":{"$error":"#REF!"}},{"$error":"#REF!"},{"$error":"#REF!"},{"$error":"#REF!"},{"$error":"#REF!"},"Mujer","10-14",{"$f":"'Pob x Genero'!#REF!","v":{"$error":"#REF!"}},1526]
[{"$f":"A37476","v":{"$error":"#REF!"}},{"$error":"#REF!"},{"$error":"#REF!"},{"$error":"#REF!"},{"$error":"#REF!"},"Mujer","10-14",{"$f":"'Pob x Genero'!#REF!","v":{"$error":"#REF!"}},1565]
[{"$f":"A37532","v":{"$error":"#REF!"}},{"$error":"#REF!"},{"$error":"#REF!"},{"$error":"#REF!"},{"$error":"#REF!"},"Mujer","10-14",{"$f":"'Pob x Genero'!#REF!","v":{"$error":"#REF!"}},1621]
[{"$f":"A37557","v":{"$error":"#REF!"}},{"$error":"#REF!"},{"$error":"#REF!"},{"$error":"#REF!"},{"$error":"#REF!"},"Mujer","10-14",{"$f":"'Pob x Genero'!#REF!","v":{"$error":"#REF!"}},1646]
[{"$f":"A37596","v":{"$error":"#REF!"}},{"$error":"#REF!"},{"$error":"#REF!"},{"$error":"#REF!"},{"$error":"#REF!"},"Mujer","10-14",{"$f":"'Pob x Genero'!#REF!","v":{"$error":"#REF!"}},1685]
[{"$f":"A37602","v":{"$error":"#REF!"}},{"$error":"#REF!"},{"$error":"#REF!"},{"$error":"#REF!"},{"$error":"#REF!"},"Mujer","10-14",{"$f":"'Pob x Genero'!#REF!","v":{"$error":"#REF!"}},1691]
[{"$f":"A37635","v":{"$error":"#REF!"}},{"$error":"#REF!"},{"$error":"#REF!"},{"$error":"#REF!"},{"$error":"#REF!"},"Mujer","10-14",{"$f":"'Pob x Genero'!#REF!","v":{"$error":"#REF!"}},1724]
[{"$f":"A37683","v":{"$error":"#REF!"}},{"$error":"#REF!"},{"$error":"#REF!"},{"$error":"#REF!"},{"$error":"#REF!"},"Mujer","10-14",{"$f":"'Pob x Genero'!#REF!","v":{"$error":"#REF!"}},1772]
[{"$f":"A37726","v":{"$error":"#REF!"}},{"$error":"#REF!"},{"$error":"#REF!"},{"$error":"#REF!"},{"$error":"#REF!"},"Mujer","10-14",{"$f":"'Pob x Genero'!#REF!","v":{"$error":"#REF!"}},1815]
[{"$f":"A37732","v":{"$error":"#REF!"}},{"$error":"#REF!"},{"$error":"#REF!"},{"$error":"#REF!"},{"$error":"#REF!"},"Mujer","10-14",{"$f":"'Pob x Genero'!#REF!","v":{"$error":"#REF!"}},1821]
[{"$f":"A37771","v":{"$error":"#REF!"}},{"$error":"#REF!"},{"$error":"#REF!"},{"$error":"#REF!"},{"$error":"#REF!"},"Mujer","10-14",{"$f":"'Pob x Genero'!#REF!","v":{"$error":"#REF!"}},1860]
[{"$f":"A37820","v":{"$error":"#REF!"}},{"$error":"#REF!"},{"$error":"#REF!"},{"$error":"#REF!"},{"$error":"#REF!"},"Mujer","15-19",{"$f":"'Pob x Genero'!#REF!","v":{"$error":"#REF!"}},19]
[{"$f":"A37852","v":{"$error":"#REF!"}},{"$error":"#REF!"},{"$error":"#REF!"},{"$error":"#REF!"},{"$error":"#REF!"},"Mujer","15-19",{"$f":"'Pob x Genero'!#REF!","v":{"$error":"#REF!"}},51]
[{"$f":"A37862","v":{"$error":"#REF!"}},{"$error":"#REF!"},{"$error":"#REF!"},{"$error":"#REF!"},{"$error":"#REF!"},"Mujer","15-19",{"$f":"'Pob x Genero'!#REF!","v":{"$error":"#REF!"}},61]
[{"$f":"A37901","v":{"$error":"#REF!"}},{"$error":"#REF!"},{"$error":"#REF!"},{"$error":"#REF!"},{"$error":"#REF!"},"Mujer","15-19",{"$f":"'Pob x Genero'!#REF!","v":{"$error":"#REF!"}},100]
[{"$f":"A37955","v":{"$error":"#REF!"}},{"$error":"#REF!"},{"$error":"#REF!"},{"$error":"#REF!"},{"$error":"#REF!"},"Mujer","15-19",{"$f":"'Pob x Genero'!#REF!","v":{"$error":"#REF!"}},154]
[{"$f":"A37982","v":{"$error":"#REF!"}},{"$error":"#REF!"},{"$error":"#REF!"},{"$error":"#REF!"},{"$error":"#REF!"},"Mujer","15-19",{"$f":"'Pob x Genero'!#REF!","v":{"$error":"#REF!"}},181]
[{"$f":"A38021","v":{"$error":"#REF!"}},{"$error":"#REF!"},{"$error":"#REF!"},{"$error":"#REF!"},{"$error":"#REF!"},"Mujer","15-19",{"$f":"'Pob x Genero'!#REF!","v":{"$error":"#REF!"}},220]
[{"$f":"A38027","v":{"$error":"#REF!"}},{"$error":"#REF!"},{"$error":"#REF!"},{"$error":"#REF!"},{"$error":"#REF!"},"Mujer","15-19",{"$f":"'Pob x Genero'!#REF!","v":{"$error":"#REF!"}},226]
[{"$f":"A38070","v":{"$error":"#REF!"}},{"$error":"#REF!"},{"$error":"#REF!"},{"$error":"#REF!"},{"$error":"#REF!"},"Mujer","15-19",{"$f":"'Pob x Genero'!#REF!","v":{"$error":"#REF!"}},269]
[{"$f":"A38108","v":{"$error":"#REF!"}},{"$error":"#REF!"},{"$error":"#REF!"},{"$error":"#REF!"},{"$error":"#REF!"},"Mujer","15-19",{"$f":"'Pob x Genero'!#REF!","v":{"$error":"#REF!"}},307]
[{"$f":"A38151","v":"040115"},"AREQUIPA","AREQUIPA","AREQUIPA","QUEQUEÑA","Mujer","15-19",{"$f":"'Pob x Genero'!DN23","v":194},350]
[{"$f":"A38157","v":"040121"},"AREQUIPA","AREQUIPA","AREQUIPA","SANTA RITA DE SIGUAS","Mujer","15-19",{"$f":"'Pob x Genero'!DN29","v":319},356]
[{"$f":"A38196","v":"040410"},"AREQUIPA","AREQUIPA","CASTILLA","PAMPACOLCA","Mujer","15-19",{"$f":"'Pob x Genero'!DN68","v":64},395]
[{"$f":"A38243","v":"040809"},"AREQUIPA","AREQUIPA","LA UNION","TAURIA","Mujer","15-19",{"$f":"'Pob x Genero'!DN115","v":15},442]
[{"$f":"A38277","v":{"$error":"#REF!"}},{"$error":"#REF!"},{"$error":"#REF!"},{"$error":"#REF!"},{"$error":"#REF!"},"Mujer","15-19",{"$f":"'Pob x Genero'!#REF!","v":{"$error":"#REF!"}},476]
[{"$f":"A38316","v":{"$error":"#REF!"}},{"$error":"#REF!"},{"$error":"#REF!"},{"$error":"#REF!"},{"$error":"#REF!"},"Mujer","15-19",{"$f":"'Pob x Genero'!#REF!","v":{"$error":"#REF!"}},515]
[{"$f":"A38326","v":{"$error":"#REF!"}},{"$error":"#REF!"},{"$error":"#REF!"},{"$error":"#REF!"},{"$error":"#REF!"},"Mujer","15-19",{"$f":"'Pob x Genero'!#REF!","v":{"$error":"#REF!"}},525]
[{"$f":"A38378","v":{"$error":"#REF!"}},{"$error":"#REF!"},{"$error":"#REF!"},{"$error":"#REF!"},{"$error":"#REF!"},"Mujer","15-19",{"$f":"'Pob x Genero'!#REF!","v":{"$error":"#REF!"}},577]
[{"$f":"A38407","v":{"$error":"#REF!"}},{"$error":"#REF!"},{"$error":"#REF!"},{"$error":"#REF!"},{"$error":"#REF!"},"Mujer","15-19",{"$f":"'Pob x Genero'!#REF!","v":{"$error":"#REF!"}},606]
[{"$f":"A38446","v":{"$error":"#REF!"}},{"$error":"#REF!"},{"$error":"#REF!"},{"$error":"#REF!"},{"$error":"#REF!"},"Mujer","15-19",{"$f":"'Pob x Genero'!#REF!","v":{"$error":"#REF!"}},645]
[{"$f":"A38452","v":{"$error":"#REF!"}},{"$error":"#REF!"},{"$error":"#REF!"},{"$error":"#REF!"},{"$error":"#REF!"},"Mujer","15-19",{"$f":"'Pob x Genero'!#REF!","v":{"$error":"#REF!"}},651]
[{"$f":"A38495","v":{"$error":"#REF!"}},{"$error":"#REF!"},{"$error":"#REF!"},{"$error":"#REF!"},{"$error":"#REF!"},"Mujer","15-19",{"$f":"'Pob x Genero'!#REF!","v":{"$error":"#REF!"}},694]
[{"$f":"A38531","v":{"$error":"#REF!"}},{"$error":"#REF!"},{"$error":"#REF!"},{"$error":"#REF!"},{"$error":"#REF!"},"Mujer","15-19",{"$f":"'Pob x Genero'!#REF!","v":{"$error":"#REF!"}},730]
[{"$f":"A38576","v":{"$error":"#REF!"}},{"$error":"#REF!"},{"$error":"#REF!"},{"$error":"#REF!"},{"$error":"#REF!"},"Mujer","15-19",{"$f":"'Pob x Genero'!#REF!","v":{"$error":"#REF!"}},775]
[{"$f":"A38615","v":{"$error":"#REF!"}},{"$error":"#REF!"},{"$error":"#REF!"},{"$error":"#REF!"},{"$error":"#REF!"},"Mujer","15-19",{"$f":"'Pob x Genero'!#REF!","v":{"$error":"#REF!"}},814]
[{"$f":"A38621","v":{"$error":"#REF!"}},{"$error":"#REF!"},{"$error":"#REF!"},{"$error":"#REF!"},{"$error":"#REF!"},"Mujer","15-19",{"$f":"'Pob x Genero'!#REF!","v":{"$error":"#REF!"}},820]
[{"$f":"A38666","v":{"$error":"#REF!"}},{"$error":"#REF!"},{"$error":"#REF!"},{"$error":"#REF!"},{"$error":"#REF!"},"Mujer","15-19",{"$f":"'Pob x Genero'!#REF!","v":{"$error":"#REF!"}},865]
[{"$f":"A38702","v":{"$error":"#REF!"}},{"$error":"#REF!"},{"$error":"#REF!"},{"$error":"#REF!"},{"$error":"#REF!"},"Mujer","15-19",{"$f":"'Pob x Genero'!#REF!","v":{"$error":"#REF!"}},901]
[{"$f":"A38741","v":{"$error":"#REF!"}},{"$error":"#REF!"},{"$error":"#REF!"},{"$error":"#REF!"},{"$error":"#REF!"},"Mujer","15-19",{"$f":"'Pob x Genero'!#REF!","v":{"$error":"#REF!"}},940]
[{"$f":"A38751","v":{"$error":"#REF!"}},{"$error":"#REF!"},{"$error":"#REF!"},{"$error":"#REF!"},{"$error":"#REF!"},"Mujer","15-19",{"$f":"'Pob x Genero'!#REF!","v":{"$error":"#REF!"}},950]
[{"$f":"A38801","v":{"$error":"#REF!"}},{"$error":"#REF!"},{"$error":"#REF!"},{"$error":"#REF!"},{"$error":"#REF!"},"Mujer","15-19",{"$f":"'Pob x Genero'!#REF!","v":{"$error":"#REF!"}},1000]
[{"$f":"A38832","v":{"$error":"#REF!"}},{"$error":"#REF!"},{"$error":"#REF!"},{"$error":"#REF!"},{"$error":"#REF!"},"Mujer","15-19",{"$f":"'Pob x Genero'!#REF!","v":{"$error":"#REF!"}},1031]
[{"$f":"A38871","v":{"$error":"#REF!"}},{"$error":"#REF!"},{"$error":"#REF!"},{"$error":"#REF!"},{"$error":"#REF!"},"Mujer","15-19",{"$f":"'Pob x Genero'!#REF!","v":{"$error":"#REF!"}},1070]
[{"$f":"A38910","v":{"$error":"#REF!"}},{"$error":"#REF!"},{"$error":"#REF!"},{"$error":"#REF!"},{"$error":"#REF!"},"Mujer","15-19",{"$f":"'Pob x Genero'!#REF!","v":{"$error":"#REF!"}},1109]
[{"$f":"A38920","v":{"$error":"#REF!"}},{"$error":"#REF!"},{"$error":"#REF!"},{"$error":"#REF!"},{"$error":"#REF!"},"Mujer","15-19",{"$f":"'Pob x Genero'!#REF!","v":{"$error":"#REF!"}},1119]
[{"$f":"A38954","v":{"$error":"#REF!"}},{"$error":"#REF!"},{"$error":"#REF!"},{"$error":"#REF!"},{"$error":"#REF!"},"Mujer","15-19",{"$f":"'Pob x Genero'!#REF!","v":{"$error":"#REF!"}},1153]
[{"$f":"A39001","v":{"$error":"#REF!"}},{"$error":"#REF!"},{"$error":"#REF!"},{"$error":"#REF!"},{"$error":"#REF!"},"Mujer","15-19",{"$f":"'Pob x Genero'!#REF!","v":{"$error":"#REF!"}},1200]
[{"$f":"A39040","v":{"$error":"#REF!"}},{"$error":"#REF!"},{"$error":"#REF!"},{"$error":"#REF!"},{"$error":"#REF!"},"Mujer","15-19",{"$f":"'Pob x Genero'!#REF!","v":{"$error":"#REF!"}},1239]
[{"$f":"A39046","v":{"$error":"#REF!"}},{"$error":"#REF!"},{"$error":"#REF!"},{"$error":"#REF!"},{"$error":"#REF!"},"Mujer","15-19",{"$f":"'Pob x Genero'!#REF!","v":{"$error":"#REF!"}},1245]
[{"$f":"A39089","v":{"$error":"#REF!"}},{"$error":"#REF!"},{"$error":"#REF!"},{"$error":"#REF!"},{"$error":"#REF!"},"Mujer","15-19",{"$f":"'Pob x Genero'!#REF!","v":{"$error":"#REF!"}},1288]
[{"$f":"A39127","v":{"$error":"#REF!"}},{"$error":"#REF!"},{"$error":"#REF!"},{"$error":"#REF!"},{"$error":"#REF!"},"Mujer","15-19",{"$f":"'Pob x Genero'!#REF!","v":{"$error":"#REF!"}},1326]
[{"$f":"A39166","v":{"$error":"#REF!"}},{"$error":"#REF!"},{"$error":"#REF!"},{"$error":"#REF!"},{"$error":"#REF!"},"Mujer","15-19",{"$f":"'Pob x Genero'!#REF!","v":{"$error":"#REF!"}},1365]
[{"$f":"A39176","v":{"$error":"#REF!"}},{"$error":"#REF!"},{"$error":"#REF!"},{"$error":"#REF!"},{"$error":"#REF!"},"Mujer","15-19",{"$f":"'Pob x Genero'!#REF!","v":{"$error":"#REF!"}},1375]
[{"$f":"A39224","v":{"$error":"#REF!"}},{"$error":"#REF!"},{"$error":"#REF!"},{"$error":"#REF!"},{"$error":"#REF!"},"Mujer","15-19",{"$f":"'Pob x Genero'!#REF!","v":{"$error":"#REF!"}},1423]
[{"$f":"A39257","v":{"$error":"#REF!"}},{"$error":"#REF!"},{"$error":"#REF!"},{"$error":"#REF!"},{"$error":"#REF!"},"Mujer","15-19",{"$f":"'Pob x Genero'!#REF!","v":{"$error":"#REF!"}},1456]
[{"$f":"A39296","v":{"$error":"#REF!"}},{"$error":"#REF!"},{"$error":"#REF!"},{"$error":"#REF!"},{"$error":"#REF!"},"Mujer","15-19",{"$f":"'Pob x Genero'!#REF!","v":{"$error":"#REF!"}},1495]
[{"$f":"A39335","v":{"$error":"#REF!"}},{"$error":"#REF!"},{"$error":"#REF!"},{"$error":"#REF!"},{"$error":"#REF!"},"Mujer","15-19",{"$f":"'Pob x Genero'!#REF!","v":{"$error":"#REF!"}},1534]
[{"$f":"A39345","v":{"$error":"#REF!"}},{"$error":"#REF!"},{"$error":"#REF!"},{"$error":"#REF!"},{"$error":"#REF!"},"Mujer","15-19",{"$f":"'Pob x Genero'!#REF!","v":{"$error":"#REF!"}},1544]
[{"$f":"A39377","v":{"$error":"#REF!"}},{"$error":"#REF!"},{"$error":"#REF!"},{"$error":"#REF!"},{"$error":"#REF!"},"Mujer","15-19",{"$f":"'Pob x Genero'!#REF!","v":{"$error":"#REF!"}},1576]
[{"$f":"A39422","v":{"$error":"#REF!"}},{"$error":"#REF!"},{"$error":"#REF!"},{"$error":"#REF!"},{"$error":"#REF!"},"Mujer","15-19",{"$f":"'Pob x Genero'!#REF!","v":{"$error":"#REF!"}},1621]
[{"$f":"A39465","v":{"$error":"#REF!"}},{"$error":"#REF!"},{"$error":"#REF!"},{"$error":"#REF!"},{"$error":"#REF!"},"Mujer","15-19",{"$f":"'Pob x Genero'!#REF!","v":{"$error":"#REF!"}},1664]
[{"$f":"A39471","v":{"$error":"#REF!"}},{"$error":"#REF!"},{"$error":"#REF!"},{"$error":"#REF!"},{"$error":"#REF!"},"Mujer","15-19",{"$f":"'Pob x Genero'!#REF!","v":{"$error":"#REF!"}},1670]
[{"$f":"A39512","v":{"$error":"#REF!"}},{"$error":"#REF!"},{"$error":"#REF!"},{"$error":"#REF!"},{"$error":"#REF!"},"Mujer","15-19",{"$f":"'Pob x Genero'!#REF!","v":{"$error":"#REF!"}},1711]
[{"$f":"A39552","v":{"$error":"#REF!"}},{"$error":"#REF!"},{"$error":"#REF!"},{"$error":"#REF!"},{"$error":"#REF!"},"Mujer","15-19",{"$f":"'Pob x Genero'!#REF!","v":{"$error":"#REF!"}},1751]
[{"$f":"A39591","v":{"$error":"#REF!"}},{"$error":"#REF!"},{"$error":"#REF!"},{"$error":"#REF!"},{"$error":"#REF!"},"Mujer","15-19",{"$f":"'Pob x Genero'!#REF!","v":{"$error":"#REF!"}},1790]
[{"$f":"A39601","v":{"$error":"#REF!"}},{"$error":"#REF!"},{"$error":"#REF!"},{"$error":"#REF!"},{"$error":"#REF!"},"Mujer","15-19",{"$f":"'Pob x Genero'!#REF!","v":{"$error":"#REF!"}},1800]
[{"$f":"A39647","v":{"$error":"#REF!"}},{"$error":"#REF!"},{"$error":"#REF!"},{"$error":"#REF!"},{"$error":"#REF!"},"Mujer","15-19",{"$f":"'Pob x Genero'!#REF!","v":{"$error":"#REF!"}},1846]
[{"$f":"A39682","v":{"$error":"#REF!"}},{"$error":"#REF!"},{"$error":"#REF!"},{"$error":"#REF!"},{"$error":"#REF!"},"Mujer","15-19",{"$f":"'Pob x Genero'!#REF!","v":{"$error":"#REF!"}},1881]
[{"$f":"A39721","v":{"$error":"#REF!"}},{"$error":"#REF!"},{"$error":"#REF!"},{"$error":"#REF!"},{"$error":"#REF!"},"Mujer","20-24",{"$f":"'Pob x Genero'!#REF!","v":{"$error":"#REF!"}},30]
[{"$f":"A39760","v":{"$error":"#REF!"}},{"$error":"#REF!"},{"$error":"#REF!"},{"$error":"#REF!"},{"$error":"#REF!"},"Mujer","20-24",{"$f":"'Pob x Genero'!#REF!","v":{"$error":"#REF!"}},69]
[{"$f":"A39770","v":{"$error":"#REF!"}},{"$error":"#REF!"},{"$error":"#REF!"},{"$error":"#REF!"},{"$error":"#REF!"},"Mujer","20-24",{"$f":"'Pob x Genero'!#REF!","v":{"$error":"#REF!"}},79]
[{"$f":"A39800","v":{"$error":"#REF!"}},{"$error":"#REF!"},{"$error":"#REF!"},{"$error":"#REF!"},{"$error":"#REF!"},"Mujer","20-24",{"$f":"'Pob x Genero'!#REF!","v":{"$error":"#REF!"}},109]
[{"$f":"A39847","v":{"$error":"#REF!"}},{"$error":"#REF!"},{"$error":"#REF!"},{"$error":"#REF!"},{"$error":"#REF!"},"Mujer","20-24",{"$f":"'Pob x Genero'!#REF!","v":{"$error":"#REF!"}},156]
[{"$f":"A39890","v":{"$error":"#REF!"}},{"$error":"#REF!"},{"$error":"#REF!"},{"$error":"#REF!"},{"$error":"#REF!"},"Mujer","20-24",{"$f":"'Pob x Genero'!#REF!","v":{"$error":"#REF!"}},199]
[{"$f":"A39896","v":{"$error":"#REF!"}},{"$error":"#REF!"},{"$error":"#REF!"},{"$error":"#REF!"},{"$error":"#REF!"},"Mujer","20-24",{"$f":"'Pob x Genero'!#REF!","v":{"$error":"#REF!"}},205]
[{"$f":"A39935","v":{"$error":"#REF!"}},{"$error":"#REF!"},{"$error":"#REF!"},{"$error":"#REF!"},{"$error":"#REF!"},"Mujer","20-24",{"$f":"'Pob x Genero'!#REF!","v":{"$error":"#REF!"}},244]
[{"$f":"A39977","v":{"$error":"#REF!"}},{"$error":"#REF!"},{"$error":"#REF!"},{"$error":"#REF!"},{"$error":"#REF!"},"Mujer","20-24",{"$f":"'Pob x Genero'!#REF!","v":{"$error":"#REF!"}},286]
[{"$f":"A40016","v":{"$error":"#REF!"}},{"$error":"#REF!"},{"$error":"#REF!"},{"$error":"#REF!"},{"$error":"#REF!"},"Mujer","20-24",{"$f":"'Pob x Genero'!#REF!","v":{"$error":"#REF!"}},325]
[{"$f":"A40026","v":{"$error":"#REF!"}},{"$error":"#REF!"},{"$error":"#REF!"},{"$error":"#REF!"},{"$error":"#REF!"},"Mujer","20-24",{"$f":"'Pob x Genero'!#REF!","v":{"$error":"#REF!"}},335]
[{"$f":"A40065","v":"040302"},"AREQUIPA","AREQUIPA","CARAVELI","ACARI","Mujer","20-24",{"$f":"'Pob x Genero'!DO47","v":311},374]
[{"$f":"A40120","v":"040702"},"AREQUIPA","AREQUIPA","ISLAY","COCACHACRA","Mujer","20-24",{"$f":"'Pob x Genero'!DO102","v":307},429]
[{"$f":"A40146","v":{"$error":"#REF!"}},{"$error":"#REF!"},{"$error":"#REF!"},{"$error":"#REF!"},{"$error":"#REF!"},"Mujer","20-24",{"$f":"'Pob x Genero'!#REF!","v":{"$error":"#REF!"}},455]
[{"$f":"A40185","v":{"$error":"#REF!"}},{"$error":"#REF!"},{"$error":"#REF!"},{"$error":"#REF!"},{"$error":"#REF!"},"Mujer","20-24",{"$f":"'Pob x Genero'!#REF!","v":{"$error":"#REF!"}},494]
[{"$f":"A40195","v":{"$error":"#REF!"}},{"$error":"#REF!"},{"$error":"#REF!"},{"$error":"#REF!"},{"$error":"#REF!"},"Mujer","20-24",{"$f":"'Pob x Genero'!#REF!","v":{"$error":"#REF!"}},504]
[{"$f":"A40223","v":{"$error":"#REF!"}},{"$error":"#REF!"},{"$error":"#REF!"},{"$error":"#REF!"},{"$error":"#REF!"},"Mujer","20-24",{"$f":"'Pob x Genero'!#REF!","v":{"$error":"#REF!"}},532]
[{"$f":"A40272","v":{"$error":"#REF!"}},{"$error":"#REF!"},{"$error":"#REF!"},{"$error":"#REF!"},{"$error":"#REF!"},"Mujer","20-24",{"$f":"'Pob x Genero'!#REF!","v":{"$error":"#REF!"}},581]
[{"$f":"A40315","v":{"$error":"#REF!"}},{"$error":"#REF!"},{"$error":"#REF!"},{"$error":"#REF!"},{"$error":"#REF!"},"Mujer","20-24",{"$f":"'Pob x Genero'!#REF!","v":{"$error":"#REF!"}},624]
[{"$f":"A40321","v":{"$error":"#REF!"}},{"$error":"#REF!"},{"$error":"#REF!"},{"$error":"#REF!"},{"$error":"#REF!"},"Mujer","20-24",{"$f":"'Pob x Genero'!#REF!","v":{"$error":"#REF!"}},630]
[{"$f":"A40358","v":{"$error":"#REF!"}},{"$error":"#REF!"},{"$error":"#REF!"},{"$error":"#REF!"},{"$error":"#REF!"},"Mujer","20-24",{"$f":"'Pob x Genero'!#REF!","v":{"$error":"#REF!"}},667]
[{"$f":"A40402","v":{"$error":"#REF!"}},{"$error":"#REF!"},{"$error":"#REF!"},{"$error":"#REF!"},{"$error":"#REF!"},"Mujer","20-24",{"$f":"'Pob x Genero'!#REF!","v":{"$error":"#REF!"}},711]
[{"$f":"A40441","v":{"$error":"#REF!"}},{"$error":"#REF!"},{"$error":"#REF!"},{"$error":"#REF!"},{"$error":"#REF!"},"Mujer","20-24",{"$f":"'Pob x Genero'!#REF!","v":{"$error":"#REF!"}},750]
[{"$f":"A40451","v":{"$error":"#REF!"}},{"$error":"#REF!"},{"$error":"#REF!"},{"$error":"#REF!"},{"$error":"#REF!"},"Mujer","20-24",{"$f":"'Pob x Genero'!#REF!","v":{"$error":"#REF!"}},760]
[{"$f":"A40490","v":{"$error":"#REF!"}},{"$error":"#REF!"},{"$error":"#REF!"},{"$error":"#REF!"},{"$error":"#REF!"},"Mujer","20-24",{"$f":"'Pob x Genero'!#REF!","v":{"$error":"#REF!"}},799]
[{"$f":"A40543","v":{"$error":"#REF!"}},{"$error":"#REF!"},{"$error":"#REF!"},{"$error":"#REF!"},{"$error":"#REF!"},"Mujer","20-24",{"$f":"'Pob x Genero'!#REF!","v":{"$error":"#REF!"}},852]
[{"$f":"A40571","v":{"$error":"#REF!"}},{"$error":"#REF!"},{"$error":"#REF!"},{"$error":"#REF!"},{"$error":"#REF!"},"Mujer","20-24",{"$f":"'Pob x Genero'!#REF!","v":{"$error":"#REF!"}},880]
[{"$f":"A40610","v":{"$error":"#REF!"}},{"$error":"#REF!"},{"$error":"#REF!"},{"$error":"#REF!"},{"$error":"#REF!"},"Mujer","20-24",{"$f":"'Pob x Genero'!#REF!","v":{"$error":"#REF!"}},919]
[{"$f":"A40620","v":{"$error":"#REF!"}},{"$error":"#REF!"},{"$error":"#REF!"},{"$error":"#REF!"},{"$error":"#REF!"},"Mujer","20-24",{"$f":"'Pob x Genero'!#REF!","v":{"$error":"#REF!"}},929]
[{"$f":"A40678","v":{"$error":"#REF!"}},{"$error":"#REF!"},{"$error":"#REF!"},{"$error":"#REF!"},{"$error":"#REF!"},"Mujer","20-24",{"$f":"'Pob x Genero'!#REF!","v":{"$error":"#REF!"}},987]
[{"$f":"A40697","v":{"$error":"#REF!"}},{"$error":"#REF!"},{"$error":"#REF!"},{"$error":"#REF!"},{"$error":"#REF!"},"Mujer","20-24",{"$f":"'Pob x Genero'!#REF!","v":{"$error":"#REF!"}},1006]
[{"$f":"A40740","v":{"$error":"#REF!"}},{"$error":"#REF!"},{"$error":"#REF!"},{"$error":"#REF!"},{"$error":"#REF!"},"Mujer","20-24",{"$f":"'Pob x Genero'!#REF!","v":{"$error":"#REF!"}},1049]
[{"$f":"A40746","v":{"$error":"#REF!"}},{"$error":"#REF!"},{"$error":"#REF!"},{"$error":"#REF!"},{"$error":"#REF!"},"Mujer","20-24",{"$f":"'Pob x Genero'!#REF!","v":{"$error":"#REF!"}},1055]
[{"$f":"A40781","v":{"$error":"#REF!"}},{"$error":"#REF!"},{"$error":"#REF!"},{"$error":"#REF!"},{"$error":"#REF!"},"Mujer",{"$f":"G42670","v":"20-24"},{"$f":"'Pob x Genero'!#REF!","v":{"$error":"#REF!"}},1090]
[{"$f":"A40827","v":{"$error":"#REF!"}},{"$error":"#REF!"},{"$error":"#REF!"},{"$error":"#REF!"},{"$error":"#REF!"},"Mujer","20-24",{"$f":"'Pob x Genero'!#REF!","v":{"$error":"#REF!"}},1136]
[{"$f":"A40866","v":{"$error":"#REF!"}},{"$error":"#REF!"},{"$error":"#REF!"},{"$error":"#REF!"},{"$error":"#REF!"},"Mujer","20-24",{"$f":"'Pob x Genero'!#REF!","v":{"$error":"#REF!"}},1175]
[{"$f":"A40909","v":{"$error":"#REF!"}},{"$error":"#REF!"},{"$error":"#REF!"},{"$error":"#REF!"},{"$error":"#REF!"},"Mujer",{"$f":"G42798","v":"20-24"},{"$f":"'Pob x Genero'!#REF!","v":{"$error":"#REF!"}},1218]
[{"$f":"A40915","v":{"$error":"#REF!"}},{"$error":"#REF!"},{"$error":"#REF!"},{"$error":"#REF!"},{"$error":"#REF!"},{"$f":"F42804","v":"Mujer"},"20-24",{"$f":"'Pob x Genero'!#REF!","v":{"$error":"#REF!"}},1224]
[{"$f":"A40966","v":{"$error":"#REF!"}},{"$error":"#REF!"},{"$error":"#REF!"},{"$error":"#REF!"},{"$error":"#REF!"},"Mujer","20-24",{"$f":"'Pob x Genero'!#REF!","v":{"$error":"#REF!"}},1275]
[{"$f":"A40996","v":{"$error":"#REF!"}},{"$error":"#REF!"},{"$error":"#REF!"},{"$error":"#REF!"},{"$error":"#REF!"},"Mujer","20-24",{"$f":"'Pob x Genero'!#REF!","v":{"$error":"#REF!"}},1305]
[{"$f":"A41035","v":{"$error":"#REF!"}},{"$error":"#REF!"},{"$error":"#REF!"},{"$error":"#REF!"},{"$error":"#REF!"},"Mujer","20-24",{"$f":"'Pob x Genero'!#REF!","v":{"$error":"#REF!"}},1344]
[{"$f":"A41045","v":{"$error":"#REF!"}},{"$error":"#REF!"},{"$error":"#REF!"},{"$error":"#REF!"},{"$error":"#REF!"},"Mujer","20-24",{"$f":"'Pob x Genero'!#REF!","v":{"$error":"#REF!"}},1354]
[{"$f":"A41101","v":{"$error":"#REF!"}},{"$error":"#REF!"},{"$error":"#REF!"},{"$error":"#REF!"},{"$error":"#REF!"},"Mujer",{"$f":"G42990","v":"20-24"},{"$f":"'Pob x Genero'!#REF!","v":{"$error":"#REF!"}},1410]
[{"$f":"A41122","v":{"$error":"#REF!"}},{"$error":"#REF!"},{"$error":"#REF!"},{"$error":"#REF!"},{"$error":"#REF!"},"Mujer","20-24",{"$f":"'Pob x Genero'!#REF!","v":{"$error":"#REF!"}},1431]
[{"$f":"A41165","v":{"$error":"#REF!"}},{"$error":"#REF!"},{"$error":"#REF!"},{"$error":"#REF!"},{"$error":"#REF!"},"Mujer",{"$f":"G43054","v":"20-24"},{"$f":"'Pob x Genero'!#REF!","v":{"$error":"#REF!"}},1474]
[{"$f":"A41204","v":{"$error":"#REF!"}},{"$error":"#REF!"},{"$error":"#REF!"},{"$error":"#REF!"},{"$error":"#REF!"},"Mujer","20-24",{"$f":"'Pob x Genero'!#REF!","v":{"$error":"#REF!"}},1513]
[{"$f":"A41236","v":{"$error":"#REF!"}},{"$error":"#REF!"},{"$error":"#REF!"},{"$error":"#REF!"},{"$error":"#REF!"},"Mujer","20-24",{"$f":"'Pob x Genero'!#REF!","v":{"$error":"#REF!"}},1545]
[{"$f":"A41252","v":{"$error":"#REF!"}},{"$error":"#REF!"},{"$error":"#REF!"},{"$error":"#REF!"},{"$error":"#REF!"},"Mujer","20-24",{"$f":"'Pob x Genero'!#REF!","v":{"$error":"#REF!"}},1561]
[{"$f":"A41291","v":{"$error":"#REF!"}},{"$error":"#REF!"},{"$error":"#REF!"},{"$error":"#REF!"},{"$error":"#REF!"},"Mujer","20-24",{"$f":"'Pob x Genero'!#REF!","v":{"$error":"#REF!"}},1600]
[{"$f":"A41334","v":{"$error":"#REF!"}},{"$error":"#REF!"},{"$error":"#REF!"},{"$error":"#REF!"},{"$error":"#REF!"},"Mujer","20-24",{"$f":"'Pob x Genero'!#REF!","v":{"$error":"#REF!"}},1643]
[{"$f":"A41340","v":{"$error":"#REF!"}},{"$error":"#REF!"},{"$error":"#REF!"},{"$error":"#REF!"},{"$error":"#REF!"},"Mujer","20-24",{"$f":"'Pob x Genero'!#REF!","v":{"$error":"#REF!"}},1649]
[{"$f":"A41389","v":{"$error":"#REF!"}},{"$error":"#REF!"},{"$error":"#REF!"},{"$error":"#REF!"},{"$error":"#REF!"},"Mujer","20-24",{"$f":"'Pob x Genero'!#REF!","v":{"$error":"#REF!"}},1698]
[{"$f":"A41421","v":{"$error":"#REF!"}},{"$error":"#REF!"},{"$error":"#REF!"},{"$error":"#REF!"},{"$error":"#REF!"},"Mujer",{"$f":"G43310","v":"20-24"},{"$f":"'Pob x Genero'!#REF!","v":{"$error":"#REF!"}},1730]
[{"$f":"A41460","v":{"$error":"#REF!"}},{"$error":"#REF!"},{"$error":"#REF!"},{"$error":"#REF!"},{"$error":"#REF!"},"Mujer","20-24",{"$f":"'Pob x Genero'!#REF!","v":{"$error":"#REF!"}},1769]
[{"$f":"A41470","v":{"$error":"#REF!"}},{"$error":"#REF!"},{"$error":"#REF!"},{"$error":"#REF!"},{"$error":"#REF!"},"Mujer","20-24",{"$f":"'Pob x Genero'!#REF!","v":{"$error":"#REF!"}},1779]
[{"$f":"A41524","v":{"$error":"#REF!"}},{"$error":"#REF!"},{"$error":"#REF!"},{"$error":"#REF!"},{"$error":"#REF!"},"Mujer","20-24",{"$f":"'Pob x Genero'!#REF!","v":{"$error":"#REF!"}},1833]
[{"$f":"A41547","v":{"$error":"#REF!"}},{"$error":"#REF!"},{"$error":"#REF!"},{"$error":"#REF!"},{"$error":"#REF!"},"Mujer","20-24",{"$f":"'Pob x Genero'!#REF!","v":{"$error":"#REF!"}},1856]
[{"$f":"A41590","v":{"$error":"#REF!"}},{"$error":"#REF!"},{"$error":"#REF!"},{"$error":"#REF!"},{"$error":"#REF!"},"Mujer","25-29",{"$f":"'Pob x Genero'!#REF!","v":{"$error":"#REF!"}},9]
[{"$f":"A41629","v":{"$error":"#REF!"}},{"$error":"#REF!"},{"$error":"#REF!"},{"$error":"#REF!"},{"$error":"#REF!"},"Mujer","25-29",{"$f":"'Pob x Genero'!#REF!","v":{"$error":"#REF!"}},48]
[{"$f":"A41659","v":{"$error":"#REF!"}},{"$error":"#REF!"},{"$error":"#REF!"},{"$error":"#REF!"},{"$error":"#REF!"},"Mujer","25-29",{"$f":"'Pob x Genero'!#REF!","v":{"$error":"#REF!"}},78]
[{"$f":"A41677","v":{"$error":"#REF!"}},{"$error":"#REF!"},{"$error":"#REF!"},{"$error":"#REF!"},{"$error":"#REF!"},"Mujer","25-29",{"$f":"'Pob x Genero'!#REF!","v":{"$error":"#REF!"}},96]
[{"$f":"A41716","v":{"$error":"#REF!"}},{"$error":"#REF!"},{"$error":"#REF!"},{"$error":"#REF!"},{"$error":"#REF!"},"Mujer","25-29",{"$f":"'Pob x Genero'!#REF!","v":{"$error":"#REF!"}},135]
[{"$f":"A41759","v":{"$error":"#REF!"}},{"$error":"#REF!"},{"$error":"#REF!"},{"$error":"#REF!"},{"$error":"#REF!"},"Mujer","25-29",{"$f":"'Pob x Genero'!#REF!","v":{"$error":"#REF!"}},178]
[{"$f":"A41765","v":{"$error":"#REF!"}},{"$error":"#REF!"},{"$error":"#REF!"},{"$error":"#REF!"},{"$error":"#REF!"},"Mujer","25-29",{"$f":"'Pob x Genero'!#REF!","v":{"$error":"#REF!"}},184]
[{"$f":"A41812","v":{"$error":"#REF!"}},{"$error":"#REF!"},{"$error":"#REF!"},{"$error":"#REF!"},{"$error":"#REF!"},"Mujer","25-29",{"$f":"'Pob x Genero'!#REF!","v":{"$error":"#REF!"}},231]
[{"$f":"A41846","v":{"$error":"#REF!"}},{"$error":"#REF!"},{"$error":"#REF!"},{"$error":"#REF!"},{"$error":"#REF!"},"Mujer","25-29",{"$f":"'Pob x Genero'!#REF!","v":{"$error":"#REF!"}},265]
[{"$f":"A41885","v":{"$error":"#REF!"}},{"$error":"#REF!"},{"$error":"#REF!"},{"$error":"#REF!"},{"$error":"#REF!"},"Mujer","25-29",{"$f":"'Pob x Genero'!#REF!","v":{"$error":"#REF!"}},304]
[{"$f":"A41895","v":{"$error":"#REF!"}},{"$error":"#REF!"},{"$error":"#REF!"},{"$error":"#REF!"},{"$error":"#REF!"},"Mujer","25-29",{"$f":"'Pob x Genero'!#REF!","v":{"$error":"#REF!"}},314]
[{"$f":"A41947","v":"040202"},"AREQUIPA","AREQUIPA","CAMANA","JOSE MARIA QUIMPER","Mujer","25-29",{"$f":"'Pob x Genero'!DP39","v":256},366]
[{"$f":"A41972","v":"040406"},"AREQUIPA","AREQUIPA","CASTILLA","CHOCO","Mujer","25-29",{"$f":"'Pob x Genero'!DP64","v":35},391]
[{"$f":"A42015","v":"040801"},"AREQUIPA","AREQUIPA","LA UNION","COTAHUASI","Mujer","25-29",{"$f":"'Pob x Genero'!DP107","v":227},434]
[{"$f":"A42054","v":{"$error":"#REF!"}},{"$error":"#REF!"},{"$error":"#REF!"},{"$error":"#REF!"},{"$error":"#REF!"},"Mujer","25-29",{"$f":"'Pob x Genero'!#REF!","v":{"$error":"#REF!"}},473]
[{"$f":"A42060","v":{"$error":"#REF!"}},{"$error":"#REF!"},{"$error":"#REF!"},{"$error":"#REF!"},{"$error":"#REF!"},"Mujer","25-29",{"$f":"'Pob x Genero'!#REF!","v":{"$error":"#REF!"}},479]
[{"$f":"A42100","v":{"$error":"#REF!"}},{"$error":"#REF!"},{"$error":"#REF!"},{"$error":"#REF!"},{"$error":"#REF!"},"Mujer","25-29",{"$f":"'Pob x Genero'!#REF!","v":{"$error":"#REF!"}},519]
[{"$f":"A42141","v":{"$error":"#REF!"}},{"$error":"#REF!"},{"$error":"#REF!"},{"$error":"#REF!"},{"$error":"#REF!"},"Mujer","25-29",{"$f":"'Pob x Genero'!#REF!","v":{"$error":"#REF!"}},560]
[{"$f":"A42184","v":{"$error":"#REF!"}},{"$error":"#REF!"},{"$error":"#REF!"},{"$error":"#REF!"},{"$error":"#REF!"},"Mujer","25-29",{"$f":"'Pob x Genero'!#REF!","v":{"$error":"#REF!"}},603]
[{"$f":"A42190","v":{"$error":"#REF!"}},{"$error":"#REF!"},{"$error":"#REF!"},{"$error":"#REF!"},{"$error":"#REF!"},"Mujer","25-29",{"$f":"'Pob x Genero'!#REF!","v":{"$error":"#REF!"}},609]
[{"$f":"A42235","v":{"$error":"#REF!"}},{"$error":"#REF!"},{"$error":"#REF!"},{"$error":"#REF!"},{"$error":"#REF!"},"Mujer","25-29",{"$f":"'Pob x Genero'!#REF!","v":{"$error":"#REF!"}},654]
[{"$f":"A42271","v":{"$error":"#REF!"}},{"$error":"#REF!"},{"$error":"#REF!"},{"$error":"#REF!"},{"$error":"#REF!"},"Mujer","25-29",{"$f":"'Pob x Genero'!#REF!","v":{"$error":"#REF!"}},690]
[{"$f":"A42310","v":{"$error":"#REF!"}},{"$error":"#REF!"},{"$error":"#REF!"},{"$error":"#REF!"},{"$error":"#REF!"},"Mujer","25-29",{"$f":"'Pob x Genero'!#REF!","v":{"$error":"#REF!"}},729]
[{"$f":"A42349","v":{"$error":"#REF!"}},{"$error":"#REF!"},{"$error":"#REF!"},{"$error":"#REF!"},{"$error":"#REF!"},"Mujer","25-29",{"$f":"'Pob x Genero'!#REF!","v":{"$error":"#REF!"}},768]
[{"$f":"A42370","v":{"$error":"#REF!"}},{"$error":"#REF!"},{"$error":"#REF!"},{"$error":"#REF!"},{"$error":"#REF!"},"Mujer","25-29",{"$f":"'Pob x Genero'!#REF!","v":{"$error":"#REF!"}},789]
[{"$f":"A42397","v":{"$error":"#REF!"}},{"$error":"#REF!"},{"$error":"#REF!"},{"$error":"#REF!"},{"$error":"#REF!"},"Mujer","25-29",{"$f":"'Pob x Genero'!#REF!","v":{"$error":"#REF!"}},816]
[{"$f":"A42440","v":{"$error":"#REF!"}},{"$error":"#REF!"},{"$error":"#REF!"},{"$error":"#REF!"},{"$error":"#REF!"},"Mujer","25-29",{"$f":"'Pob x Genero'!#REF!","v":{"$error":"#REF!"}},859]
[{"$f":"A42479","v":{"$error":"#REF!"}},{"$error":"#REF!"},{"$error":"#REF!"},{"$error":"#REF!"},{"$error":"#REF!"},{"$f":"F44368","v":"Mujer"},{"$f":"G44368","v":"25-29"},{"$f":"'Pob x Genero'!#REF!","v":{"$error":"#REF!"}},898]
[{"$f":"A42485","v":{"$error":"#REF!"}},{"$error":"#REF!"},{"$error":"#REF!"},{"$error":"#REF!"},{"$error":"#REF!"},"Mujer","25-29",{"$f":"'Pob x Genero'!#REF!","v":{"$error":"#REF!"}},904]
[{"$f":"A42523","v":{"$error":"#REF!"}},{"$error":"#REF!"},{"$error":"#REF!"},{"$error":"#REF!"},{"$error":"#REF!"},"Mujer","25-29",{"$f":"'Pob x Genero'!#REF!","v":{"$error":"#REF!"}},942]
[{"$f":"A42566","v":{"$error":"#REF!"}},{"$error":"#REF!"},{"$error":"#REF!"},{"$error":"#REF!"},{"$error":"#REF!"},"Mujer","25-29",{"$f":"'Pob x Genero'!#REF!","v":{"$error":"#REF!"}},985]
[{"$f":"A42609","v":{"$error":"#REF!"}},{"$error":"#REF!"},{"$error":"#REF!"},{"$error":"#REF!"},{"$error":"#REF!"},"Mujer","25-29",{"$f":"'Pob x Genero'!#REF!","v":{"$error":"#REF!"}},1028]
[{"$f":"A42615","v":{"$error":"#REF!"}},{"$error":"#REF!"},{"$error":"#REF!"},{"$error":"#REF!"},{"$error":"#REF!"},"Mujer","25-29",{"$f":"'Pob x Genero'!#REF!","v":{"$error":"#REF!"}},1034]
[{"$f":"A42658","v":{"$error":"#REF!"}},{"$error":"#REF!"},{"$error":"#REF!"},{"$error":"#REF!"},{"$error":"#REF!"},"Mujer","25-29",{"$f":"'Pob x Genero'!#REF!","v":{"$error":"#REF!"}},1077]
[{"$f":"A42696","v":{"$error":"#REF!"}},{"$error":"#REF!"},{"$error":"#REF!"},{"$error":"#REF!"},{"$error":"#REF!"},"Mujer","25-29",{"$f":"'Pob x Genero'!#REF!","v":{"$error":"#REF!"}},1115]
[{"$f":"A42735","v":{"$error":"#REF!"}},{"$error":"#REF!"},{"$error":"#REF!"},{"$error":"#REF!"},{"$error":"#REF!"},{"$f":"F44624","v":"Mujer"},{"$f":"G44624","v":"25-29"},{"$f":"'Pob x Genero'!#REF!","v":{"$error":"#REF!"}},1154]
[{"$f":"A42774","v":{"$error":"#REF!"}},{"$error":"#REF!"},{"$error":"#REF!"},{"$error":"#REF!"},{"$error":"#REF!"},"Mujer","25-29",{"$f":"'Pob x Genero'!#REF!","v":{"$error":"#REF!"}},1193]
[{"$f":"A42793","v":{"$error":"#REF!"}},{"$error":"#REF!"},{"$error":"#REF!"},{"$error":"#REF!"},{"$error":"#REF!"},"Mujer","25-29",{"$f":"'Pob x Genero'!#REF!","v":{"$error":"#REF!"}},1212]
[{"$f":"A42822","v":{"$error":"#REF!"}},{"$error":"#REF!"},{"$error":"#REF!"},{"$error":"#REF!"},{"$error":"#REF!"},"Mujer","25-29",{"$f":"'Pob x Genero'!#REF!","v":{"$error":"#REF!"}},1241]
[{"$f":"A42865","v":{"$error":"#REF!"}},{"$error":"#REF!"},{"$error":"#REF!"},{"$error":"#REF!"},{"$error":"#REF!"},"Mujer","25-29",{"$f":"'Pob x Genero'!#REF!","v":{"$error":"#REF!"}},1284]
[{"$f":"A42904","v":{"$error":"#REF!"}},{"$error":"#REF!"},{"$error":"#REF!"},{"$error":"#REF!"},{"$error":"#REF!"},"Mujer","25-29",{"$f":"'Pob x Genero'!#REF!","v":{"$error":"#REF!"}},1323]
[{"$f":"A42910","v":{"$error":"#REF!"}},{"$error":"#REF!"},{"$error":"#REF!"},{"$error":"#REF!"},{"$error":"#REF!"},"Mujer","25-29",{"$f":"'Pob x Genero'!#REF!","v":{"$error":"#REF!"}},1329]
[{"$f":"A42946","v":{"$error":"#REF!"}},{"$error":"#REF!"},{"$error":"#REF!"},{"$error":"#REF!"},{"$error":"#REF!"},"Mujer","25-29",{"$f":"'Pob x Genero'!#REF!","v":{"$error":"#REF!"}},1365]
[{"$f":"A42991","v":{"$error":"#REF!"}},{"$error":"#REF!"},{"$error":"#REF!"},{"$error":"#REF!"},{"$error":"#REF!"},{"$f":"F44880","v":"Mujer"},{"$f":"G44880","v":"25-29"},{"$f":"'Pob x Genero'!#REF!","v":{"$error":"#REF!"}},1410]
[{"$f":"A43030","v":{"$error":"#REF!"}},{"$error":"#REF!"},{"$error":"#REF!"},{"$error":"#REF!"},{"$error":"#REF!"},"Mujer","25-29",{"$f":"'Pob x Genero'!#REF!","v":{"$error":"#REF!"}},1449]
[{"$f":"A43040","v":{"$error":"#REF!"}},{"$error":"#REF!"},{"$error":"#REF!"},{"$error":"#REF!"},{"$error":"#REF!"},"Mujer","25-29",{"$f":"'Pob x Genero'!#REF!","v":{"$error":"#REF!"}},1459]
[{"$f":"A43081","v":{"$error":"#REF!"}},{"$error":"#REF!"},{"$error":"#REF!"},{"$error":"#REF!"},{"$error":"#REF!"},"Mujer","25-29",{"$f":"'Pob x Genero'!#REF!","v":{"$error":"#REF!"}},1500]
[{"$f":"A43121","v":{"$error":"#REF!"}},{"$error":"#REF!"},{"$error":"#REF!"},{"$error":"#REF!"},{"$error":"#REF!"},"Mujer","25-29",{"$f":"'Pob x Genero'!#REF!","v":{"$error":"#REF!"}},1540]
[{"$f":"A43160","v":{"$error":"#REF!"}},{"$error":"#REF!"},{"$error":"#REF!"},{"$error":"#REF!"},{"$error":"#REF!"},"Mujer","25-29",{"$f":"'Pob x Genero'!#REF!","v":{"$error":"#REF!"}},1579]
[{"$f":"A43199","v":{"$error":"#REF!"}},{"$error":"#REF!"},{"$error":"#REF!"},{"$error":"#REF!"},{"$error":"#REF!"},"Mujer","25-29",{"$f":"'Pob x Genero'!#REF!","v":{"$error":"#REF!"}},1618]
[{"$f":"A43216","v":{"$error":"#REF!"}},{"$error":"#REF!"},{"$error":"#REF!"},{"$error":"#REF!"},{"$error":"#REF!"},"Mujer","25-29",{"$f":"'Pob x Genero'!#REF!","v":{"$error":"#REF!"}},1635]
[{"$f":"A43247","v":{"$error":"#REF!"}},{"$error":"#REF!"},{"$error":"#REF!"},{"$error":"#REF!"},{"$error":"#REF!"},"Mujer","25-29",{"$f":"'Pob x Genero'!#REF!","v":{"$error":"#REF!"}},1666]
[{"$f":"A43290","v":{"$error":"#REF!"}},{"$error":"#REF!"},{"$error":"#REF!"},{"$error":"#REF!"},{"$error":"#REF!"},"Mujer","25-29",{"$f":"'Pob x Genero'!#REF!","v":{"$error":"#REF!"}},1709]
[{"$f":"A43329","v":{"$error":"#REF!"}},{"$error":"#REF!"},{"$error":"#REF!"},{"$error":"#REF!"},{"$error":"#REF!"},{"$f":"F45218","v":"Mujer"},{"$f":"G45218","v":"25-29"},{"$f":"'Pob x Genero'!#REF!","v":{"$error":"#REF!"}},1748]
[{"$f":"A43335","v":{"$error":"#REF!"}},{"$error":"#REF!"},{"$error":"#REF!"},{"$error":"#REF!"},{"$error":"#REF!"},"Mujer","25-29",{"$f":"'Pob x Genero'!#REF!","v":{"$error":"#REF!"}},1754]
[{"$f":"A43369","v":{"$error":"#REF!"}},{"$error":"#REF!"},{"$error":"#REF!"},{"$error":"#REF!"},{"$error":"#REF!"},"Mujer","25-29",{"$f":"'Pob x Genero'!#REF!","v":{"$error":"#REF!"}},1788]
[{"$f":"A43416","v":{"$error":"#REF!"}},{"$error":"#REF!"},{"$error":"#REF!"},{"$error":"#REF!"},{"$error":"#REF!"},"Mujer","25-29",{"$f":"'Pob x Genero'!#REF!","v":{"$error":"#REF!"}},1835]
[{"$f":"A43455","v":{"$error":"#REF!"}},{"$error":"#REF!"},{"$error":"#REF!"},{"$error":"#REF!"},{"$error":"#REF!"},"Mujer","25-29",{"$f":"'Pob x Genero'!#REF!","v":{"$error":"#REF!"}},1874]
[{"$f":"A43498","v":{"$error":"#REF!"}},{"$error":"#REF!"},{"$error":"#REF!"},{"$error":"#REF!"},{"$error":"#REF!"},"Mujer","30-34",{"$f":"'Pob x Genero'!#REF!","v":{"$error":"#REF!"}},27]
[{"$f":"A43504","v":{"$error":"#REF!"}},{"$error":"#REF!"},{"$error":"#REF!"},{"$error":"#REF!"},{"$error":"#REF!"},"Mujer","30-34",{"$f":"'Pob x Genero'!#REF!","v":{"$error":"#REF!"}},33]
[{"$f":"A43546","v":{"$error":"#REF!"}},{"$error":"#REF!"},{"$error":"#REF!"},{"$error":"#REF!"},{"$error":"#REF!"},"Mujer","30-34",{"$f":"'Pob x Genero'!#REF!","v":{"$error":"#REF!"}},75]
[{"$f":"A43585","v":{"$error":"#REF!"}},{"$error":"#REF!"},{"$error":"#REF!"},{"$error":"#REF!"},{"$error":"#REF!"},{"$f":"F45474","v":"Mujer"},"30-34",{"$f":"'Pob x Genero'!#REF!","v":{"$error":"#REF!"}},114]
[{"$f":"A43624","v":{"$error":"#REF!"}},{"$error":"#REF!"},{"$error":"#REF!"},{"$error":"#REF!"},{"$error":"#REF!"},"Mujer","30-34",{"$f":"'Pob x Genero'!#REF!","v":{"$error":"#REF!"}},153]
[{"$f":"A43639","v":{"$error":"#REF!"}},{"$error":"#REF!"},{"$error":"#REF!"},{"$error":"#REF!"},{"$error":"#REF!"},"Mujer","30-34",{"$f":"'Pob x Genero'!#REF!","v":{"$error":"#REF!"}},168]
[{"$f":"A43672","v":{"$error":"#REF!"}},{"$error":"#REF!"},{"$error":"#REF!"},{"$error":"#REF!"},{"$error":"#REF!"},"Mujer","30-34",{"$f":"'Pob x Genero'!#REF!","v":{"$error":"#REF!"}},201]
[{"$f":"A43715","v":{"$error":"#REF!"}},{"$error":"#REF!"},{"$error":"#REF!"},{"$error":"#REF!"},{"$error":"#REF!"},"Mujer","30-34",{"$f":"'Pob x Genero'!#REF!","v":{"$error":"#REF!"}},244]
[{"$f":"A43754","v":{"$error":"#REF!"}},{"$error":"#REF!"},{"$error":"#REF!"},{"$error":"#REF!"},{"$error":"#REF!"},"Mujer","30-34",{"$f":"'Pob x Genero'!#REF!","v":{"$error":"#REF!"}},283]
[{"$f":"A43793","v":{"$error":"#REF!"}},{"$error":"#REF!"},{"$error":"#REF!"},{"$error":"#REF!"},{"$error":"#REF!"},"Mujer",{"$f":"G45682","v":"30-34"},{"$f":"'Pob x Genero'!#REF!","v":{"$error":"#REF!"}},322]
[{"$f":"A43824","v":"040118"},"AREQUIPA","AREQUIPA","AREQUIPA","SAN JUAN DE SIGUAS","Mujer","30-34",{"$f":"'Pob x Genero'!DQ26","v":12},353]
[{"$f":"A43841","v":"040206"},"AREQUIPA","AREQUIPA","CAMANA","OCOÑA",{"$f":"F45730","v":"Mujer"},"30-34",{"$f":"'Pob x Genero'!DQ43","v":171},370]
[{"$f":"A43880","v":"040510"},"AREQUIPA","AREQUIPA","CAYLLOMA","LARI","Mujer","30-34",{"$f":"'Pob x Genero'!DQ82","v":30},409]
[{"$f":"A43923","v":{"$error":"#REF!"}},{"$error":"#REF!"},{"$error":"#REF!"},{"$error":"#REF!"},{"$error":"#REF!"},"Mujer","30-34",{"$f":"'Pob x Genero'!#REF!","v":{"$error":"#REF!"}},452]
[{"$f":"A43927","v":{"$error":"#REF!"}},{"$error":"#REF!"},{"$error":"#REF!"},{"$error":"#REF!"},{"$error":"#REF!"},"Mujer","30-34",{"$f":"'Pob x Genero'!#REF!","v":{"$error":"#REF!"}},456]
[{"$f":"A43971","v":{"$error":"#REF!"}},{"$error":"#REF!"},{"$error":"#REF!"},{"$error":"#REF!"},{"$error":"#REF!"},"Mujer","30-34",{"$f":"'Pob x Genero'!#REF!","v":{"$error":"#REF!"}},500]
[{"$f":"A44010","v":{"$error":"#REF!"}},{"$error":"#REF!"},{"$error":"#REF!"},{"$error":"#REF!"},{"$error":"#REF!"},"Mujer","30-34",{"$f":"'Pob x Genero'!#REF!","v":{"$error":"#REF!"}},539]
[{"$f":"A44049","v":{"$error":"#REF!"}},{"$error":"#REF!"},{"$error":"#REF!"},{"$error":"#REF!"},{"$error":"#REF!"},"Mujer",{"$f":"G45938","v":"30-34"},{"$f":"'Pob x Genero'!#REF!","v":{"$error":"#REF!"}},578]
[{"$f":"A44059","v":{"$error":"#REF!"}},{"$error":"#REF!"},{"$error":"#REF!"},{"$error":"#REF!"},{"$error":"#REF!"},"Mujer","30-34",{"$f":"'Pob x Genero'!#REF!","v":{"$error":"#REF!"}},588]
[{"$f":"A44112","v":{"$error":"#REF!"}},{"$error":"#REF!"},{"$error":"#REF!"},{"$error":"#REF!"},{"$error":"#REF!"},"Mujer","30-34",{"$f":"'Pob x Genero'!#REF!","v":{"$error":"#REF!"}},641]
[{"$f":"A44136","v":{"$error":"#REF!"}},{"$error":"#REF!"},{"$error":"#REF!"},{"$error":"#REF!"},{"$error":"#REF!"},"Mujer","30-34",{"$f":"'Pob x Genero'!#REF!","v":{"$error":"#REF!"}},665]
[{"$f":"A44179","v":{"$error":"#REF!"}},{"$error":"#REF!"},{"$error":"#REF!"},{"$error":"#REF!"},{"$error":"#REF!"},"Mujer","30-34",{"$f":"'Pob x Genero'!#REF!","v":{"$error":"#REF!"}},708]
[{"$f":"A44218","v":{"$error":"#REF!"}},{"$error":"#REF!"},{"$error":"#REF!"},{"$error":"#REF!"},{"$error":"#REF!"},"Mujer","30-34",{"$f":"'Pob x Genero'!#REF!","v":{"$error":"#REF!"}},747]
[{"$f":"A44247","v":{"$error":"#REF!"}},{"$error":"#REF!"},{"$error":"#REF!"},{"$error":"#REF!"},{"$error":"#REF!"},"Mujer","30-34",{"$f":"'Pob x Genero'!#REF!","v":{"$error":"#REF!"}},776]
[{"$f":"A44266","v":{"$error":"#REF!"}},{"$error":"#REF!"},{"$error":"#REF!"},{"$error":"#REF!"},{"$error":"#REF!"},"Mujer","30-34",{"$f":"'Pob x Genero'!#REF!","v":{"$error":"#REF!"}},795]
[{"$f":"A44305","v":{"$error":"#REF!"}},{"$error":"#REF!"},{"$error":"#REF!"},{"$error":"#REF!"},{"$error":"#REF!"},"Mujer",{"$f":"G46194","v":"30-34"},{"$f":"'Pob x Genero'!#REF!","v":{"$error":"#REF!"}},834]
[{"$f":"A44348","v":{"$error":"#REF!"}},{"$error":"#REF!"},{"$error":"#REF!"},{"$error":"#REF!"},{"$error":"#REF!"},"Mujer","30-34",{"$f":"'Pob x Genero'!#REF!","v":{"$error":"#REF!"}},877]
[{"$f":"A44382","v":{"$error":"#REF!"}},{"$error":"#REF!"},{"$error":"#REF!"},{"$error":"#REF!"},{"$error":"#REF!"},"Mujer","30-34",{"$f":"'Pob x Genero'!#REF!","v":{"$error":"#REF!"}},911]
[{"$f":"A44396","v":{"$error":"#REF!"}},{"$error":"#REF!"},{"$error":"#REF!"},{"$error":"#REF!"},{"$error":"#REF!"},"Mujer","30-34",{"$f":"'Pob x Genero'!#REF!","v":{"$error":"#REF!"}},925]
[{"$f":"A44435","v":{"$error":"#REF!"}},{"$error":"#REF!"},{"$error":"#REF!"},{"$error":"#REF!"},{"$error":"#REF!"},"Mujer","30-34",{"$f":"'Pob x Genero'!#REF!","v":{"$error":"#REF!"}},964]
[{"$f":"A44474","v":{"$error":"#REF!"}},{"$error":"#REF!"},{"$error":"#REF!"},{"$error":"#REF!"},{"$error":"#REF!"},"Mujer","30-34",{"$f":"'Pob x Genero'!#REF!","v":{"$error":"#REF!"}},1003]
[{"$f":"A44484","v":{"$error":"#REF!"}},{"$error":"#REF!"},{"$error":"#REF!"},{"$error":"#REF!"},{"$error":"#REF!"},"Mujer","30-34",{"$f":"'Pob x Genero'!#REF!","v":{"$error":"#REF!"}},1013]
[{"$f":"A44535","v":{"$error":"#REF!"}},{"$error":"#REF!"},{"$error":"#REF!"},{"$error":"#REF!"},{"$error":"#REF!"},"Mujer","30-34",{"$f":"'Pob x Genero'!#REF!","v":{"$error":"#REF!"}},1064]
[{"$f":"A44561","v":{"$error":"#REF!"}},{"$error":"#REF!"},{"$error":"#REF!"},{"$error":"#REF!"},{"$error":"#REF!"},"Mujer",{"$f":"G46450","v":"30-34"},{"$f":"'Pob x Genero'!#REF!","v":{"$error":"#REF!"}},1090]
[{"$f":"A44604","v":{"$error":"#REF!"}},{"$error":"#REF!"},{"$error":"#REF!"},{"$error":"#REF!"},{"$error":"#REF!"},"Mujer","30-34",{"$f":"'Pob x Genero'!#REF!","v":{"$error":"#REF!"}},1133]
[{"$f":"A44643","v":{"$error":"#REF!"}},{"$error":"#REF!"},{"$error":"#REF!"},{"$error":"#REF!"},{"$error":"#REF!"},"Mujer","30-34",{"$f":"'Pob x Genero'!#REF!","v":{"$error":"#REF!"}},1172]
[{"$f":"A44670","v":{"$error":"#REF!"}},{"$error":"#REF!"},{"$error":"#REF!"},{"$error":"#REF!"},{"$error":"#REF!"},"Mujer","30-34",{"$f":"'Pob x Genero'!#REF!","v":{"$error":"#REF!"}},1199]
[{"$f":"A44691","v":{"$error":"#REF!"}},{"$error":"#REF!"},{"$error":"#REF!"},{"$error":"#REF!"},{"$error":"#REF!"},"Mujer","30-34",{"$f":"'Pob x Genero'!#REF!","v":{"$error":"#REF!"}},1220]
[{"$f":"A44730","v":{"$error":"#REF!"}},{"$error":"#REF!"},{"$error":"#REF!"},{"$error":"#REF!"},{"$error":"#REF!"},"Mujer","30-34",{"$f":"'Pob x Genero'!#REF!","v":{"$error":"#REF!"}},1259]
[{"$f":"A44773","v":{"$error":"#REF!"}},{"$error":"#REF!"},{"$error":"#REF!"},{"$error":"#REF!"},{"$error":"#REF!"},"Mujer","30-34",{"$f":"'Pob x Genero'!#REF!","v":{"$error":"#REF!"}},1302]
[{"$f":"A44805","v":{"$error":"#REF!"}},{"$error":"#REF!"},{"$error":"#REF!"},{"$error":"#REF!"},{"$error":"#REF!"},"Mujer","30-34",{"$f":"'Pob x Genero'!#REF!","v":{"$error":"#REF!"}},1334]
[{"$f":"A44821","v":{"$error":"#REF!"}},{"$error":"#REF!"},{"$error":"#REF!"},{"$error":"#REF!"},{"$error":"#REF!"},"Mujer","30-34",{"$f":"'Pob x Genero'!#REF!","v":{"$error":"#REF!"}},1350]
[{"$f":"A44860","v":{"$error":"#REF!"}},{"$error":"#REF!"},{"$error":"#REF!"},{"$error":"#REF!"},{"$error":"#REF!"},"Mujer","30-34",{"$f":"'Pob x Genero'!#REF!","v":{"$error":"#REF!"}},1389]
[{"$f":"A44899","v":{"$error":"#REF!"}},{"$error":"#REF!"},{"$error":"#REF!"},{"$error":"#REF!"},{"$error":"#REF!"},"Mujer","30-34",{"$f":"'Pob x Genero'!#REF!","v":{"$error":"#REF!"}},1428]
[{"$f":"A44909","v":{"$error":"#REF!"}},{"$error":"#REF!"},{"$error":"#REF!"},{"$error":"#REF!"},{"$error":"#REF!"},"Mujer","30-34",{"$f":"'Pob x Genero'!#REF!","v":{"$error":"#REF!"}},1438]
[{"$f":"A44958","v":{"$error":"#REF!"}},{"$error":"#REF!"},{"$error":"#REF!"},{"$error":"#REF!"},{"$error":"#REF!"},"Mujer","30-34",{"$f":"'Pob x Genero'!#REF!","v":{"$error":"#REF!"}},1487]
[{"$f":"A44986","v":{"$error":"#REF!"}},{"$error":"#REF!"},{"$error":"#REF!"},{"$error":"#REF!"},{"$error":"#REF!"},"Mujer","30-34",{"$f":"'Pob x Genero'!#REF!","v":{"$error":"#REF!"}},1515]
[{"$f":"A45029","v":{"$error":"#REF!"}},{"$error":"#REF!"},{"$error":"#REF!"},{"$error":"#REF!"},{"$error":"#REF!"},"Mujer","30-34",{"$f":"'Pob x Genero'!#REF!","v":{"$error":"#REF!"}},1558]
[{"$f":"A45068","v":{"$error":"#REF!"}},{"$error":"#REF!"},{"$error":"#REF!"},{"$error":"#REF!"},{"$error":"#REF!"},"Mujer","30-34",{"$f":"'Pob x Genero'!#REF!","v":{"$error":"#REF!"}},1597]
[{"$f":"A45093","v":{"$error":"#REF!"}},{"$error":"#REF!"},{"$error":"#REF!"},{"$error":"#REF!"},{"$error":"#REF!"},"Mujer","30-34",{"$f":"'Pob x Genero'!#REF!","v":{"$error":"#REF!"}},1622]
[{"$f":"A45116","v":{"$error":"#REF!"}},{"$error":"#REF!"},{"$error":"#REF!"},{"$error":"#REF!"},{"$error":"#REF!"},"Mujer","30-34",{"$f":"'Pob x Genero'!#REF!","v":{"$error":"#REF!"}},1645]
[{"$f":"A45155","v":{"$error":"#REF!"}},{"$error":"#REF!"},{"$error":"#REF!"},{"$error":"#REF!"},{"$error":"#REF!"},"Mujer","30-34",{"$f":"'Pob x Genero'!#REF!","v":{"$error":"#REF!"}},1684]
[{"$f":"A45198","v":{"$error":"#REF!"}},{"$error":"#REF!"},{"$error":"#REF!"},{"$error":"#REF!"},{"$error":"#REF!"},"Mujer","30-34",{"$f":"'Pob x Genero'!#REF!","v":{"$error":"#REF!"}},1727]
[{"$f":"A45228","v":{"$error":"#REF!"}},{"$error":"#REF!"},{"$error":"#REF!"},{"$error":"#REF!"},{"$error":"#REF!"},"Mujer","30-34",{"$f":"'Pob x Genero'!#REF!","v":{"$error":"#REF!"}},1757]
[{"$f":"A45242","v":{"$error":"#REF!"}},{"$error":"#REF!"},{"$error":"#REF!"},{"$error":"#REF!"},{"$error":"#REF!"},"Mujer","30-34",{"$f":"'Pob x Genero'!#REF!","v":{"$error":"#REF!"}},1771]
[{"$f":"A45285","v":{"$error":"#REF!"}},{"$error":"#REF!"},{"$error":"#REF!"},{"$error":"#REF!"},{"$error":"#REF!"},"Mujer","30-34",{"$f":"'Pob x Genero'!#REF!","v":{"$error":"#REF!"}},1814]
[{"$f":"A45324","v":{"$error":"#REF!"}},{"$error":"#REF!"},{"$error":"#REF!"},{"$error":"#REF!"},{"$error":"#REF!"},"Mujer","30-34",{"$f":"'Pob x Genero'!#REF!","v":{"$error":"#REF!"}},1853]
[{"$f":"A45334","v":{"$error":"#REF!"}},{"$error":"#REF!"},{"$error":"#REF!"},{"$error":"#REF!"},{"$error":"#REF!"},"Mujer","30-34",{"$f":"'Pob x Genero'!#REF!","v":{"$error":"#REF!"}},1863]
[{"$f":"A45381","v":{"$error":"#REF!"}},{"$error":"#REF!"},{"$error":"#REF!"},{"$error":"#REF!"},{"$error":"#REF!"},"Mujer","35-39",{"$f":"'Pob x Genero'!#REF!","v":{"$error":"#REF!"}},20]
[{"$f":"A45411","v":{"$error":"#REF!"}},{"$error":"#REF!"},{"$error":"#REF!"},{"$error":"#REF!"},{"$error":"#REF!"},"Mujer","35-39",{"$f":"'Pob x Genero'!#REF!","v":{"$error":"#REF!"}},50]
[{"$f":"A45454","v":{"$error":"#REF!"}},{"$error":"#REF!"},{"$error":"#REF!"},{"$error":"#REF!"},{"$error":"#REF!"},"Mujer","35-39",{"$f":"'Pob x Genero'!#REF!","v":{"$error":"#REF!"}},93]
[{"$f":"A45493","v":{"$error":"#REF!"}},{"$error":"#REF!"},{"$error":"#REF!"},{"$error":"#REF!"},{"$error":"#REF!"},"Mujer","35-39",{"$f":"'Pob x Genero'!#REF!","v":{"$error":"#REF!"}},132]
[{"$f":"A45516","v":{"$error":"#REF!"}},{"$error":"#REF!"},{"$error":"#REF!"},{"$error":"#REF!"},{"$error":"#REF!"},"Mujer","35-39",{"$f":"'Pob x Genero'!#REF!","v":{"$error":"#REF!"}},155]
[{"$f":"A45541","v":{"$error":"#REF!"}},{"$error":"#REF!"},{"$error":"#REF!"},{"$error":"#REF!"},{"$error":"#REF!"},"Mujer","35-39",{"$f":"'Pob x Genero'!#REF!","v":{"$error":"#REF!"}},180]
[{"$f":"A45580","v":{"$error":"#REF!"}},{"$error":"#REF!"},{"$error":"#REF!"},{"$error":"#REF!"},{"$error":"#REF!"},"Mujer","35-39",{"$f":"'Pob x Genero'!#REF!","v":{"$error":"#REF!"}},219]
[{"$f":"A45623","v":{"$error":"#REF!"}},{"$error":"#REF!"},{"$error":"#REF!"},{"$error":"#REF!"},{"$error":"#REF!"},"Mujer","35-39",{"$f":"'Pob x Genero'!#REF!","v":{"$error":"#REF!"}},262]
[{"$f":"A45651","v":{"$error":"#REF!"}},{"$error":"#REF!"},{"$error":"#REF!"},{"$error":"#REF!"},{"$error":"#REF!"},"Mujer","35-39",{"$f":"'Pob x Genero'!#REF!","v":{"$error":"#REF!"}},290]
[{"$f":"A45667","v":{"$error":"#REF!"}},{"$error":"#REF!"},{"$error":"#REF!"},{"$error":"#REF!"},{"$error":"#REF!"},"Mujer","35-39",{"$f":"'Pob x Genero'!#REF!","v":{"$error":"#REF!"}},306]
[{"$f":"A45710","v":"040114"},"AREQUIPA","AREQUIPA","AREQUIPA","POLOBAYA","Mujer","35-39",{"$f":"'Pob x Genero'!DR22","v":15},349]
[{"$f":"A45749","v":"040403"},"AREQUIPA","AREQUIPA","CASTILLA","AYO","Mujer","35-39",{"$f":"'Pob x Genero'!DR61","v":0},388]
[{"$f":"A45792","v":"040704"},"AREQUIPA","AREQUIPA","ISLAY","ISLAY","Mujer","35-39",{"$f":"'Pob x Genero'!DR104","v":233},431]
[{"$f":"A45804","v":"040810"},"AREQUIPA","AREQUIPA","LA UNION","TOMEPAMPA","Mujer","35-39",{"$f":"'Pob x Genero'!DR116","v":27},443]
[{"$f":"A45836","v":{"$error":"#REF!"}},{"$error":"#REF!"},{"$error":"#REF!"},{"$error":"#REF!"},{"$error":"#REF!"},"Mujer","35-39",{"$f":"'Pob x Genero'!#REF!","v":{"$error":"#REF!"}},475]
[{"$f":"A45879","v":{"$error":"#REF!"}},{"$error":"#REF!"},{"$error":"#REF!"},{"$error":"#REF!"},{"$error":"#REF!"},"Mujer","35-39",{"$f":"'Pob x Genero'!#REF!","v":{"$error":"#REF!"}},518]
[{"$f":"A45918","v":{"$error":"#REF!"}},{"$error":"#REF!"},{"$error":"#REF!"},{"$error":"#REF!"},{"$error":"#REF!"},"Mujer","35-39",{"$f":"'Pob x Genero'!#REF!","v":{"$error":"#REF!"}},557]
[{"$f":"A45939","v":{"$error":"#REF!"}},{"$error":"#REF!"},{"$error":"#REF!"},{"$error":"#REF!"},{"$error":"#REF!"},{"$f":"F47828","v":"Mujer"},{"$f":"G47828","v":"35-39"},{"$f":"'Pob x Genero'!#REF!","v":{"$error":"#REF!"}},578]
[{"$f":"A45966","v":{"$error":"#REF!"}},{"$error":"#REF!"},{"$error":"#REF!"},{"$error":"#REF!"},{"$error":"#REF!"},"Mujer","35-39",{"$f":"'Pob x Genero'!#REF!","v":{"$error":"#REF!"}},605]
[{"$f":"A46005","v":{"$error":"#REF!"}},{"$error":"#REF!"},{"$error":"#REF!"},{"$error":"#REF!"},{"$error":"#REF!"},"Mujer","35-39",{"$f":"'Pob x Genero'!#REF!","v":{"$error":"#REF!"}},644]
[{"$f":"A46048","v":{"$error":"#REF!"}},{"$error":"#REF!"},{"$error":"#REF!"},{"$error":"#REF!"},{"$error":"#REF!"},"Mujer","35-39",{"$f":"'Pob x Genero'!#REF!","v":{"$error":"#REF!"}},687]
[{"$f":"A46087","v":{"$error":"#REF!"}},{"$error":"#REF!"},{"$error":"#REF!"},{"$error":"#REF!"},{"$error":"#REF!"},"Mujer","35-39",{"$f":"'Pob x Genero'!#REF!","v":{"$error":"#REF!"}},726]
[{"$f":"A46092","v":{"$error":"#REF!"}},{"$error":"#REF!"},{"$error":"#REF!"},{"$error":"#REF!"},{"$error":"#REF!"},"Mujer","35-39",{"$f":"'Pob x Genero'!#REF!","v":{"$error":"#REF!"}},731]
[{"$f":"A46135","v":{"$error":"#REF!"}},{"$error":"#REF!"},{"$error":"#REF!"},{"$error":"#REF!"},{"$error":"#REF!"},"Mujer","35-39",{"$f":"'Pob x Genero'!#REF!","v":{"$error":"#REF!"}},774]
[{"$f":"A46174","v":{"$error":"#REF!"}},{"$error":"#REF!"},{"$error":"#REF!"},{"$error":"#REF!"},{"$error":"#REF!"},"Mujer","35-39",{"$f":"'Pob x Genero'!#REF!","v":{"$error":"#REF!"}},813]
[{"$f":"A46217","v":{"$error":"#REF!"}},{"$error":"#REF!"},{"$error":"#REF!"},{"$error":"#REF!"},{"$error":"#REF!"},"Mujer","35-39",{"$f":"'Pob x Genero'!#REF!","v":{"$error":"#REF!"}},856]
[{"$f":"A46227","v":{"$error":"#REF!"}},{"$error":"#REF!"},{"$error":"#REF!"},{"$error":"#REF!"},{"$error":"#REF!"},"Mujer","35-39",{"$f":"'Pob x Genero'!#REF!","v":{"$error":"#REF!"}},866]
[{"$f":"A46261","v":{"$error":"#REF!"}},{"$error":"#REF!"},{"$error":"#REF!"},{"$error":"#REF!"},{"$error":"#REF!"},"Mujer","35-39",{"$f":"'Pob x Genero'!#REF!","v":{"$error":"#REF!"}},900]
[{"$f":"A46304","v":{"$error":"#REF!"}},{"$error":"#REF!"},{"$error":"#REF!"},{"$error":"#REF!"},{"$error":"#REF!"},"Mujer","35-39",{"$f":"'Pob x Genero'!#REF!","v":{"$error":"#REF!"}},943]
[{"$f":"A46343","v":{"$error":"#REF!"}},{"$error":"#REF!"},{"$error":"#REF!"},{"$error":"#REF!"},{"$error":"#REF!"},"Mujer","35-39",{"$f":"'Pob x Genero'!#REF!","v":{"$error":"#REF!"}},982]
[{"$f":"A46362","v":{"$error":"#REF!"}},{"$error":"#REF!"},{"$error":"#REF!"},{"$error":"#REF!"},{"$error":"#REF!"},"Mujer","35-39",{"$f":"'Pob x Genero'!#REF!","v":{"$error":"#REF!"}},1001]
[{"$f":"A46391","v":{"$error":"#REF!"}},{"$error":"#REF!"},{"$error":"#REF!"},{"$error":"#REF!"},{"$error":"#REF!"},"Mujer","35-39",{"$f":"'Pob x Genero'!#REF!","v":{"$error":"#REF!"}},1030]
[{"$f":"A46430","v":{"$error":"#REF!"}},{"$error":"#REF!"},{"$error":"#REF!"},{"$error":"#REF!"},{"$error":"#REF!"},"Mujer","35-39",{"$f":"'Pob x Genero'!#REF!","v":{"$error":"#REF!"}},1069]
[{"$f":"A46473","v":{"$error":"#REF!"}},{"$error":"#REF!"},{"$error":"#REF!"},{"$error":"#REF!"},{"$error":"#REF!"},"Mujer","35-39",{"$f":"'Pob x Genero'!#REF!","v":{"$error":"#REF!"}},1112]
[{"$f":"A46512","v":{"$error":"#REF!"}},{"$error":"#REF!"},{"$error":"#REF!"},{"$error":"#REF!"},{"$error":"#REF!"},"Mujer","35-39",{"$f":"'Pob x Genero'!#REF!","v":{"$error":"#REF!"}},1151]
[{"$f":"A46515","v":{"$error":"#REF!"}},{"$error":"#REF!"},{"$error":"#REF!"},{"$error":"#REF!"},{"$error":"#REF!"},{"$f":"F48404","v":"Mujer"},{"$f":"G48404","v":"35-39"},{"$f":"'Pob x Genero'!#REF!","v":{"$error":"#REF!"}},1154]
[{"$f":"A46560","v":{"$error":"#REF!"}},{"$error":"#REF!"},{"$error":"#REF!"},{"$error":"#REF!"},{"$error":"#REF!"},"Mujer","35-39",{"$f":"'Pob x Genero'!#REF!","v":{"$error":"#REF!"}},1199]
[{"$f":"A46599","v":{"$error":"#REF!"}},{"$error":"#REF!"},{"$error":"#REF!"},{"$error":"#REF!"},{"$error":"#REF!"},"Mujer","35-39",{"$f":"'Pob x Genero'!#REF!","v":{"$error":"#REF!"}},1238]
[{"$f":"A46642","v":{"$error":"#REF!"}},{"$error":"#REF!"},{"$error":"#REF!"},{"$error":"#REF!"},{"$error":"#REF!"},"Mujer","35-39",{"$f":"'Pob x Genero'!#REF!","v":{"$error":"#REF!"}},1281]
[{"$f":"A46650","v":{"$error":"#REF!"}},{"$error":"#REF!"},{"$error":"#REF!"},{"$error":"#REF!"},{"$error":"#REF!"},"Mujer","35-39",{"$f":"'Pob x Genero'!#REF!","v":{"$error":"#REF!"}},1289]
[{"$f":"A46686","v":{"$error":"#REF!"}},{"$error":"#REF!"},{"$error":"#REF!"},{"$error":"#REF!"},{"$error":"#REF!"},"Mujer","35-39",{"$f":"'Pob x Genero'!#REF!","v":{"$error":"#REF!"}},1325]
[{"$f":"A46729","v":{"$error":"#REF!"}},{"$error":"#REF!"},{"$error":"#REF!"},{"$error":"#REF!"},{"$error":"#REF!"},"Mujer","35-39",{"$f":"'Pob x Genero'!#REF!","v":{"$error":"#REF!"}},1368]
[{"$f":"A46768","v":{"$error":"#REF!"}},{"$error":"#REF!"},{"$error":"#REF!"},{"$error":"#REF!"},{"$error":"#REF!"},"Mujer","35-39",{"$f":"'Pob x Genero'!#REF!","v":{"$error":"#REF!"}},1407]
[{"$f":"A46785","v":{"$error":"#REF!"}},{"$error":"#REF!"},{"$error":"#REF!"},{"$error":"#REF!"},{"$error":"#REF!"},"Mujer","35-39",{"$f":"'Pob x Genero'!#REF!","v":{"$error":"#REF!"}},1424]
[{"$f":"A46816","v":{"$error":"#REF!"}},{"$error":"#REF!"},{"$error":"#REF!"},{"$error":"#REF!"},{"$error":"#REF!"},"Mujer","35-39",{"$f":"'Pob x Genero'!#REF!","v":{"$error":"#REF!"}},1455]
[{"$f":"A46855","v":{"$error":"#REF!"}},{"$error":"#REF!"},{"$error":"#REF!"},{"$error":"#REF!"},{"$error":"#REF!"},"Mujer","35-39",{"$f":"'Pob x Genero'!#REF!","v":{"$error":"#REF!"}},1494]
[{"$f":"A46898","v":{"$error":"#REF!"}},{"$error":"#REF!"},{"$error":"#REF!"},{"$error":"#REF!"},{"$error":"#REF!"},"Mujer","35-39",{"$f":"'Pob x Genero'!#REF!","v":{"$error":"#REF!"}},1537]
[{"$f":"A46937","v":{"$error":"#REF!"}},{"$error":"#REF!"},{"$error":"#REF!"},{"$error":"#REF!"},{"$error":"#REF!"},"Mujer","35-39",{"$f":"'Pob x Genero'!#REF!","v":{"$error":"#REF!"}},1576]
[{"$f":"A46970","v":{"$error":"#REF!"}},{"$error":"#REF!"},{"$error":"#REF!"},{"$error":"#REF!"},{"$error":"#REF!"},"Mujer","35-39",{"$f":"'Pob x Genero'!#REF!","v":{"$error":"#REF!"}},1609]
[{"$f":"A46985","v":{"$error":"#REF!"}},{"$error":"#REF!"},{"$error":"#REF!"},{"$error":"#REF!"},{"$error":"#REF!"},"Mujer","35-39",{"$f":"'Pob x Genero'!#REF!","v":{"$error":"#REF!"}},1624]
[{"$f":"A47024","v":{"$error":"#REF!"}},{"$error":"#REF!"},{"$error":"#REF!"},{"$error":"#REF!"},{"$error":"#REF!"},"Mujer","35-39",{"$f":"'Pob x Genero'!#REF!","v":{"$error":"#REF!"}},1663]
[{"$f":"A47063","v":{"$error":"#REF!"}},{"$error":"#REF!"},{"$error":"#REF!"},{"$error":"#REF!"},{"$error":"#REF!"},"Mujer","35-39",{"$f":"'Pob x Genero'!#REF!","v":{"$error":"#REF!"}},1702]
[{"$f":"A47073","v":{"$error":"#REF!"}},{"$error":"#REF!"},{"$error":"#REF!"},{"$error":"#REF!"},{"$error":"#REF!"},"Mujer","35-39",{"$f":"'Pob x Genero'!#REF!","v":{"$error":"#REF!"}},1712]
[{"$f":"A47111","v":{"$error":"#REF!"}},{"$error":"#REF!"},{"$error":"#REF!"},{"$error":"#REF!"},{"$error":"#REF!"},"Mujer","35-39",{"$f":"'Pob x Genero'!#REF!","v":{"$error":"#REF!"}},1750]
[{"$f":"A47154","v":{"$error":"#REF!"}},{"$error":"#REF!"},{"$error":"#REF!"},{"$error":"#REF!"},{"$error":"#REF!"},"Mujer","35-39",{"$f":"'Pob x Genero'!#REF!","v":{"$error":"#REF!"}},1793]
[{"$f":"A47193","v":{"$error":"#REF!"}},{"$error":"#REF!"},{"$error":"#REF!"},{"$error":"#REF!"},{"$error":"#REF!"},"Mujer","35-39",{"$f":"'Pob x Genero'!#REF!","v":{"$error":"#REF!"}},1832]
[{"$f":"A47208","v":{"$error":"#REF!"}},{"$error":"#REF!"},{"$error":"#REF!"},{"$error":"#REF!"},{"$error":"#REF!"},"Mujer","35-39",{"$f":"'Pob x Genero'!#REF!","v":{"$error":"#REF!"}},1847]
[{"$f":"A47241","v":{"$error":"#REF!"}},{"$error":"#REF!"},{"$error":"#REF!"},{"$error":"#REF!"},{"$error":"#REF!"},"Mujer","35-39",{"$f":"'Pob x Genero'!#REF!","v":{"$error":"#REF!"}},1880]
[{"$f":"A47280","v":{"$error":"#REF!"}},{"$error":"#REF!"},{"$error":"#REF!"},{"$error":"#REF!"},{"$error":"#REF!"},"Mujer","40-44",{"$f":"'Pob x Genero'!#REF!","v":{"$error":"#REF!"}},29]
[{"$f":"A47323","v":{"$error":"#REF!"}},{"$error":"#REF!"},{"$error":"#REF!"},{"$error":"#REF!"},{"$error":"#REF!"},"Mujer","40-44",{"$f":"'Pob x Genero'!#REF!","v":{"$error":"#REF!"}},72]
[{"$f":"A47362","v":{"$error":"#REF!"}},{"$error":"#REF!"},{"$error":"#REF!"},{"$error":"#REF!"},{"$error":"#REF!"},"Mujer","40-44",{"$f":"'Pob x Genero'!#REF!","v":{"$error":"#REF!"}},111]
[{"$f":"A47393","v":{"$error":"#REF!"}},{"$error":"#REF!"},{"$error":"#REF!"},{"$error":"#REF!"},{"$error":"#REF!"},"Mujer","40-44",{"$f":"'Pob x Genero'!#REF!","v":{"$error":"#REF!"}},142]
[{"$f":"A47410","v":{"$error":"#REF!"}},{"$error":"#REF!"},{"$error":"#REF!"},{"$error":"#REF!"},{"$error":"#REF!"},"Mujer","40-44",{"$f":"'Pob x Genero'!#REF!","v":{"$error":"#REF!"}},159]
[{"$f":"A47449","v":{"$error":"#REF!"}},{"$error":"#REF!"},{"$error":"#REF!"},{"$error":"#REF!"},{"$error":"#REF!"},"Mujer","40-44",{"$f":"'Pob x Genero'!#REF!","v":{"$error":"#REF!"}},198]
[{"$f":"A47488","v":{"$error":"#REF!"}},{"$error":"#REF!"},{"$error":"#REF!"},{"$error":"#REF!"},{"$error":"#REF!"},"Mujer","40-44",{"$f":"'Pob x Genero'!#REF!","v":{"$error":"#REF!"}},237]
[{"$f":"A47528","v":{"$error":"#REF!"}},{"$error":"#REF!"},{"$error":"#REF!"},{"$error":"#REF!"},{"$error":"#REF!"},"Mujer","40-44",{"$f":"'Pob x Genero'!#REF!","v":{"$error":"#REF!"}},277]
[{"$f":"A47536","v":{"$error":"#REF!"}},{"$error":"#REF!"},{"$error":"#REF!"},{"$error":"#REF!"},{"$error":"#REF!"},"Mujer","40-44",{"$f":"'Pob x Genero'!#REF!","v":{"$error":"#REF!"}},285]
[{"$f":"A47579","v":{"$error":"#REF!"}},{"$error":"#REF!"},{"$error":"#REF!"},{"$error":"#REF!"},{"$error":"#REF!"},"Mujer","40-44",{"$f":"'Pob x Genero'!#REF!","v":{"$error":"#REF!"}},328]
[{"$f":"A47618","v":"040203"},"AREQUIPA","AREQUIPA","CAMANA","MARIANO NICOLAS VALCARCEL","Mujer","40-44",{"$f":"'Pob x Genero'!DS40","v":68},367]
[{"$f":"A47631","v":"040308"},"AREQUIPA","AREQUIPA","CARAVELI","CHAPARRA","Mujer","40-44",{"$f":"'Pob x Genero'!DS53","v":74},380]
[{"$f":"A47666","v":"040516"},"AREQUIPA","AREQUIPA","CAYLLOMA","TAPAY","Mujer","40-44",{"$f":"'Pob x Genero'!DS88","v":27},415]
[{"$f":"A47705","v":{"$error":"#REF!"}},{"$error":"#REF!"},{"$error":"#REF!"},{"$error":"#REF!"},{"$error":"#REF!"},"Mujer","40-44",{"$f":"'Pob x Genero'!#REF!","v":{"$error":"#REF!"}},454]
[{"$f":"A47744","v":{"$error":"#REF!"}},{"$error":"#REF!"},{"$error":"#REF!"},{"$error":"#REF!"},{"$error":"#REF!"},"Mujer","40-44",{"$f":"'Pob x Genero'!#REF!","v":{"$error":"#REF!"}},493]
[{"$f":"A47787","v":{"$error":"#REF!"}},{"$error":"#REF!"},{"$error":"#REF!"},{"$error":"#REF!"},{"$error":"#REF!"},"Mujer","40-44",{"$f":"'Pob x Genero'!#REF!","v":{"$error":"#REF!"}},536]
[{"$f":"A47816","v":{"$error":"#REF!"}},{"$error":"#REF!"},{"$error":"#REF!"},{"$error":"#REF!"},{"$error":"#REF!"},"Mujer","40-44",{"$f":"'Pob x Genero'!#REF!","v":{"$error":"#REF!"}},565]
[{"$f":"A47835","v":{"$error":"#REF!"}},{"$error":"#REF!"},{"$error":"#REF!"},{"$error":"#REF!"},{"$error":"#REF!"},"Mujer","40-44",{"$f":"'Pob x Genero'!#REF!","v":{"$error":"#REF!"}},584]
[{"$f":"A47874","v":{"$error":"#REF!"}},{"$error":"#REF!"},{"$error":"#REF!"},{"$error":"#REF!"},{"$error":"#REF!"},"Mujer","40-44",{"$f":"'Pob x Genero'!#REF!","v":{"$error":"#REF!"}},623]
[{"$f":"A47913","v":{"$error":"#REF!"}},{"$error":"#REF!"},{"$error":"#REF!"},{"$error":"#REF!"},{"$error":"#REF!"},"Mujer","40-44",{"$f":"'Pob x Genero'!#REF!","v":{"$error":"#REF!"}},662]
[{"$f":"A47951","v":{"$error":"#REF!"}},{"$error":"#REF!"},{"$error":"#REF!"},{"$error":"#REF!"},{"$error":"#REF!"},"Mujer","40-44",{"$f":"'Pob x Genero'!#REF!","v":{"$error":"#REF!"}},700]
[{"$f":"A47961","v":{"$error":"#REF!"}},{"$error":"#REF!"},{"$error":"#REF!"},{"$error":"#REF!"},{"$error":"#REF!"},"Mujer","40-44",{"$f":"'Pob x Genero'!#REF!","v":{"$error":"#REF!"}},710]
[{"$f":"A48004","v":{"$error":"#REF!"}},{"$error":"#REF!"},{"$error":"#REF!"},{"$error":"#REF!"},{"$error":"#REF!"},"Mujer","40-44",{"$f":"'Pob x Genero'!#REF!","v":{"$error":"#REF!"}},753]
[{"$f":"A48043","v":{"$error":"#REF!"}},{"$error":"#REF!"},{"$error":"#REF!"},{"$error":"#REF!"},{"$error":"#REF!"},"Mujer","40-44",{"$f":"'Pob x Genero'!#REF!","v":{"$error":"#REF!"}},792]
[{"$f":"A48082","v":{"$error":"#REF!"}},{"$error":"#REF!"},{"$error":"#REF!"},{"$error":"#REF!"},{"$error":"#REF!"},"Mujer","40-44",{"$f":"'Pob x Genero'!#REF!","v":{"$error":"#REF!"}},831]
[{"$f":"A48104","v":{"$error":"#REF!"}},{"$error":"#REF!"},{"$error":"#REF!"},{"$error":"#REF!"},{"$error":"#REF!"},"Mujer","40-44",{"$f":"'Pob x Genero'!#REF!","v":{"$error":"#REF!"}},853]
[{"$f":"A48130","v":{"$error":"#REF!"}},{"$error":"#REF!"},{"$error":"#REF!"},{"$error":"#REF!"},{"$error":"#REF!"},"Mujer","40-44",{"$f":"'Pob x Genero'!#REF!","v":{"$error":"#REF!"}},879]
[{"$f":"A48169","v":{"$error":"#REF!"}},{"$error":"#REF!"},{"$error":"#REF!"},{"$error":"#REF!"},{"$error":"#REF!"},"Mujer","40-44",{"$f":"'Pob x Genero'!#REF!","v":{"$error":"#REF!"}},918]
[{"$f":"A48212","v":{"$error":"#REF!"}},{"$error":"#REF!"},{"$error":"#REF!"},{"$error":"#REF!"},{"$error":"#REF!"},"Mujer","40-44",{"$f":"'Pob x Genero'!#REF!","v":{"$error":"#REF!"}},961]
[{"$f":"A48239","v":{"$error":"#REF!"}},{"$error":"#REF!"},{"$error":"#REF!"},{"$error":"#REF!"},{"$error":"#REF!"},"Mujer","40-44",{"$f":"'Pob x Genero'!#REF!","v":{"$error":"#REF!"}},988]
[{"$f":"A48260","v":{"$error":"#REF!"}},{"$error":"#REF!"},{"$error":"#REF!"},{"$error":"#REF!"},{"$error":"#REF!"},"Mujer","40-44",{"$f":"'Pob x Genero'!#REF!","v":{"$error":"#REF!"}},1009]
[{"$f":"A48299","v":{"$error":"#REF!"}},{"$error":"#REF!"},{"$error":"#REF!"},{"$error":"#REF!"},{"$error":"#REF!"},"Mujer","40-44",{"$f":"'Pob x Genero'!#REF!","v":{"$error":"#REF!"}},1048]
[{"$f":"A48338","v":{"$error":"#REF!"}},{"$error":"#REF!"},{"$error":"#REF!"},{"$error":"#REF!"},{"$error":"#REF!"},"Mujer","40-44",{"$f":"'Pob x Genero'!#REF!","v":{"$error":"#REF!"}},1087]
[{"$f":"A48374","v":{"$error":"#REF!"}},{"$error":"#REF!"},{"$error":"#REF!"},{"$error":"#REF!"},{"$error":"#REF!"},"Mujer","40-44",{"$f":"'Pob x Genero'!#REF!","v":{"$error":"#REF!"}},1123]
[{"$f":"A48386","v":{"$error":"#REF!"}},{"$error":"#REF!"},{"$error":"#REF!"},{"$error":"#REF!"},{"$error":"#REF!"},"Mujer","40-44",{"$f":"'Pob x Genero'!#REF!","v":{"$error":"#REF!"}},1135]
[{"$f":"A48429","v":{"$error":"#REF!"}},{"$error":"#REF!"},{"$error":"#REF!"},{"$error":"#REF!"},{"$error":"#REF!"},{"$f":"F50318","v":"Mujer"},"40-44",{"$f":"'Pob x Genero'!#REF!","v":{"$error":"#REF!"}},1178]
[{"$f":"A48468","v":{"$error":"#REF!"}},{"$error":"#REF!"},{"$error":"#REF!"},{"$error":"#REF!"},{"$error":"#REF!"},"Mujer","40-44",{"$f":"'Pob x Genero'!#REF!","v":{"$error":"#REF!"}},1217]
[{"$f":"A48507","v":{"$error":"#REF!"}},{"$error":"#REF!"},{"$error":"#REF!"},{"$error":"#REF!"},{"$error":"#REF!"},"Mujer","40-44",{"$f":"'Pob x Genero'!#REF!","v":{"$error":"#REF!"}},1256]
[{"$f":"A48527","v":{"$error":"#REF!"}},{"$error":"#REF!"},{"$error":"#REF!"},{"$error":"#REF!"},{"$error":"#REF!"},"Mujer","40-44",{"$f":"'Pob x Genero'!#REF!","v":{"$error":"#REF!"}},1276]
[{"$f":"A48555","v":{"$error":"#REF!"}},{"$error":"#REF!"},{"$error":"#REF!"},{"$error":"#REF!"},{"$error":"#REF!"},"Mujer","40-44",{"$f":"'Pob x Genero'!#REF!","v":{"$error":"#REF!"}},1304]
[{"$f":"A48594","v":{"$error":"#REF!"}},{"$error":"#REF!"},{"$error":"#REF!"},{"$error":"#REF!"},{"$error":"#REF!"},"Mujer","40-44",{"$f":"'Pob x Genero'!#REF!","v":{"$error":"#REF!"}},1343]
[{"$f":"A48637","v":{"$error":"#REF!"}},{"$error":"#REF!"},{"$error":"#REF!"},{"$error":"#REF!"},{"$error":"#REF!"},"Mujer","40-44",{"$f":"'Pob x Genero'!#REF!","v":{"$error":"#REF!"}},1386]
[{"$f":"A48662","v":{"$error":"#REF!"}},{"$error":"#REF!"},{"$error":"#REF!"},{"$error":"#REF!"},{"$error":"#REF!"},"Mujer","40-44",{"$f":"'Pob x Genero'!#REF!","v":{"$error":"#REF!"}},1411]
[{"$f":"A48685","v":{"$error":"#REF!"}},{"$error":"#REF!"},{"$error":"#REF!"},{"$error":"#REF!"},{"$error":"#REF!"},{"$f":"F50574","v":"Mujer"},"40-44",{"$f":"'Pob x Genero'!#REF!","v":{"$error":"#REF!"}},1434]
[{"$f":"A48724","v":{"$error":"#REF!"}},{"$error":"#REF!"},{"$error":"#REF!"},{"$error":"#REF!"},{"$error":"#REF!"},"Mujer","40-44",{"$f":"'Pob x Genero'!#REF!","v":{"$error":"#REF!"}},1473]
[{"$f":"A48763","v":{"$error":"#REF!"}},{"$error":"#REF!"},{"$error":"#REF!"},{"$error":"#REF!"},{"$error":"#REF!"},"Mujer","40-44",{"$f":"'Pob x Genero'!#REF!","v":{"$error":"#REF!"}},1512]
[{"$f":"A48797","v":{"$error":"#REF!"}},{"$error":"#REF!"},{"$error":"#REF!"},{"$error":"#REF!"},{"$error":"#REF!"},"Mujer","40-44",{"$f":"'Pob x Genero'!#REF!","v":{"$error":"#REF!"}},1546]
[{"$f":"A48811","v":{"$error":"#REF!"}},{"$error":"#REF!"},{"$error":"#REF!"},{"$error":"#REF!"},{"$error":"#REF!"},"Mujer","40-44",{"$f":"'Pob x Genero'!#REF!","v":{"$error":"#REF!"}},1560]
[{"$f":"A48850","v":{"$error":"#REF!"}},{"$error":"#REF!"},{"$error":"#REF!"},{"$error":"#REF!"},{"$error":"#REF!"},"Mujer","40-44",{"$f":"'Pob x Genero'!#REF!","v":{"$error":"#REF!"}},1599]
[{"$f":"A48893","v":{"$error":"#REF!"}},{"$error":"#REF!"},{"$error":"#REF!"},{"$error":"#REF!"},{"$error":"#REF!"},"Mujer","40-44",{"$f":"'Pob x Genero'!#REF!","v":{"$error":"#REF!"}},1642]
[{"$f":"A48932","v":{"$error":"#REF!"}},{"$error":"#REF!"},{"$error":"#REF!"},{"$error":"#REF!"},{"$error":"#REF!"},"Mujer","40-44",{"$f":"'Pob x Genero'!#REF!","v":{"$error":"#REF!"}},1681]
[{"$f":"A48950","v":{"$error":"#REF!"}},{"$error":"#REF!"},{"$error":"#REF!"},{"$error":"#REF!"},{"$error":"#REF!"},"Mujer","40-44",{"$f":"'Pob x Genero'!#REF!","v":{"$error":"#REF!"}},1699]
[{"$f":"A48980","v":{"$error":"#REF!"}},{"$error":"#REF!"},{"$error":"#REF!"},{"$error":"#REF!"},{"$error":"#REF!"},"Mujer","40-44",{"$f":"'Pob x Genero'!#REF!","v":{"$error":"#REF!"}},1729]
[{"$f":"A49019","v":{"$error":"#REF!"}},{"$error":"#REF!"},{"$error":"#REF!"},{"$error":"#REF!"},{"$error":"#REF!"},"Mujer","40-44",{"$f":"'Pob x Genero'!#REF!","v":{"$error":"#REF!"}},1768]
[{"$f":"A49062","v":{"$error":"#REF!"}},{"$error":"#REF!"},{"$error":"#REF!"},{"$error":"#REF!"},{"$error":"#REF!"},"Mujer","40-44",{"$f":"'Pob x Genero'!#REF!","v":{"$error":"#REF!"}},1811]
[{"$f":"A49085","v":{"$error":"#REF!"}},{"$error":"#REF!"},{"$error":"#REF!"},{"$error":"#REF!"},{"$error":"#REF!"},"Mujer","40-44",{"$f":"'Pob x Genero'!#REF!","v":{"$error":"#REF!"}},1834]
[{"$f":"A49110","v":{"$error":"#REF!"}},{"$error":"#REF!"},{"$error":"#REF!"},{"$error":"#REF!"},{"$error":"#REF!"},"Mujer","40-44",{"$f":"'Pob x Genero'!#REF!","v":{"$error":"#REF!"}},1859]
[{"$f":"A49149","v":{"$error":"#REF!"}},{"$error":"#REF!"},{"$error":"#REF!"},{"$error":"#REF!"},{"$error":"#REF!"},"Mujer","45-49",{"$f":"'Pob x Genero'!#REF!","v":{"$error":"#REF!"}},8]
[{"$f":"A49188","v":{"$error":"#REF!"}},{"$error":"#REF!"},{"$error":"#REF!"},{"$error":"#REF!"},{"$error":"#REF!"},"Mujer","45-49",{"$f":"'Pob x Genero'!#REF!","v":{"$error":"#REF!"}},47]
[{"$f":"A49220","v":{"$error":"#REF!"}},{"$error":"#REF!"},{"$error":"#REF!"},{"$error":"#REF!"},{"$error":"#REF!"},"Mujer","45-49",{"$f":"'Pob x Genero'!#REF!","v":{"$error":"#REF!"}},79]
[{"$f":"A49236","v":{"$error":"#REF!"}},{"$error":"#REF!"},{"$error":"#REF!"},{"$error":"#REF!"},{"$error":"#REF!"},"Mujer","45-49",{"$f":"'Pob x Genero'!#REF!","v":{"$error":"#REF!"}},95]
[{"$f":"A49275","v":{"$error":"#REF!"}},{"$error":"#REF!"},{"$error":"#REF!"},{"$error":"#REF!"},{"$error":"#REF!"},"Mujer","45-49",{"$f":"'Pob x Genero'!#REF!","v":{"$error":"#REF!"}},134]
[{"$f":"A49318","v":{"$error":"#REF!"}},{"$error":"#REF!"},{"$error":"#REF!"},{"$error":"#REF!"},{"$error":"#REF!"},"Mujer","45-49",{"$f":"'Pob x Genero'!#REF!","v":{"$error":"#REF!"}},177]
[{"$f":"A49357","v":{"$error":"#REF!"}},{"$error":"#REF!"},{"$error":"#REF!"},{"$error":"#REF!"},{"$error":"#REF!"},"Mujer","45-49",{"$f":"'Pob x Genero'!#REF!","v":{"$error":"#REF!"}},216]
[{"$f":"A49373","v":{"$error":"#REF!"}},{"$error":"#REF!"},{"$error":"#REF!"},{"$error":"#REF!"},{"$error":"#REF!"},"Mujer","45-49",{"$f":"'Pob x Genero'!#REF!","v":{"$error":"#REF!"}},232]
[{"$f":"A49405","v":{"$error":"#REF!"}},{"$error":"#REF!"},{"$error":"#REF!"},{"$error":"#REF!"},{"$error":"#REF!"},"Mujer","45-49",{"$f":"'Pob x Genero'!#REF!","v":{"$error":"#REF!"}},264]
[{"$f":"A49444","v":{"$error":"#REF!"}},{"$error":"#REF!"},{"$error":"#REF!"},{"$error":"#REF!"},{"$error":"#REF!"},"Mujer","45-49",{"$f":"'Pob x Genero'!#REF!","v":{"$error":"#REF!"}},303]
[{"$f":"A49487","v":"040111"},"AREQUIPA","AREQUIPA","AREQUIPA","MOLLEBAYA","Mujer","45-49",{"$f":"'Pob x Genero'!DT19","v":197},346]
[{"$f":"A49508","v":"040203"},"AREQUIPA","AREQUIPA","CAMANA","MARIANO NICOLAS VALCARCEL","Mujer","45-49",{"$f":"'Pob x Genero'!DT40","v":134},367]
[{"$f":"A49535","v":"040409"},"AREQUIPA","AREQUIPA","CASTILLA","ORCOPAMPA","Mujer","45-49",{"$f":"'Pob x Genero'!DT67","v":273},394]
[{"$f":"A49574","v":"040706"},"AREQUIPA","AREQUIPA","ISLAY","PUNTA DE BOMBON","Mujer","45-49",{"$f":"'Pob x Genero'!DT106","v":193},433]
[{"$f":"A49613","v":{"$error":"#REF!"}},{"$error":"#REF!"},{"$error":"#REF!"},{"$error":"#REF!"},{"$error":"#REF!"},"Mujer","45-49",{"$f":"'Pob x Genero'!#REF!","v":{"$error":"#REF!"}},472]
[{"$f":"A49643","v":{"$error":"#REF!"}},{"$error":"#REF!"},{"$error":"#REF!"},{"$error":"#REF!"},{"$error":"#REF!"},"Mujer","45-49",{"$f":"'Pob x Genero'!#REF!","v":{"$error":"#REF!"}},502]
[{"$f":"A49661","v":{"$error":"#REF!"}},{"$error":"#REF!"},{"$error":"#REF!"},{"$error":"#REF!"},{"$error":"#REF!"},"Mujer","45-49",{"$f":"'Pob x Genero'!#REF!","v":{"$error":"#REF!"}},520]
[{"$f":"A49700","v":{"$error":"#REF!"}},{"$error":"#REF!"},{"$error":"#REF!"},{"$error":"#REF!"},{"$error":"#REF!"},"Mujer","45-49",{"$f":"'Pob x Genero'!#REF!","v":{"$error":"#REF!"}},559]
[{"$f":"A49743","v":{"$error":"#REF!"}},{"$error":"#REF!"},{"$error":"#REF!"},{"$error":"#REF!"},{"$error":"#REF!"},"Mujer","45-49",{"$f":"'Pob x Genero'!#REF!","v":{"$error":"#REF!"}},602]
[{"$f":"A49782","v":{"$error":"#REF!"}},{"$error":"#REF!"},{"$error":"#REF!"},{"$error":"#REF!"},{"$error":"#REF!"},"Mujer","45-49",{"$f":"'Pob x Genero'!#REF!","v":{"$error":"#REF!"}},641]
[{"$f":"A49796","v":{"$error":"#REF!"}},{"$error":"#REF!"},{"$error":"#REF!"},{"$error":"#REF!"},{"$error":"#REF!"},"Mujer","45-49",{"$f":"'Pob x Genero'!#REF!","v":{"$error":"#REF!"}},655]
[{"$f":"A49830","v":{"$error":"#REF!"}},{"$error":"#REF!"},{"$error":"#REF!"},{"$error":"#REF!"},{"$error":"#REF!"},"Mujer","45-49",{"$f":"'Pob x Genero'!#REF!","v":{"$error":"#REF!"}},689]
[{"$f":"A49869","v":{"$error":"#REF!"}},{"$error":"#REF!"},{"$error":"#REF!"},{"$error":"#REF!"},{"$error":"#REF!"},"Mujer","45-49",{"$f":"'Pob x Genero'!#REF!","v":{"$error":"#REF!"}},728]
[{"$f":"A49912","v":{"$error":"#REF!"}},{"$error":"#REF!"},{"$error":"#REF!"},{"$error":"#REF!"},{"$error":"#REF!"},"Mujer","45-49",{"$f":"'Pob x Genero'!#REF!","v":{"$error":"#REF!"}},771]
[{"$f":"A49931","v":{"$error":"#REF!"}},{"$error":"#REF!"},{"$error":"#REF!"},{"$error":"#REF!"},{"$error":"#REF!"},"Mujer","45-49",{"$f":"'Pob x Genero'!#REF!","v":{"$error":"#REF!"}},790]
[{"$f":"A49956","v":{"$error":"#REF!"}},{"$error":"#REF!"},{"$error":"#REF!"},{"$error":"#REF!"},{"$error":"#REF!"},"Mujer","45-49",{"$f":"'Pob x Genero'!#REF!","v":{"$error":"#REF!"}},815]
[{"$f":"A49999","v":{"$error":"#REF!"}},{"$error":"#REF!"},{"$error":"#REF!"},{"$error":"#REF!"},{"$error":"#REF!"},"Mujer","45-49",{"$f":"'Pob x Genero'!#REF!","v":{"$error":"#REF!"}},858]
[{"$f":"A50038","v":{"$error":"#REF!"}},{"$error":"#REF!"},{"$error":"#REF!"},{"$error":"#REF!"},{"$error":"#REF!"},"Mujer","45-49",{"$f":"'Pob x Genero'!#REF!","v":{"$error":"#REF!"}},897]
[{"$f":"A50081","v":{"$error":"#REF!"}},{"$error":"#REF!"},{"$error":"#REF!"},{"$error":"#REF!"},{"$error":"#REF!"},"Mujer","45-49",{"$f":"'Pob x Genero'!#REF!","v":{"$error":"#REF!"}},940]
[{"$f":"A50116","v":{"$error":"#REF!"}},{"$error":"#REF!"},{"$error":"#REF!"},{"$error":"#REF!"},{"$error":"#REF!"},"Mujer","45-49",{"$f":"'Pob x Genero'!#REF!","v":{"$error":"#REF!"}},975]
[{"$f":"A50125","v":{"$error":"#REF!"}},{"$error":"#REF!"},{"$error":"#REF!"},{"$error":"#REF!"},{"$error":"#REF!"},"Mujer","45-49",{"$f":"'Pob x Genero'!#REF!","v":{"$error":"#REF!"}},984]
[{"$f":"A50168","v":{"$error":"#REF!"}},{"$error":"#REF!"},{"$error":"#REF!"},{"$error":"#REF!"},{"$error":"#REF!"},"Mujer","45-49",{"$f":"'Pob x Genero'!#REF!","v":{"$error":"#REF!"}},1027]
[{"$f":"A50207","v":{"$error":"#REF!"}},{"$error":"#REF!"},{"$error":"#REF!"},{"$error":"#REF!"},{"$error":"#REF!"},"Mujer","45-49",{"$f":"'Pob x Genero'!#REF!","v":{"$error":"#REF!"}},1066]
[{"$f":"A50219","v":{"$error":"#REF!"}},{"$error":"#REF!"},{"$error":"#REF!"},{"$error":"#REF!"},{"$error":"#REF!"},"Mujer","45-49",{"$f":"'Pob x Genero'!#REF!","v":{"$error":"#REF!"}},1078]
[{"$f":"A50255","v":{"$error":"#REF!"}},{"$error":"#REF!"},{"$error":"#REF!"},{"$error":"#REF!"},{"$error":"#REF!"},"Mujer","45-49",{"$f":"'Pob x Genero'!#REF!","v":{"$error":"#REF!"}},1114]
[{"$f":"A50294","v":{"$error":"#REF!"}},{"$error":"#REF!"},{"$error":"#REF!"},{"$error":"#REF!"},{"$error":"#REF!"},"Mujer","45-49",{"$f":"'Pob x Genero'!#REF!","v":{"$error":"#REF!"}},1153]
[{"$f":"A50337","v":{"$error":"#REF!"}},{"$error":"#REF!"},{"$error":"#REF!"},{"$error":"#REF!"},{"$error":"#REF!"},"Mujer","45-49",{"$f":"'Pob x Genero'!#REF!","v":{"$error":"#REF!"}},1196]
[{"$f":"A50354","v":{"$error":"#REF!"}},{"$error":"#REF!"},{"$error":"#REF!"},{"$error":"#REF!"},{"$error":"#REF!"},"Mujer","45-49",{"$f":"'Pob x Genero'!#REF!","v":{"$error":"#REF!"}},1213]
[{"$f":"A50381","v":{"$error":"#REF!"}},{"$error":"#REF!"},{"$error":"#REF!"},{"$error":"#REF!"},{"$error":"#REF!"},"Mujer","45-49",{"$f":"'Pob x Genero'!#REF!","v":{"$error":"#REF!"}},1240]
[{"$f":"A50424","v":{"$error":"#REF!"}},{"$error":"#REF!"},{"$error":"#REF!"},{"$error":"#REF!"},{"$error":"#REF!"},"Mujer","45-49",{"$f":"'Pob x Genero'!#REF!","v":{"$error":"#REF!"}},1283]
[{"$f":"A50463","v":{"$error":"#REF!"}},{"$error":"#REF!"},{"$error":"#REF!"},{"$error":"#REF!"},{"$error":"#REF!"},"Mujer","45-49",{"$f":"'Pob x Genero'!#REF!","v":{"$error":"#REF!"}},1322]
[{"$f":"A50506","v":{"$error":"#REF!"}},{"$error":"#REF!"},{"$error":"#REF!"},{"$error":"#REF!"},{"$error":"#REF!"},"Mujer","45-49",{"$f":"'Pob x Genero'!#REF!","v":{"$error":"#REF!"}},1365]
[{"$f":"A50539","v":{"$error":"#REF!"}},{"$error":"#REF!"},{"$error":"#REF!"},{"$error":"#REF!"},{"$error":"#REF!"},"Mujer","45-49",{"$f":"'Pob x Genero'!#REF!","v":{"$error":"#REF!"}},1398]
[{"$f":"A50550","v":{"$error":"#REF!"}},{"$error":"#REF!"},{"$error":"#REF!"},{"$error":"#REF!"},{"$error":"#REF!"},"Mujer","45-49",{"$f":"'Pob x Genero'!#REF!","v":{"$error":"#REF!"}},1409]
[{"$f":"A50593","v":{"$error":"#REF!"}},{"$error":"#REF!"},{"$error":"#REF!"},{"$error":"#REF!"},{"$error":"#REF!"},"Mujer","45-49",{"$f":"'Pob x Genero'!#REF!","v":{"$error":"#REF!"}},1452]
[{"$f":"A50632","v":{"$error":"#REF!"}},{"$error":"#REF!"},{"$error":"#REF!"},{"$error":"#REF!"},{"$error":"#REF!"},"Mujer","45-49",{"$f":"'Pob x Genero'!#REF!","v":{"$error":"#REF!"}},1491]
[{"$f":"A50674","v":{"$error":"#REF!"}},{"$error":"#REF!"},{"$error":"#REF!"},{"$error":"#REF!"},{"$error":"#REF!"},"Mujer","45-49",{"$f":"'Pob x Genero'!#REF!","v":{"$error":"#REF!"}},1533]
[{"$f":"A50680","v":{"$error":"#REF!"}},{"$error":"#REF!"},{"$error":"#REF!"},{"$error":"#REF!"},{"$error":"#REF!"},"Mujer","45-49",{"$f":"'Pob x Genero'!#REF!","v":{"$error":"#REF!"}},1539]
[{"$f":"A50719","v":{"$error":"#REF!"}},{"$error":"#REF!"},{"$error":"#REF!"},{"$error":"#REF!"},{"$error":"#REF!"},"Mujer","45-49",{"$f":"'Pob x Genero'!#REF!","v":{"$error":"#REF!"}},1578]
[{"$f":"A50762","v":{"$error":"#REF!"}},{"$error":"#REF!"},{"$error":"#REF!"},{"$error":"#REF!"},{"$error":"#REF!"},"Mujer","45-49",{"$f":"'Pob x Genero'!#REF!","v":{"$error":"#REF!"}},1621]
[{"$f":"A50777","v":{"$error":"#REF!"}},{"$error":"#REF!"},{"$error":"#REF!"},{"$error":"#REF!"},{"$error":"#REF!"},"Mujer","45-49",{"$f":"'Pob x Genero'!#REF!","v":{"$error":"#REF!"}},1636]
[{"$f":"A50806","v":{"$error":"#REF!"}},{"$error":"#REF!"},{"$error":"#REF!"},{"$error":"#REF!"},{"$error":"#REF!"},"Mujer","45-49",{"$f":"'Pob x Genero'!#REF!","v":{"$error":"#REF!"}},1665]
[{"$f":"A50849","v":{"$error":"#REF!"}},{"$error":"#REF!"},{"$error":"#REF!"},{"$error":"#REF!"},{"$error":"#REF!"},"Mujer","45-49",{"$f":"'Pob x Genero'!#REF!","v":{"$error":"#REF!"}},1708]
[{"$f":"A50888","v":{"$error":"#REF!"}},{"$error":"#REF!"},{"$error":"#REF!"},{"$error":"#REF!"},{"$error":"#REF!"},"Mujer","45-49",{"$f":"'Pob x Genero'!#REF!","v":{"$error":"#REF!"}},1747]
[{"$f":"A50931","v":{"$error":"#REF!"}},{"$error":"#REF!"},{"$error":"#REF!"},{"$error":"#REF!"},{"$error":"#REF!"},"Mujer","45-49",{"$f":"'Pob x Genero'!#REF!","v":{"$error":"#REF!"}},1790]
[{"$f":"A50962","v":{"$error":"#REF!"}},{"$error":"#REF!"},{"$error":"#REF!"},{"$error":"#REF!"},{"$error":"#REF!"},"Mujer","45-49",{"$f":"'Pob x Genero'!#REF!","v":{"$error":"#REF!"}},1821]
[{"$f":"A50975","v":{"$error":"#REF!"}},{"$error":"#REF!"},{"$error":"#REF!"},{"$error":"#REF!"},{"$error":"#REF!"},"Mujer","45-49",{"$f":"'Pob x Genero'!#REF!","v":{"$error":"#REF!"}},1834]
[{"$f":"A51018","v":{"$error":"#REF!"}},{"$error":"#REF!"},{"$error":"#REF!"},{"$error":"#REF!"},{"$error":"#REF!"},"Mujer","45-49",{"$f":"'Pob x Genero'!#REF!","v":{"$error":"#REF!"}},1877]
[{"$f":"A51057","v":{"$error":"#REF!"}},{"$error":"#REF!"},{"$error":"#REF!"},{"$error":"#REF!"},{"$error":"#REF!"},"Mujer","50-54",{"$f":"'Pob x Genero'!#REF!","v":{"$error":"#REF!"}},26]
[{"$f":"A51097","v":{"$error":"#REF!"}},{"$error":"#REF!"},{"$error":"#REF!"},{"$error":"#REF!"},{"$error":"#REF!"},"Mujer",{"$f":"G52986","v":"50-54"},{"$f":"'Pob x Genero'!#REF!","v":{"$error":"#REF!"}},66]
[{"$f":"A51105","v":{"$error":"#REF!"}},{"$error":"#REF!"},{"$error":"#REF!"},{"$error":"#REF!"},{"$error":"#REF!"},"Mujer","50-54",{"$f":"'Pob x Genero'!#REF!","v":{"$error":"#REF!"}},74]
[{"$f":"A51144","v":{"$error":"#REF!"}},{"$error":"#REF!"},{"$error":"#REF!"},{"$error":"#REF!"},{"$error":"#REF!"},"Mujer","50-54",{"$f":"'Pob x Genero'!#REF!","v":{"$error":"#REF!"}},113]
[{"$f":"A51187","v":{"$error":"#REF!"}},{"$error":"#REF!"},{"$error":"#REF!"},{"$error":"#REF!"},{"$error":"#REF!"},"Mujer","50-54",{"$f":"'Pob x Genero'!#REF!","v":{"$error":"#REF!"}},156]
[{"$f":"A51200","v":{"$error":"#REF!"}},{"$error":"#REF!"},{"$error":"#REF!"},{"$error":"#REF!"},{"$error":"#REF!"},"Mujer","50-54",{"$f":"'Pob x Genero'!#REF!","v":{"$error":"#REF!"}},169]
[{"$f":"A51264","v":{"$error":"#REF!"}},{"$error":"#REF!"},{"$error":"#REF!"},{"$error":"#REF!"},{"$error":"#REF!"},"Mujer","50-54",{"$f":"'Pob x Genero'!#REF!","v":{"$error":"#REF!"}},233]
[{"$f":"A51274","v":{"$error":"#REF!"}},{"$error":"#REF!"},{"$error":"#REF!"},{"$error":"#REF!"},{"$error":"#REF!"},"Mujer","50-54",{"$f":"'Pob x Genero'!#REF!","v":{"$error":"#REF!"}},243]
[{"$f":"A51313","v":{"$error":"#REF!"}},{"$error":"#REF!"},{"$error":"#REF!"},{"$error":"#REF!"},{"$error":"#REF!"},"Mujer","50-54",{"$f":"'Pob x Genero'!#REF!","v":{"$error":"#REF!"}},282]
[{"$f":"A51356","v":{"$error":"#REF!"}},{"$error":"#REF!"},{"$error":"#REF!"},{"$error":"#REF!"},{"$error":"#REF!"},"Mujer","50-54",{"$f":"'Pob x Genero'!#REF!","v":{"$error":"#REF!"}},325]
[{"$f":"A51385","v":"040119"},"AREQUIPA","AREQUIPA","AREQUIPA","SAN JUAN DE TARUCANI","Mujer","50-54",{"$f":"'Pob x Genero'!DU27","v":43},354]
[{"$f":"A51400","v":"040205"},"AREQUIPA","AREQUIPA","CAMANA","NICOLAS DE PIEROLA","Mujer","50-54",{"$f":"'Pob x Genero'!DU42","v":220},369]
[{"$f":"A51443","v":"040513"},"AREQUIPA","AREQUIPA","CAYLLOMA","MADRIGAL","Mujer","50-54",{"$f":"'Pob x Genero'!DU85","v":17},412]
[{"$f":"A51482","v":{"$error":"#REF!"}},{"$error":"#REF!"},{"$error":"#REF!"},{"$error":"#REF!"},{"$error":"#REF!"},"Mujer","50-54",{"$f":"'Pob x Genero'!#REF!","v":{"$error":"#REF!"}},451]
[{"$f":"A51520","v":{"$error":"#REF!"}},{"$error":"#REF!"},{"$error":"#REF!"},{"$error":"#REF!"},{"$error":"#REF!"},"Mujer","50-54",{"$f":"'Pob x Genero'!#REF!","v":{"$error":"#REF!"}},489]
[{"$f":"A51530","v":{"$error":"#REF!"}},{"$error":"#REF!"},{"$error":"#REF!"},{"$error":"#REF!"},{"$error":"#REF!"},"Mujer","50-54",{"$f":"'Pob x Genero'!#REF!","v":{"$error":"#REF!"}},499]
[{"$f":"A51569","v":{"$error":"#REF!"}},{"$error":"#REF!"},{"$error":"#REF!"},{"$error":"#REF!"},{"$error":"#REF!"},"Mujer","50-54",{"$f":"'Pob x Genero'!#REF!","v":{"$error":"#REF!"}},538]
[{"$f":"A51612","v":{"$error":"#REF!"}},{"$error":"#REF!"},{"$error":"#REF!"},{"$error":"#REF!"},{"$error":"#REF!"},"Mujer","50-54",{"$f":"'Pob x Genero'!#REF!","v":{"$error":"#REF!"}},581]
[{"$f":"A51655","v":{"$error":"#REF!"}},{"$error":"#REF!"},{"$error":"#REF!"},{"$error":"#REF!"},{"$error":"#REF!"},"Mujer","50-54",{"$f":"'Pob x Genero'!#REF!","v":{"$error":"#REF!"}},624]
[{"$f":"A51689","v":{"$error":"#REF!"}},{"$error":"#REF!"},{"$error":"#REF!"},{"$error":"#REF!"},{"$error":"#REF!"},"Mujer","50-54",{"$f":"'Pob x Genero'!#REF!","v":{"$error":"#REF!"}},658]
[{"$f":"A51699","v":{"$error":"#REF!"}},{"$error":"#REF!"},{"$error":"#REF!"},{"$error":"#REF!"},{"$error":"#REF!"},"Mujer","50-54",{"$f":"'Pob x Genero'!#REF!","v":{"$error":"#REF!"}},668]
[{"$f":"A51738","v":{"$error":"#REF!"}},{"$error":"#REF!"},{"$error":"#REF!"},{"$error":"#REF!"},{"$error":"#REF!"},"Mujer","50-54",{"$f":"'Pob x Genero'!#REF!","v":{"$error":"#REF!"}},707]
[{"$f":"A51777","v":{"$error":"#REF!"}},{"$error":"#REF!"},{"$error":"#REF!"},{"$error":"#REF!"},{"$error":"#REF!"},"Mujer","50-54",{"$f":"'Pob x Genero'!#REF!","v":{"$error":"#REF!"}},746]
[{"$f":"A51808","v":{"$error":"#REF!"}},{"$error":"#REF!"},{"$error":"#REF!"},{"$error":"#REF!"},{"$error":"#REF!"},"Mujer","50-54",{"$f":"'Pob x Genero'!#REF!","v":{"$error":"#REF!"}},777]
[{"$f":"A51825","v":{"$error":"#REF!"}},{"$error":"#REF!"},{"$error":"#REF!"},{"$error":"#REF!"},{"$error":"#REF!"},"Mujer","50-54",{"$f":"'Pob x Genero'!#REF!","v":{"$error":"#REF!"}},794]
[{"$f":"A51868","v":{"$error":"#REF!"}},{"$error":"#REF!"},{"$error":"#REF!"},{"$error":"#REF!"},{"$error":"#REF!"},"Mujer","50-54",{"$f":"'Pob x Genero'!#REF!","v":{"$error":"#REF!"}},837]
[{"$f":"A51907","v":{"$error":"#REF!"}},{"$error":"#REF!"},{"$error":"#REF!"},{"$error":"#REF!"},{"$error":"#REF!"},"Mujer","50-54",{"$f":"'Pob x Genero'!#REF!","v":{"$error":"#REF!"}},876]
[{"$f":"A51943","v":{"$error":"#REF!"}},{"$error":"#REF!"},{"$error":"#REF!"},{"$error":"#REF!"},{"$error":"#REF!"},"Mujer","50-54",{"$f":"'Pob x Genero'!#REF!","v":{"$error":"#REF!"}},912]
[{"$f":"A51955","v":{"$error":"#REF!"}},{"$error":"#REF!"},{"$error":"#REF!"},{"$error":"#REF!"},{"$error":"#REF!"},"Mujer","50-54",{"$f":"'Pob x Genero'!#REF!","v":{"$error":"#REF!"}},924]
[{"$f":"A51994","v":{"$error":"#REF!"}},{"$error":"#REF!"},{"$error":"#REF!"},{"$error":"#REF!"},{"$error":"#REF!"},"Mujer","50-54",{"$f":"'Pob x Genero'!#REF!","v":{"$error":"#REF!"}},963]
[{"$f":"A52037","v":{"$error":"#REF!"}},{"$error":"#REF!"},{"$error":"#REF!"},{"$error":"#REF!"},{"$error":"#REF!"},"Mujer","50-54",{"$f":"'Pob x Genero'!#REF!","v":{"$error":"#REF!"}},1006]
[{"$f":"A52076","v":{"$error":"#REF!"}},{"$error":"#REF!"},{"$error":"#REF!"},{"$error":"#REF!"},{"$error":"#REF!"},"Mujer","50-54",{"$f":"'Pob x Genero'!#REF!","v":{"$error":"#REF!"}},1045]
[{"$f":"A52096","v":{"$error":"#REF!"}},{"$error":"#REF!"},{"$error":"#REF!"},{"$error":"#REF!"},{"$error":"#REF!"},"Mujer","50-54",{"$f":"'Pob x Genero'!#REF!","v":{"$error":"#REF!"}},1065]
[{"$f":"A52124","v":{"$error":"#REF!"}},{"$error":"#REF!"},{"$error":"#REF!"},{"$error":"#REF!"},{"$error":"#REF!"},"Mujer","50-54",{"$f":"'Pob x Genero'!#REF!","v":{"$error":"#REF!"}},1093]
[{"$f":"A52163","v":{"$error":"#REF!"}},{"$error":"#REF!"},{"$error":"#REF!"},{"$error":"#REF!"},{"$error":"#REF!"},"Mujer","50-54",{"$f":"'Pob x Genero'!#REF!","v":{"$error":"#REF!"}},1132]
[{"$f":"A52202","v":{"$error":"#REF!"}},{"$error":"#REF!"},{"$error":"#REF!"},{"$error":"#REF!"},{"$error":"#REF!"},"Mujer","50-54",{"$f":"'Pob x Genero'!#REF!","v":{"$error":"#REF!"}},1171]
[{"$f":"A52231","v":{"$error":"#REF!"}},{"$error":"#REF!"},{"$error":"#REF!"},{"$error":"#REF!"},{"$error":"#REF!"},"Mujer","50-54",{"$f":"'Pob x Genero'!#REF!","v":{"$error":"#REF!"}},1200]
[{"$f":"A52250","v":{"$error":"#REF!"}},{"$error":"#REF!"},{"$error":"#REF!"},{"$error":"#REF!"},{"$error":"#REF!"},"Mujer","50-54",{"$f":"'Pob x Genero'!#REF!","v":{"$error":"#REF!"}},1219]
[{"$f":"A52293","v":{"$error":"#REF!"}},{"$error":"#REF!"},{"$error":"#REF!"},{"$error":"#REF!"},{"$error":"#REF!"},"Mujer","50-54",{"$f":"'Pob x Genero'!#REF!","v":{"$error":"#REF!"}},1262]
[{"$f":"A52332","v":{"$error":"#REF!"}},{"$error":"#REF!"},{"$error":"#REF!"},{"$error":"#REF!"},{"$error":"#REF!"},"Mujer","50-54",{"$f":"'Pob x Genero'!#REF!","v":{"$error":"#REF!"}},1301]
[{"$f":"A52366","v":{"$error":"#REF!"}},{"$error":"#REF!"},{"$error":"#REF!"},{"$error":"#REF!"},{"$error":"#REF!"},"Mujer","50-54",{"$f":"'Pob x Genero'!#REF!","v":{"$error":"#REF!"}},1335]
[{"$f":"A52380","v":{"$error":"#REF!"}},{"$error":"#REF!"},{"$error":"#REF!"},{"$error":"#REF!"},{"$error":"#REF!"},"Mujer","50-54",{"$f":"'Pob x Genero'!#REF!","v":{"$error":"#REF!"}},1349]
[{"$f":"A52419","v":{"$error":"#REF!"}},{"$error":"#REF!"},{"$error":"#REF!"},{"$error":"#REF!"},{"$error":"#REF!"},"Mujer","50-54",{"$f":"'Pob x Genero'!#REF!","v":{"$error":"#REF!"}},1388]
[{"$f":"A52458","v":{"$error":"#REF!"}},{"$error":"#REF!"},{"$error":"#REF!"},{"$error":"#REF!"},{"$error":"#REF!"},"Mujer","50-54",{"$f":"'Pob x Genero'!#REF!","v":{"$error":"#REF!"}},1427]
[{"$f":"A52501","v":{"$error":"#REF!"}},{"$error":"#REF!"},{"$error":"#REF!"},{"$error":"#REF!"},{"$error":"#REF!"},"Mujer","50-54",{"$f":"'Pob x Genero'!#REF!","v":{"$error":"#REF!"}},1470]
[{"$f":"A52519","v":{"$error":"#REF!"}},{"$error":"#REF!"},{"$error":"#REF!"},{"$error":"#REF!"},{"$error":"#REF!"},"Mujer","50-54",{"$f":"'Pob x Genero'!#REF!","v":{"$error":"#REF!"}},1488]
[{"$f":"A52549","v":{"$error":"#REF!"}},{"$error":"#REF!"},{"$error":"#REF!"},{"$error":"#REF!"},{"$error":"#REF!"},"Mujer","50-54",{"$f":"'Pob x Genero'!#REF!","v":{"$error":"#REF!"}},1518]
[{"$f":"A52588","v":{"$error":"#REF!"}},{"$error":"#REF!"},{"$error":"#REF!"},{"$error":"#REF!"},{"$error":"#REF!"},"Mujer","50-54",{"$f":"'Pob x Genero'!#REF!","v":{"$error":"#REF!"}},1557]
[{"$f":"A52627","v":{"$error":"#REF!"}},{"$error":"#REF!"},{"$error":"#REF!"},{"$error":"#REF!"},{"$error":"#REF!"},"Mujer","50-54",{"$f":"'Pob x Genero'!#REF!","v":{"$error":"#REF!"}},1596]
[{"$f":"A52654","v":{"$error":"#REF!"}},{"$error":"#REF!"},{"$error":"#REF!"},{"$error":"#REF!"},{"$error":"#REF!"},"Mujer","50-54",{"$f":"'Pob x Genero'!#REF!","v":{"$error":"#REF!"}},1623]
[{"$f":"A52675","v":{"$error":"#REF!"}},{"$error":"#REF!"},{"$error":"#REF!"},{"$error":"#REF!"},{"$error":"#REF!"},"Mujer","50-54",{"$f":"'Pob x Genero'!#REF!","v":{"$error":"#REF!"}},1644]
[{"$f":"A52718","v":{"$error":"#REF!"}},{"$error":"#REF!"},{"$error":"#REF!"},{"$error":"#REF!"},{"$error":"#REF!"},"Mujer","50-54",{"$f":"'Pob x Genero'!#REF!","v":{"$error":"#REF!"}},1687]
[{"$f":"A52757","v":{"$error":"#REF!"}},{"$error":"#REF!"},{"$error":"#REF!"},{"$error":"#REF!"},{"$error":"#REF!"},"Mujer","50-54",{"$f":"'Pob x Genero'!#REF!","v":{"$error":"#REF!"}},1726]
[{"$f":"A52789","v":{"$error":"#REF!"}},{"$error":"#REF!"},{"$error":"#REF!"},{"$error":"#REF!"},{"$error":"#REF!"},"Mujer","50-54",{"$f":"'Pob x Genero'!#REF!","v":{"$error":"#REF!"}},1758]
[{"$f":"A52805","v":{"$error":"#REF!"}},{"$error":"#REF!"},{"$error":"#REF!"},{"$error":"#REF!"},{"$error":"#REF!"},"Mujer","50-54",{"$f":"'Pob x Genero'!#REF!","v":{"$error":"#REF!"}},1774]
[{"$f":"A52844","v":{"$error":"#REF!"}},{"$error":"#REF!"},{"$error":"#REF!"},{"$error":"#REF!"},{"$error":"#REF!"},"Mujer","50-54",{"$f":"'Pob x Genero'!#REF!","v":{"$error":"#REF!"}},1813]
[{"$f":"A52883","v":{"$error":"#REF!"}},{"$error":"#REF!"},{"$error":"#REF!"},{"$error":"#REF!"},{"$error":"#REF!"},"Mujer","50-54",{"$f":"'Pob x Genero'!#REF!","v":{"$error":"#REF!"}},1852]
[{"$f":"A52926","v":{"$error":"#REF!"}},{"$error":"#REF!"},{"$error":"#REF!"},{"$error":"#REF!"},{"$error":"#REF!"},"Mujer","55-59",{"$f":"'Pob x Genero'!#REF!","v":{"$error":"#REF!"}},5]
[{"$f":"A52942","v":{"$error":"#REF!"}},{"$error":"#REF!"},{"$error":"#REF!"},{"$error":"#REF!"},{"$error":"#REF!"},"Mujer","55-59",{"$f":"'Pob x Genero'!#REF!","v":{"$error":"#REF!"}},21]
[{"$f":"A52974","v":{"$error":"#REF!"}},{"$error":"#REF!"},{"$error":"#REF!"},{"$error":"#REF!"},{"$error":"#REF!"},"Mujer","55-59",{"$f":"'Pob x Genero'!#REF!","v":{"$error":"#REF!"}},53]
[{"$f":"A53013","v":{"$error":"#REF!"}},{"$error":"#REF!"},{"$error":"#REF!"},{"$error":"#REF!"},{"$error":"#REF!"},"Mujer","55-59",{"$f":"'Pob x Genero'!#REF!","v":{"$error":"#REF!"}},92]
[{"$f":"A53052","v":{"$error":"#REF!"}},{"$error":"#REF!"},{"$error":"#REF!"},{"$error":"#REF!"},{"$error":"#REF!"},"Mujer","55-59",{"$f":"'Pob x Genero'!#REF!","v":{"$error":"#REF!"}},131]
[{"$f":"A53077","v":{"$error":"#REF!"}},{"$error":"#REF!"},{"$error":"#REF!"},{"$error":"#REF!"},{"$error":"#REF!"},"Mujer","55-59",{"$f":"'Pob x Genero'!#REF!","v":{"$error":"#REF!"}},156]
[{"$f":"A53100","v":{"$error":"#REF!"}},{"$error":"#REF!"},{"$error":"#REF!"},{"$error":"#REF!"},{"$error":"#REF!"},"Mujer","55-59",{"$f":"'Pob x Genero'!#REF!","v":{"$error":"#REF!"}},179]
[{"$f":"A53143","v":{"$error":"#REF!"}},{"$error":"#REF!"},{"$error":"#REF!"},{"$error":"#REF!"},{"$error":"#REF!"},"Mujer","55-59",{"$f":"'Pob x Genero'!#REF!","v":{"$error":"#REF!"}},222]
[{"$f":"A53182","v":{"$error":"#REF!"}},{"$error":"#REF!"},{"$error":"#REF!"},{"$error":"#REF!"},{"$error":"#REF!"},"Mujer","55-59",{"$f":"'Pob x Genero'!#REF!","v":{"$error":"#REF!"}},261]
[{"$f":"A53212","v":{"$error":"#REF!"}},{"$error":"#REF!"},{"$error":"#REF!"},{"$error":"#REF!"},{"$error":"#REF!"},"Mujer","55-59",{"$f":"'Pob x Genero'!#REF!","v":{"$error":"#REF!"}},291]
[{"$f":"A53263","v":"040107"},"AREQUIPA","AREQUIPA","AREQUIPA","JACOBO HUNTER","Mujer","55-59",{"$f":"'Pob x Genero'!DV15","v":1358},342]
[{"$f":"A53269","v":"040113"},"AREQUIPA","AREQUIPA","AREQUIPA","POCSI","Mujer","55-59",{"$f":"'Pob x Genero'!DV21","v":15},348]
[{"$f":"A53308","v":"040402"},"AREQUIPA","AREQUIPA","CASTILLA","ANDAGUA","Mujer","55-59",{"$f":"'Pob x Genero'!DV60","v":15},387]
[{"$f":"A53351","v":"040703"},"AREQUIPA","AREQUIPA","ISLAY","DEAN VALDIVIA","Mujer","55-59",{"$f":"'Pob x Genero'!DV103","v":206},430]
[{"$f":"A53365","v":"040811"},"AREQUIPA","AREQUIPA","LA UNION","TORO","Mujer","55-59",{"$f":"'Pob x Genero'!DV117","v":5},444]
[{"$f":"A53399","v":{"$error":"#REF!"}},{"$error":"#REF!"},{"$error":"#REF!"},{"$error":"#REF!"},{"$error":"#REF!"},"Mujer","55-59",{"$f":"'Pob x Genero'!#REF!","v":{"$error":"#REF!"}},478]
[{"$f":"A53438","v":{"$error":"#REF!"}},{"$error":"#REF!"},{"$error":"#REF!"},{"$error":"#REF!"},{"$error":"#REF!"},"Mujer","55-59",{"$f":"'Pob x Genero'!#REF!","v":{"$error":"#REF!"}},517]
[{"$f":"A53477","v":{"$error":"#REF!"}},{"$error":"#REF!"},{"$error":"#REF!"},{"$error":"#REF!"},{"$error":"#REF!"},"Mujer","55-59",{"$f":"'Pob x Genero'!#REF!","v":{"$error":"#REF!"}},556]
[{"$f":"A53500","v":{"$error":"#REF!"}},{"$error":"#REF!"},{"$error":"#REF!"},{"$error":"#REF!"},{"$error":"#REF!"},"Mujer","55-59",{"$f":"'Pob x Genero'!#REF!","v":{"$error":"#REF!"}},579]
[{"$f":"A53558","v":{"$error":"#REF!"}},{"$error":"#REF!"},{"$error":"#REF!"},{"$error":"#REF!"},{"$error":"#REF!"},"Mujer","55-59",{"$f":"'Pob x Genero'!#REF!","v":{"$error":"#REF!"}},637]
[{"$f":"A53564","v":{"$error":"#REF!"}},{"$error":"#REF!"},{"$error":"#REF!"},{"$error":"#REF!"},{"$error":"#REF!"},"Mujer","55-59",{"$f":"'Pob x Genero'!#REF!","v":{"$error":"#REF!"}},643]
[{"$f":"A53607","v":{"$error":"#REF!"}},{"$error":"#REF!"},{"$error":"#REF!"},{"$error":"#REF!"},{"$error":"#REF!"},"Mujer","55-59",{"$f":"'Pob x Genero'!#REF!","v":{"$error":"#REF!"}},686]
[{"$f":"A53635","v":{"$error":"#REF!"}},{"$error":"#REF!"},{"$error":"#REF!"},{"$error":"#REF!"},{"$error":"#REF!"},"Mujer","55-59",{"$f":"'Pob x Genero'!#REF!","v":{"$error":"#REF!"}},714]
[{"$f":"A53688","v":{"$error":"#REF!"}},{"$error":"#REF!"},{"$error":"#REF!"},{"$error":"#REF!"},{"$error":"#REF!"},"Mujer","55-59",{"$f":"'Pob x Genero'!#REF!","v":{"$error":"#REF!"}},767]
[{"$f":"A53694","v":{"$error":"#REF!"}},{"$error":"#REF!"},{"$error":"#REF!"},{"$error":"#REF!"},{"$error":"#REF!"},"Mujer","55-59",{"$f":"'Pob x Genero'!#REF!","v":{"$error":"#REF!"}},773]
[{"$f":"A53733","v":{"$error":"#REF!"}},{"$error":"#REF!"},{"$error":"#REF!"},{"$error":"#REF!"},{"$error":"#REF!"},"Mujer","55-59",{"$f":"'Pob x Genero'!#REF!","v":{"$error":"#REF!"}},812]
[{"$f":"A53776","v":{"$error":"#REF!"}},{"$error":"#REF!"},{"$error":"#REF!"},{"$error":"#REF!"},{"$error":"#REF!"},"Mujer","55-59",{"$f":"'Pob x Genero'!#REF!","v":{"$error":"#REF!"}},855]
[{"$f":"A53820","v":{"$error":"#REF!"}},{"$error":"#REF!"},{"$error":"#REF!"},{"$error":"#REF!"},{"$error":"#REF!"},"Mujer","55-59",{"$f":"'Pob x Genero'!#REF!","v":{"$error":"#REF!"}},899]
[{"$f":"A53824","v":{"$error":"#REF!"}},{"$error":"#REF!"},{"$error":"#REF!"},{"$error":"#REF!"},{"$error":"#REF!"},"Mujer","55-59",{"$f":"'Pob x Genero'!#REF!","v":{"$error":"#REF!"}},903]
[{"$f":"A53863","v":{"$error":"#REF!"}},{"$error":"#REF!"},{"$error":"#REF!"},{"$error":"#REF!"},{"$error":"#REF!"},"Mujer","55-59",{"$f":"'Pob x Genero'!#REF!","v":{"$error":"#REF!"}},942]
[{"$f":"A53902","v":{"$error":"#REF!"}},{"$error":"#REF!"},{"$error":"#REF!"},{"$error":"#REF!"},{"$error":"#REF!"},"Mujer","55-59",{"$f":"'Pob x Genero'!#REF!","v":{"$error":"#REF!"}},981]
[{"$f":"A53923","v":{"$error":"#REF!"}},{"$error":"#REF!"},{"$error":"#REF!"},{"$error":"#REF!"},{"$error":"#REF!"},"Mujer","55-59",{"$f":"'Pob x Genero'!#REF!","v":{"$error":"#REF!"}},1002]
[{"$f":"A53983","v":{"$error":"#REF!"}},{"$error":"#REF!"},{"$error":"#REF!"},{"$error":"#REF!"},{"$error":"#REF!"},"Mujer","55-59",{"$f":"'Pob x Genero'!#REF!","v":{"$error":"#REF!"}},1062]
[{"$f":"A53989","v":{"$error":"#REF!"}},{"$error":"#REF!"},{"$error":"#REF!"},{"$error":"#REF!"},{"$error":"#REF!"},"Mujer","55-59",{"$f":"'Pob x Genero'!#REF!","v":{"$error":"#REF!"}},1068]
[{"$f":"A54032","v":{"$error":"#REF!"}},{"$error":"#REF!"},{"$error":"#REF!"},{"$error":"#REF!"},{"$error":"#REF!"},"Mujer","55-59",{"$f":"'Pob x Genero'!#REF!","v":{"$error":"#REF!"}},1111]
[{"$f":"A54071","v":{"$error":"#REF!"}},{"$error":"#REF!"},{"$error":"#REF!"},{"$error":"#REF!"},{"$error":"#REF!"},"Mujer","55-59",{"$f":"'Pob x Genero'!#REF!","v":{"$error":"#REF!"}},1150]
[{"$f":"A54108","v":{"$error":"#REF!"}},{"$error":"#REF!"},{"$error":"#REF!"},{"$error":"#REF!"},{"$error":"#REF!"},"Mujer","55-59",{"$f":"'Pob x Genero'!#REF!","v":{"$error":"#REF!"}},1187]
[{"$f":"A54119","v":{"$error":"#REF!"}},{"$error":"#REF!"},{"$error":"#REF!"},{"$error":"#REF!"},{"$error":"#REF!"},"Mujer","55-59",{"$f":"'Pob x Genero'!#REF!","v":{"$error":"#REF!"}},1198]
[{"$f":"A54158","v":{"$error":"#REF!"}},{"$error":"#REF!"},{"$error":"#REF!"},{"$error":"#REF!"},{"$error":"#REF!"},"Mujer","55-59",{"$f":"'Pob x Genero'!#REF!","v":{"$error":"#REF!"}},1237]
[{"$f":"A54201","v":{"$error":"#REF!"}},{"$error":"#REF!"},{"$error":"#REF!"},{"$error":"#REF!"},{"$error":"#REF!"},"Mujer","55-59",{"$f":"'Pob x Genero'!#REF!","v":{"$error":"#REF!"}},1280]
[{"$f":"A54243","v":{"$error":"#REF!"}},{"$error":"#REF!"},{"$error":"#REF!"},{"$error":"#REF!"},{"$error":"#REF!"},"Mujer","55-59",{"$f":"'Pob x Genero'!#REF!","v":{"$error":"#REF!"}},1322]
[{"$f":"A54249","v":{"$error":"#REF!"}},{"$error":"#REF!"},{"$error":"#REF!"},{"$error":"#REF!"},{"$error":"#REF!"},"Mujer","55-59",{"$f":"'Pob x Genero'!#REF!","v":{"$error":"#REF!"}},1328]
[{"$f":"A54288","v":{"$error":"#REF!"}},{"$error":"#REF!"},{"$error":"#REF!"},{"$error":"#REF!"},{"$error":"#REF!"},"Mujer","55-59",{"$f":"'Pob x Genero'!#REF!","v":{"$error":"#REF!"}},1367]
[{"$f":"A54327","v":{"$error":"#REF!"}},{"$error":"#REF!"},{"$error":"#REF!"},{"$error":"#REF!"},{"$error":"#REF!"},"Mujer","55-59",{"$f":"'Pob x Genero'!#REF!","v":{"$error":"#REF!"}},1406]
[{"$f":"A54346","v":{"$error":"#REF!"}},{"$error":"#REF!"},{"$error":"#REF!"},{"$error":"#REF!"},{"$error":"#REF!"},"Mujer","55-59",{"$f":"'Pob x Genero'!#REF!","v":{"$error":"#REF!"}},1425]
[{"$f":"A54408","v":{"$error":"#REF!"}},{"$error":"#REF!"},{"$error":"#REF!"},{"$error":"#REF!"},{"$error":"#REF!"},"Mujer","55-59",{"$f":"'Pob x Genero'!#REF!","v":{"$error":"#REF!"}},1487]
[{"$f":"A54414","v":{"$error":"#REF!"}},{"$error":"#REF!"},{"$error":"#REF!"},{"$error":"#REF!"},{"$error":"#REF!"},"Mujer","55-59",{"$f":"'Pob x Genero'!#REF!","v":{"$error":"#REF!"}},1493]
[{"$f":"A54457","v":{"$error":"#REF!"}},{"$error":"#REF!"},{"$error":"#REF!"},{"$error":"#REF!"},{"$error":"#REF!"},"Mujer","55-59",{"$f":"'Pob x Genero'!#REF!","v":{"$error":"#REF!"}},1536]
[{"$f":"A54496","v":{"$error":"#REF!"}},{"$error":"#REF!"},{"$error":"#REF!"},{"$error":"#REF!"},{"$error":"#REF!"},"Mujer","55-59",{"$f":"'Pob x Genero'!#REF!","v":{"$error":"#REF!"}},1575]
[{"$f":"A54531","v":{"$error":"#REF!"}},{"$error":"#REF!"},{"$error":"#REF!"},{"$error":"#REF!"},{"$error":"#REF!"},"Mujer","55-59",{"$f":"'Pob x Genero'!#REF!","v":{"$error":"#REF!"}},1610]
[{"$f":"A54544","v":{"$error":"#REF!"}},{"$error":"#REF!"},{"$error":"#REF!"},{"$error":"#REF!"},{"$error":"#REF!"},"Mujer","55-59",{"$f":"'Pob x Genero'!#REF!","v":{"$error":"#REF!"}},1623]
[{"$f":"A54583","v":{"$error":"#REF!"}},{"$error":"#REF!"},{"$error":"#REF!"},{"$error":"#REF!"},{"$error":"#REF!"},"Mujer","55-59",{"$f":"'Pob x Genero'!#REF!","v":{"$error":"#REF!"}},1662]
[{"$f":"A54626","v":{"$error":"#REF!"}},{"$error":"#REF!"},{"$error":"#REF!"},{"$error":"#REF!"},{"$error":"#REF!"},"Mujer","55-59",{"$f":"'Pob x Genero'!#REF!","v":{"$error":"#REF!"}},1705]
[{"$f":"A54666","v":{"$error":"#REF!"}},{"$error":"#REF!"},{"$error":"#REF!"},{"$error":"#REF!"},{"$error":"#REF!"},"Mujer","55-59",{"$f":"'Pob x Genero'!#REF!","v":{"$error":"#REF!"}},1745]
[{"$f":"A54703","v":{"$error":"#REF!"}},{"$error":"#REF!"},{"$error":"#REF!"},{"$error":"#REF!"},{"$error":"#REF!"},"Mujer","55-59",{"$f":"'Pob x Genero'!#REF!","v":{"$error":"#REF!"}},1782]
[{"$f":"A54713","v":{"$error":"#REF!"}},{"$error":"#REF!"},{"$error":"#REF!"},{"$error":"#REF!"},{"$error":"#REF!"},"Mujer","55-59",{"$f":"'Pob x Genero'!#REF!","v":{"$error":"#REF!"}},1792]
[{"$f":"A54752","v":{"$error":"#REF!"}},{"$error":"#REF!"},{"$error":"#REF!"},{"$error":"#REF!"},{"$error":"#REF!"},"Mujer","55-59",{"$f":"'Pob x Genero'!#REF!","v":{"$error":"#REF!"}},1831]
[{"$f":"A54801","v":{"$error":"#REF!"}},{"$error":"#REF!"},{"$error":"#REF!"},{"$error":"#REF!"},{"$error":"#REF!"},"Mujer","55-59",{"$f":"'Pob x Genero'!#REF!","v":{"$error":"#REF!"}},1880]
[{"$f":"A54833","v":{"$error":"#REF!"}},{"$error":"#REF!"},{"$error":"#REF!"},{"$error":"#REF!"},{"$error":"#REF!"},"Mujer","60-64",{"$f":"'Pob x Genero'!#REF!","v":{"$error":"#REF!"}},22]
[{"$f":"A54839","v":{"$error":"#REF!"}},{"$error":"#REF!"},{"$error":"#REF!"},{"$error":"#REF!"},{"$error":"#REF!"},"Mujer","60-64",{"$f":"'Pob x Genero'!#REF!","v":{"$error":"#REF!"}},28]
[{"$f":"A54882","v":{"$error":"#REF!"}},{"$error":"#REF!"},{"$error":"#REF!"},{"$error":"#REF!"},{"$error":"#REF!"},"Mujer","60-64",{"$f":"'Pob x Genero'!#REF!","v":{"$error":"#REF!"}},71]
[{"$f":"A54921","v":{"$error":"#REF!"}},{"$error":"#REF!"},{"$error":"#REF!"},{"$error":"#REF!"},{"$error":"#REF!"},"Mujer","60-64",{"$f":"'Pob x Genero'!#REF!","v":{"$error":"#REF!"}},110]
[{"$f":"A54954","v":{"$error":"#REF!"}},{"$error":"#REF!"},{"$error":"#REF!"},{"$error":"#REF!"},{"$error":"#REF!"},"Mujer","60-64",{"$f":"'Pob x Genero'!#REF!","v":{"$error":"#REF!"}},143]
[{"$f":"A54969","v":{"$error":"#REF!"}},{"$error":"#REF!"},{"$error":"#REF!"},{"$error":"#REF!"},{"$error":"#REF!"},"Mujer","60-64",{"$f":"'Pob x Genero'!#REF!","v":{"$error":"#REF!"}},158]
[{"$f":"A55008","v":{"$error":"#REF!"}},{"$error":"#REF!"},{"$error":"#REF!"},{"$error":"#REF!"},{"$error":"#REF!"},"Mujer","60-64",{"$f":"'Pob x Genero'!#REF!","v":{"$error":"#REF!"}},197]
[{"$f":"A55051","v":{"$error":"#REF!"}},{"$error":"#REF!"},{"$error":"#REF!"},{"$error":"#REF!"},{"$error":"#REF!"},"Mujer","60-64",{"$f":"'Pob x Genero'!#REF!","v":{"$error":"#REF!"}},240]
[{"$f":"A55089","v":{"$error":"#REF!"}},{"$error":"#REF!"},{"$error":"#REF!"},{"$error":"#REF!"},{"$error":"#REF!"},"Mujer","60-64",{"$f":"'Pob x Genero'!#REF!","v":{"$error":"#REF!"}},278]
[{"$f":"A55128","v":{"$error":"#REF!"}},{"$error":"#REF!"},{"$error":"#REF!"},{"$error":"#REF!"},{"$error":"#REF!"},"Mujer","60-64",{"$f":"'Pob x Genero'!#REF!","v":{"$error":"#REF!"}},317]
[{"$f":"A55138","v":{"$error":"#REF!"}},{"$error":"#REF!"},{"$error":"#REF!"},{"$error":"#REF!"},{"$error":"#REF!"},"Mujer","60-64",{"$f":"'Pob x Genero'!#REF!","v":{"$error":"#REF!"}},327]
[{"$f":"A55177","v":"040202"},"AREQUIPA","AREQUIPA","CAMANA","JOSE MARIA QUIMPER","Mujer","60-64",{"$f":"'Pob x Genero'!DW39","v":111},366]
[{"$f":"A55224","v":"040514"},"AREQUIPA","AREQUIPA","CAYLLOMA","SAN ANTONIO DE CHUCA","Mujer","60-64",{"$f":"'Pob x Genero'!DW86","v":21},413]
[{"$f":"A55258","v":{"$error":"#REF!"}},{"$error":"#REF!"},{"$error":"#REF!"},{"$error":"#REF!"},{"$error":"#REF!"},"Mujer","60-64",{"$f":"'Pob x Genero'!#REF!","v":{"$error":"#REF!"}},447]
[{"$f":"A55264","v":{"$error":"#REF!"}},{"$error":"#REF!"},{"$error":"#REF!"},{"$error":"#REF!"},{"$error":"#REF!"},"Mujer","60-64",{"$f":"'Pob x Genero'!#REF!","v":{"$error":"#REF!"}},453]
[{"$f":"A55307","v":{"$error":"#REF!"}},{"$error":"#REF!"},{"$error":"#REF!"},{"$error":"#REF!"},{"$error":"#REF!"},"Mujer","60-64",{"$f":"'Pob x Genero'!#REF!","v":{"$error":"#REF!"}},496]
[{"$f":"A55346","v":{"$error":"#REF!"}},{"$error":"#REF!"},{"$error":"#REF!"},{"$error":"#REF!"},{"$error":"#REF!"},"Mujer","60-64",{"$f":"'Pob x Genero'!#REF!","v":{"$error":"#REF!"}},535]
[{"$f":"A55377","v":{"$error":"#REF!"}},{"$error":"#REF!"},{"$error":"#REF!"},{"$error":"#REF!"},{"$error":"#REF!"},"Mujer","60-64",{"$f":"'Pob x Genero'!#REF!","v":{"$error":"#REF!"}},566]
[{"$f":"A55394","v":{"$error":"#REF!"}},{"$error":"#REF!"},{"$error":"#REF!"},{"$error":"#REF!"},{"$error":"#REF!"},"Mujer","60-64",{"$f":"'Pob x Genero'!#REF!","v":{"$error":"#REF!"}},583]
[{"$f":"A55433","v":{"$error":"#REF!"}},{"$error":"#REF!"},{"$error":"#REF!"},{"$error":"#REF!"},{"$error":"#REF!"},"Mujer","60-64",{"$f":"'Pob x Genero'!#REF!","v":{"$error":"#REF!"}},622]
[{"$f":"A55476","v":{"$error":"#REF!"}},{"$error":"#REF!"},{"$error":"#REF!"},{"$error":"#REF!"},{"$error":"#REF!"},"Mujer","60-64",{"$f":"'Pob x Genero'!#REF!","v":{"$error":"#REF!"}},665]
[{"$f":"A55512","v":{"$error":"#REF!"}},{"$error":"#REF!"},{"$error":"#REF!"},{"$error":"#REF!"},{"$error":"#REF!"},"Mujer","60-64",{"$f":"'Pob x Genero'!#REF!","v":{"$error":"#REF!"}},701]
[{"$f":"A55553","v":{"$error":"#REF!"}},{"$error":"#REF!"},{"$error":"#REF!"},{"$error":"#REF!"},{"$error":"#REF!"},"Mujer","60-64",{"$f":"'Pob x Genero'!#REF!","v":{"$error":"#REF!"}},742]
[{"$f":"A55563","v":{"$error":"#REF!"}},{"$error":"#REF!"},{"$error":"#REF!"},{"$error":"#REF!"},{"$error":"#REF!"},"Mujer","60-64",{"$f":"'Pob x Genero'!#REF!","v":{"$error":"#REF!"}},752]
[{"$f":"A55602","v":{"$error":"#REF!"}},{"$error":"#REF!"},{"$error":"#REF!"},{"$error":"#REF!"},{"$error":"#REF!"},"Mujer","60-64",{"$f":"'Pob x Genero'!#REF!","v":{"$error":"#REF!"}},791]
[{"$f":"A55647","v":{"$error":"#REF!"}},{"$error":"#REF!"},{"$error":"#REF!"},{"$error":"#REF!"},{"$error":"#REF!"},"Mujer","60-64",{"$f":"'Pob x Genero'!#REF!","v":{"$error":"#REF!"}},836]
[{"$f":"A55683","v":{"$error":"#REF!"}},{"$error":"#REF!"},{"$error":"#REF!"},{"$error":"#REF!"},{"$error":"#REF!"},"Mujer","60-64",{"$f":"'Pob x Genero'!#REF!","v":{"$error":"#REF!"}},872]
[{"$f":"A55689","v":{"$error":"#REF!"}},{"$error":"#REF!"},{"$error":"#REF!"},{"$error":"#REF!"},{"$error":"#REF!"},"Mujer","60-64",{"$f":"'Pob x Genero'!#REF!","v":{"$error":"#REF!"}},878]
[{"$f":"A55732","v":{"$error":"#REF!"}},{"$error":"#REF!"},{"$error":"#REF!"},{"$error":"#REF!"},{"$error":"#REF!"},"Mujer","60-64",{"$f":"'Pob x Genero'!#REF!","v":{"$error":"#REF!"}},921]
[{"$f":"A55771","v":{"$error":"#REF!"}},{"$error":"#REF!"},{"$error":"#REF!"},{"$error":"#REF!"},{"$error":"#REF!"},"Mujer","60-64",{"$f":"'Pob x Genero'!#REF!","v":{"$error":"#REF!"}},960]
[{"$f":"A55800","v":{"$error":"#REF!"}},{"$error":"#REF!"},{"$error":"#REF!"},{"$error":"#REF!"},{"$error":"#REF!"},"Mujer","60-64",{"$f":"'Pob x Genero'!#REF!","v":{"$error":"#REF!"}},989]
[{"$f":"A55852","v":{"$error":"#REF!"}},{"$error":"#REF!"},{"$error":"#REF!"},{"$error":"#REF!"},{"$error":"#REF!"},"Mujer","60-64",{"$f":"'Pob x Genero'!#REF!","v":{"$error":"#REF!"}},1041]
[{"$f":"A55858","v":{"$error":"#REF!"}},{"$error":"#REF!"},{"$error":"#REF!"},{"$error":"#REF!"},{"$error":"#REF!"},"Mujer","60-64",{"$f":"'Pob x Genero'!#REF!","v":{"$error":"#REF!"}},1047]
[{"$f":"A55901","v":{"$error":"#REF!"}},{"$error":"#REF!"},{"$error":"#REF!"},{"$error":"#REF!"},{"$error":"#REF!"},"Mujer","60-64",{"$f":"'Pob x Genero'!#REF!","v":{"$error":"#REF!"}},1090]
[{"$f":"A55935","v":{"$error":"#REF!"}},{"$error":"#REF!"},{"$error":"#REF!"},{"$error":"#REF!"},{"$error":"#REF!"},{"$f":"F57824","v":"Mujer"},{"$f":"G57824","v":"60-64"},{"$f":"'Pob x Genero'!#REF!","v":{"$error":"#REF!"}},1124]
[{"$f":"A55978","v":{"$error":"#REF!"}},{"$error":"#REF!"},{"$error":"#REF!"},{"$error":"#REF!"},{"$error":"#REF!"},"Mujer","60-64",{"$f":"'Pob x Genero'!#REF!","v":{"$error":"#REF!"}},1167]
[{"$f":"A55988","v":{"$error":"#REF!"}},{"$error":"#REF!"},{"$error":"#REF!"},{"$error":"#REF!"},{"$error":"#REF!"},"Mujer","60-64",{"$f":"'Pob x Genero'!#REF!","v":{"$error":"#REF!"}},1177]
[{"$f":"A56027","v":{"$error":"#REF!"}},{"$error":"#REF!"},{"$error":"#REF!"},{"$error":"#REF!"},{"$error":"#REF!"},"Mujer","60-64",{"$f":"'Pob x Genero'!#REF!","v":{"$error":"#REF!"}},1216]
[{"$f":"A56070","v":{"$error":"#REF!"}},{"$error":"#REF!"},{"$error":"#REF!"},{"$error":"#REF!"},{"$error":"#REF!"},"Mujer","60-64",{"$f":"'Pob x Genero'!#REF!","v":{"$error":"#REF!"}},1259]
[{"$f":"A56088","v":{"$error":"#REF!"}},{"$error":"#REF!"},{"$error":"#REF!"},{"$error":"#REF!"},{"$error":"#REF!"},"Mujer","60-64",{"$f":"'Pob x Genero'!#REF!","v":{"$error":"#REF!"}},1277]
[{"$f":"A56147","v":{"$error":"#REF!"}},{"$error":"#REF!"},{"$error":"#REF!"},{"$error":"#REF!"},{"$error":"#REF!"},"Mujer","60-64",{"$f":"'Pob x Genero'!#REF!","v":{"$error":"#REF!"}},1336]
[{"$f":"A56157","v":{"$error":"#REF!"}},{"$error":"#REF!"},{"$error":"#REF!"},{"$error":"#REF!"},{"$error":"#REF!"},"Mujer","60-64",{"$f":"'Pob x Genero'!#REF!","v":{"$error":"#REF!"}},1346]
[{"$f":"A56196","v":{"$error":"#REF!"}},{"$error":"#REF!"},{"$error":"#REF!"},{"$error":"#REF!"},{"$error":"#REF!"},"Mujer","60-64",{"$f":"'Pob x Genero'!#REF!","v":{"$error":"#REF!"}},1385]
[{"$f":"A56223","v":{"$error":"#REF!"}},{"$error":"#REF!"},{"$error":"#REF!"},{"$error":"#REF!"},{"$error":"#REF!"},"Mujer","60-64",{"$f":"'Pob x Genero'!#REF!","v":{"$error":"#REF!"}},1412]
[{"$f":"A56277","v":{"$error":"#REF!"}},{"$error":"#REF!"},{"$error":"#REF!"},{"$error":"#REF!"},{"$error":"#REF!"},"Mujer","60-64",{"$f":"'Pob x Genero'!#REF!","v":{"$error":"#REF!"}},1466]
[{"$f":"A56283","v":{"$error":"#REF!"}},{"$error":"#REF!"},{"$error":"#REF!"},{"$error":"#REF!"},{"$error":"#REF!"},"Mujer","60-64",{"$f":"'Pob x Genero'!#REF!","v":{"$error":"#REF!"}},1472]
[{"$f":"A56326","v":{"$error":"#REF!"}},{"$error":"#REF!"},{"$error":"#REF!"},{"$error":"#REF!"},{"$error":"#REF!"},"Mujer","60-64",{"$f":"'Pob x Genero'!#REF!","v":{"$error":"#REF!"}},1515]
[{"$f":"A56358","v":{"$error":"#REF!"}},{"$error":"#REF!"},{"$error":"#REF!"},{"$error":"#REF!"},{"$error":"#REF!"},"Mujer","60-64",{"$f":"'Pob x Genero'!#REF!","v":{"$error":"#REF!"}},1547]
[{"$f":"A56403","v":{"$error":"#REF!"}},{"$error":"#REF!"},{"$error":"#REF!"},{"$error":"#REF!"},{"$error":"#REF!"},"Mujer","60-64",{"$f":"'Pob x Genero'!#REF!","v":{"$error":"#REF!"}},1592]
[{"$f":"A56413","v":{"$error":"#REF!"}},{"$error":"#REF!"},{"$error":"#REF!"},{"$error":"#REF!"},{"$error":"#REF!"},"Mujer","60-64",{"$f":"'Pob x Genero'!#REF!","v":{"$error":"#REF!"}},1602]
[{"$f":"A56452","v":{"$error":"#REF!"}},{"$error":"#REF!"},{"$error":"#REF!"},{"$error":"#REF!"},{"$error":"#REF!"},"Mujer","60-64",{"$f":"'Pob x Genero'!#REF!","v":{"$error":"#REF!"}},1641]
[{"$f":"A56491","v":{"$error":"#REF!"}},{"$error":"#REF!"},{"$error":"#REF!"},{"$error":"#REF!"},{"$error":"#REF!"},"Mujer","60-64",{"$f":"'Pob x Genero'!#REF!","v":{"$error":"#REF!"}},1680]
[{"$f":"A56511","v":{"$error":"#REF!"}},{"$error":"#REF!"},{"$error":"#REF!"},{"$error":"#REF!"},{"$error":"#REF!"},{"$f":"F58400","v":"Mujer"},{"$f":"G58400","v":"60-64"},{"$f":"'Pob x Genero'!#REF!","v":{"$error":"#REF!"}},1700]
[{"$f":"A56572","v":{"$error":"#REF!"}},{"$error":"#REF!"},{"$error":"#REF!"},{"$error":"#REF!"},{"$error":"#REF!"},"Mujer","60-64",{"$f":"'Pob x Genero'!#REF!","v":{"$error":"#REF!"}},1761]
[{"$f":"A56582","v":{"$error":"#REF!"}},{"$error":"#REF!"},{"$error":"#REF!"},{"$error":"#REF!"},{"$error":"#REF!"},"Mujer","60-64",{"$f":"'Pob x Genero'!#REF!","v":{"$error":"#REF!"}},1771]
[{"$f":"A56621","v":{"$error":"#REF!"}},{"$error":"#REF!"},{"$error":"#REF!"},{"$error":"#REF!"},{"$error":"#REF!"},"Mujer","60-64",{"$f":"'Pob x Genero'!#REF!","v":{"$error":"#REF!"}},1810]
[{"$f":"A56646","v":{"$error":"#REF!"}},{"$error":"#REF!"},{"$error":"#REF!"},{"$error":"#REF!"},{"$error":"#REF!"},"Mujer","60-64",{"$f":"'Pob x Genero'!#REF!","v":{"$error":"#REF!"}},1835]
[{"$f":"A56702","v":{"$error":"#REF!"}},{"$error":"#REF!"},{"$error":"#REF!"},{"$error":"#REF!"},{"$error":"#REF!"},"Mujer",{"$f":"'Pob x Genero'!DX7","v":"65-69"},{"$f":"'Pob x Genero'!#REF!","v":{"$error":"#REF!"}},1]
[{"$f":"A56708","v":{"$error":"#REF!"}},{"$error":"#REF!"},{"$error":"#REF!"},{"$error":"#REF!"},{"$error":"#REF!"},"Mujer","65-69",{"$f":"'Pob x Genero'!#REF!","v":{"$error":"#REF!"}},7]
[{"$f":"A56751","v":{"$error":"#REF!"}},{"$error":"#REF!"},{"$error":"#REF!"},{"$error":"#REF!"},{"$error":"#REF!"},"Mujer","65-69",{"$f":"'Pob x Genero'!#REF!","v":{"$error":"#REF!"}},50]
[{"$f":"A56781","v":{"$error":"#REF!"}},{"$error":"#REF!"},{"$error":"#REF!"},{"$error":"#REF!"},{"$error":"#REF!"},"Mujer","65-69",{"$f":"'Pob x Genero'!#REF!","v":{"$error":"#REF!"}},80]
[{"$f":"A56828","v":{"$error":"#REF!"}},{"$error":"#REF!"},{"$error":"#REF!"},{"$error":"#REF!"},{"$error":"#REF!"},"Mujer","65-69",{"$f":"'Pob x Genero'!#REF!","v":{"$error":"#REF!"}},127]
[{"$f":"A56838","v":{"$error":"#REF!"}},{"$error":"#REF!"},{"$error":"#REF!"},{"$error":"#REF!"},{"$error":"#REF!"},"Mujer","65-69",{"$f":"'Pob x Genero'!#REF!","v":{"$error":"#REF!"}},137]
[{"$f":"A56877","v":{"$error":"#REF!"}},{"$error":"#REF!"},{"$error":"#REF!"},{"$error":"#REF!"},{"$error":"#REF!"},"Mujer","65-69",{"$f":"'Pob x Genero'!#REF!","v":{"$error":"#REF!"}},176]
[{"$f":"A56916","v":{"$error":"#REF!"}},{"$error":"#REF!"},{"$error":"#REF!"},{"$error":"#REF!"},{"$error":"#REF!"},"Mujer","65-69",{"$f":"'Pob x Genero'!#REF!","v":{"$error":"#REF!"}},215]
[{"$f":"A56966","v":{"$error":"#REF!"}},{"$error":"#REF!"},{"$error":"#REF!"},{"$error":"#REF!"},{"$error":"#REF!"},"Mujer","65-69",{"$f":"'Pob x Genero'!#REF!","v":{"$error":"#REF!"}},265]
[{"$f":"A56997","v":{"$error":"#REF!"}},{"$error":"#REF!"},{"$error":"#REF!"},{"$error":"#REF!"},{"$error":"#REF!"},"Mujer","65-69",{"$f":"'Pob x Genero'!#REF!","v":{"$error":"#REF!"}},296]
[{"$f":"A57007","v":{"$error":"#REF!"}},{"$error":"#REF!"},{"$error":"#REF!"},{"$error":"#REF!"},{"$error":"#REF!"},"Mujer","65-69",{"$f":"'Pob x Genero'!#REF!","v":{"$error":"#REF!"}},306]
[{"$f":"A57046","v":"040110"},"AREQUIPA","AREQUIPA","AREQUIPA","MIRAFLORES","Mujer","65-69",{"$f":"'Pob x Genero'!DX18","v":1269},345]
[{"$f":"A57069","v":"040204"},"AREQUIPA","AREQUIPA","CAMANA","MARISCAL CACERES","Mujer","65-69",{"$f":"'Pob x Genero'!DX41","v":123},368]
[{"$f":"A57127","v":"040607"},"AREQUIPA","AREQUIPA","CONDESUYOS","SALAMANCA","Mujer","65-69",{"$f":"'Pob x Genero'!DX99","v":5},426]
[{"$f":"A57133","v":"040705"},"AREQUIPA","AREQUIPA","ISLAY","MEJIA","Mujer","65-69",{"$f":"'Pob x Genero'!DX105","v":27},432]
[{"$f":"A57176","v":{"$error":"#REF!"}},{"$error":"#REF!"},{"$error":"#REF!"},{"$error":"#REF!"},{"$error":"#REF!"},"Mujer","65-69",{"$f":"'Pob x Genero'!#REF!","v":{"$error":"#REF!"}},475]
[{"$f":"A57204","v":{"$error":"#REF!"}},{"$error":"#REF!"},{"$error":"#REF!"},{"$error":"#REF!"},{"$error":"#REF!"},"Mujer","65-69",{"$f":"'Pob x Genero'!#REF!","v":{"$error":"#REF!"}},503]
[{"$f":"A57253","v":{"$error":"#REF!"}},{"$error":"#REF!"},{"$error":"#REF!"},{"$error":"#REF!"},{"$error":"#REF!"},"Mujer","65-69",{"$f":"'Pob x Genero'!#REF!","v":{"$error":"#REF!"}},552]
[{"$f":"A57263","v":{"$error":"#REF!"}},{"$error":"#REF!"},{"$error":"#REF!"},{"$error":"#REF!"},{"$error":"#REF!"},"Mujer","65-69",{"$f":"'Pob x Genero'!#REF!","v":{"$error":"#REF!"}},562]
[{"$f":"A57302","v":{"$error":"#REF!"}},{"$error":"#REF!"},{"$error":"#REF!"},{"$error":"#REF!"},{"$error":"#REF!"},"Mujer","65-69",{"$f":"'Pob x Genero'!#REF!","v":{"$error":"#REF!"}},601]
[{"$f":"A57341","v":{"$error":"#REF!"}},{"$error":"#REF!"},{"$error":"#REF!"},{"$error":"#REF!"},{"$error":"#REF!"},"Mujer","65-69",{"$f":"'Pob x Genero'!#REF!","v":{"$error":"#REF!"}},640]
[{"$f":"A57389","v":{"$error":"#REF!"}},{"$error":"#REF!"},{"$error":"#REF!"},{"$error":"#REF!"},{"$error":"#REF!"},"Mujer","65-69",{"$f":"'Pob x Genero'!#REF!","v":{"$error":"#REF!"}},688]
[{"$f":"A57422","v":{"$error":"#REF!"}},{"$error":"#REF!"},{"$error":"#REF!"},{"$error":"#REF!"},{"$error":"#REF!"},"Mujer","65-69",{"$f":"'Pob x Genero'!#REF!","v":{"$error":"#REF!"}},721]
[{"$f":"A57432","v":{"$error":"#REF!"}},{"$error":"#REF!"},{"$error":"#REF!"},{"$error":"#REF!"},{"$error":"#REF!"},"Mujer","65-69",{"$f":"'Pob x Genero'!#REF!","v":{"$error":"#REF!"}},731]
[{"$f":"A57471","v":{"$error":"#REF!"}},{"$error":"#REF!"},{"$error":"#REF!"},{"$error":"#REF!"},{"$error":"#REF!"},{"$f":"F59360","v":"Mujer"},{"$f":"G59360","v":"65-69"},{"$f":"'Pob x Genero'!#REF!","v":{"$error":"#REF!"}},770]
[{"$f":"A57492","v":{"$error":"#REF!"}},{"$error":"#REF!"},{"$error":"#REF!"},{"$error":"#REF!"},{"$error":"#REF!"},"Mujer","65-69",{"$f":"'Pob x Genero'!#REF!","v":{"$error":"#REF!"}},791]
[{"$f":"A57552","v":{"$error":"#REF!"}},{"$error":"#REF!"},{"$error":"#REF!"},{"$error":"#REF!"},{"$error":"#REF!"},"Mujer","65-69",{"$f":"'Pob x Genero'!#REF!","v":{"$error":"#REF!"}},851]
[{"$f":"A57558","v":{"$error":"#REF!"}},{"$error":"#REF!"},{"$error":"#REF!"},{"$error":"#REF!"},{"$error":"#REF!"},"Mujer","65-69",{"$f":"'Pob x Genero'!#REF!","v":{"$error":"#REF!"}},857]
[{"$f":"A57597","v":{"$error":"#REF!"}},{"$error":"#REF!"},{"$error":"#REF!"},{"$error":"#REF!"},{"$error":"#REF!"},"Mujer","65-69",{"$f":"'Pob x Genero'!#REF!","v":{"$error":"#REF!"}},896]
[{"$f":"A57627","v":{"$error":"#REF!"}},{"$error":"#REF!"},{"$error":"#REF!"},{"$error":"#REF!"},{"$error":"#REF!"},"Mujer","65-69",{"$f":"'Pob x Genero'!#REF!","v":{"$error":"#REF!"}},926]
[{"$f":"A57678","v":{"$error":"#REF!"}},{"$error":"#REF!"},{"$error":"#REF!"},{"$error":"#REF!"},{"$error":"#REF!"},"Mujer","65-69",{"$f":"'Pob x Genero'!#REF!","v":{"$error":"#REF!"}},977]
[{"$f":"A57688","v":{"$error":"#REF!"}},{"$error":"#REF!"},{"$error":"#REF!"},{"$error":"#REF!"},{"$error":"#REF!"},"Mujer","65-69",{"$f":"'Pob x Genero'!#REF!","v":{"$error":"#REF!"}},987]
[{"$f":"A57727","v":{"$error":"#REF!"}},{"$error":"#REF!"},{"$error":"#REF!"},{"$error":"#REF!"},{"$error":"#REF!"},{"$f":"F59616","v":"Mujer"},{"$f":"G59616","v":"65-69"},{"$f":"'Pob x Genero'!#REF!","v":{"$error":"#REF!"}},1026]
[{"$f":"A57766","v":{"$error":"#REF!"}},{"$error":"#REF!"},{"$error":"#REF!"},{"$error":"#REF!"},{"$error":"#REF!"},"Mujer","65-69",{"$f":"'Pob x Genero'!#REF!","v":{"$error":"#REF!"}},1065]
[{"$f":"A57812","v":{"$error":"#REF!"}},{"$error":"#REF!"},{"$error":"#REF!"},{"$error":"#REF!"},{"$error":"#REF!"},"Mujer","65-69",{"$f":"'Pob x Genero'!#REF!","v":{"$error":"#REF!"}},1111]
[{"$f":"A57847","v":{"$error":"#REF!"}},{"$error":"#REF!"},{"$error":"#REF!"},{"$error":"#REF!"},{"$error":"#REF!"},"Mujer","65-69",{"$f":"'Pob x Genero'!#REF!","v":{"$error":"#REF!"}},1146]
[{"$f":"A57857","v":{"$error":"#REF!"}},{"$error":"#REF!"},{"$error":"#REF!"},{"$error":"#REF!"},{"$error":"#REF!"},"Mujer","65-69",{"$f":"'Pob x Genero'!#REF!","v":{"$error":"#REF!"}},1156]
[{"$f":"A57896","v":{"$error":"#REF!"}},{"$error":"#REF!"},{"$error":"#REF!"},{"$error":"#REF!"},{"$error":"#REF!"},"Mujer","65-69",{"$f":"'Pob x Genero'!#REF!","v":{"$error":"#REF!"}},1195]
[{"$f":"A57947","v":{"$error":"#REF!"}},{"$error":"#REF!"},{"$error":"#REF!"},{"$error":"#REF!"},{"$error":"#REF!"},"Mujer","65-69",{"$f":"'Pob x Genero'!#REF!","v":{"$error":"#REF!"}},1246]
[{"$f":"A57977","v":{"$error":"#REF!"}},{"$error":"#REF!"},{"$error":"#REF!"},{"$error":"#REF!"},{"$error":"#REF!"},"Mujer","65-69",{"$f":"'Pob x Genero'!#REF!","v":{"$error":"#REF!"}},1276]
[{"$f":"A57983","v":{"$error":"#REF!"}},{"$error":"#REF!"},{"$error":"#REF!"},{"$error":"#REF!"},{"$error":"#REF!"},{"$f":"F59872","v":"Mujer"},{"$f":"G59872","v":"65-69"},{"$f":"'Pob x Genero'!#REF!","v":{"$error":"#REF!"}},1282]
[{"$f":"A58022","v":{"$error":"#REF!"}},{"$error":"#REF!"},{"$error":"#REF!"},{"$error":"#REF!"},{"$error":"#REF!"},"Mujer","65-69",{"$f":"'Pob x Genero'!#REF!","v":{"$error":"#REF!"}},1321]
[{"$f":"A58065","v":{"$error":"#REF!"}},{"$error":"#REF!"},{"$error":"#REF!"},{"$error":"#REF!"},{"$error":"#REF!"},"Mujer","65-69",{"$f":"'Pob x Genero'!#REF!","v":{"$error":"#REF!"}},1364]
[{"$f":"A58100","v":{"$error":"#REF!"}},{"$error":"#REF!"},{"$error":"#REF!"},{"$error":"#REF!"},{"$error":"#REF!"},"Mujer","65-69",{"$f":"'Pob x Genero'!#REF!","v":{"$error":"#REF!"}},1399]
[{"$f":"A58146","v":{"$error":"#REF!"}},{"$error":"#REF!"},{"$error":"#REF!"},{"$error":"#REF!"},{"$error":"#REF!"},"Mujer","65-69",{"$f":"'Pob x Genero'!#REF!","v":{"$error":"#REF!"}},1445]
[{"$f":"A58152","v":{"$error":"#REF!"}},{"$error":"#REF!"},{"$error":"#REF!"},{"$error":"#REF!"},{"$error":"#REF!"},"Mujer","65-69",{"$f":"'Pob x Genero'!#REF!","v":{"$error":"#REF!"}},1451]
[{"$f":"A58191","v":{"$error":"#REF!"}},{"$error":"#REF!"},{"$error":"#REF!"},{"$error":"#REF!"},{"$error":"#REF!"},"Mujer","65-69",{"$f":"'Pob x Genero'!#REF!","v":{"$error":"#REF!"}},1490]
[{"$f":"A58235","v":{"$error":"#REF!"}},{"$error":"#REF!"},{"$error":"#REF!"},{"$error":"#REF!"},{"$error":"#REF!"},"Mujer","65-69",{"$f":"'Pob x Genero'!#REF!","v":{"$error":"#REF!"}},1534]
[{"$f":"A58272","v":{"$error":"#REF!"}},{"$error":"#REF!"},{"$error":"#REF!"},{"$error":"#REF!"},{"$error":"#REF!"},"Mujer","65-69",{"$f":"'Pob x Genero'!#REF!","v":{"$error":"#REF!"}},1571]
[{"$f":"A58278","v":{"$error":"#REF!"}},{"$error":"#REF!"},{"$error":"#REF!"},{"$error":"#REF!"},{"$error":"#REF!"},"Mujer","65-69",{"$f":"'Pob x Genero'!#REF!","v":{"$error":"#REF!"}},1577]
[{"$f":"A58321","v":{"$error":"#REF!"}},{"$error":"#REF!"},{"$error":"#REF!"},{"$error":"#REF!"},{"$error":"#REF!"},"Mujer","65-69",{"$f":"'Pob x Genero'!#REF!","v":{"$error":"#REF!"}},1620]
[{"$f":"A58370","v":{"$error":"#REF!"}},{"$error":"#REF!"},{"$error":"#REF!"},{"$error":"#REF!"},{"$error":"#REF!"},"Mujer","65-69",{"$f":"'Pob x Genero'!#REF!","v":{"$error":"#REF!"}},1669]
[{"$f":"A58402","v":{"$error":"#REF!"}},{"$error":"#REF!"},{"$error":"#REF!"},{"$error":"#REF!"},{"$error":"#REF!"},"Mujer","65-69",{"$f":"'Pob x Genero'!#REF!","v":{"$error":"#REF!"}},1701]
[{"$f":"A58441","v":{"$error":"#REF!"}},{"$error":"#REF!"},{"$error":"#REF!"},{"$error":"#REF!"},{"$error":"#REF!"},"Mujer","65-69",{"$f":"'Pob x Genero'!#REF!","v":{"$error":"#REF!"}},1740]
[{"$f":"A58447","v":{"$error":"#REF!"}},{"$error":"#REF!"},{"$error":"#REF!"},{"$error":"#REF!"},{"$error":"#REF!"},"Mujer","65-69",{"$f":"'Pob x Genero'!#REF!","v":{"$error":"#REF!"}},1746]
[{"$f":"A58490","v":{"$error":"#REF!"}},{"$error":"#REF!"},{"$error":"#REF!"},{"$error":"#REF!"},{"$error":"#REF!"},"Mujer","65-69",{"$f":"'Pob x Genero'!#REF!","v":{"$error":"#REF!"}},1789]
[{"$f":"A58523","v":{"$error":"#REF!"}},{"$error":"#REF!"},{"$error":"#REF!"},{"$error":"#REF!"},{"$error":"#REF!"},"Mujer","65-69",{"$f":"'Pob x Genero'!#REF!","v":{"$error":"#REF!"}},1822]
[{"$f":"A58571","v":{"$error":"#REF!"}},{"$error":"#REF!"},{"$error":"#REF!"},{"$error":"#REF!"},{"$error":"#REF!"},"Mujer","65-69",{"$f":"'Pob x Genero'!#REF!","v":{"$error":"#REF!"}},1870]
[{"$f":"A58577","v":{"$error":"#REF!"}},{"$error":"#REF!"},{"$error":"#REF!"},{"$error":"#REF!"},{"$error":"#REF!"},"Mujer","65-69",{"$f":"'Pob x Genero'!#REF!","v":{"$error":"#REF!"}},1876]
[{"$f":"A58616","v":{"$error":"#REF!"}},{"$error":"#REF!"},{"$error":"#REF!"},{"$error":"#REF!"},{"$error":"#REF!"},"Mujer","70-74",{"$f":"'Pob x Genero'!#REF!","v":{"$error":"#REF!"}},25]
[{"$f":"A58658","v":{"$error":"#REF!"}},{"$error":"#REF!"},{"$error":"#REF!"},{"$error":"#REF!"},{"$error":"#REF!"},"Mujer","70-74",{"$f":"'Pob x Genero'!#REF!","v":{"$error":"#REF!"}},67]
[{"$f":"A58697","v":{"$error":"#REF!"}},{"$error":"#REF!"},{"$error":"#REF!"},{"$error":"#REF!"},{"$error":"#REF!"},"Mujer","70-74",{"$f":"'Pob x Genero'!#REF!","v":{"$error":"#REF!"}},106]
[{"$f":"A58736","v":{"$error":"#REF!"}},{"$error":"#REF!"},{"$error":"#REF!"},{"$error":"#REF!"},{"$error":"#REF!"},"Mujer","70-74",{"$f":"'Pob x Genero'!#REF!","v":{"$error":"#REF!"}},145]
[{"$f":"A58746","v":{"$error":"#REF!"}},{"$error":"#REF!"},{"$error":"#REF!"},{"$error":"#REF!"},{"$error":"#REF!"},"Mujer","70-74",{"$f":"'Pob x Genero'!#REF!","v":{"$error":"#REF!"}},155]
[{"$f":"A58793","v":{"$error":"#REF!"}},{"$error":"#REF!"},{"$error":"#REF!"},{"$error":"#REF!"},{"$error":"#REF!"},"Mujer","70-74",{"$f":"'Pob x Genero'!#REF!","v":{"$error":"#REF!"}},202]
[{"$f":"A58827","v":{"$error":"#REF!"}},{"$error":"#REF!"},{"$error":"#REF!"},{"$error":"#REF!"},{"$error":"#REF!"},"Mujer","70-74",{"$f":"'Pob x Genero'!#REF!","v":{"$error":"#REF!"}},236]
[{"$f":"A58866","v":{"$error":"#REF!"}},{"$error":"#REF!"},{"$error":"#REF!"},{"$error":"#REF!"},{"$error":"#REF!"},"Mujer","70-74",{"$f":"'Pob x Genero'!#REF!","v":{"$error":"#REF!"}},275]
[{"$f":"A58872","v":{"$error":"#REF!"}},{"$error":"#REF!"},{"$error":"#REF!"},{"$error":"#REF!"},{"$error":"#REF!"},"Mujer","70-74",{"$f":"'Pob x Genero'!#REF!","v":{"$error":"#REF!"}},281]
[{"$f":"A58915","v":{"$error":"#REF!"}},{"$error":"#REF!"},{"$error":"#REF!"},{"$error":"#REF!"},{"$error":"#REF!"},"Mujer","70-74",{"$f":"'Pob x Genero'!#REF!","v":{"$error":"#REF!"}},324]
[{"$f":"A58946","v":"040120"},"AREQUIPA","AREQUIPA","AREQUIPA","SANTA ISABEL DE SIGUAS","Mujer","70-74",{"$f":"'Pob x Genero'!DY28","v":8},355]
[{"$f":"A58996","v":"040506"},"AREQUIPA","AREQUIPA","CAYLLOMA","COPORAQUE","Mujer","70-74",{"$f":"'Pob x Genero'!DY78","v":19},405]
[{"$f":"A59002","v":"040512"},"AREQUIPA","AREQUIPA","CAYLLOMA","MACA","Mujer","70-74",{"$f":"'Pob x Genero'!DY84","v":12},411]
[{"$f":"A59041","v":{"$error":"#REF!"}},{"$error":"#REF!"},{"$error":"#REF!"},{"$error":"#REF!"},{"$error":"#REF!"},"Mujer",{"$f":"G60930","v":"70-74"},{"$f":"'Pob x Genero'!#REF!","v":{"$error":"#REF!"}},450]
[{"$f":"A59081","v":{"$error":"#REF!"}},{"$error":"#REF!"},{"$error":"#REF!"},{"$error":"#REF!"},{"$error":"#REF!"},"Mujer","70-74",{"$f":"'Pob x Genero'!#REF!","v":{"$error":"#REF!"}},490]
[{"$f":"A59122","v":{"$error":"#REF!"}},{"$error":"#REF!"},{"$error":"#REF!"},{"$error":"#REF!"},{"$error":"#REF!"},"Mujer","70-74",{"$f":"'Pob x Genero'!#REF!","v":{"$error":"#REF!"}},531]
[{"$f":"A59161","v":{"$error":"#REF!"}},{"$error":"#REF!"},{"$error":"#REF!"},{"$error":"#REF!"},{"$error":"#REF!"},"Mujer","70-74",{"$f":"'Pob x Genero'!#REF!","v":{"$error":"#REF!"}},570]
[{"$f":"A59171","v":{"$error":"#REF!"}},{"$error":"#REF!"},{"$error":"#REF!"},{"$error":"#REF!"},{"$error":"#REF!"},"Mujer","70-74",{"$f":"'Pob x Genero'!#REF!","v":{"$error":"#REF!"}},580]
[{"$f":"A59216","v":{"$error":"#REF!"}},{"$error":"#REF!"},{"$error":"#REF!"},{"$error":"#REF!"},{"$error":"#REF!"},"Mujer","70-74",{"$f":"'Pob x Genero'!#REF!","v":{"$error":"#REF!"}},625]
[{"$f":"A59252","v":{"$error":"#REF!"}},{"$error":"#REF!"},{"$error":"#REF!"},{"$error":"#REF!"},{"$error":"#REF!"},"Mujer","70-74",{"$f":"'Pob x Genero'!#REF!","v":{"$error":"#REF!"}},661]
[{"$f":"A59291","v":{"$error":"#REF!"}},{"$error":"#REF!"},{"$error":"#REF!"},{"$error":"#REF!"},{"$error":"#REF!"},"Mujer","70-74",{"$f":"'Pob x Genero'!#REF!","v":{"$error":"#REF!"}},700]
[{"$f":"A59297","v":{"$error":"#REF!"}},{"$error":"#REF!"},{"$error":"#REF!"},{"$error":"#REF!"},{"$error":"#REF!"},"Mujer",{"$f":"G61186","v":"70-74"},{"$f":"'Pob x Genero'!#REF!","v":{"$error":"#REF!"}},706]
[{"$f":"A59340","v":{"$error":"#REF!"}},{"$error":"#REF!"},{"$error":"#REF!"},{"$error":"#REF!"},{"$error":"#REF!"},"Mujer","70-74",{"$f":"'Pob x Genero'!#REF!","v":{"$error":"#REF!"}},749]
[{"$f":"A59369","v":{"$error":"#REF!"}},{"$error":"#REF!"},{"$error":"#REF!"},{"$error":"#REF!"},{"$error":"#REF!"},"Mujer","70-74",{"$f":"'Pob x Genero'!#REF!","v":{"$error":"#REF!"}},778]
[{"$f":"A59417","v":{"$error":"#REF!"}},{"$error":"#REF!"},{"$error":"#REF!"},{"$error":"#REF!"},{"$error":"#REF!"},"Mujer","70-74",{"$f":"'Pob x Genero'!#REF!","v":{"$error":"#REF!"}},826]
[{"$f":"A59427","v":{"$error":"#REF!"}},{"$error":"#REF!"},{"$error":"#REF!"},{"$error":"#REF!"},{"$error":"#REF!"},"Mujer","70-74",{"$f":"'Pob x Genero'!#REF!","v":{"$error":"#REF!"}},836]
[{"$f":"A59466","v":{"$error":"#REF!"}},{"$error":"#REF!"},{"$error":"#REF!"},{"$error":"#REF!"},{"$error":"#REF!"},"Mujer","70-74",{"$f":"'Pob x Genero'!#REF!","v":{"$error":"#REF!"}},875]
[{"$f":"A59504","v":{"$error":"#REF!"}},{"$error":"#REF!"},{"$error":"#REF!"},{"$error":"#REF!"},{"$error":"#REF!"},"Mujer","70-74",{"$f":"'Pob x Genero'!#REF!","v":{"$error":"#REF!"}},913]
[{"$f":"A59547","v":{"$error":"#REF!"}},{"$error":"#REF!"},{"$error":"#REF!"},{"$error":"#REF!"},{"$error":"#REF!"},"Mujer","70-74",{"$f":"'Pob x Genero'!#REF!","v":{"$error":"#REF!"}},956]
[{"$f":"A59586","v":{"$error":"#REF!"}},{"$error":"#REF!"},{"$error":"#REF!"},{"$error":"#REF!"},{"$error":"#REF!"},"Mujer","70-74",{"$f":"'Pob x Genero'!#REF!","v":{"$error":"#REF!"}},995]
[{"$f":"A59596","v":{"$error":"#REF!"}},{"$error":"#REF!"},{"$error":"#REF!"},{"$error":"#REF!"},{"$error":"#REF!"},"Mujer","70-74",{"$f":"'Pob x Genero'!#REF!","v":{"$error":"#REF!"}},1005]
[{"$f":"A59639","v":{"$error":"#REF!"}},{"$error":"#REF!"},{"$error":"#REF!"},{"$error":"#REF!"},{"$error":"#REF!"},"Mujer","70-74",{"$f":"'Pob x Genero'!#REF!","v":{"$error":"#REF!"}},1048]
[{"$f":"A59677","v":{"$error":"#REF!"}},{"$error":"#REF!"},{"$error":"#REF!"},{"$error":"#REF!"},{"$error":"#REF!"},"Mujer","70-74",{"$f":"'Pob x Genero'!#REF!","v":{"$error":"#REF!"}},1086]
[{"$f":"A59716","v":{"$error":"#REF!"}},{"$error":"#REF!"},{"$error":"#REF!"},{"$error":"#REF!"},{"$error":"#REF!"},"Mujer","70-74",{"$f":"'Pob x Genero'!#REF!","v":{"$error":"#REF!"}},1125]
[{"$f":"A59722","v":{"$error":"#REF!"}},{"$error":"#REF!"},{"$error":"#REF!"},{"$error":"#REF!"},{"$error":"#REF!"},"Mujer","70-74",{"$f":"'Pob x Genero'!#REF!","v":{"$error":"#REF!"}},1131]
[{"$f":"A59765","v":{"$error":"#REF!"}},{"$error":"#REF!"},{"$error":"#REF!"},{"$error":"#REF!"},{"$error":"#REF!"},"Mujer","70-74",{"$f":"'Pob x Genero'!#REF!","v":{"$error":"#REF!"}},1174]
[{"$f":"A59792","v":{"$error":"#REF!"}},{"$error":"#REF!"},{"$error":"#REF!"},{"$error":"#REF!"},{"$error":"#REF!"},"Mujer","70-74",{"$f":"'Pob x Genero'!#REF!","v":{"$error":"#REF!"}},1201]
[{"$f":"A59842","v":{"$error":"#REF!"}},{"$error":"#REF!"},{"$error":"#REF!"},{"$error":"#REF!"},{"$error":"#REF!"},"Mujer","70-74",{"$f":"'Pob x Genero'!#REF!","v":{"$error":"#REF!"}},1251]
[{"$f":"A59852","v":{"$error":"#REF!"}},{"$error":"#REF!"},{"$error":"#REF!"},{"$error":"#REF!"},{"$error":"#REF!"},"Mujer","70-74",{"$f":"'Pob x Genero'!#REF!","v":{"$error":"#REF!"}},1261]
[{"$f":"A59891","v":{"$error":"#REF!"}},{"$error":"#REF!"},{"$error":"#REF!"},{"$error":"#REF!"},{"$error":"#REF!"},"Mujer","70-74",{"$f":"'Pob x Genero'!#REF!","v":{"$error":"#REF!"}},1300]
[{"$f":"A59927","v":{"$error":"#REF!"}},{"$error":"#REF!"},{"$error":"#REF!"},{"$error":"#REF!"},{"$error":"#REF!"},"Mujer","70-74",{"$f":"'Pob x Genero'!#REF!","v":{"$error":"#REF!"}},1336]
[{"$f":"A59972","v":{"$error":"#REF!"}},{"$error":"#REF!"},{"$error":"#REF!"},{"$error":"#REF!"},{"$error":"#REF!"},"Mujer","70-74",{"$f":"'Pob x Genero'!#REF!","v":{"$error":"#REF!"}},1381]
[{"$f":"A60011","v":{"$error":"#REF!"}},{"$error":"#REF!"},{"$error":"#REF!"},{"$error":"#REF!"},{"$error":"#REF!"},"Mujer","70-74",{"$f":"'Pob x Genero'!#REF!","v":{"$error":"#REF!"}},1420]
[{"$f":"A60021","v":{"$error":"#REF!"}},{"$error":"#REF!"},{"$error":"#REF!"},{"$error":"#REF!"},{"$error":"#REF!"},"Mujer","70-74",{"$f":"'Pob x Genero'!#REF!","v":{"$error":"#REF!"}},1430]
[{"$f":"A60060","v":{"$error":"#REF!"}},{"$error":"#REF!"},{"$error":"#REF!"},{"$error":"#REF!"},{"$error":"#REF!"},"Mujer","70-74",{"$f":"'Pob x Genero'!#REF!","v":{"$error":"#REF!"}},1469]
[{"$f":"A60112","v":{"$error":"#REF!"}},{"$error":"#REF!"},{"$error":"#REF!"},{"$error":"#REF!"},{"$error":"#REF!"},"Mujer","70-74",{"$f":"'Pob x Genero'!#REF!","v":{"$error":"#REF!"}},1521]
[{"$f":"A60141","v":{"$error":"#REF!"}},{"$error":"#REF!"},{"$error":"#REF!"},{"$error":"#REF!"},{"$error":"#REF!"},"Mujer","70-74",{"$f":"'Pob x Genero'!#REF!","v":{"$error":"#REF!"}},1550]
[{"$f":"A60147","v":{"$error":"#REF!"}},{"$error":"#REF!"},{"$error":"#REF!"},{"$error":"#REF!"},{"$error":"#REF!"},"Mujer","70-74",{"$f":"'Pob x Genero'!#REF!","v":{"$error":"#REF!"}},1556]
[{"$f":"A60190","v":{"$error":"#REF!"}},{"$error":"#REF!"},{"$error":"#REF!"},{"$error":"#REF!"},{"$error":"#REF!"},"Mujer","70-74",{"$f":"'Pob x Genero'!#REF!","v":{"$error":"#REF!"}},1599]
[{"$f":"A60215","v":{"$error":"#REF!"}},{"$error":"#REF!"},{"$error":"#REF!"},{"$error":"#REF!"},{"$error":"#REF!"},"Mujer","70-74",{"$f":"'Pob x Genero'!#REF!","v":{"$error":"#REF!"}},1624]
[{"$f":"A60267","v":{"$error":"#REF!"}},{"$error":"#REF!"},{"$error":"#REF!"},{"$error":"#REF!"},{"$error":"#REF!"},"Mujer","70-74",{"$f":"'Pob x Genero'!#REF!","v":{"$error":"#REF!"}},1676]
[{"$f":"A60277","v":{"$error":"#REF!"}},{"$error":"#REF!"},{"$error":"#REF!"},{"$error":"#REF!"},{"$error":"#REF!"},"Mujer","70-74",{"$f":"'Pob x Genero'!#REF!","v":{"$error":"#REF!"}},1686]
[{"$f":"A60316","v":{"$error":"#REF!"}},{"$error":"#REF!"},{"$error":"#REF!"},{"$error":"#REF!"},{"$error":"#REF!"},"Mujer","70-74",{"$f":"'Pob x Genero'!#REF!","v":{"$error":"#REF!"}},1725]
[{"$f":"A60350","v":{"$error":"#REF!"}},{"$error":"#REF!"},{"$error":"#REF!"},{"$error":"#REF!"},{"$error":"#REF!"},"Mujer","70-74",{"$f":"'Pob x Genero'!#REF!","v":{"$error":"#REF!"}},1759]
[{"$f":"A60397","v":{"$error":"#REF!"}},{"$error":"#REF!"},{"$error":"#REF!"},{"$error":"#REF!"},{"$error":"#REF!"},"Mujer","70-74",{"$f":"'Pob x Genero'!#REF!","v":{"$error":"#REF!"}},1806]
[{"$f":"A60436","v":{"$error":"#REF!"}},{"$error":"#REF!"},{"$error":"#REF!"},{"$error":"#REF!"},{"$error":"#REF!"},"Mujer","70-74",{"$f":"'Pob x Genero'!#REF!","v":{"$error":"#REF!"}},1845]
[{"$f":"A60446","v":{"$error":"#REF!"}},{"$error":"#REF!"},{"$error":"#REF!"},{"$error":"#REF!"},{"$error":"#REF!"},"Mujer","70-74",{"$f":"'Pob x Genero'!#REF!","v":{"$error":"#REF!"}},1855]
[{"$f":"A60485","v":{"$error":"#REF!"}},{"$error":"#REF!"},{"$error":"#REF!"},{"$error":"#REF!"},{"$error":"#REF!"},"Mujer","75-79",{"$f":"'Pob x Genero'!#REF!","v":{"$error":"#REF!"}},4]
[{"$f":"A60535","v":{"$error":"#REF!"}},{"$error":"#REF!"},{"$error":"#REF!"},{"$error":"#REF!"},{"$error":"#REF!"},"Mujer","75-79",{"$f":"'Pob x Genero'!#REF!","v":{"$error":"#REF!"}},54]
[{"$f":"A60566","v":{"$error":"#REF!"}},{"$error":"#REF!"},{"$error":"#REF!"},{"$error":"#REF!"},{"$error":"#REF!"},"Mujer","75-79",{"$f":"'Pob x Genero'!#REF!","v":{"$error":"#REF!"}},85]
[{"$f":"A60572","v":{"$error":"#REF!"}},{"$error":"#REF!"},{"$error":"#REF!"},{"$error":"#REF!"},{"$error":"#REF!"},"Mujer","75-79",{"$f":"'Pob x Genero'!#REF!","v":{"$error":"#REF!"}},91]
[{"$f":"A60615","v":{"$error":"#REF!"}},{"$error":"#REF!"},{"$error":"#REF!"},{"$error":"#REF!"},{"$error":"#REF!"},"Mujer","75-79",{"$f":"'Pob x Genero'!#REF!","v":{"$error":"#REF!"}},134]
[{"$f":"A60638","v":{"$error":"#REF!"}},{"$error":"#REF!"},{"$error":"#REF!"},{"$error":"#REF!"},{"$error":"#REF!"},"Mujer","75-79",{"$f":"'Pob x Genero'!#REF!","v":{"$error":"#REF!"}},157]
[{"$f":"A60692","v":{"$error":"#REF!"}},{"$error":"#REF!"},{"$error":"#REF!"},{"$error":"#REF!"},{"$error":"#REF!"},"Mujer","75-79",{"$f":"'Pob x Genero'!#REF!","v":{"$error":"#REF!"}},211]
[{"$f":"A60735","v":{"$error":"#REF!"}},{"$error":"#REF!"},{"$error":"#REF!"},{"$error":"#REF!"},{"$error":"#REF!"},{"$f":"F62624","v":"Mujer"},"75-79",{"$f":"'Pob x Genero'!#REF!","v":{"$error":"#REF!"}},254]
[{"$f":"A60741","v":{"$error":"#REF!"}},{"$error":"#REF!"},{"$error":"#REF!"},{"$error":"#REF!"},{"$error":"#REF!"},"Mujer","75-79",{"$f":"'Pob x Genero'!#REF!","v":{"$error":"#REF!"}},260]
[{"$f":"A60773","v":{"$error":"#REF!"}},{"$error":"#REF!"},{"$error":"#REF!"},{"$error":"#REF!"},{"$error":"#REF!"},"Mujer","75-79",{"$f":"'Pob x Genero'!#REF!","v":{"$error":"#REF!"}},292]
[{"$f":"A60822","v":"040106"},"AREQUIPA","AREQUIPA","AREQUIPA","CHIGUATA","Mujer","75-79",{"$f":"'Pob x Genero'!DZ14","v":33},341]
[{"$f":"A60861","v":"040308"},"AREQUIPA","AREQUIPA","CARAVELI","CHAPARRA","Mujer","75-79",{"$f":"'Pob x Genero'!DZ53","v":21},380]
[{"$f":"A60871","v":"040405"},"AREQUIPA","AREQUIPA","CASTILLA","CHILCAYMARCA","Mujer","75-79",{"$f":"'Pob x Genero'!DZ63","v":9},390]
[{"$f":"A60910","v":"040702"},"AREQUIPA","AREQUIPA","ISLAY","COCACHACRA","Mujer","75-79",{"$f":"'Pob x Genero'!DZ102","v":97},429]
[{"$f":"A60958","v":{"$error":"#REF!"}},{"$error":"#REF!"},{"$error":"#REF!"},{"$error":"#REF!"},{"$error":"#REF!"},"Mujer","75-79",{"$f":"'Pob x Genero'!#REF!","v":{"$error":"#REF!"}},477]
[{"$f":"A60991","v":{"$error":"#REF!"}},{"$error":"#REF!"},{"$error":"#REF!"},{"$error":"#REF!"},{"$error":"#REF!"},{"$f":"F62880","v":"Mujer"},"75-79",{"$f":"'Pob x Genero'!#REF!","v":{"$error":"#REF!"}},510]
[{"$f":"A61030","v":{"$error":"#REF!"}},{"$error":"#REF!"},{"$error":"#REF!"},{"$error":"#REF!"},{"$error":"#REF!"},"Mujer","75-79",{"$f":"'Pob x Genero'!#REF!","v":{"$error":"#REF!"}},549]
[{"$f":"A61040","v":{"$error":"#REF!"}},{"$error":"#REF!"},{"$error":"#REF!"},{"$error":"#REF!"},{"$error":"#REF!"},"Mujer","75-79",{"$f":"'Pob x Genero'!#REF!","v":{"$error":"#REF!"}},559]
[{"$f":"A61093","v":{"$error":"#REF!"}},{"$error":"#REF!"},{"$error":"#REF!"},{"$error":"#REF!"},{"$error":"#REF!"},"Mujer","75-79",{"$f":"'Pob x Genero'!#REF!","v":{"$error":"#REF!"}},612]
[{"$f":"A61117","v":{"$error":"#REF!"}},{"$error":"#REF!"},{"$error":"#REF!"},{"$error":"#REF!"},{"$error":"#REF!"},"Mujer","75-79",{"$f":"'Pob x Genero'!#REF!","v":{"$error":"#REF!"}},636]
[{"$f":"A61160","v":{"$error":"#REF!"}},{"$error":"#REF!"},{"$error":"#REF!"},{"$error":"#REF!"},{"$error":"#REF!"},"Mujer","75-79",{"$f":"'Pob x Genero'!#REF!","v":{"$error":"#REF!"}},679]
[{"$f":"A61166","v":{"$error":"#REF!"}},{"$error":"#REF!"},{"$error":"#REF!"},{"$error":"#REF!"},{"$error":"#REF!"},"Mujer","75-79",{"$f":"'Pob x Genero'!#REF!","v":{"$error":"#REF!"}},685]
[{"$f":"A61196","v":{"$error":"#REF!"}},{"$error":"#REF!"},{"$error":"#REF!"},{"$error":"#REF!"},{"$error":"#REF!"},"Mujer","75-79",{"$f":"'Pob x Genero'!#REF!","v":{"$error":"#REF!"}},715]
[{"$f":"A61247","v":{"$error":"#REF!"}},{"$error":"#REF!"},{"$error":"#REF!"},{"$error":"#REF!"},{"$error":"#REF!"},{"$f":"F63136","v":"Mujer"},"75-79",{"$f":"'Pob x Genero'!#REF!","v":{"$error":"#REF!"}},766]
[{"$f":"A61286","v":{"$error":"#REF!"}},{"$error":"#REF!"},{"$error":"#REF!"},{"$error":"#REF!"},{"$error":"#REF!"},"Mujer","75-79",{"$f":"'Pob x Genero'!#REF!","v":{"$error":"#REF!"}},805]
[{"$f":"A61296","v":{"$error":"#REF!"}},{"$error":"#REF!"},{"$error":"#REF!"},{"$error":"#REF!"},{"$error":"#REF!"},"Mujer","75-79",{"$f":"'Pob x Genero'!#REF!","v":{"$error":"#REF!"}},815]
[{"$f":"A61335","v":{"$error":"#REF!"}},{"$error":"#REF!"},{"$error":"#REF!"},{"$error":"#REF!"},{"$error":"#REF!"},"Mujer","75-79",{"$f":"'Pob x Genero'!#REF!","v":{"$error":"#REF!"}},854]
[{"$f":"A61381","v":{"$error":"#REF!"}},{"$error":"#REF!"},{"$error":"#REF!"},{"$error":"#REF!"},{"$error":"#REF!"},"Mujer","75-79",{"$f":"'Pob x Genero'!#REF!","v":{"$error":"#REF!"}},900]
[{"$f":"A61416","v":{"$error":"#REF!"}},{"$error":"#REF!"},{"$error":"#REF!"},{"$error":"#REF!"},{"$error":"#REF!"},"Mujer","75-79",{"$f":"'Pob x Genero'!#REF!","v":{"$error":"#REF!"}},935]
[{"$f":"A61455","v":{"$error":"#REF!"}},{"$error":"#REF!"},{"$error":"#REF!"},{"$error":"#REF!"},{"$error":"#REF!"},"Mujer","75-79",{"$f":"'Pob x Genero'!#REF!","v":{"$error":"#REF!"}},974]
[{"$f":"A61465","v":{"$error":"#REF!"}},{"$error":"#REF!"},{"$error":"#REF!"},{"$error":"#REF!"},{"$error":"#REF!"},"Mujer","75-79",{"$f":"'Pob x Genero'!#REF!","v":{"$error":"#REF!"}},984]
[{"$f":"A61516","v":{"$error":"#REF!"}},{"$error":"#REF!"},{"$error":"#REF!"},{"$error":"#REF!"},{"$error":"#REF!"},"Mujer","75-79",{"$f":"'Pob x Genero'!#REF!","v":{"$error":"#REF!"}},1035]
[{"$f":"A61542","v":{"$error":"#REF!"}},{"$error":"#REF!"},{"$error":"#REF!"},{"$error":"#REF!"},{"$error":"#REF!"},"Mujer","75-79",{"$f":"'Pob x Genero'!#REF!","v":{"$error":"#REF!"}},1061]
[{"$f":"A61585","v":{"$error":"#REF!"}},{"$error":"#REF!"},{"$error":"#REF!"},{"$error":"#REF!"},{"$error":"#REF!"},"Mujer","75-79",{"$f":"'Pob x Genero'!#REF!","v":{"$error":"#REF!"}},1104]
[{"$f":"A61591","v":{"$error":"#REF!"}},{"$error":"#REF!"},{"$error":"#REF!"},{"$error":"#REF!"},{"$error":"#REF!"},"Mujer","75-79",{"$f":"'Pob x Genero'!#REF!","v":{"$error":"#REF!"}},1110]
[{"$f":"A61651","v":{"$error":"#REF!"}},{"$error":"#REF!"},{"$error":"#REF!"},{"$error":"#REF!"},{"$error":"#REF!"},"Mujer","75-79",{"$f":"'Pob x Genero'!#REF!","v":{"$error":"#REF!"}},1170]
[{"$f":"A61672","v":{"$error":"#REF!"}},{"$error":"#REF!"},{"$error":"#REF!"},{"$error":"#REF!"},{"$error":"#REF!"},"Mujer","75-79",{"$f":"'Pob x Genero'!#REF!","v":{"$error":"#REF!"}},1191]
[{"$f":"A61711","v":{"$error":"#REF!"}},{"$error":"#REF!"},{"$error":"#REF!"},{"$error":"#REF!"},{"$error":"#REF!"},"Mujer","75-79",{"$f":"'Pob x Genero'!#REF!","v":{"$error":"#REF!"}},1230]
[{"$f":"A61721","v":{"$error":"#REF!"}},{"$error":"#REF!"},{"$error":"#REF!"},{"$error":"#REF!"},{"$error":"#REF!"},"Mujer","75-79",{"$f":"'Pob x Genero'!#REF!","v":{"$error":"#REF!"}},1240]
[{"$f":"A61760","v":{"$error":"#REF!"}},{"$error":"#REF!"},{"$error":"#REF!"},{"$error":"#REF!"},{"$error":"#REF!"},"Mujer","75-79",{"$f":"'Pob x Genero'!#REF!","v":{"$error":"#REF!"}},1279]
[{"$f":"A61804","v":{"$error":"#REF!"}},{"$error":"#REF!"},{"$error":"#REF!"},{"$error":"#REF!"},{"$error":"#REF!"},"Mujer","75-79",{"$f":"'Pob x Genero'!#REF!","v":{"$error":"#REF!"}},1323]
[{"$f":"A61841","v":{"$error":"#REF!"}},{"$error":"#REF!"},{"$error":"#REF!"},{"$error":"#REF!"},{"$error":"#REF!"},"Mujer","75-79",{"$f":"'Pob x Genero'!#REF!","v":{"$error":"#REF!"}},1360]
[{"$f":"A61880","v":{"$error":"#REF!"}},{"$error":"#REF!"},{"$error":"#REF!"},{"$error":"#REF!"},{"$error":"#REF!"},"Mujer","75-79",{"$f":"'Pob x Genero'!#REF!","v":{"$error":"#REF!"}},1399]
[{"$f":"A61890","v":{"$error":"#REF!"}},{"$error":"#REF!"},{"$error":"#REF!"},{"$error":"#REF!"},{"$error":"#REF!"},"Mujer","75-79",{"$f":"'Pob x Genero'!#REF!","v":{"$error":"#REF!"}},1409]
[{"$f":"A61939","v":{"$error":"#REF!"}},{"$error":"#REF!"},{"$error":"#REF!"},{"$error":"#REF!"},{"$error":"#REF!"},"Mujer","75-79",{"$f":"'Pob x Genero'!#REF!","v":{"$error":"#REF!"}},1458]
[{"$f":"A61967","v":{"$error":"#REF!"}},{"$error":"#REF!"},{"$error":"#REF!"},{"$error":"#REF!"},{"$error":"#REF!"},"Mujer","75-79",{"$f":"'Pob x Genero'!#REF!","v":{"$error":"#REF!"}},1486]
[{"$f":"A62010","v":{"$error":"#REF!"}},{"$error":"#REF!"},{"$error":"#REF!"},{"$error":"#REF!"},{"$error":"#REF!"},"Mujer","75-79",{"$f":"'Pob x Genero'!#REF!","v":{"$error":"#REF!"}},1529]
[{"$f":"A62016","v":{"$error":"#REF!"}},{"$error":"#REF!"},{"$error":"#REF!"},{"$error":"#REF!"},{"$error":"#REF!"},"Mujer","75-79",{"$f":"'Pob x Genero'!#REF!","v":{"$error":"#REF!"}},1535]
[{"$f":"A62055","v":{"$error":"#REF!"}},{"$error":"#REF!"},{"$error":"#REF!"},{"$error":"#REF!"},{"$error":"#REF!"},"Mujer","75-79",{"$f":"'Pob x Genero'!#REF!","v":{"$error":"#REF!"}},1574]
[{"$f":"A62092","v":{"$error":"#REF!"}},{"$error":"#REF!"},{"$error":"#REF!"},{"$error":"#REF!"},{"$error":"#REF!"},"Mujer","75-79",{"$f":"'Pob x Genero'!#REF!","v":{"$error":"#REF!"}},1611]
[{"$f":"A62136","v":{"$error":"#REF!"}},{"$error":"#REF!"},{"$error":"#REF!"},{"$error":"#REF!"},{"$error":"#REF!"},"Mujer","75-79",{"$f":"'Pob x Genero'!#REF!","v":{"$error":"#REF!"}},1655]
[{"$f":"A62146","v":{"$error":"#REF!"}},{"$error":"#REF!"},{"$error":"#REF!"},{"$error":"#REF!"},{"$error":"#REF!"},"Mujer","75-79",{"$f":"'Pob x Genero'!#REF!","v":{"$error":"#REF!"}},1665]
[{"$f":"A62185","v":{"$error":"#REF!"}},{"$error":"#REF!"},{"$error":"#REF!"},{"$error":"#REF!"},{"$error":"#REF!"},"Mujer","75-79",{"$f":"'Pob x Genero'!#REF!","v":{"$error":"#REF!"}},1704]
[{"$f":"A62227","v":{"$error":"#REF!"}},{"$error":"#REF!"},{"$error":"#REF!"},{"$error":"#REF!"},{"$error":"#REF!"},"Mujer","75-79",{"$f":"'Pob x Genero'!#REF!","v":{"$error":"#REF!"}},1746]
[{"$f":"A62266","v":{"$error":"#REF!"}},{"$error":"#REF!"},{"$error":"#REF!"},{"$error":"#REF!"},{"$error":"#REF!"},"Mujer","75-79",{"$f":"'Pob x Genero'!#REF!","v":{"$error":"#REF!"}},1785]
[{"$f":"A62305","v":{"$error":"#REF!"}},{"$error":"#REF!"},{"$error":"#REF!"},{"$error":"#REF!"},{"$error":"#REF!"},"Mujer","75-79",{"$f":"'Pob x Genero'!#REF!","v":{"$error":"#REF!"}},1824]
[{"$f":"A62311","v":{"$error":"#REF!"}},{"$error":"#REF!"},{"$error":"#REF!"},{"$error":"#REF!"},{"$error":"#REF!"},"Mujer","75-79",{"$f":"'Pob x Genero'!#REF!","v":{"$error":"#REF!"}},1830]
[{"$f":"A62362","v":{"$error":"#REF!"}},{"$error":"#REF!"},{"$error":"#REF!"},{"$error":"#REF!"},{"$error":"#REF!"},"Mujer","75-79",{"$f":"'Pob x Genero'!#REF!","v":{"$error":"#REF!"}},1881]
[{"$f":"A62392","v":{"$error":"#REF!"}},{"$error":"#REF!"},{"$error":"#REF!"},{"$error":"#REF!"},{"$error":"#REF!"},"Mujer","80-84",{"$f":"'Pob x Genero'!#REF!","v":{"$error":"#REF!"}},21]
[{"$f":"A62435","v":{"$error":"#REF!"}},{"$error":"#REF!"},{"$error":"#REF!"},{"$error":"#REF!"},{"$error":"#REF!"},"Mujer","80-84",{"$f":"'Pob x Genero'!#REF!","v":{"$error":"#REF!"}},64]
[{"$f":"A62441","v":{"$error":"#REF!"}},{"$error":"#REF!"},{"$error":"#REF!"},{"$error":"#REF!"},{"$error":"#REF!"},"Mujer","80-84",{"$f":"'Pob x Genero'!#REF!","v":{"$error":"#REF!"}},70]
[{"$f":"A62480","v":{"$error":"#REF!"}},{"$error":"#REF!"},{"$error":"#REF!"},{"$error":"#REF!"},{"$error":"#REF!"},"Mujer","80-84",{"$f":"'Pob x Genero'!#REF!","v":{"$error":"#REF!"}},109]
[{"$f":"A62515","v":{"$error":"#REF!"}},{"$error":"#REF!"},{"$error":"#REF!"},{"$error":"#REF!"},{"$error":"#REF!"},"Mujer","80-84",{"$f":"'Pob x Genero'!#REF!","v":{"$error":"#REF!"}},144]
[{"$f":"A62561","v":{"$error":"#REF!"}},{"$error":"#REF!"},{"$error":"#REF!"},{"$error":"#REF!"},{"$error":"#REF!"},"Mujer","80-84",{"$f":"'Pob x Genero'!#REF!","v":{"$error":"#REF!"}},190]
[{"$f":"A62571","v":{"$error":"#REF!"}},{"$error":"#REF!"},{"$error":"#REF!"},{"$error":"#REF!"},{"$error":"#REF!"},"Mujer","80-84",{"$f":"'Pob x Genero'!#REF!","v":{"$error":"#REF!"}},200]
[{"$f":"A62610","v":{"$error":"#REF!"}},{"$error":"#REF!"},{"$error":"#REF!"},{"$error":"#REF!"},{"$error":"#REF!"},"Mujer","80-84",{"$f":"'Pob x Genero'!#REF!","v":{"$error":"#REF!"}},239]
[{"$f":"A62650","v":{"$error":"#REF!"}},{"$error":"#REF!"},{"$error":"#REF!"},{"$error":"#REF!"},{"$error":"#REF!"},"Mujer","80-84",{"$f":"'Pob x Genero'!#REF!","v":{"$error":"#REF!"}},279]
[{"$f":"A62691","v":{"$error":"#REF!"}},{"$error":"#REF!"},{"$error":"#REF!"},{"$error":"#REF!"},{"$error":"#REF!"},"Mujer","80-84",{"$f":"'Pob x Genero'!#REF!","v":{"$error":"#REF!"}},320]
[{"$f":"A62730","v":"040124"},"AREQUIPA","AREQUIPA","AREQUIPA","UCHUMAYO","Mujer","80-84",{"$f":"'Pob x Genero'!EA32","v":110},359]
[{"$f":"A62736","v":"040201"},"AREQUIPA","AREQUIPA","CAMANA","CAMANA","Mujer","80-84",{"$f":"'Pob x Genero'!EA38","v":91},365]
[{"$f":"A62785","v":"040515"},"AREQUIPA","AREQUIPA","CAYLLOMA","SIBAYO","Mujer","80-84",{"$f":"'Pob x Genero'!EA87","v":6},414]
[{"$f":"A62817","v":{"$error":"#REF!"}},{"$error":"#REF!"},{"$error":"#REF!"},{"$error":"#REF!"},{"$error":"#REF!"},"Mujer","80-84",{"$f":"'Pob x Genero'!#REF!","v":{"$error":"#REF!"}},446]
[{"$f":"A62860","v":{"$error":"#REF!"}},{"$error":"#REF!"},{"$error":"#REF!"},{"$error":"#REF!"},{"$error":"#REF!"},"Mujer","80-84",{"$f":"'Pob x Genero'!#REF!","v":{"$error":"#REF!"}},489]
[{"$f":"A62866","v":{"$error":"#REF!"}},{"$error":"#REF!"},{"$error":"#REF!"},{"$error":"#REF!"},{"$error":"#REF!"},"Mujer","80-84",{"$f":"'Pob x Genero'!#REF!","v":{"$error":"#REF!"}},495]
[{"$f":"A62905","v":{"$error":"#REF!"}},{"$error":"#REF!"},{"$error":"#REF!"},{"$error":"#REF!"},{"$error":"#REF!"},"Mujer","80-84",{"$f":"'Pob x Genero'!#REF!","v":{"$error":"#REF!"}},534]
[{"$f":"A62938","v":{"$error":"#REF!"}},{"$error":"#REF!"},{"$error":"#REF!"},{"$error":"#REF!"},{"$error":"#REF!"},"Mujer","80-84",{"$f":"'Pob x Genero'!#REF!","v":{"$error":"#REF!"}},567]
[{"$f":"A62986","v":{"$error":"#REF!"}},{"$error":"#REF!"},{"$error":"#REF!"},{"$error":"#REF!"},{"$error":"#REF!"},"Mujer","80-84",{"$f":"'Pob x Genero'!#REF!","v":{"$error":"#REF!"}},615]
[{"$f":"A63025","v":{"$error":"#REF!"}},{"$error":"#REF!"},{"$error":"#REF!"},{"$error":"#REF!"},{"$error":"#REF!"},"Mujer","80-84",{"$f":"'Pob x Genero'!#REF!","v":{"$error":"#REF!"}},654]
[{"$f":"A63035","v":{"$error":"#REF!"}},{"$error":"#REF!"},{"$error":"#REF!"},{"$error":"#REF!"},{"$error":"#REF!"},"Mujer","80-84",{"$f":"'Pob x Genero'!#REF!","v":{"$error":"#REF!"}},664]
[{"$f":"A63073","v":{"$error":"#REF!"}},{"$error":"#REF!"},{"$error":"#REF!"},{"$error":"#REF!"},{"$error":"#REF!"},"Mujer","80-84",{"$f":"'Pob x Genero'!#REF!","v":{"$error":"#REF!"}},702]
[{"$f":"A63116","v":{"$error":"#REF!"}},{"$error":"#REF!"},{"$error":"#REF!"},{"$error":"#REF!"},{"$error":"#REF!"},"Mujer","80-84",{"$f":"'Pob x Genero'!#REF!","v":{"$error":"#REF!"}},745]
[{"$f":"A63155","v":{"$error":"#REF!"}},{"$error":"#REF!"},{"$error":"#REF!"},{"$error":"#REF!"},{"$error":"#REF!"},"Mujer","80-84",{"$f":"'Pob x Genero'!#REF!","v":{"$error":"#REF!"}},784]
[{"$f":"A63161","v":{"$error":"#REF!"}},{"$error":"#REF!"},{"$error":"#REF!"},{"$error":"#REF!"},{"$error":"#REF!"},"Mujer","80-84",{"$f":"'Pob x Genero'!#REF!","v":{"$error":"#REF!"}},790]
[{"$f":"A63208","v":{"$error":"#REF!"}},{"$error":"#REF!"},{"$error":"#REF!"},{"$error":"#REF!"},{"$error":"#REF!"},"Mujer","80-84",{"$f":"'Pob x Genero'!#REF!","v":{"$error":"#REF!"}},837]
[{"$f":"A63242","v":{"$error":"#REF!"}},{"$error":"#REF!"},{"$error":"#REF!"},{"$error":"#REF!"},{"$error":"#REF!"},"Mujer","80-84",{"$f":"'Pob x Genero'!#REF!","v":{"$error":"#REF!"}},871]
[{"$f":"A63285","v":{"$error":"#REF!"}},{"$error":"#REF!"},{"$error":"#REF!"},{"$error":"#REF!"},{"$error":"#REF!"},"Mujer","80-84",{"$f":"'Pob x Genero'!#REF!","v":{"$error":"#REF!"}},914]
[{"$f":"A63324","v":{"$error":"#REF!"}},{"$error":"#REF!"},{"$error":"#REF!"},{"$error":"#REF!"},{"$error":"#REF!"},"Mujer","80-84",{"$f":"'Pob x Genero'!#REF!","v":{"$error":"#REF!"}},953]
[{"$f":"A63330","v":{"$error":"#REF!"}},{"$error":"#REF!"},{"$error":"#REF!"},{"$error":"#REF!"},{"$error":"#REF!"},"Mujer","80-84",{"$f":"'Pob x Genero'!#REF!","v":{"$error":"#REF!"}},959]
[{"$f":"A63361","v":{"$error":"#REF!"}},{"$error":"#REF!"},{"$error":"#REF!"},{"$error":"#REF!"},{"$error":"#REF!"},"Mujer","80-84",{"$f":"'Pob x Genero'!#REF!","v":{"$error":"#REF!"}},990]
[{"$f":"A63411","v":{"$error":"#REF!"}},{"$error":"#REF!"},{"$error":"#REF!"},{"$error":"#REF!"},{"$error":"#REF!"},"Mujer","80-84",{"$f":"'Pob x Genero'!#REF!","v":{"$error":"#REF!"}},1040]
[{"$f":"A63450","v":{"$error":"#REF!"}},{"$error":"#REF!"},{"$error":"#REF!"},{"$error":"#REF!"},{"$error":"#REF!"},"Mujer","80-84",{"$f":"'Pob x Genero'!#REF!","v":{"$error":"#REF!"}},1079]
[{"$f":"A63460","v":{"$error":"#REF!"}},{"$error":"#REF!"},{"$error":"#REF!"},{"$error":"#REF!"},{"$error":"#REF!"},"Mujer","80-84",{"$f":"'Pob x Genero'!#REF!","v":{"$error":"#REF!"}},1089]
[{"$f":"A63496","v":{"$error":"#REF!"}},{"$error":"#REF!"},{"$error":"#REF!"},{"$error":"#REF!"},{"$error":"#REF!"},"Mujer","80-84",{"$f":"'Pob x Genero'!#REF!","v":{"$error":"#REF!"}},1125]
[{"$f":"A63541","v":{"$error":"#REF!"}},{"$error":"#REF!"},{"$error":"#REF!"},{"$error":"#REF!"},{"$error":"#REF!"},"Mujer","80-84",{"$f":"'Pob x Genero'!#REF!","v":{"$error":"#REF!"}},1170]
[{"$f":"A63580","v":{"$error":"#REF!"}},{"$error":"#REF!"},{"$error":"#REF!"},{"$error":"#REF!"},{"$error":"#REF!"},"Mujer","80-84",{"$f":"'Pob x Genero'!#REF!","v":{"$error":"#REF!"}},1209]
[{"$f":"A63619","v":{"$error":"#REF!"}},{"$error":"#REF!"},{"$error":"#REF!"},{"$error":"#REF!"},{"$error":"#REF!"},"Mujer","80-84",{"$f":"'Pob x Genero'!#REF!","v":{"$error":"#REF!"}},1248]
[{"$f":"A63631","v":{"$error":"#REF!"}},{"$error":"#REF!"},{"$error":"#REF!"},{"$error":"#REF!"},{"$error":"#REF!"},"Mujer","80-84",{"$f":"'Pob x Genero'!#REF!","v":{"$error":"#REF!"}},1260]
[{"$f":"A63667","v":{"$error":"#REF!"}},{"$error":"#REF!"},{"$error":"#REF!"},{"$error":"#REF!"},{"$error":"#REF!"},"Mujer","80-84",{"$f":"'Pob x Genero'!#REF!","v":{"$error":"#REF!"}},1296]
[{"$f":"A63710","v":{"$error":"#REF!"}},{"$error":"#REF!"},{"$error":"#REF!"},{"$error":"#REF!"},{"$error":"#REF!"},"Mujer","80-84",{"$f":"'Pob x Genero'!#REF!","v":{"$error":"#REF!"}},1339]
[{"$f":"A63749","v":{"$error":"#REF!"}},{"$error":"#REF!"},{"$error":"#REF!"},{"$error":"#REF!"},{"$error":"#REF!"},"Mujer","80-84",{"$f":"'Pob x Genero'!#REF!","v":{"$error":"#REF!"}},1378]
[{"$f":"A63755","v":{"$error":"#REF!"}},{"$error":"#REF!"},{"$error":"#REF!"},{"$error":"#REF!"},{"$error":"#REF!"},"Mujer","80-84",{"$f":"'Pob x Genero'!#REF!","v":{"$error":"#REF!"}},1384]
[{"$f":"A63784","v":{"$error":"#REF!"}},{"$error":"#REF!"},{"$error":"#REF!"},{"$error":"#REF!"},{"$error":"#REF!"},"Mujer","80-84",{"$f":"'Pob x Genero'!#REF!","v":{"$error":"#REF!"}},1413]
[{"$f":"A63836","v":{"$error":"#REF!"}},{"$error":"#REF!"},{"$error":"#REF!"},{"$error":"#REF!"},{"$error":"#REF!"},"Mujer","80-84",{"$f":"'Pob x Genero'!#REF!","v":{"$error":"#REF!"}},1465]
[{"$f":"A63875","v":{"$error":"#REF!"}},{"$error":"#REF!"},{"$error":"#REF!"},{"$error":"#REF!"},{"$error":"#REF!"},"Mujer","80-84",{"$f":"'Pob x Genero'!#REF!","v":{"$error":"#REF!"}},1504]
[{"$f":"A63885","v":{"$error":"#REF!"}},{"$error":"#REF!"},{"$error":"#REF!"},{"$error":"#REF!"},{"$error":"#REF!"},"Mujer","80-84",{"$f":"'Pob x Genero'!#REF!","v":{"$error":"#REF!"}},1514]
[{"$f":"A63919","v":{"$error":"#REF!"}},{"$error":"#REF!"},{"$error":"#REF!"},{"$error":"#REF!"},{"$error":"#REF!"},"Mujer","80-84",{"$f":"'Pob x Genero'!#REF!","v":{"$error":"#REF!"}},1548]
[{"$f":"A63966","v":{"$error":"#REF!"}},{"$error":"#REF!"},{"$error":"#REF!"},{"$error":"#REF!"},{"$error":"#REF!"},"Mujer","80-84",{"$f":"'Pob x Genero'!#REF!","v":{"$error":"#REF!"}},1595]
[{"$f":"A64005","v":{"$error":"#REF!"}},{"$error":"#REF!"},{"$error":"#REF!"},{"$error":"#REF!"},{"$error":"#REF!"},"Mujer","80-84",{"$f":"'Pob x Genero'!#REF!","v":{"$error":"#REF!"}},1634]
[{"$f":"A64044","v":{"$error":"#REF!"}},{"$error":"#REF!"},{"$error":"#REF!"},{"$error":"#REF!"},{"$error":"#REF!"},"Mujer","80-84",{"$f":"'Pob x Genero'!#REF!","v":{"$error":"#REF!"}},1673]
[{"$f":"A64054","v":{"$error":"#REF!"}},{"$error":"#REF!"},{"$error":"#REF!"},{"$error":"#REF!"},{"$error":"#REF!"},"Mujer","80-84",{"$f":"'Pob x Genero'!#REF!","v":{"$error":"#REF!"}},1683]
[{"$f":"A64104","v":{"$error":"#REF!"}},{"$error":"#REF!"},{"$error":"#REF!"},{"$error":"#REF!"},{"$error":"#REF!"},"Mujer","80-84",{"$f":"'Pob x Genero'!#REF!","v":{"$error":"#REF!"}},1733]
[{"$f":"A64131","v":{"$error":"#REF!"}},{"$error":"#REF!"},{"$error":"#REF!"},{"$error":"#REF!"},{"$error":"#REF!"},"Mujer","80-84",{"$f":"'Pob x Genero'!#REF!","v":{"$error":"#REF!"}},1760]
[{"$f":"A64174","v":{"$error":"#REF!"}},{"$error":"#REF!"},{"$error":"#REF!"},{"$error":"#REF!"},{"$error":"#REF!"},"Mujer","80-84",{"$f":"'Pob x Genero'!#REF!","v":{"$error":"#REF!"}},1803]
[{"$f":"A64180","v":{"$error":"#REF!"}},{"$error":"#REF!"},{"$error":"#REF!"},{"$error":"#REF!"},{"$error":"#REF!"},"Mujer","80-84",{"$f":"'Pob x Genero'!#REF!","v":{"$error":"#REF!"}},1809]
[{"$f":"A64239","v":{"$error":"#REF!"}},{"$error":"#REF!"},{"$error":"#REF!"},{"$error":"#REF!"},{"$error":"#REF!"},"Mujer","80-84",{"$f":"'Pob x Genero'!#REF!","v":{"$error":"#REF!"}},1868]
[{"$f":"A64261","v":{"$error":"#REF!"}},{"$error":"#REF!"},{"$error":"#REF!"},{"$error":"#REF!"},{"$error":"#REF!"},"Mujer","80-84",{"$f":"'Pob x Genero'!#REF!","v":{"$error":"#REF!"}},1890]
[{"$f":"A64300","v":{"$error":"#REF!"}},{"$error":"#REF!"},{"$error":"#REF!"},{"$error":"#REF!"},{"$error":"#REF!"},"Mujer","85-+",{"$f":"'Pob x Genero'!#REF!","v":{"$error":"#REF!"}},39]
[{"$f":"A64310","v":{"$error":"#REF!"}},{"$error":"#REF!"},{"$error":"#REF!"},{"$error":"#REF!"},{"$error":"#REF!"},"Mujer","85-+",{"$f":"'Pob x Genero'!#REF!","v":{"$error":"#REF!"}},49]
[{"$f":"A64342","v":{"$error":"#REF!"}},{"$error":"#REF!"},{"$error":"#REF!"},{"$error":"#REF!"},{"$error":"#REF!"},"Mujer","85-+",{"$f":"'Pob x Genero'!#REF!","v":{"$error":"#REF!"}},81]
[{"$f":"A64391","v":{"$error":"#REF!"}},{"$error":"#REF!"},{"$error":"#REF!"},{"$error":"#REF!"},{"$error":"#REF!"},{"$f":"F66280","v":"Mujer"},{"$f":"G66280","v":"85-+"},{"$f":"'Pob x Genero'!#REF!","v":{"$error":"#REF!"}},130]
[{"$f":"A64430","v":{"$error":"#REF!"}},{"$error":"#REF!"},{"$error":"#REF!"},{"$error":"#REF!"},{"$error":"#REF!"},"Mujer","85-+",{"$f":"'Pob x Genero'!#REF!","v":{"$error":"#REF!"}},169]
[{"$f":"A64469","v":{"$error":"#REF!"}},{"$error":"#REF!"},{"$error":"#REF!"},{"$error":"#REF!"},{"$error":"#REF!"},"Mujer","85-+",{"$f":"'Pob x Genero'!#REF!","v":{"$error":"#REF!"}},208]
[{"$f":"A64479","v":{"$error":"#REF!"}},{"$error":"#REF!"},{"$error":"#REF!"},{"$error":"#REF!"},{"$error":"#REF!"},"Mujer","85-+",{"$f":"'Pob x Genero'!#REF!","v":{"$error":"#REF!"}},218]
[{"$f":"A64527","v":{"$error":"#REF!"}},{"$error":"#REF!"},{"$error":"#REF!"},{"$error":"#REF!"},{"$error":"#REF!"},"Mujer","85-+",{"$f":"'Pob x Genero'!#REF!","v":{"$error":"#REF!"}},266]
[{"$f":"A64556","v":{"$error":"#REF!"}},{"$error":"#REF!"},{"$error":"#REF!"},{"$error":"#REF!"},{"$error":"#REF!"},"Mujer","85-+",{"$f":"'Pob x Genero'!#REF!","v":{"$error":"#REF!"}},295]
[{"$f":"A64599","v":"040103"},"AREQUIPA","AREQUIPA","AREQUIPA","CAYMA","Mujer","85-+",{"$f":"'Pob x Genero'!EB11","v":750},338]
[{"$f":"A64605","v":"040109"},"AREQUIPA","AREQUIPA","AREQUIPA","MARIANO MELGAR","Mujer","85-+",{"$f":"'Pob x Genero'!EB17","v":532},344]
[{"$f":"A64662","v":"040502"},"AREQUIPA","AREQUIPA","CAYLLOMA","ACHOMA","Mujer","85-+",{"$f":"'Pob x Genero'!EB74","v":10},401]
[{"$f":"A64686","v":"040606"},"AREQUIPA","AREQUIPA","CONDESUYOS","RIO GRANDE","Mujer","85-+",{"$f":"'Pob x Genero'!EB98","v":23},425]
[{"$f":"A64725","v":{"$error":"#REF!"}},{"$error":"#REF!"},{"$error":"#REF!"},{"$error":"#REF!"},{"$error":"#REF!"},"Mujer","85-+",{"$f":"'Pob x Genero'!#REF!","v":{"$error":"#REF!"}},464]
[{"$f":"A64735","v":{"$error":"#REF!"}},{"$error":"#REF!"},{"$error":"#REF!"},{"$error":"#REF!"},{"$error":"#REF!"},"Mujer","85-+",{"$f":"'Pob x Genero'!#REF!","v":{"$error":"#REF!"}},474]
[{"$f":"A64797","v":{"$error":"#REF!"}},{"$error":"#REF!"},{"$error":"#REF!"},{"$error":"#REF!"},{"$error":"#REF!"},"Mujer","85-+",{"$f":"'Pob x Genero'!#REF!","v":{"$error":"#REF!"}},536]
[{"$f":"A64816","v":{"$error":"#REF!"}},{"$error":"#REF!"},{"$error":"#REF!"},{"$error":"#REF!"},{"$error":"#REF!"},"Mujer","85-+",{"$f":"'Pob x Genero'!#REF!","v":{"$error":"#REF!"}},555]
[{"$f":"A64855","v":{"$error":"#REF!"}},{"$error":"#REF!"},{"$error":"#REF!"},{"$error":"#REF!"},{"$error":"#REF!"},"Mujer","85-+",{"$f":"'Pob x Genero'!#REF!","v":{"$error":"#REF!"}},594]
[{"$f":"A64894","v":{"$error":"#REF!"}},{"$error":"#REF!"},{"$error":"#REF!"},{"$error":"#REF!"},{"$error":"#REF!"},"Mujer","85-+",{"$f":"'Pob x Genero'!#REF!","v":{"$error":"#REF!"}},633]
[{"$f":"A64904","v":{"$error":"#REF!"}},{"$error":"#REF!"},{"$error":"#REF!"},{"$error":"#REF!"},{"$error":"#REF!"},"Mujer","85-+",{"$f":"'Pob x Genero'!#REF!","v":{"$error":"#REF!"}},643]
[{"$f":"A64950","v":{"$error":"#REF!"}},{"$error":"#REF!"},{"$error":"#REF!"},{"$error":"#REF!"},{"$error":"#REF!"},"Mujer","85-+",{"$f":"'Pob x Genero'!#REF!","v":{"$error":"#REF!"}},689]
[{"$f":"A64981","v":{"$error":"#REF!"}},{"$error":"#REF!"},{"$error":"#REF!"},{"$error":"#REF!"},{"$error":"#REF!"},"Mujer","85-+",{"$f":"'Pob x Genero'!#REF!","v":{"$error":"#REF!"}},720]
[{"$f":"A65024","v":{"$error":"#REF!"}},{"$error":"#REF!"},{"$error":"#REF!"},{"$error":"#REF!"},{"$error":"#REF!"},"Mujer","85-+",{"$f":"'Pob x Genero'!#REF!","v":{"$error":"#REF!"}},763]
[{"$f":"A65030","v":{"$error":"#REF!"}},{"$error":"#REF!"},{"$error":"#REF!"},{"$error":"#REF!"},{"$error":"#REF!"},"Mujer","85-+",{"$f":"'Pob x Genero'!#REF!","v":{"$error":"#REF!"}},769]
[{"$f":"A65085","v":{"$error":"#REF!"}},{"$error":"#REF!"},{"$error":"#REF!"},{"$error":"#REF!"},{"$error":"#REF!"},"Mujer","85-+",{"$f":"'Pob x Genero'!#REF!","v":{"$error":"#REF!"}},824]
[{"$f":"A65111","v":{"$error":"#REF!"}},{"$error":"#REF!"},{"$error":"#REF!"},{"$error":"#REF!"},{"$error":"#REF!"},"Mujer","85-+",{"$f":"'Pob x Genero'!#REF!","v":{"$error":"#REF!"}},850]
[{"$f":"A65150","v":{"$error":"#REF!"}},{"$error":"#REF!"},{"$error":"#REF!"},{"$error":"#REF!"},{"$error":"#REF!"},"Mujer","85-+",{"$f":"'Pob x Genero'!#REF!","v":{"$error":"#REF!"}},889]
[{"$f":"A65160","v":{"$error":"#REF!"}},{"$error":"#REF!"},{"$error":"#REF!"},{"$error":"#REF!"},{"$error":"#REF!"},"Mujer","85-+",{"$f":"'Pob x Genero'!#REF!","v":{"$error":"#REF!"}},899]
[{"$f":"A65220","v":{"$error":"#REF!"}},{"$error":"#REF!"},{"$error":"#REF!"},{"$error":"#REF!"},{"$error":"#REF!"},"Mujer","85-+",{"$f":"'Pob x Genero'!#REF!","v":{"$error":"#REF!"}},959]
[{"$f":"A65237","v":{"$error":"#REF!"}},{"$error":"#REF!"},{"$error":"#REF!"},{"$error":"#REF!"},{"$error":"#REF!"},"Mujer","85-+",{"$f":"'Pob x Genero'!#REF!","v":{"$error":"#REF!"}},976]
[{"$f":"A65280","v":{"$error":"#REF!"}},{"$error":"#REF!"},{"$error":"#REF!"},{"$error":"#REF!"},{"$error":"#REF!"},"Mujer","85-+",{"$f":"'Pob x Genero'!#REF!","v":{"$error":"#REF!"}},1019]
[{"$f":"A65319","v":{"$error":"#REF!"}},{"$error":"#REF!"},{"$error":"#REF!"},{"$error":"#REF!"},{"$error":"#REF!"},"Mujer","85-+",{"$f":"'Pob x Genero'!#REF!","v":{"$error":"#REF!"}},1058]
[{"$f":"A65329","v":{"$error":"#REF!"}},{"$error":"#REF!"},{"$error":"#REF!"},{"$error":"#REF!"},{"$error":"#REF!"},"Mujer","85-+",{"$f":"'Pob x Genero'!#REF!","v":{"$error":"#REF!"}},1068]
[{"$f":"A65373","v":{"$error":"#REF!"}},{"$error":"#REF!"},{"$error":"#REF!"},{"$error":"#REF!"},{"$error":"#REF!"},"Mujer","85-+",{"$f":"'Pob x Genero'!#REF!","v":{"$error":"#REF!"}},1112]
[{"$f":"A65406","v":{"$error":"#REF!"}},{"$error":"#REF!"},{"$error":"#REF!"},{"$error":"#REF!"},{"$error":"#REF!"},"Mujer","85-+",{"$f":"'Pob x Genero'!#REF!","v":{"$error":"#REF!"}},1145]
[{"$f":"A65449","v":{"$error":"#REF!"}},{"$error":"#REF!"},{"$error":"#REF!"},{"$error":"#REF!"},{"$error":"#REF!"},"Mujer","85-+",{"$f":"'Pob x Genero'!#REF!","v":{"$error":"#REF!"}},1188]
[{"$f":"A65455","v":{"$error":"#REF!"}},{"$error":"#REF!"},{"$error":"#REF!"},{"$error":"#REF!"},{"$error":"#REF!"},"Mujer","85-+",{"$f":"'Pob x Genero'!#REF!","v":{"$error":"#REF!"}},1194]
[{"$f":"A65508","v":{"$error":"#REF!"}},{"$error":"#REF!"},{"$error":"#REF!"},{"$error":"#REF!"},{"$error":"#REF!"},"Mujer","85-+",{"$f":"'Pob x Genero'!#REF!","v":{"$error":"#REF!"}},1247]
[{"$f":"A65536","v":{"$error":"#REF!"}},{"$error":"#REF!"},{"$error":"#REF!"},{"$error":"#REF!"},{"$error":"#REF!"},"Mujer","85-+",{"$f":"'Pob x Genero'!#REF!","v":{"$error":"#REF!"}},1275]
[{"$f":"A65575","v":{"$error":"#REF!"}},{"$error":"#REF!"},{"$error":"#REF!"},{"$error":"#REF!"},{"$error":"#REF!"},"Mujer","85-+",{"$f":"'Pob x Genero'!#REF!","v":{"$error":"#REF!"}},1314]
[{"$f":"A65618","v":{"$error":"#REF!"}},{"$error":"#REF!"},{"$error":"#REF!"},{"$error":"#REF!"},{"$error":"#REF!"},"Mujer","85-+",{"$f":"'Pob x Genero'!#REF!","v":{"$error":"#REF!"}},1357]
[{"$f":"A65624","v":{"$error":"#REF!"}},{"$error":"#REF!"},{"$error":"#REF!"},{"$error":"#REF!"},{"$error":"#REF!"},"Mujer","85-+",{"$f":"'Pob x Genero'!#REF!","v":{"$error":"#REF!"}},1363]
[{"$f":"A65652","v":{"$error":"#REF!"}},{"$error":"#REF!"},{"$error":"#REF!"},{"$error":"#REF!"},{"$error":"#REF!"},"Mujer","85-+",{"$f":"'Pob x Genero'!#REF!","v":{"$error":"#REF!"}},1391]
[{"$f":"A65653","v":{"$error":"#REF!"}},{"$error":"#REF!"},{"$error":"#REF!"},{"$error":"#REF!"},{"$error":"#REF!"},"Mujer","85-+",{"$f":"'Pob x Genero'!#REF!","v":{"$error":"#REF!"}},1392]
[{"$f":"A65654","v":{"$error":"#REF!"}},{"$error":"#REF!"},{"$error":"#REF!"},{"$error":"#REF!"},{"$error":"#REF!"},"Mujer","85-+",{"$f":"'Pob x Genero'!#REF!","v":{"$error":"#REF!"}},1393]
[{"$f":"A65655","v":{"$error":"#REF!"}},{"$error":"#REF!"},{"$error":"#REF!"},{"$error":"#REF!"},{"$error":"#REF!"},"Mujer","85-+",{"$f":"'Pob x Genero'!#REF!","v":{"$error":"#REF!"}},1394]
[{"$f":"A65656","v":{"$error":"#REF!"}},{"$error":"#REF!"},{"$error":"#REF!"},{"$error":"#REF!"},{"$error":"#REF!"},"Mujer","85-+",{"$f":"'Pob x Genero'!#REF!","v":{"$error":"#REF!"}},1395]
[{"$f":"A65657","v":{"$error":"#REF!"}},{"$error":"#REF!"},{"$error":"#REF!"},{"$error":"#REF!"},{"$error":"#REF!"},"Mujer","85-+",{"$f":"'Pob x Genero'!#REF!","v":{"$error":"#REF!"}},1396]
[{"$f":"A65658","v":{"$error":"#REF!"}},{"$error":"#REF!"},{"$error":"#REF!"},{"$error":"#REF!"},{"$error":"#REF!"},"Mujer","85-+",{"$f":"'Pob x Genero'!#REF!","v":{"$error":"#REF!"}},1397]
[{"$f":"A65659","v":{"$error":"#REF!"}},{"$error":"#REF!"},{"$error":"#REF!"},{"$error":"#REF!"},{"$error":"#REF!"},"Mujer","85-+",{"$f":"'Pob x Genero'!#REF!","v":{"$error":"#REF!"}},1398]
[{"$f":"A65660","v":{"$error":"#REF!"}},{"$error":"#REF!"},{"$error":"#REF!"},{"$error":"#REF!"},{"$error":"#REF!"},"Mujer","85-+",{"$f":"'Pob x Genero'!#REF!","v":{"$error":"#REF!"}},1399]
[{"$f":"A65661","v":{"$error":"#REF!"}},{"$error":"#REF!"},{"$error":"#REF!"},{"$error":"#REF!"},{"$error":"#REF!"},"Mujer","85-+",{"$f":"'Pob x Genero'!#REF!","v":{"$error":"#REF!"}},1400]
[{"$f":"A65662","v":{"$error":"#REF!"}},{"$error":"#REF!"},{"$error":"#REF!"},{"$error":"#REF!"},{"$error":"#REF!"},"Mujer","85-+",{"$f":"'Pob x Genero'!#REF!","v":{"$error":"#REF!"}},1401]
[{"$f":"A65663","v":{"$error":"#REF!"}},{"$error":"#REF!"},{"$error":"#REF!"},{"$error":"#REF!"},{"$error":"#REF!"},"Mujer","85-+",{"$f":"'Pob x Genero'!#REF!","v":{"$error":"#REF!"}},1402]
[{"$f":"A65664","v":{"$error":"#REF!"}},{"$error":"#REF!"},{"$error":"#REF!"},{"$error":"#REF!"},{"$error":"#REF!"},"Mujer","85-+",{"$f":"'Pob x Genero'!#REF!","v":{"$error":"#REF!"}},1403]
[{"$f":"A65665","v":{"$error":"#REF!"}},{"$error":"#REF!"},{"$error":"#REF!"},{"$error":"#REF!"},{"$error":"#REF!"},"Mujer","85-+",{"$f":"'Pob x Genero'!#REF!","v":{"$error":"#REF!"}},1404]
[{"$f":"A65666","v":{"$error":"#REF!"}},{"$error":"#REF!"},{"$error":"#REF!"},{"$error":"#REF!"},{"$error":"#REF!"},"Mujer","85-+",{"$f":"'Pob x Genero'!#REF!","v":{"$error":"#REF!"}},1405]
[{"$f":"A65667","v":{"$error":"#REF!"}},{"$error":"#REF!"},{"$error":"#REF!"},{"$error":"#REF!"},{"$error":"#REF!"},"Mujer","85-+",{"$f":"'Pob x Genero'!#REF!","v":{"$error":"#REF!"}},1406]
[{"$f":"A65668","v":{"$error":"#REF!"}},{"$error":"#REF!"},{"$error":"#REF!"},{"$error":"#REF!"},{"$error":"#REF!"},"Mujer","85-+",{"$f":"'Pob x Genero'!#REF!","v":{"$error":"#REF!"}},1407]
[{"$f":"A65669","v":{"$error":"#REF!"}},{"$error":"#REF!"},{"$error":"#REF!"},{"$error":"#REF!"},{"$error":"#REF!"},"Mujer","85-+",{"$f":"'Pob x Genero'!#REF!","v":{"$error":"#REF!"}},1408]
[{"$f":"A65670","v":{"$error":"#REF!"}},{"$error":"#REF!"},{"$error":"#REF!"},{"$error":"#REF!"},{"$error":"#REF!"},"Mujer","85-+",{"$f":"'Pob x Genero'!#REF!","v":{"$error":"#REF!"}},1409]
[{"$f":"A65671","v":{"$error":"#REF!"}},{"$error":"#REF!"},{"$error":"#REF!"},{"$error":"#REF!"},{"$error":"#REF!"},{"$f":"F67560","v":"Mujer"},{"$f":"G67560","v":"85-+"},{"$f":"'Pob x Genero'!#REF!","v":{"$error":"#REF!"}},1410]
[{"$f":"A65672","v":{"$error":"#REF!"}},{"$error":"#REF!"},{"$error":"#REF!"},{"$error":"#REF!"},{"$error":"#REF!"},"Mujer","85-+",{"$f":"'Pob x Genero'!#REF!","v":{"$error":"#REF!"}},1411]
[{"$f":"A65673","v":{"$error":"#REF!"}},{"$error":"#REF!"},{"$error":"#REF!"},{"$error":"#REF!"},{"$error":"#REF!"},"Mujer","85-+",{"$f":"'Pob x Genero'!#REF!","v":{"$error":"#REF!"}},1412]
[{"$f":"A65674","v":{"$error":"#REF!"}},{"$error":"#REF!"},{"$error":"#REF!"},{"$error":"#REF!"},{"$error":"#REF!"},"Mujer","85-+",{"$f":"'Pob x Genero'!#REF!","v":{"$error":"#REF!"}},1413]
[{"$f":"A65675","v":{"$error":"#REF!"}},{"$error":"#REF!"},{"$error":"#REF!"},{"$error":"#REF!"},{"$error":"#REF!"},"Mujer","85-+",{"$f":"'Pob x Genero'!#REF!","v":{"$error":"#REF!"}},1414]
[{"$f":"A65676","v":{"$error":"#REF!"}},{"$error":"#REF!"},{"$error":"#REF!"},{"$error":"#REF!"},{"$error":"#REF!"},"Mujer","85-+",{"$f":"'Pob x Genero'!#REF!","v":{"$error":"#REF!"}},1415]
[{"$f":"A65677","v":{"$error":"#REF!"}},{"$error":"#REF!"},{"$error":"#REF!"},{"$error":"#REF!"},{"$error":"#REF!"},"Mujer","85-+",{"$f":"'Pob x Genero'!#REF!","v":{"$error":"#REF!"}},1416]
[{"$f":"A65678","v":{"$error":"#REF!"}},{"$error":"#REF!"},{"$error":"#REF!"},{"$error":"#REF!"},{"$error":"#REF!"},"Mujer","85-+",{"$f":"'Pob x Genero'!#REF!","v":{"$error":"#REF!"}},1417]
[{"$f":"A65679","v":{"$error":"#REF!"}},{"$error":"#REF!"},{"$error":"#REF!"},{"$error":"#REF!"},{"$error":"#REF!"},"Mujer","85-+",{"$f":"'Pob x Genero'!#REF!","v":{"$error":"#REF!"}},1418]
[{"$f":"A65680","v":{"$error":"#REF!"}},{"$error":"#REF!"},{"$error":"#REF!"},{"$error":"#REF!"},{"$error":"#REF!"},"Mujer","85-+",{"$f":"'Pob x Genero'!#REF!","v":{"$error":"#REF!"}},1419]
[{"$f":"A65681","v":{"$error":"#REF!"}},{"$error":"#REF!"},{"$error":"#REF!"},{"$error":"#REF!"},{"$error":"#REF!"},"Mujer","85-+",{"$f":"'Pob x Genero'!#REF!","v":{"$error":"#REF!"}},1420]
[{"$f":"A65682","v":{"$error":"#REF!"}},{"$error":"#REF!"},{"$error":"#REF!"},{"$error":"#REF!"},{"$error":"#REF!"},"Mujer","85-+",{"$f":"'Pob x Genero'!#REF!","v":{"$error":"#REF!"}},1421]
[{"$f":"A65683","v":{"$error":"#REF!"}},{"$error":"#REF!"},{"$error":"#REF!"},{"$error":"#REF!"},{"$error":"#REF!"},"Mujer","85-+",{"$f":"'Pob x Genero'!#REF!","v":{"$error":"#REF!"}},1422]
[{"$f":"A65684","v":{"$error":"#REF!"}},{"$error":"#REF!"},{"$error":"#REF!"},{"$error":"#REF!"},{"$error":"#REF!"},"Mujer","85-+",{"$f":"'Pob x Genero'!#REF!","v":{"$error":"#REF!"}},1423]
[{"$f":"A65685","v":{"$error":"#REF!"}},{"$error":"#REF!"},{"$error":"#REF!"},{"$error":"#REF!"},{"$error":"#REF!"},"Mujer","85-+",{"$f":"'Pob x Genero'!#REF!","v":{"$error":"#REF!"}},1424]
[{"$f":"A65686","v":{"$error":"#REF!"}},{"$error":"#REF!"},{"$error":"#REF!"},{"$error":"#REF!"},{"$error":"#REF!"},"Mujer","85-+",{"$f":"'Pob x Genero'!#REF!","v":{"$error":"#REF!"}},1425]
[{"$f":"A65687","v":{"$error":"#REF!"}},{"$error":"#REF!"},{"$error":"#REF!"},{"$error":"#REF!"},{"$error":"#REF!"},"Mujer","85-+",{"$f":"'Pob x Genero'!#REF!","v":{"$error":"#REF!"}},1426]
[{"$f":"A65688","v":{"$error":"#REF!"}},{"$error":"#REF!"},{"$error":"#REF!"},{"$error":"#REF!"},{"$error":"#REF!"},"Mujer","85-+",{"$f":"'Pob x Genero'!#REF!","v":{"$error":"#REF!"}},1427]
[{"$f":"A65689","v":{"$error":"#REF!"}},{"$error":"#REF!"},{"$error":"#REF!"},{"$error":"#REF!"},{"$error":"#REF!"},"Mujer","85-+",{"$f":"'Pob x Genero'!#REF!","v":{"$error":"#REF!"}},1428]
[{"$f":"A65690","v":{"$error":"#REF!"}},{"$error":"#REF!"},{"$error":"#REF!"},{"$error":"#REF!"},{"$error":"#REF!"},"Mujer","85-+",{"$f":"'Pob x Genero'!#REF!","v":{"$error":"#REF!"}},1429]
[{"$f":"A65691","v":{"$error":"#REF!"}},{"$error":"#REF!"},{"$error":"#REF!"},{"$error":"#REF!"},{"$error":"#REF!"},"Mujer","85-+",{"$f":"'Pob x Genero'!#REF!","v":{"$error":"#REF!"}},1430]
[{"$f":"A65692","v":{"$error":"#REF!"}},{"$error":"#REF!"},{"$error":"#REF!"},{"$error":"#REF!"},{"$error":"#REF!"},"Mujer","85-+",{"$f":"'Pob x Genero'!#REF!","v":{"$error":"#REF!"}},1431]
[{"$f":"A65693","v":{"$error":"#REF!"}},{"$error":"#REF!"},{"$error":"#REF!"},{"$error":"#REF!"},{"$error":"#REF!"},"Mujer","85-+",{"$f":"'Pob x Genero'!#REF!","v":{"$error":"#REF!"}},1432]
[{"$f":"A65694","v":{"$error":"#REF!"}},{"$error":"#REF!"},{"$error":"#REF!"},{"$error":"#REF!"},{"$error":"#REF!"},"Mujer","85-+",{"$f":"'Pob x Genero'!#REF!","v":{"$error":"#REF!"}},1433]
[{"$f":"A65695","v":{"$error":"#REF!"}},{"$error":"#REF!"},{"$error":"#REF!"},{"$error":"#REF!"},{"$error":"#REF!"},"Mujer","85-+",{"$f":"'Pob x Genero'!#REF!","v":{"$error":"#REF!"}},1434]
[{"$f":"A65696","v":{"$error":"#REF!"}},{"$error":"#REF!"},{"$error":"#REF!"},{"$error":"#REF!"},{"$error":"#REF!"},"Mujer","85-+",{"$f":"'Pob x Genero'!#REF!","v":{"$error":"#REF!"}},1435]
[{"$f":"A65697","v":{"$error":"#REF!"}},{"$error":"#REF!"},{"$error":"#REF!"},{"$error":"#REF!"},{"$error":"#REF!"},"Mujer","85-+",{"$f":"'Pob x Genero'!#REF!","v":{"$error":"#REF!"}},1436]
[{"$f":"A65698","v":{"$error":"#REF!"}},{"$error":"#REF!"},{"$error":"#REF!"},{"$error":"#REF!"},{"$error":"#REF!"},"Mujer","85-+",{"$f":"'Pob x Genero'!#REF!","v":{"$error":"#REF!"}},1437]
[{"$f":"A65699","v":{"$error":"#REF!"}},{"$error":"#REF!"},{"$error":"#REF!"},{"$error":"#REF!"},{"$error":"#REF!"},"Mujer","85-+",{"$f":"'Pob x Genero'!#REF!","v":{"$error":"#REF!"}},1438]
[{"$f":"A65700","v":{"$error":"#REF!"}},{"$error":"#REF!"},{"$error":"#REF!"},{"$error":"#REF!"},{"$error":"#REF!"},"Mujer","85-+",{"$f":"'Pob x Genero'!#REF!","v":{"$error":"#REF!"}},1439]
[{"$f":"A65701","v":{"$error":"#REF!"}},{"$error":"#REF!"},{"$error":"#REF!"},{"$error":"#REF!"},{"$error":"#REF!"},"Mujer","85-+",{"$f":"'Pob x Genero'!#REF!","v":{"$error":"#REF!"}},1440]
[{"$f":"A65702","v":{"$error":"#REF!"}},{"$error":"#REF!"},{"$error":"#REF!"},{"$error":"#REF!"},{"$error":"#REF!"},"Mujer","85-+",{"$f":"'Pob x Genero'!#REF!","v":{"$error":"#REF!"}},1441]
[{"$f":"A65703","v":{"$error":"#REF!"}},{"$error":"#REF!"},{"$error":"#REF!"},{"$error":"#REF!"},{"$error":"#REF!"},"Mujer","85-+",{"$f":"'Pob x Genero'!#REF!","v":{"$error":"#REF!"}},1442]
[{"$f":"A65704","v":{"$error":"#REF!"}},{"$error":"#REF!"},{"$error":"#REF!"},{"$error":"#REF!"},{"$error":"#REF!"},"Mujer","85-+",{"$f":"'Pob x Genero'!#REF!","v":{"$error":"#REF!"}},1443]
[{"$f":"A65705","v":{"$error":"#REF!"}},{"$error":"#REF!"},{"$error":"#REF!"},{"$error":"#REF!"},{"$error":"#REF!"},"Mujer","85-+",{"$f":"'Pob x Genero'!#REF!","v":{"$error":"#REF!"}},1444]
[{"$f":"A65706","v":{"$error":"#REF!"}},{"$error":"#REF!"},{"$error":"#REF!"},{"$error":"#REF!"},{"$error":"#REF!"},"Mujer","85-+",{"$f":"'Pob x Genero'!#REF!","v":{"$error":"#REF!"}},1445]
[{"$f":"A65707","v":{"$error":"#REF!"}},{"$error":"#REF!"},{"$error":"#REF!"},{"$error":"#REF!"},{"$error":"#REF!"},"Mujer","85-+",{"$f":"'Pob x Genero'!#REF!","v":{"$error":"#REF!"}},1446]
[{"$f":"A65708","v":{"$error":"#REF!"}},{"$error":"#REF!"},{"$error":"#REF!"},{"$error":"#REF!"},{"$error":"#REF!"},"Mujer","85-+",{"$f":"'Pob x Genero'!#REF!","v":{"$error":"#REF!"}},1447]
[{"$f":"A65709","v":{"$error":"#REF!"}},{"$error":"#REF!"},{"$error":"#REF!"},{"$error":"#REF!"},{"$error":"#REF!"},"Mujer","85-+",{"$f":"'Pob x Genero'!#REF!","v":{"$error":"#REF!"}},1448]
[{"$f":"A65710","v":{"$error":"#REF!"}},{"$error":"#REF!"},{"$error":"#REF!"},{"$error":"#REF!"},{"$error":"#REF!"},"Mujer","85-+",{"$f":"'Pob x Genero'!#REF!","v":{"$error":"#REF!"}},1449]
[{"$f":"A65711","v":{"$error":"#REF!"}},{"$error":"#REF!"},{"$error":"#REF!"},{"$error":"#REF!"},{"$error":"#REF!"},"Mujer","85-+",{"$f":"'Pob x Genero'!#REF!","v":{"$error":"#REF!"}},1450]
[{"$f":"A65712","v":{"$error":"#REF!"}},{"$error":"#REF!"},{"$error":"#REF!"},{"$error":"#REF!"},{"$error":"#REF!"},"Mujer","85-+",{"$f":"'Pob x Genero'!#REF!","v":{"$error":"#REF!"}},1451]
[{"$f":"A65713","v":{"$error":"#REF!"}},{"$error":"#REF!"},{"$error":"#REF!"},{"$error":"#REF!"},{"$error":"#REF!"},"Mujer","85-+",{"$f":"'Pob x Genero'!#REF!","v":{"$error":"#REF!"}},1452]
[{"$f":"A65714","v":{"$error":"#REF!"}},{"$error":"#REF!"},{"$error":"#REF!"},{"$error":"#REF!"},{"$error":"#REF!"},"Mujer","85-+",{"$f":"'Pob x Genero'!#REF!","v":{"$error":"#REF!"}},1453]
[{"$f":"A65715","v":{"$error":"#REF!"}},{"$error":"#REF!"},{"$error":"#REF!"},{"$error":"#REF!"},{"$error":"#REF!"},"Mujer","85-+",{"$f":"'Pob x Genero'!#REF!","v":{"$error":"#REF!"}},1454]
[{"$f":"A65716","v":{"$error":"#REF!"}},{"$error":"#REF!"},{"$error":"#REF!"},{"$error":"#REF!"},{"$error":"#REF!"},"Mujer","85-+",{"$f":"'Pob x Genero'!#REF!","v":{"$error":"#REF!"}},1455]
[{"$f":"A65717","v":{"$error":"#REF!"}},{"$error":"#REF!"},{"$error":"#REF!"},{"$error":"#REF!"},{"$error":"#REF!"},"Mujer","85-+",{"$f":"'Pob x Genero'!#REF!","v":{"$error":"#REF!"}},1456]
[{"$f":"A65718","v":{"$error":"#REF!"}},{"$error":"#REF!"},{"$error":"#REF!"},{"$error":"#REF!"},{"$error":"#REF!"},"Mujer","85-+",{"$f":"'Pob x Genero'!#REF!","v":{"$error":"#REF!"}},1457]
[{"$f":"A65719","v":{"$error":"#REF!"}},{"$error":"#REF!"},{"$error":"#REF!"},{"$error":"#REF!"},{"$error":"#REF!"},"Mujer","85-+",{"$f":"'Pob x Genero'!#REF!","v":{"$error":"#REF!"}},1458]
[{"$f":"A65720","v":{"$error":"#REF!"}},{"$error":"#REF!"},{"$error":"#REF!"},{"$error":"#REF!"},{"$error":"#REF!"},"Mujer","85-+",{"$f":"'Pob x Genero'!#REF!","v":{"$error":"#REF!"}},1459]
[{"$f":"A65721","v":{"$error":"#REF!"}},{"$error":"#REF!"},{"$error":"#REF!"},{"$error":"#REF!"},{"$error":"#REF!"},"Mujer","85-+",{"$f":"'Pob x Genero'!#REF!","v":{"$error":"#REF!"}},1460]
[{"$f":"A65722","v":{"$error":"#REF!"}},{"$error":"#REF!"},{"$error":"#REF!"},{"$error":"#REF!"},{"$error":"#REF!"},"Mujer","85-+",{"$f":"'Pob x Genero'!#REF!","v":{"$error":"#REF!"}},1461]
[{"$f":"A65723","v":{"$error":"#REF!"}},{"$error":"#REF!"},{"$error":"#REF!"},{"$error":"#REF!"},{"$error":"#REF!"},"Mujer","85-+",{"$f":"'Pob x Genero'!#REF!","v":{"$error":"#REF!"}},1462]
[{"$f":"A65724","v":{"$error":"#REF!"}},{"$error":"#REF!"},{"$error":"#REF!"},{"$error":"#REF!"},{"$error":"#REF!"},"Mujer","85-+",{"$f":"'Pob x Genero'!#REF!","v":{"$error":"#REF!"}},1463]
[{"$f":"A65725","v":{"$error":"#REF!"}},{"$error":"#REF!"},{"$error":"#REF!"},{"$error":"#REF!"},{"$error":"#REF!"},"Mujer","85-+",{"$f":"'Pob x Genero'!#REF!","v":{"$error":"#REF!"}},1464]
[{"$f":"A65726","v":{"$error":"#REF!"}},{"$error":"#REF!"},{"$error":"#REF!"},{"$error":"#REF!"},{"$error":"#REF!"},"Mujer","85-+",{"$f":"'Pob x Genero'!#REF!","v":{"$error":"#REF!"}},1465]
[{"$f":"A65727","v":{"$error":"#REF!"}},{"$error":"#REF!"},{"$error":"#REF!"},{"$error":"#REF!"},{"$error":"#REF!"},"Mujer","85-+",{"$f":"'Pob x Genero'!#REF!","v":{"$error":"#REF!"}},1466]
[{"$f":"A65728","v":{"$error":"#REF!"}},{"$error":"#REF!"},{"$error":"#REF!"},{"$error":"#REF!"},{"$error":"#REF!"},"Mujer","85-+",{"$f":"'Pob x Genero'!#REF!","v":{"$error":"#REF!"}},1467]
[{"$f":"A65729","v":{"$error":"#REF!"}},{"$error":"#REF!"},{"$error":"#REF!"},{"$error":"#REF!"},{"$error":"#REF!"},"Mujer","85-+",{"$f":"'Pob x Genero'!#REF!","v":{"$error":"#REF!"}},1468]
[{"$f":"A65730","v":{"$error":"#REF!"}},{"$error":"#REF!"},{"$error":"#REF!"},{"$error":"#REF!"},{"$error":"#REF!"},"Mujer","85-+",{"$f":"'Pob x Genero'!#REF!","v":{"$error":"#REF!"}},1469]
[{"$f":"A65731","v":{"$error":"#REF!"}},{"$error":"#REF!"},{"$error":"#REF!"},{"$error":"#REF!"},{"$error":"#REF!"},"Mujer","85-+",{"$f":"'Pob x Genero'!#REF!","v":{"$error":"#REF!"}},1470]
[{"$f":"A65732","v":{"$error":"#REF!"}},{"$error":"#REF!"},{"$error":"#REF!"},{"$error":"#REF!"},{"$error":"#REF!"},"Mujer","85-+",{"$f":"'Pob x Genero'!#REF!","v":{"$error":"#REF!"}},1471]
[{"$f":"A65733","v":{"$error":"#REF!"}},{"$error":"#REF!"},{"$error":"#REF!"},{"$error":"#REF!"},{"$error":"#REF!"},"Mujer","85-+",{"$f":"'Pob x Genero'!#REF!","v":{"$error":"#REF!"}},1472]
[{"$f":"A65734","v":{"$error":"#REF!"}},{"$error":"#REF!"},{"$error":"#REF!"},{"$error":"#REF!"},{"$error":"#REF!"},"Mujer","85-+",{"$f":"'Pob x Genero'!#REF!","v":{"$error":"#REF!"}},1473]
[{"$f":"A65735","v":{"$error":"#REF!"}},{"$error":"#REF!"},{"$error":"#REF!"},{"$error":"#REF!"},{"$error":"#REF!"},{"$f":"F67624","v":"Mujer"},{"$f":"G67624","v":"85-+"},{"$f":"'Pob x Genero'!#REF!","v":{"$error":"#REF!"}},1474]
[{"$f":"A65736","v":{"$error":"#REF!"}},{"$error":"#REF!"},{"$error":"#REF!"},{"$error":"#REF!"},{"$error":"#REF!"},"Mujer","85-+",{"$f":"'Pob x Genero'!#REF!","v":{"$error":"#REF!"}},1475]
[{"$f":"A65737","v":{"$error":"#REF!"}},{"$error":"#REF!"},{"$error":"#REF!"},{"$error":"#REF!"},{"$error":"#REF!"},"Mujer","85-+",{"$f":"'Pob x Genero'!#REF!","v":{"$error":"#REF!"}},1476]
[{"$f":"A65738","v":{"$error":"#REF!"}},{"$error":"#REF!"},{"$error":"#REF!"},{"$error":"#REF!"},{"$error":"#REF!"},"Mujer","85-+",{"$f":"'Pob x Genero'!#REF!","v":{"$error":"#REF!"}},1477]
[{"$f":"A65739","v":{"$error":"#REF!"}},{"$error":"#REF!"},{"$error":"#REF!"},{"$error":"#REF!"},{"$error":"#REF!"},"Mujer","85-+",{"$f":"'Pob x Genero'!#REF!","v":{"$error":"#REF!"}},1478]
[{"$f":"A65740","v":{"$error":"#REF!"}},{"$error":"#REF!"},{"$error":"#REF!"},{"$error":"#REF!"},{"$error":"#REF!"},"Mujer","85-+",{"$f":"'Pob x Genero'!#REF!","v":{"$error":"#REF!"}},1479]
[{"$f":"A65741","v":{"$error":"#REF!"}},{"$error":"#REF!"},{"$error":"#REF!"},{"$error":"#REF!"},{"$error":"#REF!"},"Mujer","85-+",{"$f":"'Pob x Genero'!#REF!","v":{"$error":"#REF!"}},1480]
[{"$f":"A65742","v":{"$error":"#REF!"}},{"$error":"#REF!"},{"$error":"#REF!"},{"$error":"#REF!"},{"$error":"#REF!"},"Mujer","85-+",{"$f":"'Pob x Genero'!#REF!","v":{"$error":"#REF!"}},1481]
[{"$f":"A65743","v":{"$error":"#REF!"}},{"$error":"#REF!"},{"$error":"#REF!"},{"$error":"#REF!"},{"$error":"#REF!"},"Mujer","85-+",{"$f":"'Pob x Genero'!#REF!","v":{"$error":"#REF!"}},1482]
[{"$f":"A65744","v":{"$error":"#REF!"}},{"$error":"#REF!"},{"$error":"#REF!"},{"$error":"#REF!"},{"$error":"#REF!"},"Mujer","85-+",{"$f":"'Pob x Genero'!#REF!","v":{"$error":"#REF!"}},1483]
[{"$f":"A65745","v":{"$error":"#REF!"}},{"$error":"#REF!"},{"$error":"#REF!"},{"$error":"#REF!"},{"$error":"#REF!"},"Mujer","85-+",{"$f":"'Pob x Genero'!#REF!","v":{"$error":"#REF!"}},1484]
[{"$f":"A65746","v":{"$error":"#REF!"}},{"$error":"#REF!"},{"$error":"#REF!"},{"$error":"#REF!"},{"$error":"#REF!"},"Mujer","85-+",{"$f":"'Pob x Genero'!#REF!","v":{"$error":"#REF!"}},1485]
[{"$f":"A65747","v":{"$error":"#REF!"}},{"$error":"#REF!"},{"$error":"#REF!"},{"$error":"#REF!"},{"$error":"#REF!"},"Mujer","85-+",{"$f":"'Pob x Genero'!#REF!","v":{"$error":"#REF!"}},1486]
[{"$f":"A65748","v":{"$error":"#REF!"}},{"$error":"#REF!"},{"$error":"#REF!"},{"$error":"#REF!"},{"$error":"#REF!"},"Mujer","85-+",{"$f":"'Pob x Genero'!#REF!","v":{"$error":"#REF!"}},1487]
[{"$f":"A65749","v":{"$error":"#REF!"}},{"$error":"#REF!"},{"$error":"#REF!"},{"$error":"#REF!"},{"$error":"#REF!"},"Mujer","85-+",{"$f":"'Pob x Genero'!#REF!","v":{"$error":"#REF!"}},1488]
[{"$f":"A65750","v":{"$error":"#REF!"}},{"$error":"#REF!"},{"$error":"#REF!"},{"$error":"#REF!"},{"$error":"#REF!"},"Mujer","85-+",{"$f":"'Pob x Genero'!#REF!","v":{"$error":"#REF!"}},1489]
[{"$f":"A65751","v":{"$error":"#REF!"}},{"$error":"#REF!"},{"$error":"#REF!"},{"$error":"#REF!"},{"$error":"#REF!"},"Mujer","85-+",{"$f":"'Pob x Genero'!#REF!","v":{"$error":"#REF!"}},1490]
[{"$f":"A65752","v":{"$error":"#REF!"}},{"$error":"#REF!"},{"$error":"#REF!"},{"$error":"#REF!"},{"$error":"#REF!"},"Mujer","85-+",{"$f":"'Pob x Genero'!#REF!","v":{"$error":"#REF!"}},1491]
[{"$f":"A65753","v":{"$error":"#REF!"}},{"$error":"#REF!"},{"$error":"#REF!"},{"$error":"#REF!"},{"$error":"#REF!"},"Mujer","85-+",{"$f":"'Pob x Genero'!#REF!","v":{"$error":"#REF!"}},1492]
[{"$f":"A65754","v":{"$error":"#REF!"}},{"$error":"#REF!"},{"$error":"#REF!"},{"$error":"#REF!"},{"$error":"#REF!"},"Mujer","85-+",{"$f":"'Pob x Genero'!#REF!","v":{"$error":"#REF!"}},1493]
[{"$f":"A65755","v":{"$error":"#REF!"}},{"$error":"#REF!"},{"$error":"#REF!"},{"$error":"#REF!"},{"$error":"#REF!"},"Mujer","85-+",{"$f":"'Pob x Genero'!#REF!","v":{"$error":"#REF!"}},1494]
[{"$f":"A65756","v":{"$error":"#REF!"}},{"$error":"#REF!"},{"$error":"#REF!"},{"$error":"#REF!"},{"$error":"#REF!"},"Mujer","85-+",{"$f":"'Pob x Genero'!#REF!","v":{"$error":"#REF!"}},1495]
[{"$f":"A65757","v":{"$error":"#REF!"}},{"$error":"#REF!"},{"$error":"#REF!"},{"$error":"#REF!"},{"$error":"#REF!"},"Mujer","85-+",{"$f":"'Pob x Genero'!#REF!","v":{"$error":"#REF!"}},1496]
[{"$f":"A65758","v":{"$error":"#REF!"}},{"$error":"#REF!"},{"$error":"#REF!"},{"$error":"#REF!"},{"$error":"#REF!"},"Mujer","85-+",{"$f":"'Pob x Genero'!#REF!","v":{"$error":"#REF!"}},1497]
[{"$f":"A65759","v":{"$error":"#REF!"}},{"$error":"#REF!"},{"$error":"#REF!"},{"$error":"#REF!"},{"$error":"#REF!"},"Mujer","85-+",{"$f":"'Pob x Genero'!#REF!","v":{"$error":"#REF!"}},1498]
[{"$f":"A65760","v":{"$error":"#REF!"}},{"$error":"#REF!"},{"$error":"#REF!"},{"$error":"#REF!"},{"$error":"#REF!"},"Mujer","85-+",{"$f":"'Pob x Genero'!#REF!","v":{"$error":"#REF!"}},1499]
[{"$f":"A65761","v":{"$error":"#REF!"}},{"$error":"#REF!"},{"$error":"#REF!"},{"$error":"#REF!"},{"$error":"#REF!"},"Mujer","85-+",{"$f":"'Pob x Genero'!#REF!","v":{"$error":"#REF!"}},1500]
[{"$f":"A65762","v":{"$error":"#REF!"}},{"$error":"#REF!"},{"$error":"#REF!"},{"$error":"#REF!"},{"$error":"#REF!"},"Mujer","85-+",{"$f":"'Pob x Genero'!#REF!","v":{"$error":"#REF!"}},1501]
[{"$f":"A65763","v":{"$error":"#REF!"}},{"$error":"#REF!"},{"$error":"#REF!"},{"$error":"#REF!"},{"$error":"#REF!"},"Mujer","85-+",{"$f":"'Pob x Genero'!#REF!","v":{"$error":"#REF!"}},1502]
[{"$f":"A65764","v":{"$error":"#REF!"}},{"$error":"#REF!"},{"$error":"#REF!"},{"$error":"#REF!"},{"$error":"#REF!"},"Mujer","85-+",{"$f":"'Pob x Genero'!#REF!","v":{"$error":"#REF!"}},1503]
[{"$f":"A65765","v":{"$error":"#REF!"}},{"$error":"#REF!"},{"$error":"#REF!"},{"$error":"#REF!"},{"$error":"#REF!"},"Mujer","85-+",{"$f":"'Pob x Genero'!#REF!","v":{"$error":"#REF!"}},1504]
[{"$f":"A65766","v":{"$error":"#REF!"}},{"$error":"#REF!"},{"$error":"#REF!"},{"$error":"#REF!"},{"$error":"#REF!"},"Mujer","85-+",{"$f":"'Pob x Genero'!#REF!","v":{"$error":"#REF!"}},1505]
[{"$f":"A65767","v":{"$error":"#REF!"}},{"$error":"#REF!"},{"$error":"#REF!"},{"$error":"#REF!"},{"$error":"#REF!"},"Mujer","85-+",{"$f":"'Pob x Genero'!#REF!","v":{"$error":"#REF!"}},1506]
[{"$f":"A65768","v":{"$error":"#REF!"}},{"$error":"#REF!"},{"$error":"#REF!"},{"$error":"#REF!"},{"$error":"#REF!"},"Mujer","85-+",{"$f":"'Pob x Genero'!#REF!","v":{"$error":"#REF!"}},1507]
[{"$f":"A65769","v":{"$error":"#REF!"}},{"$error":"#REF!"},{"$error":"#REF!"},{"$error":"#REF!"},{"$error":"#REF!"},"Mujer","85-+",{"$f":"'Pob x Genero'!#REF!","v":{"$error":"#REF!"}},1508]
[{"$f":"A65770","v":{"$error":"#REF!"}},{"$error":"#REF!"},{"$error":"#REF!"},{"$error":"#REF!"},{"$error":"#REF!"},"Mujer","85-+",{"$f":"'Pob x Genero'!#REF!","v":{"$error":"#REF!"}},1509]
[{"$f":"A65771","v":{"$error":"#REF!"}},{"$error":"#REF!"},{"$error":"#REF!"},{"$error":"#REF!"},{"$error":"#REF!"},"Mujer","85-+",{"$f":"'Pob x Genero'!#REF!","v":{"$error":"#REF!"}},1510]
[{"$f":"A65772","v":{"$error":"#REF!"}},{"$error":"#REF!"},{"$error":"#REF!"},{"$error":"#REF!"},{"$error":"#REF!"},"Mujer","85-+",{"$f":"'Pob x Genero'!#REF!","v":{"$error":"#REF!"}},1511]
[{"$f":"A65773","v":{"$error":"#REF!"}},{"$error":"#REF!"},{"$error":"#REF!"},{"$error":"#REF!"},{"$error":"#REF!"},"Mujer","85-+",{"$f":"'Pob x Genero'!#REF!","v":{"$error":"#REF!"}},1512]
[{"$f":"A65774","v":{"$error":"#REF!"}},{"$error":"#REF!"},{"$error":"#REF!"},{"$error":"#REF!"},{"$error":"#REF!"},"Mujer","85-+",{"$f":"'Pob x Genero'!#REF!","v":{"$error":"#REF!"}},1513]
[{"$f":"A65775","v":{"$error":"#REF!"}},{"$error":"#REF!"},{"$error":"#REF!"},{"$error":"#REF!"},{"$error":"#REF!"},"Mujer","85-+",{"$f":"'Pob x Genero'!#REF!","v":{"$error":"#REF!"}},1514]
[{"$f":"A65776","v":{"$error":"#REF!"}},{"$error":"#REF!"},{"$error":"#REF!"},{"$error":"#REF!"},{"$error":"#REF!"},"Mujer","85-+",{"$f":"'Pob x Genero'!#REF!","v":{"$error":"#REF!"}},1515]
[{"$f":"A65777","v":{"$error":"#REF!"}},{"$error":"#REF!"},{"$error":"#REF!"},{"$error":"#REF!"},{"$error":"#REF!"},"Mujer","85-+",{"$f":"'Pob x Genero'!#REF!","v":{"$error":"#REF!"}},1516]
[{"$f":"A65778","v":{"$error":"#REF!"}},{"$error":"#REF!"},{"$error":"#REF!"},{"$error":"#REF!"},{"$error":"#REF!"},"Mujer","85-+",{"$f":"'Pob x Genero'!#REF!","v":{"$error":"#REF!"}},1517]
[{"$f":"A65779","v":{"$error":"#REF!"}},{"$error":"#REF!"},{"$error":"#REF!"},{"$error":"#REF!"},{"$error":"#REF!"},"Mujer","85-+",{"$f":"'Pob x Genero'!#REF!","v":{"$error":"#REF!"}},1518]
[{"$f":"A65780","v":{"$error":"#REF!"}},{"$error":"#REF!"},{"$error":"#REF!"},{"$error":"#REF!"},{"$error":"#REF!"},"Mujer","85-+",{"$f":"'Pob x Genero'!#REF!","v":{"$error":"#REF!"}},1519]
[{"$f":"A65781","v":{"$error":"#REF!"}},{"$error":"#REF!"},{"$error":"#REF!"},{"$error":"#REF!"},{"$error":"#REF!"},"Mujer","85-+",{"$f":"'Pob x Genero'!#REF!","v":{"$error":"#REF!"}},1520]
[{"$f":"A65782","v":{"$error":"#REF!"}},{"$error":"#REF!"},{"$error":"#REF!"},{"$error":"#REF!"},{"$error":"#REF!"},"Mujer","85-+",{"$f":"'Pob x Genero'!#REF!","v":{"$error":"#REF!"}},1521]
[{"$f":"A65783","v":{"$error":"#REF!"}},{"$error":"#REF!"},{"$error":"#REF!"},{"$error":"#REF!"},{"$error":"#REF!"},"Mujer","85-+",{"$f":"'Pob x Genero'!#REF!","v":{"$error":"#REF!"}},1522]
[{"$f":"A65784","v":{"$error":"#REF!"}},{"$error":"#REF!"},{"$error":"#REF!"},{"$error":"#REF!"},{"$error":"#REF!"},"Mujer","85-+",{"$f":"'Pob x Genero'!#REF!","v":{"$error":"#REF!"}},1523]
[{"$f":"A65785","v":{"$error":"#REF!"}},{"$error":"#REF!"},{"$error":"#REF!"},{"$error":"#REF!"},{"$error":"#REF!"},"Mujer","85-+",{"$f":"'Pob x Genero'!#REF!","v":{"$error":"#REF!"}},1524]
[{"$f":"A65786","v":{"$error":"#REF!"}},{"$error":"#REF!"},{"$error":"#REF!"},{"$error":"#REF!"},{"$error":"#REF!"},"Mujer","85-+",{"$f":"'Pob x Genero'!#REF!","v":{"$error":"#REF!"}},1525]
[{"$f":"A65787","v":{"$error":"#REF!"}},{"$error":"#REF!"},{"$error":"#REF!"},{"$error":"#REF!"},{"$error":"#REF!"},"Mujer","85-+",{"$f":"'Pob x Genero'!#REF!","v":{"$error":"#REF!"}},1526]
[{"$f":"A65788","v":{"$error":"#REF!"}},{"$error":"#REF!"},{"$error":"#REF!"},{"$error":"#REF!"},{"$error":"#REF!"},"Mujer","85-+",{"$f":"'Pob x Genero'!#REF!","v":{"$error":"#REF!"}},1527]
[{"$f":"A65789","v":{"$error":"#REF!"}},{"$error":"#REF!"},{"$error":"#REF!"},{"$error":"#REF!"},{"$error":"#REF!"},"Mujer","85-+",{"$f":"'Pob x Genero'!#REF!","v":{"$error":"#REF!"}},1528]
[{"$f":"A65790","v":{"$error":"#REF!"}},{"$error":"#REF!"},{"$error":"#REF!"},{"$error":"#REF!"},{"$error":"#REF!"},"Mujer","85-+",{"$f":"'Pob x Genero'!#REF!","v":{"$error":"#REF!"}},1529]
[{"$f":"A65791","v":{"$error":"#REF!"}},{"$error":"#REF!"},{"$error":"#REF!"},{"$error":"#REF!"},{"$error":"#REF!"},"Mujer","85-+",{"$f":"'Pob x Genero'!#REF!","v":{"$error":"#REF!"}},1530]
[{"$f":"A65792","v":{"$error":"#REF!"}},{"$error":"#REF!"},{"$error":"#REF!"},{"$error":"#REF!"},{"$error":"#REF!"},"Mujer","85-+",{"$f":"'Pob x Genero'!#REF!","v":{"$error":"#REF!"}},1531]
[{"$f":"A65793","v":{"$error":"#REF!"}},{"$error":"#REF!"},{"$error":"#REF!"},{"$error":"#REF!"},{"$error":"#REF!"},"Mujer","85-+",{"$f":"'Pob x Genero'!#REF!","v":{"$error":"#REF!"}},1532]
[{"$f":"A65794","v":{"$error":"#REF!"}},{"$error":"#REF!"},{"$error":"#REF!"},{"$error":"#REF!"},{"$error":"#REF!"},"Mujer","85-+",{"$f":"'Pob x Genero'!#REF!","v":{"$error":"#REF!"}},1533]
[{"$f":"A65795","v":{"$error":"#REF!"}},{"$error":"#REF!"},{"$error":"#REF!"},{"$error":"#REF!"},{"$error":"#REF!"},"Mujer","85-+",{"$f":"'Pob x Genero'!#REF!","v":{"$error":"#REF!"}},1534]
[{"$f":"A65796","v":{"$error":"#REF!"}},{"$error":"#REF!"},{"$error":"#REF!"},{"$error":"#REF!"},{"$error":"#REF!"},"Mujer","85-+",{"$f":"'Pob x Genero'!#REF!","v":{"$error":"#REF!"}},1535]
[{"$f":"A65797","v":{"$error":"#REF!"}},{"$error":"#REF!"},{"$error":"#REF!"},{"$error":"#REF!"},{"$error":"#REF!"},"Mujer","85-+",{"$f":"'Pob x Genero'!#REF!","v":{"$error":"#REF!"}},1536]
[{"$f":"A65798","v":{"$error":"#REF!"}},{"$error":"#REF!"},{"$error":"#REF!"},{"$error":"#REF!"},{"$error":"#REF!"},"Mujer","85-+",{"$f":"'Pob x Genero'!#REF!","v":{"$error":"#REF!"}},1537]
[{"$f":"A65799","v":{"$error":"#REF!"}},{"$error":"#REF!"},{"$error":"#REF!"},{"$error":"#REF!"},{"$error":"#REF!"},{"$f":"F67688","v":"Mujer"},{"$f":"G67688","v":"85-+"},{"$f":"'Pob x Genero'!#REF!","v":{"$error":"#REF!"}},1538]
[{"$f":"A65800","v":{"$error":"#REF!"}},{"$error":"#REF!"},{"$error":"#REF!"},{"$error":"#REF!"},{"$error":"#REF!"},"Mujer","85-+",{"$f":"'Pob x Genero'!#REF!","v":{"$error":"#REF!"}},1539]
[{"$f":"A65801","v":{"$error":"#REF!"}},{"$error":"#REF!"},{"$error":"#REF!"},{"$error":"#REF!"},{"$error":"#REF!"},"Mujer","85-+",{"$f":"'Pob x Genero'!#REF!","v":{"$error":"#REF!"}},1540]
[{"$f":"A65802","v":{"$error":"#REF!"}},{"$error":"#REF!"},{"$error":"#REF!"},{"$error":"#REF!"},{"$error":"#REF!"},"Mujer","85-+",{"$f":"'Pob x Genero'!#REF!","v":{"$error":"#REF!"}},1541]
[{"$f":"A65803","v":{"$error":"#REF!"}},{"$error":"#REF!"},{"$error":"#REF!"},{"$error":"#REF!"},{"$error":"#REF!"},"Mujer","85-+",{"$f":"'Pob x Genero'!#REF!","v":{"$error":"#REF!"}},1542]
[{"$f":"A65804","v":{"$error":"#REF!"}},{"$error":"#REF!"},{"$error":"#REF!"},{"$error":"#REF!"},{"$error":"#REF!"},"Mujer","85-+",{"$f":"'Pob x Genero'!#REF!","v":{"$error":"#REF!"}},1543]
[{"$f":"A65805","v":{"$error":"#REF!"}},{"$error":"#REF!"},{"$error":"#REF!"},{"$error":"#REF!"},{"$error":"#REF!"},"Mujer","85-+",{"$f":"'Pob x Genero'!#REF!","v":{"$error":"#REF!"}},1544]
[{"$f":"A65806","v":{"$error":"#REF!"}},{"$error":"#REF!"},{"$error":"#REF!"},{"$error":"#REF!"},{"$error":"#REF!"},"Mujer","85-+",{"$f":"'Pob x Genero'!#REF!","v":{"$error":"#REF!"}},1545]
[{"$f":"A65807","v":{"$error":"#REF!"}},{"$error":"#REF!"},{"$error":"#REF!"},{"$error":"#REF!"},{"$error":"#REF!"},"Mujer","85-+",{"$f":"'Pob x Genero'!#REF!","v":{"$error":"#REF!"}},1546]
[{"$f":"A65808","v":{"$error":"#REF!"}},{"$error":"#REF!"},{"$error":"#REF!"},{"$error":"#REF!"},{"$error":"#REF!"},"Mujer","85-+",{"$f":"'Pob x Genero'!#REF!","v":{"$error":"#REF!"}},1547]
[{"$f":"A65809","v":{"$error":"#REF!"}},{"$error":"#REF!"},{"$error":"#REF!"},{"$error":"#REF!"},{"$error":"#REF!"},"Mujer","85-+",{"$f":"'Pob x Genero'!#REF!","v":{"$error":"#REF!"}},1548]
[{"$f":"A65810","v":{"$error":"#REF!"}},{"$error":"#REF!"},{"$error":"#REF!"},{"$error":"#REF!"},{"$error":"#REF!"},"Mujer","85-+",{"$f":"'Pob x Genero'!#REF!","v":{"$error":"#REF!"}},1549]
[{"$f":"A65811","v":{"$error":"#REF!"}},{"$error":"#REF!"},{"$error":"#REF!"},{"$error":"#REF!"},{"$error":"#REF!"},"Mujer","85-+",{"$f":"'Pob x Genero'!#REF!","v":{"$error":"#REF!"}},1550]
[{"$f":"A65812","v":{"$error":"#REF!"}},{"$error":"#REF!"},{"$error":"#REF!"},{"$error":"#REF!"},{"$error":"#REF!"},"Mujer","85-+",{"$f":"'Pob x Genero'!#REF!","v":{"$error":"#REF!"}},1551]
[{"$f":"A65813","v":{"$error":"#REF!"}},{"$error":"#REF!"},{"$error":"#REF!"},{"$error":"#REF!"},{"$error":"#REF!"},"Mujer","85-+",{"$f":"'Pob x Genero'!#REF!","v":{"$error":"#REF!"}},1552]
[{"$f":"A65814","v":{"$error":"#REF!"}},{"$error":"#REF!"},{"$error":"#REF!"},{"$error":"#REF!"},{"$error":"#REF!"},"Mujer","85-+",{"$f":"'Pob x Genero'!#REF!","v":{"$error":"#REF!"}},1553]
[{"$f":"A65815","v":{"$error":"#REF!"}},{"$error":"#REF!"},{"$error":"#REF!"},{"$error":"#REF!"},{"$error":"#REF!"},"Mujer","85-+",{"$f":"'Pob x Genero'!#REF!","v":{"$error":"#REF!"}},1554]
[{"$f":"A65816","v":{"$error":"#REF!"}},{"$error":"#REF!"},{"$error":"#REF!"},{"$error":"#REF!"},{"$error":"#REF!"},"Mujer","85-+",{"$f":"'Pob x Genero'!#REF!","v":{"$error":"#REF!"}},1555]
[{"$f":"A65817","v":{"$error":"#REF!"}},{"$error":"#REF!"},{"$error":"#REF!"},{"$error":"#REF!"},{"$error":"#REF!"},"Mujer","85-+",{"$f":"'Pob x Genero'!#REF!","v":{"$error":"#REF!"}},1556]
[{"$f":"A65818","v":{"$error":"#REF!"}},{"$error":"#REF!"},{"$error":"#REF!"},{"$error":"#REF!"},{"$error":"#REF!"},"Mujer","85-+",{"$f":"'Pob x Genero'!#REF!","v":{"$error":"#REF!"}},1557]
[{"$f":"A65819","v":{"$error":"#REF!"}},{"$error":"#REF!"},{"$error":"#REF!"},{"$error":"#REF!"},{"$error":"#REF!"},"Mujer","85-+",{"$f":"'Pob x Genero'!#REF!","v":{"$error":"#REF!"}},1558]
[{"$f":"A65820","v":{"$error":"#REF!"}},{"$error":"#REF!"},{"$error":"#REF!"},{"$error":"#REF!"},{"$error":"#REF!"},"Mujer","85-+",{"$f":"'Pob x Genero'!#REF!","v":{"$error":"#REF!"}},1559]
[{"$f":"A65821","v":{"$error":"#REF!"}},{"$error":"#REF!"},{"$error":"#REF!"},{"$error":"#REF!"},{"$error":"#REF!"},"Mujer","85-+",{"$f":"'Pob x Genero'!#REF!","v":{"$error":"#REF!"}},1560]
[{"$f":"A65822","v":{"$error":"#REF!"}},{"$error":"#REF!"},{"$error":"#REF!"},{"$error":"#REF!"},{"$error":"#REF!"},"Mujer","85-+",{"$f":"'Pob x Genero'!#REF!","v":{"$error":"#REF!"}},1561]
[{"$f":"A65823","v":{"$error":"#REF!"}},{"$error":"#REF!"},{"$error":"#REF!"},{"$error":"#REF!"},{"$error":"#REF!"},"Mujer","85-+",{"$f":"'Pob x Genero'!#REF!","v":{"$error":"#REF!"}},1562]
[{"$f":"A65824","v":{"$error":"#REF!"}},{"$error":"#REF!"},{"$error":"#REF!"},{"$error":"#REF!"},{"$error":"#REF!"},"Mujer","85-+",{"$f":"'Pob x Genero'!#REF!","v":{"$error":"#REF!"}},1563]
[{"$f":"A65825","v":{"$error":"#REF!"}},{"$error":"#REF!"},{"$error":"#REF!"},{"$error":"#REF!"},{"$error":"#REF!"},"Mujer","85-+",{"$f":"'Pob x Genero'!#REF!","v":{"$error":"#REF!"}},1564]
[{"$f":"A65826","v":{"$error":"#REF!"}},{"$error":"#REF!"},{"$error":"#REF!"},{"$error":"#REF!"},{"$error":"#REF!"},"Mujer","85-+",{"$f":"'Pob x Genero'!#REF!","v":{"$error":"#REF!"}},1565]
[{"$f":"A65827","v":{"$error":"#REF!"}},{"$error":"#REF!"},{"$error":"#REF!"},{"$error":"#REF!"},{"$error":"#REF!"},"Mujer","85-+",{"$f":"'Pob x Genero'!#REF!","v":{"$error":"#REF!"}},1566]
[{"$f":"A65828","v":{"$error":"#REF!"}},{"$error":"#REF!"},{"$error":"#REF!"},{"$error":"#REF!"},{"$error":"#REF!"},"Mujer","85-+",{"$f":"'Pob x Genero'!#REF!","v":{"$error":"#REF!"}},1567]
[{"$f":"A65829","v":{"$error":"#REF!"}},{"$error":"#REF!"},{"$error":"#REF!"},{"$error":"#REF!"},{"$error":"#REF!"},"Mujer","85-+",{"$f":"'Pob x Genero'!#REF!","v":{"$error":"#REF!"}},1568]
[{"$f":"A65830","v":{"$error":"#REF!"}},{"$error":"#REF!"},{"$error":"#REF!"},{"$error":"#REF!"},{"$error":"#REF!"},"Mujer","85-+",{"$f":"'Pob x Genero'!#REF!","v":{"$error":"#REF!"}},1569]
[{"$f":"A65831","v":{"$error":"#REF!"}},{"$error":"#REF!"},{"$error":"#REF!"},{"$error":"#REF!"},{"$error":"#REF!"},"Mujer","85-+",{"$f":"'Pob x Genero'!#REF!","v":{"$error":"#REF!"}},1570]
[{"$f":"A65832","v":{"$error":"#REF!"}},{"$error":"#REF!"},{"$error":"#REF!"},{"$error":"#REF!"},{"$error":"#REF!"},"Mujer","85-+",{"$f":"'Pob x Genero'!#REF!","v":{"$error":"#REF!"}},1571]
[{"$f":"A65833","v":{"$error":"#REF!"}},{"$error":"#REF!"},{"$error":"#REF!"},{"$error":"#REF!"},{"$error":"#REF!"},"Mujer","85-+",{"$f":"'Pob x Genero'!#REF!","v":{"$error":"#REF!"}},1572]
[{"$f":"A65834","v":{"$error":"#REF!"}},{"$error":"#REF!"},{"$error":"#REF!"},{"$error":"#REF!"},{"$error":"#REF!"},"Mujer","85-+",{"$f":"'Pob x Genero'!#REF!","v":{"$error":"#REF!"}},1573]
[{"$f":"A65835","v":{"$error":"#REF!"}},{"$error":"#REF!"},{"$error":"#REF!"},{"$error":"#REF!"},{"$error":"#REF!"},"Mujer","85-+",{"$f":"'Pob x Genero'!#REF!","v":{"$error":"#REF!"}},1574]
[{"$f":"A65836","v":{"$error":"#REF!"}},{"$error":"#REF!"},{"$error":"#REF!"},{"$error":"#REF!"},{"$error":"#REF!"},"Mujer","85-+",{"$f":"'Pob x Genero'!#REF!","v":{"$error":"#REF!"}},1575]
[{"$f":"A65837","v":{"$error":"#REF!"}},{"$error":"#REF!"},{"$error":"#REF!"},{"$error":"#REF!"},{"$error":"#REF!"},"Mujer","85-+",{"$f":"'Pob x Genero'!#REF!","v":{"$error":"#REF!"}},1576]
[{"$f":"A65838","v":{"$error":"#REF!"}},{"$error":"#REF!"},{"$error":"#REF!"},{"$error":"#REF!"},{"$error":"#REF!"},"Mujer","85-+",{"$f":"'Pob x Genero'!#REF!","v":{"$error":"#REF!"}},1577]
[{"$f":"A65839","v":{"$error":"#REF!"}},{"$error":"#REF!"},{"$error":"#REF!"},{"$error":"#REF!"},{"$error":"#REF!"},"Mujer","85-+",{"$f":"'Pob x Genero'!#REF!","v":{"$error":"#REF!"}},1578]
[{"$f":"A65840","v":{"$error":"#REF!"}},{"$error":"#REF!"},{"$error":"#REF!"},{"$error":"#REF!"},{"$error":"#REF!"},"Mujer","85-+",{"$f":"'Pob x Genero'!#REF!","v":{"$error":"#REF!"}},1579]
[{"$f":"A65841","v":{"$error":"#REF!"}},{"$error":"#REF!"},{"$error":"#REF!"},{"$error":"#REF!"},{"$error":"#REF!"},"Mujer","85-+",{"$f":"'Pob x Genero'!#REF!","v":{"$error":"#REF!"}},1580]
[{"$f":"A65842","v":{"$error":"#REF!"}},{"$error":"#REF!"},{"$error":"#REF!"},{"$error":"#REF!"},{"$error":"#REF!"},"Mujer","85-+",{"$f":"'Pob x Genero'!#REF!","v":{"$error":"#REF!"}},1581]
[{"$f":"A65843","v":{"$error":"#REF!"}},{"$error":"#REF!"},{"$error":"#REF!"},{"$error":"#REF!"},{"$error":"#REF!"},"Mujer","85-+",{"$f":"'Pob x Genero'!#REF!","v":{"$error":"#REF!"}},1582]
[{"$f":"A65844","v":{"$error":"#REF!"}},{"$error":"#REF!"},{"$error":"#REF!"},{"$error":"#REF!"},{"$error":"#REF!"},"Mujer","85-+",{"$f":"'Pob x Genero'!#REF!","v":{"$error":"#REF!"}},1583]
[{"$f":"A65845","v":{"$error":"#REF!"}},{"$error":"#REF!"},{"$error":"#REF!"},{"$error":"#REF!"},{"$error":"#REF!"},"Mujer","85-+",{"$f":"'Pob x Genero'!#REF!","v":{"$error":"#REF!"}},1584]
[{"$f":"A65846","v":{"$error":"#REF!"}},{"$error":"#REF!"},{"$error":"#REF!"},{"$error":"#REF!"},{"$error":"#REF!"},"Mujer","85-+",{"$f":"'Pob x Genero'!#REF!","v":{"$error":"#REF!"}},1585]
[{"$f":"A65847","v":{"$error":"#REF!"}},{"$error":"#REF!"},{"$error":"#REF!"},{"$error":"#REF!"},{"$error":"#REF!"},"Mujer","85-+",{"$f":"'Pob x Genero'!#REF!","v":{"$error":"#REF!"}},1586]
[{"$f":"A65848","v":{"$error":"#REF!"}},{"$error":"#REF!"},{"$error":"#REF!"},{"$error":"#REF!"},{"$error":"#REF!"},"Mujer","85-+",{"$f":"'Pob x Genero'!#REF!","v":{"$error":"#REF!"}},1587]
[{"$f":"A65849","v":{"$error":"#REF!"}},{"$error":"#REF!"},{"$error":"#REF!"},{"$error":"#REF!"},{"$error":"#REF!"},"Mujer","85-+",{"$f":"'Pob x Genero'!#REF!","v":{"$error":"#REF!"}},1588]
[{"$f":"A65850","v":{"$error":"#REF!"}},{"$error":"#REF!"},{"$error":"#REF!"},{"$error":"#REF!"},{"$error":"#REF!"},"Mujer","85-+",{"$f":"'Pob x Genero'!#REF!","v":{"$error":"#REF!"}},1589]
[{"$f":"A65851","v":{"$error":"#REF!"}},{"$error":"#REF!"},{"$error":"#REF!"},{"$error":"#REF!"},{"$error":"#REF!"},"Mujer","85-+",{"$f":"'Pob x Genero'!#REF!","v":{"$error":"#REF!"}},1590]
[{"$f":"A65852","v":{"$error":"#REF!"}},{"$error":"#REF!"},{"$error":"#REF!"},{"$error":"#REF!"},{"$error":"#REF!"},"Mujer","85-+",{"$f":"'Pob x Genero'!#REF!","v":{"$error":"#REF!"}},1591]
[{"$f":"A65853","v":{"$error":"#REF!"}},{"$error":"#REF!"},{"$error":"#REF!"},{"$error":"#REF!"},{"$error":"#REF!"},"Mujer","85-+",{"$f":"'Pob x Genero'!#REF!","v":{"$error":"#REF!"}},1592]
[{"$f":"A65854","v":{"$error":"#REF!"}},{"$error":"#REF!"},{"$error":"#REF!"},{"$error":"#REF!"},{"$error":"#REF!"},"Mujer","85-+",{"$f":"'Pob x Genero'!#REF!","v":{"$error":"#REF!"}},1593]
[{"$f":"A65855","v":{"$error":"#REF!"}},{"$error":"#REF!"},{"$error":"#REF!"},{"$error":"#REF!"},{"$error":"#REF!"},"Mujer","85-+",{"$f":"'Pob x Genero'!#REF!","v":{"$error":"#REF!"}},1594]
[{"$f":"A65856","v":{"$error":"#REF!"}},{"$error":"#REF!"},{"$error":"#REF!"},{"$error":"#REF!"},{"$error":"#REF!"},"Mujer","85-+",{"$f":"'Pob x Genero'!#REF!","v":{"$error":"#REF!"}},1595]
[{"$f":"A65857","v":{"$error":"#REF!"}},{"$error":"#REF!"},{"$error":"#REF!"},{"$error":"#REF!"},{"$error":"#REF!"},"Mujer","85-+",{"$f":"'Pob x Genero'!#REF!","v":{"$error":"#REF!"}},1596]
[{"$f":"A65858","v":{"$error":"#REF!"}},{"$error":"#REF!"},{"$error":"#REF!"},{"$error":"#REF!"},{"$error":"#REF!"},"Mujer","85-+",{"$f":"'Pob x Genero'!#REF!","v":{"$error":"#REF!"}},1597]
[{"$f":"A65859","v":{"$error":"#REF!"}},{"$error":"#REF!"},{"$error":"#REF!"},{"$error":"#REF!"},{"$error":"#REF!"},"Mujer","85-+",{"$f":"'Pob x Genero'!#REF!","v":{"$error":"#REF!"}},1598]
[{"$f":"A65860","v":{"$error":"#REF!"}},{"$error":"#REF!"},{"$error":"#REF!"},{"$error":"#REF!"},{"$error":"#REF!"},"Mujer","85-+",{"$f":"'Pob x Genero'!#REF!","v":{"$error":"#REF!"}},1599]
[{"$f":"A65861","v":{"$error":"#REF!"}},{"$error":"#REF!"},{"$error":"#REF!"},{"$error":"#REF!"},{"$error":"#REF!"},"Mujer","85-+",{"$f":"'Pob x Genero'!#REF!","v":{"$error":"#REF!"}},1600]
[{"$f":"A65862","v":{"$error":"#REF!"}},{"$error":"#REF!"},{"$error":"#REF!"},{"$error":"#REF!"},{"$error":"#REF!"},"Mujer","85-+",{"$f":"'Pob x Genero'!#REF!","v":{"$error":"#REF!"}},1601]
[{"$f":"A65863","v":{"$error":"#REF!"}},{"$error":"#REF!"},{"$error":"#REF!"},{"$error":"#REF!"},{"$error":"#REF!"},{"$f":"F67752","v":"Mujer"},{"$f":"G67752","v":"85-+"},{"$f":"'Pob x Genero'!#REF!","v":{"$error":"#REF!"}},1602]
[{"$f":"A65864","v":{"$error":"#REF!"}},{"$error":"#REF!"},{"$error":"#REF!"},{"$error":"#REF!"},{"$error":"#REF!"},"Mujer","85-+",{"$f":"'Pob x Genero'!#REF!","v":{"$error":"#REF!"}},1603]
[{"$f":"A65865","v":{"$error":"#REF!"}},{"$error":"#REF!"},{"$error":"#REF!"},{"$error":"#REF!"},{"$error":"#REF!"},"Mujer","85-+",{"$f":"'Pob x Genero'!#REF!","v":{"$error":"#REF!"}},1604]
[{"$f":"A65866","v":{"$error":"#REF!"}},{"$error":"#REF!"},{"$error":"#REF!"},{"$error":"#REF!"},{"$error":"#REF!"},"Mujer","85-+",{"$f":"'Pob x Genero'!#REF!","v":{"$error":"#REF!"}},1605]
[{"$f":"A65867","v":{"$error":"#REF!"}},{"$error":"#REF!"},{"$error":"#REF!"},{"$error":"#REF!"},{"$error":"#REF!"},"Mujer","85-+",{"$f":"'Pob x Genero'!#REF!","v":{"$error":"#REF!"}},1606]
[{"$f":"A65868","v":{"$error":"#REF!"}},{"$error":"#REF!"},{"$error":"#REF!"},{"$error":"#REF!"},{"$error":"#REF!"},"Mujer","85-+",{"$f":"'Pob x Genero'!#REF!","v":{"$error":"#REF!"}},1607]
[{"$f":"A65869","v":{"$error":"#REF!"}},{"$error":"#REF!"},{"$error":"#REF!"},{"$error":"#REF!"},{"$error":"#REF!"},"Mujer","85-+",{"$f":"'Pob x Genero'!#REF!","v":{"$error":"#REF!"}},1608]
[{"$f":"A65870","v":{"$error":"#REF!"}},{"$error":"#REF!"},{"$error":"#REF!"},{"$error":"#REF!"},{"$error":"#REF!"},"Mujer","85-+",{"$f":"'Pob x Genero'!#REF!","v":{"$error":"#REF!"}},1609]
[{"$f":"A65871","v":{"$error":"#REF!"}},{"$error":"#REF!"},{"$error":"#REF!"},{"$error":"#REF!"},{"$error":"#REF!"},"Mujer","85-+",{"$f":"'Pob x Genero'!#REF!","v":{"$error":"#REF!"}},1610]
[{"$f":"A65872","v":{"$error":"#REF!"}},{"$error":"#REF!"},{"$error":"#REF!"},{"$error":"#REF!"},{"$error":"#REF!"},"Mujer","85-+",{"$f":"'Pob x Genero'!#REF!","v":{"$error":"#REF!"}},1611]
[{"$f":"A65873","v":{"$error":"#REF!"}},{"$error":"#REF!"},{"$error":"#REF!"},{"$error":"#REF!"},{"$error":"#REF!"},"Mujer","85-+",{"$f":"'Pob x Genero'!#REF!","v":{"$error":"#REF!"}},1612]
[{"$f":"A65874","v":{"$error":"#REF!"}},{"$error":"#REF!"},{"$error":"#REF!"},{"$error":"#REF!"},{"$error":"#REF!"},"Mujer","85-+",{"$f":"'Pob x Genero'!#REF!","v":{"$error":"#REF!"}},1613]
[{"$f":"A65875","v":{"$error":"#REF!"}},{"$error":"#REF!"},{"$error":"#REF!"},{"$error":"#REF!"},{"$error":"#REF!"},"Mujer","85-+",{"$f":"'Pob x Genero'!#REF!","v":{"$error":"#REF!"}},1614]
[{"$f":"A65876","v":{"$error":"#REF!"}},{"$error":"#REF!"},{"$error":"#REF!"},{"$error":"#REF!"},{"$error":"#REF!"},"Mujer","85-+",{"$f":"'Pob x Genero'!#REF!","v":{"$error":"#REF!"}},1615]
[{"$f":"A65877","v":{"$error":"#REF!"}},{"$error":"#REF!"},{"$error":"#REF!"},{"$error":"#REF!"},{"$error":"#REF!"},"Mujer","85-+",{"$f":"'Pob x Genero'!#REF!","v":{"$error":"#REF!"}},1616]
[{"$f":"A65878","v":{"$error":"#REF!"}},{"$error":"#REF!"},{"$error":"#REF!"},{"$error":"#REF!"},{"$error":"#REF!"},"Mujer","85-+",{"$f":"'Pob x Genero'!#REF!","v":{"$error":"#REF!"}},1617]
[{"$f":"A65879","v":{"$error":"#REF!"}},{"$error":"#REF!"},{"$error":"#REF!"},{"$error":"#REF!"},{"$error":"#REF!"},"Mujer","85-+",{"$f":"'Pob x Genero'!#REF!","v":{"$error":"#REF!"}},1618]
[{"$f":"A65880","v":{"$error":"#REF!"}},{"$error":"#REF!"},{"$error":"#REF!"},{"$error":"#REF!"},{"$error":"#REF!"},"Mujer","85-+",{"$f":"'Pob x Genero'!#REF!","v":{"$error":"#REF!"}},1619]
[{"$f":"A65881","v":{"$error":"#REF!"}},{"$error":"#REF!"},{"$error":"#REF!"},{"$error":"#REF!"},{"$error":"#REF!"},"Mujer","85-+",{"$f":"'Pob x Genero'!#REF!","v":{"$error":"#REF!"}},1620]
[{"$f":"A65882","v":{"$error":"#REF!"}},{"$error":"#REF!"},{"$error":"#REF!"},{"$error":"#REF!"},{"$error":"#REF!"},"Mujer","85-+",{"$f":"'Pob x Genero'!#REF!","v":{"$error":"#REF!"}},1621]
[{"$f":"A65883","v":{"$error":"#REF!"}},{"$error":"#REF!"},{"$error":"#REF!"},{"$error":"#REF!"},{"$error":"#REF!"},"Mujer","85-+",{"$f":"'Pob x Genero'!#REF!","v":{"$error":"#REF!"}},1622]
[{"$f":"A65884","v":{"$error":"#REF!"}},{"$error":"#REF!"},{"$error":"#REF!"},{"$error":"#REF!"},{"$error":"#REF!"},"Mujer","85-+",{"$f":"'Pob x Genero'!#REF!","v":{"$error":"#REF!"}},1623]
[{"$f":"A65885","v":{"$error":"#REF!"}},{"$error":"#REF!"},{"$error":"#REF!"},{"$error":"#REF!"},{"$error":"#REF!"},"Mujer","85-+",{"$f":"'Pob x Genero'!#REF!","v":{"$error":"#REF!"}},1624]
[{"$f":"A65886","v":{"$error":"#REF!"}},{"$error":"#REF!"},{"$error":"#REF!"},{"$error":"#REF!"},{"$error":"#REF!"},"Mujer","85-+",{"$f":"'Pob x Genero'!#REF!","v":{"$error":"#REF!"}},1625]
[{"$f":"A65887","v":{"$error":"#REF!"}},{"$error":"#REF!"},{"$error":"#REF!"},{"$error":"#REF!"},{"$error":"#REF!"},"Mujer","85-+",{"$f":"'Pob x Genero'!#REF!","v":{"$error":"#REF!"}},1626]
[{"$f":"A65888","v":{"$error":"#REF!"}},{"$error":"#REF!"},{"$error":"#REF!"},{"$error":"#REF!"},{"$error":"#REF!"},"Mujer","85-+",{"$f":"'Pob x Genero'!#REF!","v":{"$error":"#REF!"}},1627]
[{"$f":"A65889","v":{"$error":"#REF!"}},{"$error":"#REF!"},{"$error":"#REF!"},{"$error":"#REF!"},{"$error":"#REF!"},"Mujer","85-+",{"$f":"'Pob x Genero'!#REF!","v":{"$error":"#REF!"}},1628]
[{"$f":"A65890","v":{"$error":"#REF!"}},{"$error":"#REF!"},{"$error":"#REF!"},{"$error":"#REF!"},{"$error":"#REF!"},"Mujer","85-+",{"$f":"'Pob x Genero'!#REF!","v":{"$error":"#REF!"}},1629]
[{"$f":"A65891","v":{"$error":"#REF!"}},{"$error":"#REF!"},{"$error":"#REF!"},{"$error":"#REF!"},{"$error":"#REF!"},"Mujer","85-+",{"$f":"'Pob x Genero'!#REF!","v":{"$error":"#REF!"}},1630]
[{"$f":"A65892","v":{"$error":"#REF!"}},{"$error":"#REF!"},{"$error":"#REF!"},{"$error":"#REF!"},{"$error":"#REF!"},"Mujer","85-+",{"$f":"'Pob x Genero'!#REF!","v":{"$error":"#REF!"}},1631]
[{"$f":"A65893","v":{"$error":"#REF!"}},{"$error":"#REF!"},{"$error":"#REF!"},{"$error":"#REF!"},{"$error":"#REF!"},"Mujer","85-+",{"$f":"'Pob x Genero'!#REF!","v":{"$error":"#REF!"}},1632]
[{"$f":"A65894","v":{"$error":"#REF!"}},{"$error":"#REF!"},{"$error":"#REF!"},{"$error":"#REF!"},{"$error":"#REF!"},"Mujer","85-+",{"$f":"'Pob x Genero'!#REF!","v":{"$error":"#REF!"}},1633]
[{"$f":"A65895","v":{"$error":"#REF!"}},{"$error":"#REF!"},{"$error":"#REF!"},{"$error":"#REF!"},{"$error":"#REF!"},"Mujer","85-+",{"$f":"'Pob x Genero'!#REF!","v":{"$error":"#REF!"}},1634]
[{"$f":"A65896","v":{"$error":"#REF!"}},{"$error":"#REF!"},{"$error":"#REF!"},{"$error":"#REF!"},{"$error":"#REF!"},"Mujer","85-+",{"$f":"'Pob x Genero'!#REF!","v":{"$error":"#REF!"}},1635]
[{"$f":"A65897","v":{"$error":"#REF!"}},{"$error":"#REF!"},{"$error":"#REF!"},{"$error":"#REF!"},{"$error":"#REF!"},"Mujer","85-+",{"$f":"'Pob x Genero'!#REF!","v":{"$error":"#REF!"}},1636]
[{"$f":"A65898","v":{"$error":"#REF!"}},{"$error":"#REF!"},{"$error":"#REF!"},{"$error":"#REF!"},{"$error":"#REF!"},"Mujer","85-+",{"$f":"'Pob x Genero'!#REF!","v":{"$error":"#REF!"}},1637]
[{"$f":"A65899","v":{"$error":"#REF!"}},{"$error":"#REF!"},{"$error":"#REF!"},{"$error":"#REF!"},{"$error":"#REF!"},"Mujer","85-+",{"$f":"'Pob x Genero'!#REF!","v":{"$error":"#REF!"}},1638]
[{"$f":"A65900","v":{"$error":"#REF!"}},{"$error":"#REF!"},{"$error":"#REF!"},{"$error":"#REF!"},{"$error":"#REF!"},"Mujer","85-+",{"$f":"'Pob x Genero'!#REF!","v":{"$error":"#REF!"}},1639]
[{"$f":"A65901","v":{"$error":"#REF!"}},{"$error":"#REF!"},{"$error":"#REF!"},{"$error":"#REF!"},{"$error":"#REF!"},"Mujer","85-+",{"$f":"'Pob x Genero'!#REF!","v":{"$error":"#REF!"}},1640]
[{"$f":"A65902","v":{"$error":"#REF!"}},{"$error":"#REF!"},{"$error":"#REF!"},{"$error":"#REF!"},{"$error":"#REF!"},"Mujer","85-+",{"$f":"'Pob x Genero'!#REF!","v":{"$error":"#REF!"}},1641]
[{"$f":"A65903","v":{"$error":"#REF!"}},{"$error":"#REF!"},{"$error":"#REF!"},{"$error":"#REF!"},{"$error":"#REF!"},"Mujer","85-+",{"$f":"'Pob x Genero'!#REF!","v":{"$error":"#REF!"}},1642]
[{"$f":"A65904","v":{"$error":"#REF!"}},{"$error":"#REF!"},{"$error":"#REF!"},{"$error":"#REF!"},{"$error":"#REF!"},"Mujer","85-+",{"$f":"'Pob x Genero'!#REF!","v":{"$error":"#REF!"}},1643]
[{"$f":"A65905","v":{"$error":"#REF!"}},{"$error":"#REF!"},{"$error":"#REF!"},{"$error":"#REF!"},{"$error":"#REF!"},"Mujer","85-+",{"$f":"'Pob x Genero'!#REF!","v":{"$error":"#REF!"}},1644]
[{"$f":"A65906","v":{"$error":"#REF!"}},{"$error":"#REF!"},{"$error":"#REF!"},{"$error":"#REF!"},{"$error":"#REF!"},"Mujer","85-+",{"$f":"'Pob x Genero'!#REF!","v":{"$error":"#REF!"}},1645]
[{"$f":"A65907","v":{"$error":"#REF!"}},{"$error":"#REF!"},{"$error":"#REF!"},{"$error":"#REF!"},{"$error":"#REF!"},"Mujer","85-+",{"$f":"'Pob x Genero'!#REF!","v":{"$error":"#REF!"}},1646]
[{"$f":"A65908","v":{"$error":"#REF!"}},{"$error":"#REF!"},{"$error":"#REF!"},{"$error":"#REF!"},{"$error":"#REF!"},"Mujer","85-+",{"$f":"'Pob x Genero'!#REF!","v":{"$error":"#REF!"}},1647]
[{"$f":"A65909","v":{"$error":"#REF!"}},{"$error":"#REF!"},{"$error":"#REF!"},{"$error":"#REF!"},{"$error":"#REF!"},"Mujer","85-+",{"$f":"'Pob x Genero'!#REF!","v":{"$error":"#REF!"}},1648]
[{"$f":"A65910","v":{"$error":"#REF!"}},{"$error":"#REF!"},{"$error":"#REF!"},{"$error":"#REF!"},{"$error":"#REF!"},"Mujer","85-+",{"$f":"'Pob x Genero'!#REF!","v":{"$error":"#REF!"}},1649]
[{"$f":"A65911","v":{"$error":"#REF!"}},{"$error":"#REF!"},{"$error":"#REF!"},{"$error":"#REF!"},{"$error":"#REF!"},"Mujer","85-+",{"$f":"'Pob x Genero'!#REF!","v":{"$error":"#REF!"}},1650]
[{"$f":"A65912","v":{"$error":"#REF!"}},{"$error":"#REF!"},{"$error":"#REF!"},{"$error":"#REF!"},{"$error":"#REF!"},"Mujer","85-+",{"$f":"'Pob x Genero'!#REF!","v":{"$error":"#REF!"}},1651]
[{"$f":"A65913","v":{"$error":"#REF!"}},{"$error":"#REF!"},{"$error":"#REF!"},{"$error":"#REF!"},{"$error":"#REF!"},"Mujer","85-+",{"$f":"'Pob x Genero'!#REF!","v":{"$error":"#REF!"}},1652]
[{"$f":"A65914","v":{"$error":"#REF!"}},{"$error":"#REF!"},{"$error":"#REF!"},{"$error":"#REF!"},{"$error":"#REF!"},"Mujer","85-+",{"$f":"'Pob x Genero'!#REF!","v":{"$error":"#REF!"}},1653]
[{"$f":"A65915","v":{"$error":"#REF!"}},{"$error":"#REF!"},{"$error":"#REF!"},{"$error":"#REF!"},{"$error":"#REF!"},"Mujer","85-+",{"$f":"'Pob x Genero'!#REF!","v":{"$error":"#REF!"}},1654]
[{"$f":"A65916","v":{"$error":"#REF!"}},{"$error":"#REF!"},{"$error":"#REF!"},{"$error":"#REF!"},{"$error":"#REF!"},"Mujer","85-+",{"$f":"'Pob x Genero'!#REF!","v":{"$error":"#REF!"}},1655]
[{"$f":"A65917","v":{"$error":"#REF!"}},{"$error":"#REF!"},{"$error":"#REF!"},{"$error":"#REF!"},{"$error":"#REF!"},"Mujer","85-+",{"$f":"'Pob x Genero'!#REF!","v":{"$error":"#REF!"}},1656]
[{"$f":"A65918","v":{"$error":"#REF!"}},{"$error":"#REF!"},{"$error":"#REF!"},{"$error":"#REF!"},{"$error":"#REF!"},"Mujer","85-+",{"$f":"'Pob x Genero'!#REF!","v":{"$error":"#REF!"}},1657]
[{"$f":"A65919","v":{"$error":"#REF!"}},{"$error":"#REF!"},{"$error":"#REF!"},{"$error":"#REF!"},{"$error":"#REF!"},"Mujer","85-+",{"$f":"'Pob x Genero'!#REF!","v":{"$error":"#REF!"}},1658]
[{"$f":"A65920","v":{"$error":"#REF!"}},{"$error":"#REF!"},{"$error":"#REF!"},{"$error":"#REF!"},{"$error":"#REF!"},"Mujer","85-+",{"$f":"'Pob x Genero'!#REF!","v":{"$error":"#REF!"}},1659]
[{"$f":"A65921","v":{"$error":"#REF!"}},{"$error":"#REF!"},{"$error":"#REF!"},{"$error":"#REF!"},{"$error":"#REF!"},"Mujer","85-+",{"$f":"'Pob x Genero'!#REF!","v":{"$error":"#REF!"}},1660]
[{"$f":"A65922","v":{"$error":"#REF!"}},{"$error":"#REF!"},{"$error":"#REF!"},{"$error":"#REF!"},{"$error":"#REF!"},"Mujer","85-+",{"$f":"'Pob x Genero'!#REF!","v":{"$error":"#REF!"}},1661]
[{"$f":"A65923","v":{"$error":"#REF!"}},{"$error":"#REF!"},{"$error":"#REF!"},{"$error":"#REF!"},{"$error":"#REF!"},"Mujer","85-+",{"$f":"'Pob x Genero'!#REF!","v":{"$error":"#REF!"}},1662]
[{"$f":"A65924","v":{"$error":"#REF!"}},{"$error":"#REF!"},{"$error":"#REF!"},{"$error":"#REF!"},{"$error":"#REF!"},"Mujer","85-+",{"$f":"'Pob x Genero'!#REF!","v":{"$error":"#REF!"}},1663]
[{"$f":"A65925","v":{"$error":"#REF!"}},{"$error":"#REF!"},{"$error":"#REF!"},{"$error":"#REF!"},{"$error":"#REF!"},"Mujer","85-+",{"$f":"'Pob x Genero'!#REF!","v":{"$error":"#REF!"}},1664]
[{"$f":"A65926","v":{"$error":"#REF!"}},{"$error":"#REF!"},{"$error":"#REF!"},{"$error":"#REF!"},{"$error":"#REF!"},"Mujer","85-+",{"$f":"'Pob x Genero'!#REF!","v":{"$error":"#REF!"}},1665]
[{"$f":"A65927","v":{"$error":"#REF!"}},{"$error":"#REF!"},{"$error":"#REF!"},{"$error":"#REF!"},{"$error":"#REF!"},{"$f":"F67816","v":"Mujer"},{"$f":"G67816","v":"85-+"},{"$f":"'Pob x Genero'!#REF!","v":{"$error":"#REF!"}},1666]
[{"$f":"A65928","v":{"$error":"#REF!"}},{"$error":"#REF!"},{"$error":"#REF!"},{"$error":"#REF!"},{"$error":"#REF!"},"Mujer","85-+",{"$f":"'Pob x Genero'!#REF!","v":{"$error":"#REF!"}},1667]
[{"$f":"A65929","v":{"$error":"#REF!"}},{"$error":"#REF!"},{"$error":"#REF!"},{"$error":"#REF!"},{"$error":"#REF!"},"Mujer","85-+",{"$f":"'Pob x Genero'!#REF!","v":{"$error":"#REF!"}},1668]
[{"$f":"A65930","v":{"$error":"#REF!"}},{"$error":"#REF!"},{"$error":"#REF!"},{"$error":"#REF!"},{"$error":"#REF!"},"Mujer","85-+",{"$f":"'Pob x Genero'!#REF!","v":{"$error":"#REF!"}},1669]
[{"$f":"A65931","v":{"$error":"#REF!"}},{"$error":"#REF!"},{"$error":"#REF!"},{"$error":"#REF!"},{"$error":"#REF!"},"Mujer","85-+",{"$f":"'Pob x Genero'!#REF!","v":{"$error":"#REF!"}},1670]
[{"$f":"A65932","v":{"$error":"#REF!"}},{"$error":"#REF!"},{"$error":"#REF!"},{"$error":"#REF!"},{"$error":"#REF!"},"Mujer","85-+",{"$f":"'Pob x Genero'!#REF!","v":{"$error":"#REF!"}},1671]
[{"$f":"A65933","v":{"$error":"#REF!"}},{"$error":"#REF!"},{"$error":"#REF!"},{"$error":"#REF!"},{"$error":"#REF!"},"Mujer","85-+",{"$f":"'Pob x Genero'!#REF!","v":{"$error":"#REF!"}},1672]
[{"$f":"A65934","v":{"$error":"#REF!"}},{"$error":"#REF!"},{"$error":"#REF!"},{"$error":"#REF!"},{"$error":"#REF!"},"Mujer","85-+",{"$f":"'Pob x Genero'!#REF!","v":{"$error":"#REF!"}},1673]
[{"$f":"A65935","v":{"$error":"#REF!"}},{"$error":"#REF!"},{"$error":"#REF!"},{"$error":"#REF!"},{"$error":"#REF!"},"Mujer","85-+",{"$f":"'Pob x Genero'!#REF!","v":{"$error":"#REF!"}},1674]
[{"$f":"A65936","v":{"$error":"#REF!"}},{"$error":"#REF!"},{"$error":"#REF!"},{"$error":"#REF!"},{"$error":"#REF!"},"Mujer","85-+",{"$f":"'Pob x Genero'!#REF!","v":{"$error":"#REF!"}},1675]
[{"$f":"A65937","v":{"$error":"#REF!"}},{"$error":"#REF!"},{"$error":"#REF!"},{"$error":"#REF!"},{"$error":"#REF!"},"Mujer","85-+",{"$f":"'Pob x Genero'!#REF!","v":{"$error":"#REF!"}},1676]
[{"$f":"A65938","v":{"$error":"#REF!"}},{"$error":"#REF!"},{"$error":"#REF!"},{"$error":"#REF!"},{"$error":"#REF!"},"Mujer","85-+",{"$f":"'Pob x Genero'!#REF!","v":{"$error":"#REF!"}},1677]
[{"$f":"A65939","v":{"$error":"#REF!"}},{"$error":"#REF!"},{"$error":"#REF!"},{"$error":"#REF!"},{"$error":"#REF!"},"Mujer","85-+",{"$f":"'Pob x Genero'!#REF!","v":{"$error":"#REF!"}},1678]
[{"$f":"A65940","v":{"$error":"#REF!"}},{"$error":"#REF!"},{"$error":"#REF!"},{"$error":"#REF!"},{"$error":"#REF!"},"Mujer","85-+",{"$f":"'Pob x Genero'!#REF!","v":{"$error":"#REF!"}},1679]
[{"$f":"A65941","v":{"$error":"#REF!"}},{"$error":"#REF!"},{"$error":"#REF!"},{"$error":"#REF!"},{"$error":"#REF!"},"Mujer","85-+",{"$f":"'Pob x Genero'!#REF!","v":{"$error":"#REF!"}},1680]
[{"$f":"A65942","v":{"$error":"#REF!"}},{"$error":"#REF!"},{"$error":"#REF!"},{"$error":"#REF!"},{"$error":"#REF!"},"Mujer","85-+",{"$f":"'Pob x Genero'!#REF!","v":{"$error":"#REF!"}},1681]
[{"$f":"A65943","v":{"$error":"#REF!"}},{"$error":"#REF!"},{"$error":"#REF!"},{"$error":"#REF!"},{"$error":"#REF!"},"Mujer","85-+",{"$f":"'Pob x Genero'!#REF!","v":{"$error":"#REF!"}},1682]
[{"$f":"A65944","v":{"$error":"#REF!"}},{"$error":"#REF!"},{"$error":"#REF!"},{"$error":"#REF!"},{"$error":"#REF!"},"Mujer","85-+",{"$f":"'Pob x Genero'!#REF!","v":{"$error":"#REF!"}},1683]
[{"$f":"A65945","v":{"$error":"#REF!"}},{"$error":"#REF!"},{"$error":"#REF!"},{"$error":"#REF!"},{"$error":"#REF!"},"Mujer","85-+",{"$f":"'Pob x Genero'!#REF!","v":{"$error":"#REF!"}},1684]
[{"$f":"A65946","v":{"$error":"#REF!"}},{"$error":"#REF!"},{"$error":"#REF!"},{"$error":"#REF!"},{"$error":"#REF!"},"Mujer","85-+",{"$f":"'Pob x Genero'!#REF!","v":{"$error":"#REF!"}},1685]
[{"$f":"A65947","v":{"$error":"#REF!"}},{"$error":"#REF!"},{"$error":"#REF!"},{"$error":"#REF!"},{"$error":"#REF!"},"Mujer","85-+",{"$f":"'Pob x Genero'!#REF!","v":{"$error":"#REF!"}},1686]
[{"$f":"A65948","v":{"$error":"#REF!"}},{"$error":"#REF!"},{"$error":"#REF!"},{"$error":"#REF!"},{"$error":"#REF!"},"Mujer","85-+",{"$f":"'Pob x Genero'!#REF!","v":{"$error":"#REF!"}},1687]
[{"$f":"A65949","v":{"$error":"#REF!"}},{"$error":"#REF!"},{"$error":"#REF!"},{"$error":"#REF!"},{"$error":"#REF!"},"Mujer","85-+",{"$f":"'Pob x Genero'!#REF!","v":{"$error":"#REF!"}},1688]
[{"$f":"A65950","v":{"$error":"#REF!"}},{"$error":"#REF!"},{"$error":"#REF!"},{"$error":"#REF!"},{"$error":"#REF!"},"Mujer","85-+",{"$f":"'Pob x Genero'!#REF!","v":{"$error":"#REF!"}},1689]
[{"$f":"A65951","v":{"$error":"#REF!"}},{"$error":"#REF!"},{"$error":"#REF!"},{"$error":"#REF!"},{"$error":"#REF!"},"Mujer","85-+",{"$f":"'Pob x Genero'!#REF!","v":{"$error":"#REF!"}},1690]
[{"$f":"A65952","v":{"$error":"#REF!"}},{"$error":"#REF!"},{"$error":"#REF!"},{"$error":"#REF!"},{"$error":"#REF!"},"Mujer","85-+",{"$f":"'Pob x Genero'!#REF!","v":{"$error":"#REF!"}},1691]
[{"$f":"A65953","v":{"$error":"#REF!"}},{"$error":"#REF!"},{"$error":"#REF!"},{"$error":"#REF!"},{"$error":"#REF!"},"Mujer","85-+",{"$f":"'Pob x Genero'!#REF!","v":{"$error":"#REF!"}},1692]
[{"$f":"A65954","v":{"$error":"#REF!"}},{"$error":"#REF!"},{"$error":"#REF!"},{"$error":"#REF!"},{"$error":"#REF!"},"Mujer","85-+",{"$f":"'Pob x Genero'!#REF!","v":{"$error":"#REF!"}},1693]
[{"$f":"A65955","v":{"$error":"#REF!"}},{"$error":"#REF!"},{"$error":"#REF!"},{"$error":"#REF!"},{"$error":"#REF!"},"Mujer","85-+",{"$f":"'Pob x Genero'!#REF!","v":{"$error":"#REF!"}},1694]
[{"$f":"A65956","v":{"$error":"#REF!"}},{"$error":"#REF!"},{"$error":"#REF!"},{"$error":"#REF!"},{"$error":"#REF!"},"Mujer","85-+",{"$f":"'Pob x Genero'!#REF!","v":{"$error":"#REF!"}},1695]
[{"$f":"A65957","v":{"$error":"#REF!"}},{"$error":"#REF!"},{"$error":"#REF!"},{"$error":"#REF!"},{"$error":"#REF!"},"Mujer","85-+",{"$f":"'Pob x Genero'!#REF!","v":{"$error":"#REF!"}},1696]
[{"$f":"A65958","v":{"$error":"#REF!"}},{"$error":"#REF!"},{"$error":"#REF!"},{"$error":"#REF!"},{"$error":"#REF!"},"Mujer","85-+",{"$f":"'Pob x Genero'!#REF!","v":{"$error":"#REF!"}},1697]
[{"$f":"A65959","v":{"$error":"#REF!"}},{"$error":"#REF!"},{"$error":"#REF!"},{"$error":"#REF!"},{"$error":"#REF!"},"Mujer","85-+",{"$f":"'Pob x Genero'!#REF!","v":{"$error":"#REF!"}},1698]
[{"$f":"A65960","v":{"$error":"#REF!"}},{"$error":"#REF!"},{"$error":"#REF!"},{"$error":"#REF!"},{"$error":"#REF!"},"Mujer","85-+",{"$f":"'Pob x Genero'!#REF!","v":{"$error":"#REF!"}},1699]
[{"$f":"A65961","v":{"$error":"#REF!"}},{"$error":"#REF!"},{"$error":"#REF!"},{"$error":"#REF!"},{"$error":"#REF!"},"Mujer","85-+",{"$f":"'Pob x Genero'!#REF!","v":{"$error":"#REF!"}},1700]
[{"$f":"A65962","v":{"$error":"#REF!"}},{"$error":"#REF!"},{"$error":"#REF!"},{"$error":"#REF!"},{"$error":"#REF!"},"Mujer","85-+",{"$f":"'Pob x Genero'!#REF!","v":{"$error":"#REF!"}},1701]
[{"$f":"A65963","v":{"$error":"#REF!"}},{"$error":"#REF!"},{"$error":"#REF!"},{"$error":"#REF!"},{"$error":"#REF!"},"Mujer","85-+",{"$f":"'Pob x Genero'!#REF!","v":{"$error":"#REF!"}},1702]
[{"$f":"A65964","v":{"$error":"#REF!"}},{"$error":"#REF!"},{"$error":"#REF!"},{"$error":"#REF!"},{"$error":"#REF!"},"Mujer","85-+",{"$f":"'Pob x Genero'!#REF!","v":{"$error":"#REF!"}},1703]
[{"$f":"A65965","v":{"$error":"#REF!"}},{"$error":"#REF!"},{"$error":"#REF!"},{"$error":"#REF!"},{"$error":"#REF!"},"Mujer","85-+",{"$f":"'Pob x Genero'!#REF!","v":{"$error":"#REF!"}},1704]
[{"$f":"A65966","v":{"$error":"#REF!"}},{"$error":"#REF!"},{"$error":"#REF!"},{"$error":"#REF!"},{"$error":"#REF!"},"Mujer","85-+",{"$f":"'Pob x Genero'!#REF!","v":{"$error":"#REF!"}},1705]
[{"$f":"A65967","v":{"$error":"#REF!"}},{"$error":"#REF!"},{"$error":"#REF!"},{"$error":"#REF!"},{"$error":"#REF!"},"Mujer","85-+",{"$f":"'Pob x Genero'!#REF!","v":{"$error":"#REF!"}},1706]
[{"$f":"A65968","v":{"$error":"#REF!"}},{"$error":"#REF!"},{"$error":"#REF!"},{"$error":"#REF!"},{"$error":"#REF!"},"Mujer","85-+",{"$f":"'Pob x Genero'!#REF!","v":{"$error":"#REF!"}},1707]
[{"$f":"A65969","v":{"$error":"#REF!"}},{"$error":"#REF!"},{"$error":"#REF!"},{"$error":"#REF!"},{"$error":"#REF!"},"Mujer","85-+",{"$f":"'Pob x Genero'!#REF!","v":{"$error":"#REF!"}},1708]
[{"$f":"A65970","v":{"$error":"#REF!"}},{"$error":"#REF!"},{"$error":"#REF!"},{"$error":"#REF!"},{"$error":"#REF!"},"Mujer","85-+",{"$f":"'Pob x Genero'!#REF!","v":{"$error":"#REF!"}},1709]
[{"$f":"A65971","v":{"$error":"#REF!"}},{"$error":"#REF!"},{"$error":"#REF!"},{"$error":"#REF!"},{"$error":"#REF!"},"Mujer","85-+",{"$f":"'Pob x Genero'!#REF!","v":{"$error":"#REF!"}},1710]
[{"$f":"A65972","v":{"$error":"#REF!"}},{"$error":"#REF!"},{"$error":"#REF!"},{"$error":"#REF!"},{"$error":"#REF!"},"Mujer","85-+",{"$f":"'Pob x Genero'!#REF!","v":{"$error":"#REF!"}},1711]
[{"$f":"A65973","v":{"$error":"#REF!"}},{"$error":"#REF!"},{"$error":"#REF!"},{"$error":"#REF!"},{"$error":"#REF!"},"Mujer","85-+",{"$f":"'Pob x Genero'!#REF!","v":{"$error":"#REF!"}},1712]
[{"$f":"A65974","v":{"$error":"#REF!"}},{"$error":"#REF!"},{"$error":"#REF!"},{"$error":"#REF!"},{"$error":"#REF!"},"Mujer","85-+",{"$f":"'Pob x Genero'!#REF!","v":{"$error":"#REF!"}},1713]
[{"$f":"A65975","v":{"$error":"#REF!"}},{"$error":"#REF!"},{"$error":"#REF!"},{"$error":"#REF!"},{"$error":"#REF!"},"Mujer","85-+",{"$f":"'Pob x Genero'!#REF!","v":{"$error":"#REF!"}},1714]
[{"$f":"A65976","v":{"$error":"#REF!"}},{"$error":"#REF!"},{"$error":"#REF!"},{"$error":"#REF!"},{"$error":"#REF!"},"Mujer","85-+",{"$f":"'Pob x Genero'!#REF!","v":{"$error":"#REF!"}},1715]
[{"$f":"A65977","v":{"$error":"#REF!"}},{"$error":"#REF!"},{"$error":"#REF!"},{"$error":"#REF!"},{"$error":"#REF!"},"Mujer","85-+",{"$f":"'Pob x Genero'!#REF!","v":{"$error":"#REF!"}},1716]
[{"$f":"A65978","v":{"$error":"#REF!"}},{"$error":"#REF!"},{"$error":"#REF!"},{"$error":"#REF!"},{"$error":"#REF!"},"Mujer","85-+",{"$f":"'Pob x Genero'!#REF!","v":{"$error":"#REF!"}},1717]
[{"$f":"A65979","v":{"$error":"#REF!"}},{"$error":"#REF!"},{"$error":"#REF!"},{"$error":"#REF!"},{"$error":"#REF!"},"Mujer","85-+",{"$f":"'Pob x Genero'!#REF!","v":{"$error":"#REF!"}},1718]
[{"$f":"A65980","v":{"$error":"#REF!"}},{"$error":"#REF!"},{"$error":"#REF!"},{"$error":"#REF!"},{"$error":"#REF!"},"Mujer","85-+",{"$f":"'Pob x Genero'!#REF!","v":{"$error":"#REF!"}},1719]
[{"$f":"A65981","v":{"$error":"#REF!"}},{"$error":"#REF!"},{"$error":"#REF!"},{"$error":"#REF!"},{"$error":"#REF!"},"Mujer","85-+",{"$f":"'Pob x Genero'!#REF!","v":{"$error":"#REF!"}},1720]
[{"$f":"A65982","v":{"$error":"#REF!"}},{"$error":"#REF!"},{"$error":"#REF!"},{"$error":"#REF!"},{"$error":"#REF!"},"Mujer","85-+",{"$f":"'Pob x Genero'!#REF!","v":{"$error":"#REF!"}},1721]
[{"$f":"A65983","v":{"$error":"#REF!"}},{"$error":"#REF!"},{"$error":"#REF!"},{"$error":"#REF!"},{"$error":"#REF!"},"Mujer","85-+",{"$f":"'Pob x Genero'!#REF!","v":{"$error":"#REF!"}},1722]
[{"$f":"A65984","v":{"$error":"#REF!"}},{"$error":"#REF!"},{"$error":"#REF!"},{"$error":"#REF!"},{"$error":"#REF!"},"Mujer","85-+",{"$f":"'Pob x Genero'!#REF!","v":{"$error":"#REF!"}},1723]
[{"$f":"A65985","v":{"$error":"#REF!"}},{"$error":"#REF!"},{"$error":"#REF!"},{"$error":"#REF!"},{"$error":"#REF!"},"Mujer","85-+",{"$f":"'Pob x Genero'!#REF!","v":{"$error":"#REF!"}},1724]
[{"$f":"A65986","v":{"$error":"#REF!"}},{"$error":"#REF!"},{"$error":"#REF!"},{"$error":"#REF!"},{"$error":"#REF!"},"Mujer","85-+",{"$f":"'Pob x Genero'!#REF!","v":{"$error":"#REF!"}},1725]
[{"$f":"A65987","v":{"$error":"#REF!"}},{"$error":"#REF!"},{"$error":"#REF!"},{"$error":"#REF!"},{"$error":"#REF!"},"Mujer","85-+",{"$f":"'Pob x Genero'!#REF!","v":{"$error":"#REF!"}},1726]
[{"$f":"A65988","v":{"$error":"#REF!"}},{"$error":"#REF!"},{"$error":"#REF!"},{"$error":"#REF!"},{"$error":"#REF!"},"Mujer","85-+",{"$f":"'Pob x Genero'!#REF!","v":{"$error":"#REF!"}},1727]
[{"$f":"A65989","v":{"$error":"#REF!"}},{"$error":"#REF!"},{"$error":"#REF!"},{"$error":"#REF!"},{"$error":"#REF!"},"Mujer","85-+",{"$f":"'Pob x Genero'!#REF!","v":{"$error":"#REF!"}},1728]
[{"$f":"A65990","v":{"$error":"#REF!"}},{"$error":"#REF!"},{"$error":"#REF!"},{"$error":"#REF!"},{"$error":"#REF!"},"Mujer","85-+",{"$f":"'Pob x Genero'!#REF!","v":{"$error":"#REF!"}},1729]
[{"$f":"A65991","v":{"$error":"#REF!"}},{"$error":"#REF!"},{"$error":"#REF!"},{"$error":"#REF!"},{"$error":"#REF!"},{"$f":"F67880","v":"Mujer"},{"$f":"G67880","v":"85-+"},{"$f":"'Pob x Genero'!#REF!","v":{"$error":"#REF!"}},1730]
[{"$f":"A65992","v":{"$error":"#REF!"}},{"$error":"#REF!"},{"$error":"#REF!"},{"$error":"#REF!"},{"$error":"#REF!"},"Mujer","85-+",{"$f":"'Pob x Genero'!#REF!","v":{"$error":"#REF!"}},1731]
[{"$f":"A65993","v":{"$error":"#REF!"}},{"$error":"#REF!"},{"$error":"#REF!"},{"$error":"#REF!"},{"$error":"#REF!"},"Mujer","85-+",{"$f":"'Pob x Genero'!#REF!","v":{"$error":"#REF!"}},1732]
[{"$f":"A65994","v":{"$error":"#REF!"}},{"$error":"#REF!"},{"$error":"#REF!"},{"$error":"#REF!"},{"$error":"#REF!"},"Mujer","85-+",{"$f":"'Pob x Genero'!#REF!","v":{"$error":"#REF!"}},1733]
[{"$f":"A65995","v":{"$error":"#REF!"}},{"$error":"#REF!"},{"$error":"#REF!"},{"$error":"#REF!"},{"$error":"#REF!"},"Mujer","85-+",{"$f":"'Pob x Genero'!#REF!","v":{"$error":"#REF!"}},1734]
[{"$f":"A65996","v":{"$error":"#REF!"}},{"$error":"#REF!"},{"$error":"#REF!"},{"$error":"#REF!"},{"$error":"#REF!"},"Mujer","85-+",{"$f":"'Pob x Genero'!#REF!","v":{"$error":"#REF!"}},1735]
[{"$f":"A65997","v":{"$error":"#REF!"}},{"$error":"#REF!"},{"$error":"#REF!"},{"$error":"#REF!"},{"$error":"#REF!"},"Mujer","85-+",{"$f":"'Pob x Genero'!#REF!","v":{"$error":"#REF!"}},1736]
[{"$f":"A65998","v":{"$error":"#REF!"}},{"$error":"#REF!"},{"$error":"#REF!"},{"$error":"#REF!"},{"$error":"#REF!"},"Mujer","85-+",{"$f":"'Pob x Genero'!#REF!","v":{"$error":"#REF!"}},1737]
[{"$f":"A65999","v":{"$error":"#REF!"}},{"$error":"#REF!"},{"$error":"#REF!"},{"$error":"#REF!"},{"$error":"#REF!"},"Mujer","85-+",{"$f":"'Pob x Genero'!#REF!","v":{"$error":"#REF!"}},1738]
[{"$f":"A66000","v":{"$error":"#REF!"}},{"$error":"#REF!"},{"$error":"#REF!"},{"$error":"#REF!"},{"$error":"#REF!"},"Mujer","85-+",{"$f":"'Pob x Genero'!#REF!","v":{"$error":"#REF!"}},1739]
[{"$f":"A66001","v":{"$error":"#REF!"}},{"$error":"#REF!"},{"$error":"#REF!"},{"$error":"#REF!"},{"$error":"#REF!"},"Mujer","85-+",{"$f":"'Pob x Genero'!#REF!","v":{"$error":"#REF!"}},1740]
[{"$f":"A66002","v":{"$error":"#REF!"}},{"$error":"#REF!"},{"$error":"#REF!"},{"$error":"#REF!"},{"$error":"#REF!"},"Mujer","85-+",{"$f":"'Pob x Genero'!#REF!","v":{"$error":"#REF!"}},1741]
[{"$f":"A66003","v":{"$error":"#REF!"}},{"$error":"#REF!"},{"$error":"#REF!"},{"$error":"#REF!"},{"$error":"#REF!"},"Mujer","85-+",{"$f":"'Pob x Genero'!#REF!","v":{"$error":"#REF!"}},1742]
[{"$f":"A66004","v":{"$error":"#REF!"}},{"$error":"#REF!"},{"$error":"#REF!"},{"$error":"#REF!"},{"$error":"#REF!"},"Mujer","85-+",{"$f":"'Pob x Genero'!#REF!","v":{"$error":"#REF!"}},1743]
[{"$f":"A66005","v":{"$error":"#REF!"}},{"$error":"#REF!"},{"$error":"#REF!"},{"$error":"#REF!"},{"$error":"#REF!"},"Mujer","85-+",{"$f":"'Pob x Genero'!#REF!","v":{"$error":"#REF!"}},1744]
[{"$f":"A66006","v":{"$error":"#REF!"}},{"$error":"#REF!"},{"$error":"#REF!"},{"$error":"#REF!"},{"$error":"#REF!"},"Mujer","85-+",{"$f":"'Pob x Genero'!#REF!","v":{"$error":"#REF!"}},1745]
[{"$f":"A66007","v":{"$error":"#REF!"}},{"$error":"#REF!"},{"$error":"#REF!"},{"$error":"#REF!"},{"$error":"#REF!"},"Mujer","85-+",{"$f":"'Pob x Genero'!#REF!","v":{"$error":"#REF!"}},1746]
[{"$f":"A66008","v":{"$error":"#REF!"}},{"$error":"#REF!"},{"$error":"#REF!"},{"$error":"#REF!"},{"$error":"#REF!"},"Mujer","85-+",{"$f":"'Pob x Genero'!#REF!","v":{"$error":"#REF!"}},1747]
[{"$f":"A66009","v":{"$error":"#REF!"}},{"$error":"#REF!"},{"$error":"#REF!"},{"$error":"#REF!"},{"$error":"#REF!"},"Mujer","85-+",{"$f":"'Pob x Genero'!#REF!","v":{"$error":"#REF!"}},1748]
[{"$f":"A66010","v":{"$error":"#REF!"}},{"$error":"#REF!"},{"$error":"#REF!"},{"$error":"#REF!"},{"$error":"#REF!"},"Mujer","85-+",{"$f":"'Pob x Genero'!#REF!","v":{"$error":"#REF!"}},1749]
[{"$f":"A66011","v":{"$error":"#REF!"}},{"$error":"#REF!"},{"$error":"#REF!"},{"$error":"#REF!"},{"$error":"#REF!"},"Mujer","85-+",{"$f":"'Pob x Genero'!#REF!","v":{"$error":"#REF!"}},1750]
[{"$f":"A66012","v":{"$error":"#REF!"}},{"$error":"#REF!"},{"$error":"#REF!"},{"$error":"#REF!"},{"$error":"#REF!"},"Mujer","85-+",{"$f":"'Pob x Genero'!#REF!","v":{"$error":"#REF!"}},1751]
[{"$f":"A66013","v":{"$error":"#REF!"}},{"$error":"#REF!"},{"$error":"#REF!"},{"$error":"#REF!"},{"$error":"#REF!"},"Mujer","85-+",{"$f":"'Pob x Genero'!#REF!","v":{"$error":"#REF!"}},1752]
[{"$f":"A66014","v":{"$error":"#REF!"}},{"$error":"#REF!"},{"$error":"#REF!"},{"$error":"#REF!"},{"$error":"#REF!"},"Mujer","85-+",{"$f":"'Pob x Genero'!#REF!","v":{"$error":"#REF!"}},1753]
[{"$f":"A66015","v":{"$error":"#REF!"}},{"$error":"#REF!"},{"$error":"#REF!"},{"$error":"#REF!"},{"$error":"#REF!"},"Mujer","85-+",{"$f":"'Pob x Genero'!#REF!","v":{"$error":"#REF!"}},1754]
[{"$f":"A66016","v":{"$error":"#REF!"}},{"$error":"#REF!"},{"$error":"#REF!"},{"$error":"#REF!"},{"$error":"#REF!"},"Mujer","85-+",{"$f":"'Pob x Genero'!#REF!","v":{"$error":"#REF!"}},1755]
[{"$f":"A66017","v":{"$error":"#REF!"}},{"$error":"#REF!"},{"$error":"#REF!"},{"$error":"#REF!"},{"$error":"#REF!"},"Mujer","85-+",{"$f":"'Pob x Genero'!#REF!","v":{"$error":"#REF!"}},1756]
[{"$f":"A66018","v":{"$error":"#REF!"}},{"$error":"#REF!"},{"$error":"#REF!"},{"$error":"#REF!"},{"$error":"#REF!"},"Mujer","85-+",{"$f":"'Pob x Genero'!#REF!","v":{"$error":"#REF!"}},1757]
[{"$f":"A66019","v":{"$error":"#REF!"}},{"$error":"#REF!"},{"$error":"#REF!"},{"$error":"#REF!"},{"$error":"#REF!"},"Mujer","85-+",{"$f":"'Pob x Genero'!#REF!","v":{"$error":"#REF!"}},1758]
[{"$f":"A66020","v":{"$error":"#REF!"}},{"$error":"#REF!"},{"$error":"#REF!"},{"$error":"#REF!"},{"$error":"#REF!"},"Mujer","85-+",{"$f":"'Pob x Genero'!#REF!","v":{"$error":"#REF!"}},1759]
[{"$f":"A66021","v":{"$error":"#REF!"}},{"$error":"#REF!"},{"$error":"#REF!"},{"$error":"#REF!"},{"$error":"#REF!"},"Mujer","85-+",{"$f":"'Pob x Genero'!#REF!","v":{"$error":"#REF!"}},1760]
[{"$f":"A66022","v":{"$error":"#REF!"}},{"$error":"#REF!"},{"$error":"#REF!"},{"$error":"#REF!"},{"$error":"#REF!"},"Mujer","85-+",{"$f":"'Pob x Genero'!#REF!","v":{"$error":"#REF!"}},1761]
[{"$f":"A66023","v":{"$error":"#REF!"}},{"$error":"#REF!"},{"$error":"#REF!"},{"$error":"#REF!"},{"$error":"#REF!"},"Mujer","85-+",{"$f":"'Pob x Genero'!#REF!","v":{"$error":"#REF!"}},1762]
[{"$f":"A66024","v":{"$error":"#REF!"}},{"$error":"#REF!"},{"$error":"#REF!"},{"$error":"#REF!"},{"$error":"#REF!"},"Mujer","85-+",{"$f":"'Pob x Genero'!#REF!","v":{"$error":"#REF!"}},1763]
[{"$f":"A66025","v":{"$error":"#REF!"}},{"$error":"#REF!"},{"$error":"#REF!"},{"$error":"#REF!"},{"$error":"#REF!"},"Mujer","85-+",{"$f":"'Pob x Genero'!#REF!","v":{"$error":"#REF!"}},1764]
[{"$f":"A66026","v":{"$error":"#REF!"}},{"$error":"#REF!"},{"$error":"#REF!"},{"$error":"#REF!"},{"$error":"#REF!"},"Mujer","85-+",{"$f":"'Pob x Genero'!#REF!","v":{"$error":"#REF!"}},1765]
[{"$f":"A66027","v":{"$error":"#REF!"}},{"$error":"#REF!"},{"$error":"#REF!"},{"$error":"#REF!"},{"$error":"#REF!"},"Mujer","85-+",{"$f":"'Pob x Genero'!#REF!","v":{"$error":"#REF!"}},1766]
[{"$f":"A66028","v":{"$error":"#REF!"}},{"$error":"#REF!"},{"$error":"#REF!"},{"$error":"#REF!"},{"$error":"#REF!"},"Mujer","85-+",{"$f":"'Pob x Genero'!#REF!","v":{"$error":"#REF!"}},1767]
[{"$f":"A66029","v":{"$error":"#REF!"}},{"$error":"#REF!"},{"$error":"#REF!"},{"$error":"#REF!"},{"$error":"#REF!"},"Mujer","85-+",{"$f":"'Pob x Genero'!#REF!","v":{"$error":"#REF!"}},1768]
[{"$f":"A66030","v":{"$error":"#REF!"}},{"$error":"#REF!"},{"$error":"#REF!"},{"$error":"#REF!"},{"$error":"#REF!"},"Mujer","85-+",{"$f":"'Pob x Genero'!#REF!","v":{"$error":"#REF!"}},1769]
[{"$f":"A66031","v":{"$error":"#REF!"}},{"$error":"#REF!"},{"$error":"#REF!"},{"$error":"#REF!"},{"$error":"#REF!"},"Mujer","85-+",{"$f":"'Pob x Genero'!#REF!","v":{"$error":"#REF!"}},1770]
[{"$f":"A66032","v":{"$error":"#REF!"}},{"$error":"#REF!"},{"$error":"#REF!"},{"$error":"#REF!"},{"$error":"#REF!"},"Mujer","85-+",{"$f":"'Pob x Genero'!#REF!","v":{"$error":"#REF!"}},1771]
[{"$f":"A66033","v":{"$error":"#REF!"}},{"$error":"#REF!"},{"$error":"#REF!"},{"$error":"#REF!"},{"$error":"#REF!"},"Mujer","85-+",{"$f":"'Pob x Genero'!#REF!","v":{"$error":"#REF!"}},1772]
[{"$f":"A66034","v":{"$error":"#REF!"}},{"$error":"#REF!"},{"$error":"#REF!"},{"$error":"#REF!"},{"$error":"#REF!"},"Mujer","85-+",{"$f":"'Pob x Genero'!#REF!","v":{"$error":"#REF!"}},1773]
[{"$f":"A66035","v":{"$error":"#REF!"}},{"$error":"#REF!"},{"$error":"#REF!"},{"$error":"#REF!"},{"$error":"#REF!"},"Mujer","85-+",{"$f":"'Pob x Genero'!#REF!","v":{"$error":"#REF!"}},1774]
[{"$f":"A66036","v":{"$error":"#REF!"}},{"$error":"#REF!"},{"$error":"#REF!"},{"$error":"#REF!"},{"$error":"#REF!"},"Mujer","85-+",{"$f":"'Pob x Genero'!#REF!","v":{"$error":"#REF!"}},1775]
[{"$f":"A66037","v":{"$error":"#REF!"}},{"$error":"#REF!"},{"$error":"#REF!"},{"$error":"#REF!"},{"$error":"#REF!"},"Mujer","85-+",{"$f":"'Pob x Genero'!#REF!","v":{"$error":"#REF!"}},1776]
[{"$f":"A66038","v":{"$error":"#REF!"}},{"$error":"#REF!"},{"$error":"#REF!"},{"$error":"#REF!"},{"$error":"#REF!"},"Mujer","85-+",{"$f":"'Pob x Genero'!#REF!","v":{"$error":"#REF!"}},1777]
[{"$f":"A66039","v":{"$error":"#REF!"}},{"$error":"#REF!"},{"$error":"#REF!"},{"$error":"#REF!"},{"$error":"#REF!"},"Mujer","85-+",{"$f":"'Pob x Genero'!#REF!","v":{"$error":"#REF!"}},1778]
[{"$f":"A66040","v":{"$error":"#REF!"}},{"$error":"#REF!"},{"$error":"#REF!"},{"$error":"#REF!"},{"$error":"#REF!"},"Mujer","85-+",{"$f":"'Pob x Genero'!#REF!","v":{"$error":"#REF!"}},1779]
[{"$f":"A66041","v":{"$error":"#REF!"}},{"$error":"#REF!"},{"$error":"#REF!"},{"$error":"#REF!"},{"$error":"#REF!"},"Mujer","85-+",{"$f":"'Pob x Genero'!#REF!","v":{"$error":"#REF!"}},1780]
[{"$f":"A66042","v":{"$error":"#REF!"}},{"$error":"#REF!"},{"$error":"#REF!"},{"$error":"#REF!"},{"$error":"#REF!"},"Mujer","85-+",{"$f":"'Pob x Genero'!#REF!","v":{"$error":"#REF!"}},1781]
[{"$f":"A66043","v":{"$error":"#REF!"}},{"$error":"#REF!"},{"$error":"#REF!"},{"$error":"#REF!"},{"$error":"#REF!"},"Mujer","85-+",{"$f":"'Pob x Genero'!#REF!","v":{"$error":"#REF!"}},1782]
[{"$f":"A66044","v":{"$error":"#REF!"}},{"$error":"#REF!"},{"$error":"#REF!"},{"$error":"#REF!"},{"$error":"#REF!"},"Mujer","85-+",{"$f":"'Pob x Genero'!#REF!","v":{"$error":"#REF!"}},1783]
[{"$f":"A66045","v":{"$error":"#REF!"}},{"$error":"#REF!"},{"$error":"#REF!"},{"$error":"#REF!"},{"$error":"#REF!"},"Mujer","85-+",{"$f":"'Pob x Genero'!#REF!","v":{"$error":"#REF!"}},1784]
[{"$f":"A66046","v":{"$error":"#REF!"}},{"$error":"#REF!"},{"$error":"#REF!"},{"$error":"#REF!"},{"$error":"#REF!"},"Mujer","85-+",{"$f":"'Pob x Genero'!#REF!","v":{"$error":"#REF!"}},1785]
[{"$f":"A66047","v":{"$error":"#REF!"}},{"$error":"#REF!"},{"$error":"#REF!"},{"$error":"#REF!"},{"$error":"#REF!"},"Mujer","85-+",{"$f":"'Pob x Genero'!#REF!","v":{"$error":"#REF!"}},1786]
[{"$f":"A66048","v":{"$error":"#REF!"}},{"$error":"#REF!"},{"$error":"#REF!"},{"$error":"#REF!"},{"$error":"#REF!"},"Mujer","85-+",{"$f":"'Pob x Genero'!#REF!","v":{"$error":"#REF!"}},1787]
[{"$f":"A66049","v":{"$error":"#REF!"}},{"$error":"#REF!"},{"$error":"#REF!"},{"$error":"#REF!"},{"$error":"#REF!"},"Mujer","85-+",{"$f":"'Pob x Genero'!#REF!","v":{"$error":"#REF!"}},1788]
[{"$f":"A66050","v":{"$error":"#REF!"}},{"$error":"#REF!"},{"$error":"#REF!"},{"$error":"#REF!"},{"$error":"#REF!"},"Mujer","85-+",{"$f":"'Pob x Genero'!#REF!","v":{"$error":"#REF!"}},1789]
[{"$f":"A66051","v":{"$error":"#REF!"}},{"$error":"#REF!"},{"$error":"#REF!"},{"$error":"#REF!"},{"$error":"#REF!"},"Mujer","85-+",{"$f":"'Pob x Genero'!#REF!","v":{"$error":"#REF!"}},1790]
[{"$f":"A66052","v":{"$error":"#REF!"}},{"$error":"#REF!"},{"$error":"#REF!"},{"$error":"#REF!"},{"$error":"#REF!"},"Mujer","85-+",{"$f":"'Pob x Genero'!#REF!","v":{"$error":"#REF!"}},1791]
[{"$f":"A66053","v":{"$error":"#REF!"}},{"$error":"#REF!"},{"$error":"#REF!"},{"$error":"#REF!"},{"$error":"#REF!"},"Mujer","85-+",{"$f":"'Pob x Genero'!#REF!","v":{"$error":"#REF!"}},1792]
[{"$f":"A66054","v":{"$error":"#REF!"}},{"$error":"#REF!"},{"$error":"#REF!"},{"$error":"#REF!"},{"$error":"#REF!"},"Mujer","85-+",{"$f":"'Pob x Genero'!#REF!","v":{"$error":"#REF!"}},1793]
[{"$f":"A66055","v":{"$error":"#REF!"}},{"$error":"#REF!"},{"$error":"#REF!"},{"$error":"#REF!"},{"$error":"#REF!"},{"$f":"F67944","v":"Mujer"},{"$f":"G67944","v":"85-+"},{"$f":"'Pob x Genero'!#REF!","v":{"$error":"#REF!"}},1794]
[{"$f":"A66056","v":{"$error":"#REF!"}},{"$error":"#REF!"},{"$error":"#REF!"},{"$error":"#REF!"},{"$error":"#REF!"},"Mujer","85-+",{"$f":"'Pob x Genero'!#REF!","v":{"$error":"#REF!"}},1795]
[{"$f":"A66057","v":{"$error":"#REF!"}},{"$error":"#REF!"},{"$error":"#REF!"},{"$error":"#REF!"},{"$error":"#REF!"},"Mujer","85-+",{"$f":"'Pob x Genero'!#REF!","v":{"$error":"#REF!"}},1796]
[{"$f":"A66058","v":{"$error":"#REF!"}},{"$error":"#REF!"},{"$error":"#REF!"},{"$error":"#REF!"},{"$error":"#REF!"},"Mujer","85-+",{"$f":"'Pob x Genero'!#REF!","v":{"$error":"#REF!"}},1797]
[{"$f":"A66059","v":{"$error":"#REF!"}},{"$error":"#REF!"},{"$error":"#REF!"},{"$error":"#REF!"},{"$error":"#REF!"},"Mujer","85-+",{"$f":"'Pob x Genero'!#REF!","v":{"$error":"#REF!"}},1798]
[{"$f":"A66060","v":{"$error":"#REF!"}},{"$error":"#REF!"},{"$error":"#REF!"},{"$error":"#REF!"},{"$error":"#REF!"},"Mujer","85-+",{"$f":"'Pob x Genero'!#REF!","v":{"$error":"#REF!"}},1799]
[{"$f":"A66061","v":{"$error":"#REF!"}},{"$error":"#REF!"},{"$error":"#REF!"},{"$error":"#REF!"},{"$error":"#REF!"},"Mujer","85-+",{"$f":"'Pob x Genero'!#REF!","v":{"$error":"#REF!"}},1800]
[{"$f":"A66062","v":{"$error":"#REF!"}},{"$error":"#REF!"},{"$error":"#REF!"},{"$error":"#REF!"},{"$error":"#REF!"},"Mujer","85-+",{"$f":"'Pob x Genero'!#REF!","v":{"$error":"#REF!"}},1801]
[{"$f":"A66063","v":{"$error":"#REF!"}},{"$error":"#REF!"},{"$error":"#REF!"},{"$error":"#REF!"},{"$error":"#REF!"},"Mujer","85-+",{"$f":"'Pob x Genero'!#REF!","v":{"$error":"#REF!"}},1802]
[{"$f":"A66064","v":{"$error":"#REF!"}},{"$error":"#REF!"},{"$error":"#REF!"},{"$error":"#REF!"},{"$error":"#REF!"},"Mujer","85-+",{"$f":"'Pob x Genero'!#REF!","v":{"$error":"#REF!"}},1803]
[{"$f":"A66065","v":{"$error":"#REF!"}},{"$error":"#REF!"},{"$error":"#REF!"},{"$error":"#REF!"},{"$error":"#REF!"},"Mujer","85-+",{"$f":"'Pob x Genero'!#REF!","v":{"$error":"#REF!"}},1804]
[{"$f":"A66066","v":{"$error":"#REF!"}},{"$error":"#REF!"},{"$error":"#REF!"},{"$error":"#REF!"},{"$error":"#REF!"},"Mujer","85-+",{"$f":"'Pob x Genero'!#REF!","v":{"$error":"#REF!"}},1805]
[{"$f":"A66067","v":{"$error":"#REF!"}},{"$error":"#REF!"},{"$error":"#REF!"},{"$error":"#REF!"},{"$error":"#REF!"},"Mujer","85-+",{"$f":"'Pob x Genero'!#REF!","v":{"$error":"#REF!"}},1806]
[{"$f":"A66068","v":{"$error":"#REF!"}},{"$error":"#REF!"},{"$error":"#REF!"},{"$error":"#REF!"},{"$error":"#REF!"},"Mujer","85-+",{"$f":"'Pob x Genero'!#REF!","v":{"$error":"#REF!"}},1807]
[{"$f":"A66069","v":{"$error":"#REF!"}},{"$error":"#REF!"},{"$error":"#REF!"},{"$error":"#REF!"},{"$error":"#REF!"},"Mujer","85-+",{"$f":"'Pob x Genero'!#REF!","v":{"$error":"#REF!"}},1808]
[{"$f":"A66070","v":{"$error":"#REF!"}},{"$error":"#REF!"},{"$error":"#REF!"},{"$error":"#REF!"},{"$error":"#REF!"},"Mujer","85-+",{"$f":"'Pob x Genero'!#REF!","v":{"$error":"#REF!"}},1809]
[{"$f":"A66071","v":{"$error":"#REF!"}},{"$error":"#REF!"},{"$error":"#REF!"},{"$error":"#REF!"},{"$error":"#REF!"},"Mujer","85-+",{"$f":"'Pob x Genero'!#REF!","v":{"$error":"#REF!"}},1810]
[{"$f":"A66072","v":{"$error":"#REF!"}},{"$error":"#REF!"},{"$error":"#REF!"},{"$error":"#REF!"},{"$error":"#REF!"},"Mujer","85-+",{"$f":"'Pob x Genero'!#REF!","v":{"$error":"#REF!"}},1811]
[{"$f":"A66073","v":{"$error":"#REF!"}},{"$error":"#REF!"},{"$error":"#REF!"},{"$error":"#REF!"},{"$error":"#REF!"},"Mujer","85-+",{"$f":"'Pob x Genero'!#REF!","v":{"$error":"#REF!"}},1812]
[{"$f":"A66074","v":{"$error":"#REF!"}},{"$error":"#REF!"},{"$error":"#REF!"},{"$error":"#REF!"},{"$error":"#REF!"},"Mujer","85-+",{"$f":"'Pob x Genero'!#REF!","v":{"$error":"#REF!"}},1813]
[{"$f":"A66075","v":{"$error":"#REF!"}},{"$error":"#REF!"},{"$error":"#REF!"},{"$error":"#REF!"},{"$error":"#REF!"},"Mujer","85-+",{"$f":"'Pob x Genero'!#REF!","v":{"$error":"#REF!"}},1814]
[{"$f":"A66076","v":{"$error":"#REF!"}},{"$error":"#REF!"},{"$error":"#REF!"},{"$error":"#REF!"},{"$error":"#REF!"},"Mujer","85-+",{"$f":"'Pob x Genero'!#REF!","v":{"$error":"#REF!"}},1815]
[{"$f":"A66077","v":{"$error":"#REF!"}},{"$error":"#REF!"},{"$error":"#REF!"},{"$error":"#REF!"},{"$error":"#REF!"},"Mujer","85-+",{"$f":"'Pob x Genero'!#REF!","v":{"$error":"#REF!"}},1816]
[{"$f":"A66078","v":{"$error":"#REF!"}},{"$error":"#REF!"},{"$error":"#REF!"},{"$error":"#REF!"},{"$error":"#REF!"},"Mujer","85-+",{"$f":"'Pob x Genero'!#REF!","v":{"$error":"#REF!"}},1817]
[{"$f":"A66079","v":{"$error":"#REF!"}},{"$error":"#REF!"},{"$error":"#REF!"},{"$error":"#REF!"},{"$error":"#REF!"},"Mujer","85-+",{"$f":"'Pob x Genero'!#REF!","v":{"$error":"#REF!"}},1818]
[{"$f":"A66080","v":{"$error":"#REF!"}},{"$error":"#REF!"},{"$error":"#REF!"},{"$error":"#REF!"},{"$error":"#REF!"},"Mujer","85-+",{"$f":"'Pob x Genero'!#REF!","v":{"$error":"#REF!"}},1819]
[{"$f":"A66081","v":{"$error":"#REF!"}},{"$error":"#REF!"},{"$error":"#REF!"},{"$error":"#REF!"},{"$error":"#REF!"},"Mujer","85-+",{"$f":"'Pob x Genero'!#REF!","v":{"$error":"#REF!"}},1820]
[{"$f":"A66082","v":{"$error":"#REF!"}},{"$error":"#REF!"},{"$error":"#REF!"},{"$error":"#REF!"},{"$error":"#REF!"},"Mujer","85-+",{"$f":"'Pob x Genero'!#REF!","v":{"$error":"#REF!"}},1821]
[{"$f":"A66083","v":{"$error":"#REF!"}},{"$error":"#REF!"},{"$error":"#REF!"},{"$error":"#REF!"},{"$error":"#REF!"},"Mujer","85-+",{"$f":"'Pob x Genero'!#REF!","v":{"$error":"#REF!"}},1822]
[{"$f":"A66084","v":{"$error":"#REF!"}},{"$error":"#REF!"},{"$error":"#REF!"},{"$error":"#REF!"},{"$error":"#REF!"},"Mujer","85-+",{"$f":"'Pob x Genero'!#REF!","v":{"$error":"#REF!"}},1823]
[{"$f":"A66085","v":{"$error":"#REF!"}},{"$error":"#REF!"},{"$error":"#REF!"},{"$error":"#REF!"},{"$error":"#REF!"},"Mujer","85-+",{"$f":"'Pob x Genero'!#REF!","v":{"$error":"#REF!"}},1824]
[{"$f":"A66086","v":{"$error":"#REF!"}},{"$error":"#REF!"},{"$error":"#REF!"},{"$error":"#REF!"},{"$error":"#REF!"},"Mujer","85-+",{"$f":"'Pob x Genero'!#REF!","v":{"$error":"#REF!"}},1825]
[{"$f":"A66087","v":{"$error":"#REF!"}},{"$error":"#REF!"},{"$error":"#REF!"},{"$error":"#REF!"},{"$error":"#REF!"},"Mujer","85-+",{"$f":"'Pob x Genero'!#REF!","v":{"$error":"#REF!"}},1826]
[{"$f":"A66088","v":{"$error":"#REF!"}},{"$error":"#REF!"},{"$error":"#REF!"},{"$error":"#REF!"},{"$error":"#REF!"},"Mujer","85-+",{"$f":"'Pob x Genero'!#REF!","v":{"$error":"#REF!"}},1827]
[{"$f":"A66089","v":{"$error":"#REF!"}},{"$error":"#REF!"},{"$error":"#REF!"},{"$error":"#REF!"},{"$error":"#REF!"},"Mujer","85-+",{"$f":"'Pob x Genero'!#REF!","v":{"$error":"#REF!"}},1828]
[{"$f":"A66090","v":{"$error":"#REF!"}},{"$error":"#REF!"},{"$error":"#REF!"},{"$error":"#REF!"},{"$error":"#REF!"},"Mujer","85-+",{"$f":"'Pob x Genero'!#REF!","v":{"$error":"#REF!"}},1829]
[{"$f":"A66091","v":{"$error":"#REF!"}},{"$error":"#REF!"},{"$error":"#REF!"},{"$error":"#REF!"},{"$error":"#REF!"},"Mujer","85-+",{"$f":"'Pob x Genero'!#REF!","v":{"$error":"#REF!"}},1830]
[{"$f":"A66092","v":{"$error":"#REF!"}},{"$error":"#REF!"},{"$error":"#REF!"},{"$error":"#REF!"},{"$error":"#REF!"},"Mujer","85-+",{"$f":"'Pob x Genero'!#REF!","v":{"$error":"#REF!"}},1831]
[{"$f":"A66093","v":{"$error":"#REF!"}},{"$error":"#REF!"},{"$error":"#REF!"},{"$error":"#REF!"},{"$error":"#REF!"},"Mujer","85-+",{"$f":"'Pob x Genero'!#REF!","v":{"$error":"#REF!"}},1832]
[{"$f":"A66094","v":{"$error":"#REF!"}},{"$error":"#REF!"},{"$error":"#REF!"},{"$error":"#REF!"},{"$error":"#REF!"},"Mujer","85-+",{"$f":"'Pob x Genero'!#REF!","v":{"$error":"#REF!"}},1833]
[{"$f":"A66095","v":{"$error":"#REF!"}},{"$error":"#REF!"},{"$error":"#REF!"},{"$error":"#REF!"},{"$error":"#REF!"},"Mujer","85-+",{"$f":"'Pob x Genero'!#REF!","v":{"$error":"#REF!"}},1834]
[{"$f":"A66096","v":{"$error":"#REF!"}},{"$error":"#REF!"},{"$error":"#REF!"},{"$error":"#REF!"},{"$error":"#REF!"},"Mujer","85-+",{"$f":"'Pob x Genero'!#REF!","v":{"$error":"#REF!"}},1835]
[{"$f":"A66097","v":{"$error":"#REF!"}},{"$error":"#REF!"},{"$error":"#REF!"},{"$error":"#REF!"},{"$error":"#REF!"},"Mujer","85-+",{"$f":"'Pob x Genero'!#REF!","v":{"$error":"#REF!"}},1836]
[{"$f":"A66098","v":{"$error":"#REF!"}},{"$error":"#REF!"},{"$error":"#REF!"},{"$error":"#REF!"},{"$error":"#REF!"},"Mujer","85-+",{"$f":"'Pob x Genero'!#REF!","v":{"$error":"#REF!"}},1837]
[{"$f":"A66099","v":{"$error":"#REF!"}},{"$error":"#REF!"},{"$error":"#REF!"},{"$error":"#REF!"},{"$error":"#REF!"},"Mujer","85-+",{"$f":"'Pob x Genero'!#REF!","v":{"$error":"#REF!"}},1838]
[{"$f":"A66100","v":{"$error":"#REF!"}},{"$error":"#REF!"},{"$error":"#REF!"},{"$error":"#REF!"},{"$error":"#REF!"},"Mujer","85-+",{"$f":"'Pob x Genero'!#REF!","v":{"$error":"#REF!"}},1839]
[{"$f":"A66101","v":{"$error":"#REF!"}},{"$error":"#REF!"},{"$error":"#REF!"},{"$error":"#REF!"},{"$error":"#REF!"},"Mujer","85-+",{"$f":"'Pob x Genero'!#REF!","v":{"$error":"#REF!"}},1840]
[{"$f":"A66102","v":{"$error":"#REF!"}},{"$error":"#REF!"},{"$error":"#REF!"},{"$error":"#REF!"},{"$error":"#REF!"},"Mujer","85-+",{"$f":"'Pob x Genero'!#REF!","v":{"$error":"#REF!"}},1841]
[{"$f":"A66103","v":{"$error":"#REF!"}},{"$error":"#REF!"},{"$error":"#REF!"},{"$error":"#REF!"},{"$error":"#REF!"},"Mujer","85-+",{"$f":"'Pob x Genero'!#REF!","v":{"$error":"#REF!"}},1842]
[{"$f":"A66104","v":{"$error":"#REF!"}},{"$error":"#REF!"},{"$error":"#REF!"},{"$error":"#REF!"},{"$error":"#REF!"},"Mujer","85-+",{"$f":"'Pob x Genero'!#REF!","v":{"$error":"#REF!"}},1843]
[{"$f":"A66105","v":{"$error":"#REF!"}},{"$error":"#REF!"},{"$error":"#REF!"},{"$error":"#REF!"},{"$error":"#REF!"},"Mujer","85-+",{"$f":"'Pob x Genero'!#REF!","v":{"$error":"#REF!"}},1844]
[{"$f":"A66106","v":{"$error":"#REF!"}},{"$error":"#REF!"},{"$error":"#REF!"},{"$error":"#REF!"},{"$error":"#REF!"},"Mujer","85-+",{"$f":"'Pob x Genero'!#REF!","v":{"$error":"#REF!"}},1845]
[{"$f":"A66107","v":{"$error":"#REF!"}},{"$error":"#REF!"},{"$error":"#REF!"},{"$error":"#REF!"},{"$error":"#REF!"},"Mujer","85-+",{"$f":"'Pob x Genero'!#REF!","v":{"$error":"#REF!"}},1846]
[{"$f":"A66108","v":{"$error":"#REF!"}},{"$error":"#REF!"},{"$error":"#REF!"},{"$error":"#REF!"},{"$error":"#REF!"},"Mujer","85-+",{"$f":"'Pob x Genero'!#REF!","v":{"$error":"#REF!"}},1847]
[{"$f":"A66109","v":{"$error":"#REF!"}},{"$error":"#REF!"},{"$error":"#REF!"},{"$error":"#REF!"},{"$error":"#REF!"},"Mujer","85-+",{"$f":"'Pob x Genero'!#REF!","v":{"$error":"#REF!"}},1848]
[{"$f":"A66110","v":{"$error":"#REF!"}},{"$error":"#REF!"},{"$error":"#REF!"},{"$error":"#REF!"},{"$error":"#REF!"},"Mujer","85-+",{"$f":"'Pob x Genero'!#REF!","v":{"$error":"#REF!"}},1849]
[{"$f":"A66111","v":{"$error":"#REF!"}},{"$error":"#REF!"},{"$error":"#REF!"},{"$error":"#REF!"},{"$error":"#REF!"},"Mujer","85-+",{"$f":"'Pob x Genero'!#REF!","v":{"$error":"#REF!"}},1850]
[{"$f":"A66112","v":{"$error":"#REF!"}},{"$error":"#REF!"},{"$error":"#REF!"},{"$error":"#REF!"},{"$error":"#REF!"},"Mujer","85-+",{"$f":"'Pob x Genero'!#REF!","v":{"$error":"#REF!"}},1851]
[{"$f":"A66113","v":{"$error":"#REF!"}},{"$error":"#REF!"},{"$error":"#REF!"},{"$error":"#REF!"},{"$error":"#REF!"},"Mujer","85-+",{"$f":"'Pob x Genero'!#REF!","v":{"$error":"#REF!"}},1852]
[{"$f":"A66114","v":{"$error":"#REF!"}},{"$error":"#REF!"},{"$error":"#REF!"},{"$error":"#REF!"},{"$error":"#REF!"},"Mujer","85-+",{"$f":"'Pob x Genero'!#REF!","v":{"$error":"#REF!"}},1853]
[{"$f":"A66115","v":{"$error":"#REF!"}},{"$error":"#REF!"},{"$error":"#REF!"},{"$error":"#REF!"},{"$error":"#REF!"},"Mujer","85-+",{"$f":"'Pob x Genero'!#REF!","v":{"$error":"#REF!"}},1854]
[{"$f":"A66116","v":{"$error":"#REF!"}},{"$error":"#REF!"},{"$error":"#REF!"},{"$error":"#REF!"},{"$error":"#REF!"},"Mujer","85-+",{"$f":"'Pob x Genero'!#REF!","v":{"$error":"#REF!"}},1855]
[{"$f":"A66117","v":{"$error":"#REF!"}},{"$error":"#REF!"},{"$error":"#REF!"},{"$error":"#REF!"},{"$error":"#REF!"},"Mujer","85-+",{"$f":"'Pob x Genero'!#REF!","v":{"$error":"#REF!"}},1856]
[{"$f":"A66118","v":{"$error":"#REF!"}},{"$error":"#REF!"},{"$error":"#REF!"},{"$error":"#REF!"},{"$error":"#REF!"},"Mujer","85-+",{"$f":"'Pob x Genero'!#REF!","v":{"$error":"#REF!"}},1857]
[{"$f":"A66119","v":{"$error":"#REF!"}},{"$error":"#REF!"},{"$error":"#REF!"},{"$error":"#REF!"},{"$error":"#REF!"},{"$f":"F68008","v":"Mujer"},{"$f":"G68008","v":"85-+"},{"$f":"'Pob x Genero'!#REF!","v":{"$error":"#REF!"}},1858]
[{"$f":"A66120","v":{"$error":"#REF!"}},{"$error":"#REF!"},{"$error":"#REF!"},{"$error":"#REF!"},{"$error":"#REF!"},"Mujer","85-+",{"$f":"'Pob x Genero'!#REF!","v":{"$error":"#REF!"}},1859]
[{"$f":"A66121","v":{"$error":"#REF!"}},{"$error":"#REF!"},{"$error":"#REF!"},{"$error":"#REF!"},{"$error":"#REF!"},"Mujer","85-+",{"$f":"'Pob x Genero'!#REF!","v":{"$error":"#REF!"}},1860]
[{"$f":"A66122","v":{"$error":"#REF!"}},{"$error":"#REF!"},{"$error":"#REF!"},{"$error":"#REF!"},{"$error":"#REF!"},"Mujer","85-+",{"$f":"'Pob x Genero'!#REF!","v":{"$error":"#REF!"}},1861]
[{"$f":"A66123","v":{"$error":"#REF!"}},{"$error":"#REF!"},{"$error":"#REF!"},{"$error":"#REF!"},{"$error":"#REF!"},"Mujer","85-+",{"$f":"'Pob x Genero'!#REF!","v":{"$error":"#REF!"}},1862]
[{"$f":"A66124","v":{"$error":"#REF!"}},{"$error":"#REF!"},{"$error":"#REF!"},{"$error":"#REF!"},{"$error":"#REF!"},"Mujer","85-+",{"$f":"'Pob x Genero'!#REF!","v":{"$error":"#REF!"}},1863]
[{"$f":"A66125","v":{"$error":"#REF!"}},{"$error":"#REF!"},{"$error":"#REF!"},{"$error":"#REF!"},{"$error":"#REF!"},"Mujer","85-+",{"$f":"'Pob x Genero'!#REF!","v":{"$error":"#REF!"}},1864]
[{"$f":"A66126","v":{"$error":"#REF!"}},{"$error":"#REF!"},{"$error":"#REF!"},{"$error":"#REF!"},{"$error":"#REF!"},"Mujer","85-+",{"$f":"'Pob x Genero'!#REF!","v":{"$error":"#REF!"}},1865]
[{"$f":"A66127","v":{"$error":"#REF!"}},{"$error":"#REF!"},{"$error":"#REF!"},{"$error":"#REF!"},{"$error":"#REF!"},"Mujer","85-+",{"$f":"'Pob x Genero'!#REF!","v":{"$error":"#REF!"}},1866]
[{"$f":"A66128","v":{"$error":"#REF!"}},{"$error":"#REF!"},{"$error":"#REF!"},{"$error":"#REF!"},{"$error":"#REF!"},"Mujer","85-+",{"$f":"'Pob x Genero'!#REF!","v":{"$error":"#REF!"}},1867]
[{"$f":"A66129","v":{"$error":"#REF!"}},{"$error":"#REF!"},{"$error":"#REF!"},{"$error":"#REF!"},{"$error":"#REF!"},"Mujer","85-+",{"$f":"'Pob x Genero'!#REF!","v":{"$error":"#REF!"}},1868]
[{"$f":"A66130","v":{"$error":"#REF!"}},{"$error":"#REF!"},{"$error":"#REF!"},{"$error":"#REF!"},{"$error":"#REF!"},"Mujer","85-+",{"$f":"'Pob x Genero'!#REF!","v":{"$error":"#REF!"}},1869]
[{"$f":"A66131","v":{"$error":"#REF!"}},{"$error":"#REF!"},{"$error":"#REF!"},{"$error":"#REF!"},{"$error":"#REF!"},"Mujer","85-+",{"$f":"'Pob x Genero'!#REF!","v":{"$error":"#REF!"}},1870]
[{"$f":"A66132","v":{"$error":"#REF!"}},{"$error":"#REF!"},{"$error":"#REF!"},{"$error":"#REF!"},{"$error":"#REF!"},"Mujer","85-+",{"$f":"'Pob x Genero'!#REF!","v":{"$error":"#REF!"}},1871]
[{"$f":"A66133","v":{"$error":"#REF!"}},{"$error":"#REF!"},{"$error":"#REF!"},{"$error":"#REF!"},{"$error":"#REF!"},"Mujer","85-+",{"$f":"'Pob x Genero'!#REF!","v":{"$error":"#REF!"}},1872]
[{"$f":"A66134","v":{"$error":"#REF!"}},{"$error":"#REF!"},{"$error":"#REF!"},{"$error":"#REF!"},{"$error":"#REF!"},"Mujer","85-+",{"$f":"'Pob x Genero'!#REF!","v":{"$error":"#REF!"}},1873]
[{"$f":"A66135","v":{"$error":"#REF!"}},{"$error":"#REF!"},{"$error":"#REF!"},{"$error":"#REF!"},{"$error":"#REF!"},"Mujer","85-+",{"$f":"'Pob x Genero'!#REF!","v":{"$error":"#REF!"}},1874]
[{"$f":"A66136","v":{"$error":"#REF!"}},{"$error":"#REF!"},{"$error":"#REF!"},{"$error":"#REF!"},{"$error":"#REF!"},"Mujer","85-+",{"$f":"'Pob x Genero'!#REF!","v":{"$error":"#REF!"}},1875]
[{"$f":"A66137","v":{"$error":"#REF!"}},{"$error":"#REF!"},{"$error":"#REF!"},{"$error":"#REF!"},{"$error":"#REF!"},"Mujer","85-+",{"$f":"'Pob x Genero'!#REF!","v":{"$error":"#REF!"}},1876]
[{"$f":"A66138","v":{"$error":"#REF!"}},{"$error":"#REF!"},{"$error":"#REF!"},{"$error":"#REF!"},{"$error":"#REF!"},"Mujer","85-+",{"$f":"'Pob x Genero'!#REF!","v":{"$error":"#REF!"}},1877]
[{"$f":"A66139","v":{"$error":"#REF!"}},{"$error":"#REF!"},{"$error":"#REF!"},{"$error":"#REF!"},{"$error":"#REF!"},"Mujer","85-+",{"$f":"'Pob x Genero'!#REF!","v":{"$error":"#REF!"}},1878]
[{"$f":"A66140","v":{"$error":"#REF!"}},{"$error":"#REF!"},{"$error":"#REF!"},{"$error":"#REF!"},{"$error":"#REF!"},"Mujer","85-+",{"$f":"'Pob x Genero'!#REF!","v":{"$error":"#REF!"}},1879]
[{"$f":"A66141","v":{"$error":"#REF!"}},{"$error":"#REF!"},{"$error":"#REF!"},{"$error":"#REF!"},{"$error":"#REF!"},"Mujer","85-+",{"$f":"'Pob x Genero'!#REF!","v":{"$error":"#REF!"}},1880]
[{"$f":"A66142","v":{"$error":"#REF!"}},{"$error":"#REF!"},{"$error":"#REF!"},{"$error":"#REF!"},{"$error":"#REF!"},"Mujer","85-+",{"$f":"'Pob x Genero'!#REF!","v":{"$error":"#REF!"}},1881]
[{"$f":"A66143","v":{"$error":"#REF!"}},{"$error":"#REF!"},{"$error":"#REF!"},{"$error":"#REF!"},{"$error":"#REF!"},"Mujer","85-+",{"$f":"'Pob x Genero'!#REF!","v":{"$error":"#REF!"}},1882]
[{"$f":"A66144","v":{"$error":"#REF!"}},{"$error":"#REF!"},{"$error":"#REF!"},{"$error":"#REF!"},{"$error":"#REF!"},"Mujer","85-+",{"$f":"'Pob x Genero'!#REF!","v":{"$error":"#REF!"}},1883]
[{"$f":"A66145","v":{"$error":"#REF!"}},{"$error":"#REF!"},{"$error":"#REF!"},{"$error":"#REF!"},{"$error":"#REF!"},"Mujer","85-+",{"$f":"'Pob x Genero'!#REF!","v":{"$error":"#REF!"}},1884]
[{"$f":"A66146","v":{"$error":"#REF!"}},{"$error":"#REF!"},{"$error":"#REF!"},{"$error":"#REF!"},{"$error":"#REF!"},"Mujer","85-+",{"$f":"'Pob x Genero'!#REF!","v":{"$error":"#REF!"}},1885]
[{"$f":"A66147","v":{"$error":"#REF!"}},{"$error":"#REF!"},{"$error":"#REF!"},{"$error":"#REF!"},{"$error":"#REF!"},"Mujer","85-+",{"$f":"'Pob x Genero'!#REF!","v":{"$error":"#REF!"}},1886]
[{"$f":"A66148","v":{"$error":"#REF!"}},{"$error":"#REF!"},{"$error":"#REF!"},{"$error":"#REF!"},{"$error":"#REF!"},"Mujer","85-+",{"$f":"'Pob x Genero'!#REF!","v":{"$error":"#REF!"}},1887]
[{"$f":"A66149","v":{"$error":"#REF!"}},{"$error":"#REF!"},{"$error":"#REF!"},{"$error":"#REF!"},{"$error":"#REF!"},"Mujer","85-+",{"$f":"'Pob x Genero'!#REF!","v":{"$error":"#REF!"}},1888]
[{"$f":"A66150","v":{"$error":"#REF!"}},{"$error":"#REF!"},{"$error":"#REF!"},{"$error":"#REF!"},{"$error":"#REF!"},"Mujer","85-+",{"$f":"'Pob x Genero'!#REF!","v":{"$error":"#REF!"}},1889]
[{"$f":"A66151","v":{"$error":"#REF!"}},{"$error":"#REF!"},{"$error":"#REF!"},{"$error":"#REF!"},{"$error":"#REF!"},"Mujer","85-+",{"$f":"'Pob x Genero'!#REF!","v":{"$error":"#REF!"}},1890]